{"text_format":"1","workbook":"xlsx","n_sheets":5,"sheets":["Start","הרכב נכסים","DB","Mng","HAMARA"],"not_rendered":{"charts":0,"images":0,"macros":1,"external_links":0,"defined_names":3,"comments":0,"pivot_tables":0},"unopened":[],"bounds":{"document_bytes":16777216,"sheet_cells":100000,"rows_first":2000,"rows_last":500,"rows_between":2000,"halvings":0,"cell_chars":16384,"cell_head_chars":4096},"cells_cut":0,"cells_raw":0,"read":"whole","date_system":"1900"}

{"sheet":"Start","index":0,"n_rows":10,"n_cols":8,"rows_kept":10,"cut":false,"hidden":false,"merged":[]}
[]
[]
[null,null,"חודש ושנה     ","2025-10-01"]
[]
[null,null,"     תיקיית יעד     ",{"$f":"\"I:\\EXCEL\\account\\Name\\ALL\\דוחות חודשיים לאוצר\"&\"\\\"&YEAR(DATE)&\"\\\"&IF(LEN(MONTH(DATE))=2,MONTH(DATE),\"0\"&MONTH(DATE))&YEAR(DATE)","v":"I:\\EXCEL\\account\\Name\\ALL\\דוחות חודשיים לאוצר\\2025\\102025"}]
[]
[null,null,"שם קופה"," מספר מ\"ה",null,null,"הוראות הפעלה"]
[null,null,"קלע קרן השתלמות לעובדים סוציאלים מסלול כללי",378,null,null,1,"לעדכן חודש ושנה D3"]
[null,null,"2235קלע קרן השתלמות לעובדים סוציאלים מסלול  אגח עד 25% מניות",1433,null,null,2,"לעדכן בעמודה D את רשימת מספרי האוצר של הקופות שמעוניינים להפיק"]
[null,null,"לא נמצאה קופה",15482,null,null,3,"ללחוץ על \"הפעל דוח הרכב נכסים\""]

{"sheet":"הרכב נכסים","index":1,"n_rows":15,"n_cols":4,"rows_kept":15,"cut":false,"hidden":false,"merged":[]}
[{"$f":"MONTH(DATE)&\"/\"&YEAR(DATE)","v":"10/2025"},"קלע קרן השתלמות לעובדים סוציאלים מסלול כללי","2235קלע קרן השתלמות לעובדים סוציאלים מסלול  אגח עד 25% מניות","קלע קרן השתלמות לעובדים סוציאלים מסלול עוקב מדד"]
["התפלגות השקעות",378,1433,15482]
["אג\"ח ממשלתיות סחירות",{"$f":"IFERROR(SUMIFS(DB!$C:$C,DB!$D:$D,'הרכב נכסים'!$A3,DB!$A:$A,'הרכב נכסים'!B$2)/SUMIFS(DB!$C:$C,DB!$B:$B,\"DE1\",DB!$A:$A,'הרכב נכסים'!B$2),\"\")","v":0.17522747609664871},{"$f":"IFERROR(SUMIFS(DB!$C:$C,DB!$D:$D,'הרכב נכסים'!$A3,DB!$A:$A,'הרכב נכסים'!C$2)/SUMIFS(DB!$C:$C,DB!$B:$B,\"DE1\",DB!$A:$A,'הרכב נכסים'!C$2),\"\")","v":0.45287893546392766},{"$f":"IFERROR(SUMIFS(DB!$C:$C,DB!$D:$D,'הרכב נכסים'!$A3,DB!$A:$A,'הרכב נכסים'!D$2)/SUMIFS(DB!$C:$C,DB!$B:$B,\"DE1\",DB!$A:$A,'הרכב נכסים'!D$2),\"\")","v":0}]
["מניות וני\"ע סחירים אחרים",{"$f":"IFERROR(SUMIFS(DB!$C:$C,DB!$D:$D,'הרכב נכסים'!$A4,DB!$A:$A,'הרכב נכסים'!B$2)/SUMIFS(DB!$C:$C,DB!$B:$B,\"DE1\",DB!$A:$A,'הרכב נכסים'!B$2),\"\")","v":0.50926528565307672},{"$f":"IFERROR(SUMIFS(DB!$C:$C,DB!$D:$D,'הרכב נכסים'!$A4,DB!$A:$A,'הרכב נכסים'!C$2)/SUMIFS(DB!$C:$C,DB!$B:$B,\"DE1\",DB!$A:$A,'הרכב נכסים'!C$2),\"\")","v":0.33809732645489327},{"$f":"IFERROR(SUMIFS(DB!$C:$C,DB!$D:$D,'הרכב נכסים'!$A4,DB!$A:$A,'הרכב נכסים'!D$2)/SUMIFS(DB!$C:$C,DB!$B:$B,\"DE1\",DB!$A:$A,'הרכב נכסים'!D$2),\"\")","v":0.95077705842087346}]
["פקדונות והלוואות",{"$f":"IFERROR(SUMIFS(DB!$C:$C,DB!$D:$D,'הרכב נכסים'!$A5,DB!$A:$A,'הרכב נכסים'!B$2)/SUMIFS(DB!$C:$C,DB!$B:$B,\"DE1\",DB!$A:$A,'הרכב נכסים'!B$2),\"\")","v":1.4826324861062079E-2},{"$f":"IFERROR(SUMIFS(DB!$C:$C,DB!$D:$D,'הרכב נכסים'!$A5,DB!$A:$A,'הרכב נכסים'!C$2)/SUMIFS(DB!$C:$C,DB!$B:$B,\"DE1\",DB!$A:$A,'הרכב נכסים'!C$2),\"\")","v":0},{"$f":"IFERROR(SUMIFS(DB!$C:$C,DB!$D:$D,'הרכב נכסים'!$A5,DB!$A:$A,'הרכב נכסים'!D$2)/SUMIFS(DB!$C:$C,DB!$B:$B,\"DE1\",DB!$A:$A,'הרכב נכסים'!D$2),\"\")","v":0}]
["אג\"ח קונצרניות סחירות",{"$f":"IFERROR(SUMIFS(DB!$C:$C,DB!$D:$D,'הרכב נכסים'!$A6,DB!$A:$A,'הרכב נכסים'!B$2)/SUMIFS(DB!$C:$C,DB!$B:$B,\"DE1\",DB!$A:$A,'הרכב נכסים'!B$2),\"\")","v":0.15719212066582031},{"$f":"IFERROR(SUMIFS(DB!$C:$C,DB!$D:$D,'הרכב נכסים'!$A6,DB!$A:$A,'הרכב נכסים'!C$2)/SUMIFS(DB!$C:$C,DB!$B:$B,\"DE1\",DB!$A:$A,'הרכב נכסים'!C$2),\"\")","v":0.18857821053130744},{"$f":"IFERROR(SUMIFS(DB!$C:$C,DB!$D:$D,'הרכב נכסים'!$A6,DB!$A:$A,'הרכב נכסים'!D$2)/SUMIFS(DB!$C:$C,DB!$B:$B,\"DE1\",DB!$A:$A,'הרכב נכסים'!D$2),\"\")","v":0}]
["מזומנים ושווי מזומנים",{"$f":"IFERROR(SUMIFS(DB!$C:$C,DB!$D:$D,'הרכב נכסים'!$A7,DB!$A:$A,'הרכב נכסים'!B$2)/SUMIFS(DB!$C:$C,DB!$B:$B,\"DE1\",DB!$A:$A,'הרכב נכסים'!B$2),\"\")","v":9.4264480902962449E-3},{"$f":"IFERROR(SUMIFS(DB!$C:$C,DB!$D:$D,'הרכב נכסים'!$A7,DB!$A:$A,'הרכב נכסים'!C$2)/SUMIFS(DB!$C:$C,DB!$B:$B,\"DE1\",DB!$A:$A,'הרכב נכסים'!C$2),\"\")","v":1.9519330259409648E-2},{"$f":"IFERROR(SUMIFS(DB!$C:$C,DB!$D:$D,'הרכב נכסים'!$A7,DB!$A:$A,'הרכב נכסים'!D$2)/SUMIFS(DB!$C:$C,DB!$B:$B,\"DE1\",DB!$A:$A,'הרכב נכסים'!D$2),\"\")","v":4.9311852052971512E-2}]
["השקעות אחרות",{"$f":"IFERROR(SUMIFS(DB!$C:$C,DB!$D:$D,'הרכב נכסים'!$A8,DB!$A:$A,'הרכב נכסים'!B$2)/SUMIFS(DB!$C:$C,DB!$B:$B,\"DE1\",DB!$A:$A,'הרכב נכסים'!B$2),\"\")","v":0.13406234320269614},{"$f":"IFERROR(SUMIFS(DB!$C:$C,DB!$D:$D,'הרכב נכסים'!$A8,DB!$A:$A,'הרכב נכסים'!C$2)/SUMIFS(DB!$C:$C,DB!$B:$B,\"DE1\",DB!$A:$A,'הרכב נכסים'!C$2),\"\")","v":9.2641940012400375E-4},{"$f":"IFERROR(SUMIFS(DB!$C:$C,DB!$D:$D,'הרכב נכסים'!$A8,DB!$A:$A,'הרכב נכסים'!D$2)/SUMIFS(DB!$C:$C,DB!$B:$B,\"DE1\",DB!$A:$A,'הרכב נכסים'!D$2),\"\")","v":-8.79544472445401E-5}]
[null,{"$f":"SUM(B3:B8)","v":0.9999999985696002},{"$f":"SUM(C3:C8)","v":1.000000222109662},1.0000009560266006]
["סה\"כ נכסים אלפי ₪",{"$f":"SUMIFS(DB!$C:$C,DB!$B:$B,\"DE1\",DB!$A:$A,'הרכב נכסים'!B$2)","v":699105.21299999999},{"$f":"SUMIFS(DB!$C:$C,DB!$B:$B,\"DE1\",DB!$A:$A,'הרכב נכסים'!C$2)","v":9004.5609999999997},{"$f":"SUMIFS(DB!$C:$C,DB!$B:$B,\"DE1\",DB!$A:$A,'הרכב נכסים'!D$2)","v":1045.9960000000001}]
["תשואות"]
["תשואה מצטברת נומינלית ברוטו מתחילת שנה",{"$f":"SUMIFS(DB!$C:$C,DB!$B:$B,\"KT51\",DB!$A:$A,'הרכב נכסים'!B$2)","v":12.513999999999999},{"$f":"SUMIFS(DB!$C:$C,DB!$B:$B,\"KT51\",DB!$A:$A,'הרכב נכסים'!C$2)","v":6.7430000000000003},{"$f":"SUMIFS(DB!$C:$C,DB!$B:$B,\"KT51\",DB!$A:$A,'הרכב נכסים'!D$2)","v":10.61}]
["תשואה מצטברת נומינלית ברוטו ב-12 החודשים האחרונים",15.8,8.89,"*"]
[]
["* המסלול פעיל החל מחודש אפריל 2025"]

{"sheet":"DB","index":2,"n_rows":4271,"n_cols":4,"rows_kept":4271,"cut":false,"hidden":false,"merged":[]}
["ProdNum","Data1"]
[378,"DE1",699105.21299999999,{"$f":"IFERROR(IF(INDEX(HAMARA!I:I,MATCH(B2,HAMARA!E:E,0))=0,\"\",INDEX(HAMARA!I:I,MATCH(B2,HAMARA!E:E,0))),\"\")","v":""}]
[378,"DA12",5000.5959999999995,{"$f":"IFERROR(IF(INDEX(HAMARA!I:I,MATCH(B3,HAMARA!E:E,0))=0,\"\",INDEX(HAMARA!I:I,MATCH(B3,HAMARA!E:E,0))),\"\")","v":"מזומנים ושווי מזומנים"}]
[378,"DT11",1589.4829999999999,{"$f":"IFERROR(IF(INDEX(HAMARA!I:I,MATCH(B4,HAMARA!E:E,0))=0,\"\",INDEX(HAMARA!I:I,MATCH(B4,HAMARA!E:E,0))),\"\")","v":"מזומנים ושווי מזומנים"}]
[378,"DA10",0,{"$f":"IFERROR(IF(INDEX(HAMARA!I:I,MATCH(B5,HAMARA!E:E,0))=0,\"\",INDEX(HAMARA!I:I,MATCH(B5,HAMARA!E:E,0))),\"\")","v":"מזומנים ושווי מזומנים"}]
[378,"DT420",0,{"$f":"IFERROR(IF(INDEX(HAMARA!I:I,MATCH(B6,HAMARA!E:E,0))=0,\"\",INDEX(HAMARA!I:I,MATCH(B6,HAMARA!E:E,0))),\"\")","v":"מזומנים ושווי מזומנים"}]
[378,"DT421",0,{"$f":"IFERROR(IF(INDEX(HAMARA!I:I,MATCH(B7,HAMARA!E:E,0))=0,\"\",INDEX(HAMARA!I:I,MATCH(B7,HAMARA!E:E,0))),\"\")","v":"מזומנים ושווי מזומנים"}]
[378,"DT422",0,{"$f":"IFERROR(IF(INDEX(HAMARA!I:I,MATCH(B8,HAMARA!E:E,0))=0,\"\",INDEX(HAMARA!I:I,MATCH(B8,HAMARA!E:E,0))),\"\")","v":"מזומנים ושווי מזומנים"}]
[378,"DT423",0,{"$f":"IFERROR(IF(INDEX(HAMARA!I:I,MATCH(B9,HAMARA!E:E,0))=0,\"\",INDEX(HAMARA!I:I,MATCH(B9,HAMARA!E:E,0))),\"\")","v":"מזומנים ושווי מזומנים"}]
[378,"DT191",0,{"$f":"IFERROR(IF(INDEX(HAMARA!I:I,MATCH(B10,HAMARA!E:E,0))=0,\"\",INDEX(HAMARA!I:I,MATCH(B10,HAMARA!E:E,0))),\"\")","v":"מזומנים ושווי מזומנים"}]
[378,"DT424",0,{"$f":"IFERROR(IF(INDEX(HAMARA!I:I,MATCH(B11,HAMARA!E:E,0))=0,\"\",INDEX(HAMARA!I:I,MATCH(B11,HAMARA!E:E,0))),\"\")","v":"מזומנים ושווי מזומנים"}]
[378,"DT13",34482.292000000001,{"$f":"IFERROR(IF(INDEX(HAMARA!I:I,MATCH(B12,HAMARA!E:E,0))=0,\"\",INDEX(HAMARA!I:I,MATCH(B12,HAMARA!E:E,0))),\"\")","v":"אג\"ח ממשלתיות סחירות"}]
[378,"DT15",64311.1,{"$f":"IFERROR(IF(INDEX(HAMARA!I:I,MATCH(B13,HAMARA!E:E,0))=0,\"\",INDEX(HAMARA!I:I,MATCH(B13,HAMARA!E:E,0))),\"\")","v":"אג\"ח ממשלתיות סחירות"}]
[378,"DT16",0,{"$f":"IFERROR(IF(INDEX(HAMARA!I:I,MATCH(B14,HAMARA!E:E,0))=0,\"\",INDEX(HAMARA!I:I,MATCH(B14,HAMARA!E:E,0))),\"\")","v":"אג\"ח ממשלתיות סחירות"}]
[378,"DT14",0,{"$f":"IFERROR(IF(INDEX(HAMARA!I:I,MATCH(B15,HAMARA!E:E,0))=0,\"\",INDEX(HAMARA!I:I,MATCH(B15,HAMARA!E:E,0))),\"\")","v":"אג\"ח ממשלתיות סחירות"}]
[378,"DA9",23709.05,{"$f":"IFERROR(IF(INDEX(HAMARA!I:I,MATCH(B16,HAMARA!E:E,0))=0,\"\",INDEX(HAMARA!I:I,MATCH(B16,HAMARA!E:E,0))),\"\")","v":"אג\"ח ממשלתיות סחירות"}]
[378,"DT7",0,{"$f":"IFERROR(IF(INDEX(HAMARA!I:I,MATCH(B17,HAMARA!E:E,0))=0,\"\",INDEX(HAMARA!I:I,MATCH(B17,HAMARA!E:E,0))),\"\")","v":"השקעות אחרות"}]
[378,"DA8",0,{"$f":"IFERROR(IF(INDEX(HAMARA!I:I,MATCH(B18,HAMARA!E:E,0))=0,\"\",INDEX(HAMARA!I:I,MATCH(B18,HAMARA!E:E,0))),\"\")","v":"השקעות אחרות"}]
[378,"DT17",0,{"$f":"IFERROR(IF(INDEX(HAMARA!I:I,MATCH(B19,HAMARA!E:E,0))=0,\"\",INDEX(HAMARA!I:I,MATCH(B19,HAMARA!E:E,0))),\"\")","v":"אג\"ח ממשלתיות סחירות"}]
[378,"DT26",0,{"$f":"IFERROR(IF(INDEX(HAMARA!I:I,MATCH(B20,HAMARA!E:E,0))=0,\"\",INDEX(HAMARA!I:I,MATCH(B20,HAMARA!E:E,0))),\"\")","v":"אג\"ח ממשלתיות סחירות"}]
[378,"DT425",0,{"$f":"IFERROR(IF(INDEX(HAMARA!I:I,MATCH(B21,HAMARA!E:E,0))=0,\"\",INDEX(HAMARA!I:I,MATCH(B21,HAMARA!E:E,0))),\"\")","v":"השקעות אחרות"}]
[378,"DT426",0,{"$f":"IFERROR(IF(INDEX(HAMARA!I:I,MATCH(B22,HAMARA!E:E,0))=0,\"\",INDEX(HAMARA!I:I,MATCH(B22,HAMARA!E:E,0))),\"\")","v":"השקעות אחרות"}]
[378,"DT427",0,{"$f":"IFERROR(IF(INDEX(HAMARA!I:I,MATCH(B23,HAMARA!E:E,0))=0,\"\",INDEX(HAMARA!I:I,MATCH(B23,HAMARA!E:E,0))),\"\")","v":"אג\"ח קונצרניות סחירות"}]
[378,"DT561",0,{"$f":"IFERROR(IF(INDEX(HAMARA!I:I,MATCH(B24,HAMARA!E:E,0))=0,\"\",INDEX(HAMARA!I:I,MATCH(B24,HAMARA!E:E,0))),\"\")","v":"אג\"ח קונצרניות סחירות"}]
[378,"DT560",0,{"$f":"IFERROR(IF(INDEX(HAMARA!I:I,MATCH(B25,HAMARA!E:E,0))=0,\"\",INDEX(HAMARA!I:I,MATCH(B25,HAMARA!E:E,0))),\"\")","v":"אג\"ח קונצרניות סחירות"}]
[378,"DT428",0,{"$f":"IFERROR(IF(INDEX(HAMARA!I:I,MATCH(B26,HAMARA!E:E,0))=0,\"\",INDEX(HAMARA!I:I,MATCH(B26,HAMARA!E:E,0))),\"\")","v":"אג\"ח קונצרניות סחירות"}]
[378,"DT563",0,{"$f":"IFERROR(IF(INDEX(HAMARA!I:I,MATCH(B27,HAMARA!E:E,0))=0,\"\",INDEX(HAMARA!I:I,MATCH(B27,HAMARA!E:E,0))),\"\")","v":"אג\"ח קונצרניות סחירות"}]
[378,"DT562",0,{"$f":"IFERROR(IF(INDEX(HAMARA!I:I,MATCH(B28,HAMARA!E:E,0))=0,\"\",INDEX(HAMARA!I:I,MATCH(B28,HAMARA!E:E,0))),\"\")","v":"אג\"ח קונצרניות סחירות"}]
[378,"DT429",0,{"$f":"IFERROR(IF(INDEX(HAMARA!I:I,MATCH(B29,HAMARA!E:E,0))=0,\"\",INDEX(HAMARA!I:I,MATCH(B29,HAMARA!E:E,0))),\"\")","v":"אג\"ח קונצרניות סחירות"}]
[378,"DT565",0,{"$f":"IFERROR(IF(INDEX(HAMARA!I:I,MATCH(B30,HAMARA!E:E,0))=0,\"\",INDEX(HAMARA!I:I,MATCH(B30,HAMARA!E:E,0))),\"\")","v":"אג\"ח קונצרניות סחירות"}]
[378,"DT564",0,{"$f":"IFERROR(IF(INDEX(HAMARA!I:I,MATCH(B31,HAMARA!E:E,0))=0,\"\",INDEX(HAMARA!I:I,MATCH(B31,HAMARA!E:E,0))),\"\")","v":"אג\"ח קונצרניות סחירות"}]
[378,"DT430",0,{"$f":"IFERROR(IF(INDEX(HAMARA!I:I,MATCH(B32,HAMARA!E:E,0))=0,\"\",INDEX(HAMARA!I:I,MATCH(B32,HAMARA!E:E,0))),\"\")","v":"השקעות אחרות"}]
[378,"DT567",0,{"$f":"IFERROR(IF(INDEX(HAMARA!I:I,MATCH(B33,HAMARA!E:E,0))=0,\"\",INDEX(HAMARA!I:I,MATCH(B33,HAMARA!E:E,0))),\"\")","v":"השקעות אחרות"}]
[378,"DT566",0,{"$f":"IFERROR(IF(INDEX(HAMARA!I:I,MATCH(B34,HAMARA!E:E,0))=0,\"\",INDEX(HAMARA!I:I,MATCH(B34,HAMARA!E:E,0))),\"\")","v":"השקעות אחרות"}]
[378,"DT431",0,{"$f":"IFERROR(IF(INDEX(HAMARA!I:I,MATCH(B35,HAMARA!E:E,0))=0,\"\",INDEX(HAMARA!I:I,MATCH(B35,HAMARA!E:E,0))),\"\")","v":"השקעות אחרות"}]
[378,"DT569",0,{"$f":"IFERROR(IF(INDEX(HAMARA!I:I,MATCH(B36,HAMARA!E:E,0))=0,\"\",INDEX(HAMARA!I:I,MATCH(B36,HAMARA!E:E,0))),\"\")","v":"השקעות אחרות"}]
[378,"DT568",0,{"$f":"IFERROR(IF(INDEX(HAMARA!I:I,MATCH(B37,HAMARA!E:E,0))=0,\"\",INDEX(HAMARA!I:I,MATCH(B37,HAMARA!E:E,0))),\"\")","v":"השקעות אחרות"}]
[378,"DT432",0,{"$f":"IFERROR(IF(INDEX(HAMARA!I:I,MATCH(B38,HAMARA!E:E,0))=0,\"\",INDEX(HAMARA!I:I,MATCH(B38,HAMARA!E:E,0))),\"\")","v":"השקעות אחרות"}]
[378,"DT573",0,{"$f":"IFERROR(IF(INDEX(HAMARA!I:I,MATCH(B39,HAMARA!E:E,0))=0,\"\",INDEX(HAMARA!I:I,MATCH(B39,HAMARA!E:E,0))),\"\")","v":"השקעות אחרות"}]
[378,"DT572",0,{"$f":"IFERROR(IF(INDEX(HAMARA!I:I,MATCH(B40,HAMARA!E:E,0))=0,\"\",INDEX(HAMARA!I:I,MATCH(B40,HAMARA!E:E,0))),\"\")","v":"השקעות אחרות"}]
[378,"DT547",0,{"$f":"IFERROR(IF(INDEX(HAMARA!I:I,MATCH(B41,HAMARA!E:E,0))=0,\"\",INDEX(HAMARA!I:I,MATCH(B41,HAMARA!E:E,0))),\"\")","v":"השקעות אחרות"}]
[378,"DT571",0,{"$f":"IFERROR(IF(INDEX(HAMARA!I:I,MATCH(B42,HAMARA!E:E,0))=0,\"\",INDEX(HAMARA!I:I,MATCH(B42,HAMARA!E:E,0))),\"\")","v":"השקעות אחרות"}]
[378,"DT570",0,{"$f":"IFERROR(IF(INDEX(HAMARA!I:I,MATCH(B43,HAMARA!E:E,0))=0,\"\",INDEX(HAMARA!I:I,MATCH(B43,HAMARA!E:E,0))),\"\")","v":"השקעות אחרות"}]
[378,"DT601",0,{"$f":"IFERROR(IF(INDEX(HAMARA!I:I,MATCH(B44,HAMARA!E:E,0))=0,\"\",INDEX(HAMARA!I:I,MATCH(B44,HAMARA!E:E,0))),\"\")","v":"אג\"ח קונצרניות סחירות"}]
[378,"DT602",0,{"$f":"IFERROR(IF(INDEX(HAMARA!I:I,MATCH(B45,HAMARA!E:E,0))=0,\"\",INDEX(HAMARA!I:I,MATCH(B45,HAMARA!E:E,0))),\"\")","v":"אג\"ח קונצרניות סחירות"}]
[378,"DT603",0,{"$f":"IFERROR(IF(INDEX(HAMARA!I:I,MATCH(B46,HAMARA!E:E,0))=0,\"\",INDEX(HAMARA!I:I,MATCH(B46,HAMARA!E:E,0))),\"\")","v":"אג\"ח קונצרניות סחירות"}]
[378,"DT604",0,{"$f":"IFERROR(IF(INDEX(HAMARA!I:I,MATCH(B47,HAMARA!E:E,0))=0,\"\",INDEX(HAMARA!I:I,MATCH(B47,HAMARA!E:E,0))),\"\")","v":"אג\"ח קונצרניות סחירות"}]
[378,"DT605",0,{"$f":"IFERROR(IF(INDEX(HAMARA!I:I,MATCH(B48,HAMARA!E:E,0))=0,\"\",INDEX(HAMARA!I:I,MATCH(B48,HAMARA!E:E,0))),\"\")","v":"אג\"ח קונצרניות סחירות"}]
[378,"DT606",0,{"$f":"IFERROR(IF(INDEX(HAMARA!I:I,MATCH(B49,HAMARA!E:E,0))=0,\"\",INDEX(HAMARA!I:I,MATCH(B49,HAMARA!E:E,0))),\"\")","v":"אג\"ח קונצרניות סחירות"}]
[378,"DT607",0,{"$f":"IFERROR(IF(INDEX(HAMARA!I:I,MATCH(B50,HAMARA!E:E,0))=0,\"\",INDEX(HAMARA!I:I,MATCH(B50,HAMARA!E:E,0))),\"\")","v":"השקעות אחרות"}]
[378,"DT608",0,{"$f":"IFERROR(IF(INDEX(HAMARA!I:I,MATCH(B51,HAMARA!E:E,0))=0,\"\",INDEX(HAMARA!I:I,MATCH(B51,HAMARA!E:E,0))),\"\")","v":"השקעות אחרות"}]
[378,"DT609",0,{"$f":"IFERROR(IF(INDEX(HAMARA!I:I,MATCH(B52,HAMARA!E:E,0))=0,\"\",INDEX(HAMARA!I:I,MATCH(B52,HAMARA!E:E,0))),\"\")","v":"השקעות אחרות"}]
[378,"DT610",0,{"$f":"IFERROR(IF(INDEX(HAMARA!I:I,MATCH(B53,HAMARA!E:E,0))=0,\"\",INDEX(HAMARA!I:I,MATCH(B53,HAMARA!E:E,0))),\"\")","v":"השקעות אחרות"}]
[378,"DT611",0,{"$f":"IFERROR(IF(INDEX(HAMARA!I:I,MATCH(B54,HAMARA!E:E,0))=0,\"\",INDEX(HAMARA!I:I,MATCH(B54,HAMARA!E:E,0))),\"\")","v":"השקעות אחרות"}]
[378,"DT612",0,{"$f":"IFERROR(IF(INDEX(HAMARA!I:I,MATCH(B55,HAMARA!E:E,0))=0,\"\",INDEX(HAMARA!I:I,MATCH(B55,HAMARA!E:E,0))),\"\")","v":"השקעות אחרות"}]
[378,"DT613",0,{"$f":"IFERROR(IF(INDEX(HAMARA!I:I,MATCH(B56,HAMARA!E:E,0))=0,\"\",INDEX(HAMARA!I:I,MATCH(B56,HAMARA!E:E,0))),\"\")","v":"השקעות אחרות"}]
[378,"DT614",0,{"$f":"IFERROR(IF(INDEX(HAMARA!I:I,MATCH(B57,HAMARA!E:E,0))=0,\"\",INDEX(HAMARA!I:I,MATCH(B57,HAMARA!E:E,0))),\"\")","v":"השקעות אחרות"}]
[378,"DT301",63324.625999999997,{"$f":"IFERROR(IF(INDEX(HAMARA!I:I,MATCH(B58,HAMARA!E:E,0))=0,\"\",INDEX(HAMARA!I:I,MATCH(B58,HAMARA!E:E,0))),\"\")","v":"אג\"ח קונצרניות סחירות"}]
[378,"DT303",13218.735000000001,{"$f":"IFERROR(IF(INDEX(HAMARA!I:I,MATCH(B59,HAMARA!E:E,0))=0,\"\",INDEX(HAMARA!I:I,MATCH(B59,HAMARA!E:E,0))),\"\")","v":"אג\"ח קונצרניות סחירות"}]
[378,"DT302",86.887,{"$f":"IFERROR(IF(INDEX(HAMARA!I:I,MATCH(B60,HAMARA!E:E,0))=0,\"\",INDEX(HAMARA!I:I,MATCH(B60,HAMARA!E:E,0))),\"\")","v":"אג\"ח קונצרניות סחירות"}]
[378,"DT307",4588.3090000000002,{"$f":"IFERROR(IF(INDEX(HAMARA!I:I,MATCH(B61,HAMARA!E:E,0))=0,\"\",INDEX(HAMARA!I:I,MATCH(B61,HAMARA!E:E,0))),\"\")","v":"אג\"ח קונצרניות סחירות"}]
[378,"DT309",25319.257000000001,{"$f":"IFERROR(IF(INDEX(HAMARA!I:I,MATCH(B62,HAMARA!E:E,0))=0,\"\",INDEX(HAMARA!I:I,MATCH(B62,HAMARA!E:E,0))),\"\")","v":"אג\"ח קונצרניות סחירות"}]
[378,"DT308",174.00899999999999,{"$f":"IFERROR(IF(INDEX(HAMARA!I:I,MATCH(B63,HAMARA!E:E,0))=0,\"\",INDEX(HAMARA!I:I,MATCH(B63,HAMARA!E:E,0))),\"\")","v":"אג\"ח קונצרניות סחירות"}]
[378,"DT313",252.92099999999999,{"$f":"IFERROR(IF(INDEX(HAMARA!I:I,MATCH(B64,HAMARA!E:E,0))=0,\"\",INDEX(HAMARA!I:I,MATCH(B64,HAMARA!E:E,0))),\"\")","v":"אג\"ח קונצרניות סחירות"}]
[378,"DT315",2929.087,{"$f":"IFERROR(IF(INDEX(HAMARA!I:I,MATCH(B65,HAMARA!E:E,0))=0,\"\",INDEX(HAMARA!I:I,MATCH(B65,HAMARA!E:E,0))),\"\")","v":"אג\"ח קונצרניות סחירות"}]
[378,"DT314",0,{"$f":"IFERROR(IF(INDEX(HAMARA!I:I,MATCH(B66,HAMARA!E:E,0))=0,\"\",INDEX(HAMARA!I:I,MATCH(B66,HAMARA!E:E,0))),\"\")","v":"אג\"ח קונצרניות סחירות"}]
[378,"DT615",0,{"$f":"IFERROR(IF(INDEX(HAMARA!I:I,MATCH(B67,HAMARA!E:E,0))=0,\"\",INDEX(HAMARA!I:I,MATCH(B67,HAMARA!E:E,0))),\"\")","v":"אג\"ח קונצרניות סחירות"}]
[378,"DT616",0,{"$f":"IFERROR(IF(INDEX(HAMARA!I:I,MATCH(B68,HAMARA!E:E,0))=0,\"\",INDEX(HAMARA!I:I,MATCH(B68,HAMARA!E:E,0))),\"\")","v":"אג\"ח קונצרניות סחירות"}]
[378,"DT617",0,{"$f":"IFERROR(IF(INDEX(HAMARA!I:I,MATCH(B69,HAMARA!E:E,0))=0,\"\",INDEX(HAMARA!I:I,MATCH(B69,HAMARA!E:E,0))),\"\")","v":"אג\"ח קונצרניות סחירות"}]
[378,"DT319",1523.367,{"$f":"IFERROR(IF(INDEX(HAMARA!I:I,MATCH(B70,HAMARA!E:E,0))=0,\"\",INDEX(HAMARA!I:I,MATCH(B70,HAMARA!E:E,0))),\"\")","v":"השקעות אחרות"}]
[378,"DT321",437.85899999999998,{"$f":"IFERROR(IF(INDEX(HAMARA!I:I,MATCH(B71,HAMARA!E:E,0))=0,\"\",INDEX(HAMARA!I:I,MATCH(B71,HAMARA!E:E,0))),\"\")","v":"השקעות אחרות"}]
[378,"DT320",0,{"$f":"IFERROR(IF(INDEX(HAMARA!I:I,MATCH(B72,HAMARA!E:E,0))=0,\"\",INDEX(HAMARA!I:I,MATCH(B72,HAMARA!E:E,0))),\"\")","v":"השקעות אחרות"}]
[378,"DT325",0,{"$f":"IFERROR(IF(INDEX(HAMARA!I:I,MATCH(B73,HAMARA!E:E,0))=0,\"\",INDEX(HAMARA!I:I,MATCH(B73,HAMARA!E:E,0))),\"\")","v":"השקעות אחרות"}]
[378,"DT327",0,{"$f":"IFERROR(IF(INDEX(HAMARA!I:I,MATCH(B74,HAMARA!E:E,0))=0,\"\",INDEX(HAMARA!I:I,MATCH(B74,HAMARA!E:E,0))),\"\")","v":"השקעות אחרות"}]
[378,"DT326",0,{"$f":"IFERROR(IF(INDEX(HAMARA!I:I,MATCH(B75,HAMARA!E:E,0))=0,\"\",INDEX(HAMARA!I:I,MATCH(B75,HAMARA!E:E,0))),\"\")","v":"השקעות אחרות"}]
[378,"DT553",0,{"$f":"IFERROR(IF(INDEX(HAMARA!I:I,MATCH(B76,HAMARA!E:E,0))=0,\"\",INDEX(HAMARA!I:I,MATCH(B76,HAMARA!E:E,0))),\"\")","v":"השקעות אחרות"}]
[378,"DT555",0,{"$f":"IFERROR(IF(INDEX(HAMARA!I:I,MATCH(B77,HAMARA!E:E,0))=0,\"\",INDEX(HAMARA!I:I,MATCH(B77,HAMARA!E:E,0))),\"\")","v":"השקעות אחרות"}]
[378,"DT554",0,{"$f":"IFERROR(IF(INDEX(HAMARA!I:I,MATCH(B78,HAMARA!E:E,0))=0,\"\",INDEX(HAMARA!I:I,MATCH(B78,HAMARA!E:E,0))),\"\")","v":"השקעות אחרות"}]
[378,"DT337",0,{"$f":"IFERROR(IF(INDEX(HAMARA!I:I,MATCH(B79,HAMARA!E:E,0))=0,\"\",INDEX(HAMARA!I:I,MATCH(B79,HAMARA!E:E,0))),\"\")","v":"השקעות אחרות"}]
[378,"DT339",0,{"$f":"IFERROR(IF(INDEX(HAMARA!I:I,MATCH(B80,HAMARA!E:E,0))=0,\"\",INDEX(HAMARA!I:I,MATCH(B80,HAMARA!E:E,0))),\"\")","v":"השקעות אחרות"}]
[378,"DT338",0,{"$f":"IFERROR(IF(INDEX(HAMARA!I:I,MATCH(B81,HAMARA!E:E,0))=0,\"\",INDEX(HAMARA!I:I,MATCH(B81,HAMARA!E:E,0))),\"\")","v":"השקעות אחרות"}]
[378,"DT618",0,{"$f":"IFERROR(IF(INDEX(HAMARA!I:I,MATCH(B82,HAMARA!E:E,0))=0,\"\",INDEX(HAMARA!I:I,MATCH(B82,HAMARA!E:E,0))),\"\")","v":"השקעות אחרות"}]
[378,"DT619",0,{"$f":"IFERROR(IF(INDEX(HAMARA!I:I,MATCH(B83,HAMARA!E:E,0))=0,\"\",INDEX(HAMARA!I:I,MATCH(B83,HAMARA!E:E,0))),\"\")","v":"השקעות אחרות"}]
[378,"DT620",0,{"$f":"IFERROR(IF(INDEX(HAMARA!I:I,MATCH(B84,HAMARA!E:E,0))=0,\"\",INDEX(HAMARA!I:I,MATCH(B84,HAMARA!E:E,0))),\"\")","v":"השקעות אחרות"}]
[378,"DT621",0,{"$f":"IFERROR(IF(INDEX(HAMARA!I:I,MATCH(B85,HAMARA!E:E,0))=0,\"\",INDEX(HAMARA!I:I,MATCH(B85,HAMARA!E:E,0))),\"\")","v":"השקעות אחרות"}]
[378,"DT454",0,{"$f":"IFERROR(IF(INDEX(HAMARA!I:I,MATCH(B86,HAMARA!E:E,0))=0,\"\",INDEX(HAMARA!I:I,MATCH(B86,HAMARA!E:E,0))),\"\")","v":"השקעות אחרות"}]
[378,"DT455",0,{"$f":"IFERROR(IF(INDEX(HAMARA!I:I,MATCH(B87,HAMARA!E:E,0))=0,\"\",INDEX(HAMARA!I:I,MATCH(B87,HAMARA!E:E,0))),\"\")","v":"השקעות אחרות"}]
[378,"DT456",0,{"$f":"IFERROR(IF(INDEX(HAMARA!I:I,MATCH(B88,HAMARA!E:E,0))=0,\"\",INDEX(HAMARA!I:I,MATCH(B88,HAMARA!E:E,0))),\"\")","v":"אג\"ח קונצרניות סחירות"}]
[378,"DT457",0,{"$f":"IFERROR(IF(INDEX(HAMARA!I:I,MATCH(B89,HAMARA!E:E,0))=0,\"\",INDEX(HAMARA!I:I,MATCH(B89,HAMARA!E:E,0))),\"\")","v":"אג\"ח קונצרניות סחירות"}]
[378,"DT458",0,{"$f":"IFERROR(IF(INDEX(HAMARA!I:I,MATCH(B90,HAMARA!E:E,0))=0,\"\",INDEX(HAMARA!I:I,MATCH(B90,HAMARA!E:E,0))),\"\")","v":"אג\"ח קונצרניות סחירות"}]
[378,"DT459",0,{"$f":"IFERROR(IF(INDEX(HAMARA!I:I,MATCH(B91,HAMARA!E:E,0))=0,\"\",INDEX(HAMARA!I:I,MATCH(B91,HAMARA!E:E,0))),\"\")","v":"אג\"ח קונצרניות סחירות"}]
[378,"DT460",0,{"$f":"IFERROR(IF(INDEX(HAMARA!I:I,MATCH(B92,HAMARA!E:E,0))=0,\"\",INDEX(HAMARA!I:I,MATCH(B92,HAMARA!E:E,0))),\"\")","v":"השקעות אחרות"}]
[378,"DT461",0,{"$f":"IFERROR(IF(INDEX(HAMARA!I:I,MATCH(B93,HAMARA!E:E,0))=0,\"\",INDEX(HAMARA!I:I,MATCH(B93,HAMARA!E:E,0))),\"\")","v":"השקעות אחרות"}]
[378,"DT462",0,{"$f":"IFERROR(IF(INDEX(HAMARA!I:I,MATCH(B94,HAMARA!E:E,0))=0,\"\",INDEX(HAMARA!I:I,MATCH(B94,HAMARA!E:E,0))),\"\")","v":"השקעות אחרות"}]
[378,"DT558",0,{"$f":"IFERROR(IF(INDEX(HAMARA!I:I,MATCH(B95,HAMARA!E:E,0))=0,\"\",INDEX(HAMARA!I:I,MATCH(B95,HAMARA!E:E,0))),\"\")","v":"השקעות אחרות"}]
[378,"DT463",0,{"$f":"IFERROR(IF(INDEX(HAMARA!I:I,MATCH(B96,HAMARA!E:E,0))=0,\"\",INDEX(HAMARA!I:I,MATCH(B96,HAMARA!E:E,0))),\"\")","v":"השקעות אחרות"}]
[378,"DT464",0,{"$f":"IFERROR(IF(INDEX(HAMARA!I:I,MATCH(B97,HAMARA!E:E,0))=0,\"\",INDEX(HAMARA!I:I,MATCH(B97,HAMARA!E:E,0))),\"\")","v":"השקעות אחרות"}]
[378,"DT465",0,{"$f":"IFERROR(IF(INDEX(HAMARA!I:I,MATCH(B98,HAMARA!E:E,0))=0,\"\",INDEX(HAMARA!I:I,MATCH(B98,HAMARA!E:E,0))),\"\")","v":"השקעות אחרות"}]
[378,"DT559",0,{"$f":"IFERROR(IF(INDEX(HAMARA!I:I,MATCH(B99,HAMARA!E:E,0))=0,\"\",INDEX(HAMARA!I:I,MATCH(B99,HAMARA!E:E,0))),\"\")","v":"השקעות אחרות"}]
[378,"DT402",92359.930999999997,{"$f":"IFERROR(IF(INDEX(HAMARA!I:I,MATCH(B100,HAMARA!E:E,0))=0,\"\",INDEX(HAMARA!I:I,MATCH(B100,HAMARA!E:E,0))),\"\")","v":"מניות וני\"ע סחירים אחרים"}]
[378,"DT403",21619.052,{"$f":"IFERROR(IF(INDEX(HAMARA!I:I,MATCH(B101,HAMARA!E:E,0))=0,\"\",INDEX(HAMARA!I:I,MATCH(B101,HAMARA!E:E,0))),\"\")","v":"מניות וני\"ע סחירים אחרים"}]
[378,"DT404",2147.9769999999999,{"$f":"IFERROR(IF(INDEX(HAMARA!I:I,MATCH(B102,HAMARA!E:E,0))=0,\"\",INDEX(HAMARA!I:I,MATCH(B102,HAMARA!E:E,0))),\"\")","v":"מניות וני\"ע סחירים אחרים"}]
[378,"DT405",0,{"$f":"IFERROR(IF(INDEX(HAMARA!I:I,MATCH(B103,HAMARA!E:E,0))=0,\"\",INDEX(HAMARA!I:I,MATCH(B103,HAMARA!E:E,0))),\"\")","v":"השקעות אחרות"}]
[378,"DT172",0,{"$f":"IFERROR(IF(INDEX(HAMARA!I:I,MATCH(B104,HAMARA!E:E,0))=0,\"\",INDEX(HAMARA!I:I,MATCH(B104,HAMARA!E:E,0))),\"\")","v":"השקעות אחרות"}]
[378,"DT205",0,{"$f":"IFERROR(IF(INDEX(HAMARA!I:I,MATCH(B105,HAMARA!E:E,0))=0,\"\",INDEX(HAMARA!I:I,MATCH(B105,HAMARA!E:E,0))),\"\")","v":"השקעות אחרות"}]
[378,"DC9",0,{"$f":"IFERROR(IF(INDEX(HAMARA!I:I,MATCH(B106,HAMARA!E:E,0))=0,\"\",INDEX(HAMARA!I:I,MATCH(B106,HAMARA!E:E,0))),\"\")","v":"השקעות אחרות"}]
[378,"DT28",6782.2020000000002,{"$f":"IFERROR(IF(INDEX(HAMARA!I:I,MATCH(B107,HAMARA!E:E,0))=0,\"\",INDEX(HAMARA!I:I,MATCH(B107,HAMARA!E:E,0))),\"\")","v":"מניות וני\"ע סחירים אחרים"}]
[378,"DT30",23622.764999999999,{"$f":"IFERROR(IF(INDEX(HAMARA!I:I,MATCH(B108,HAMARA!E:E,0))=0,\"\",INDEX(HAMARA!I:I,MATCH(B108,HAMARA!E:E,0))),\"\")","v":"מניות וני\"ע סחירים אחרים"}]
[378,"DT81",0,{"$f":"IFERROR(IF(INDEX(HAMARA!I:I,MATCH(B109,HAMARA!E:E,0))=0,\"\",INDEX(HAMARA!I:I,MATCH(B109,HAMARA!E:E,0))),\"\")","v":"מניות וני\"ע סחירים אחרים"}]
[378,"DT622",0,{"$f":"IFERROR(IF(INDEX(HAMARA!I:I,MATCH(B110,HAMARA!E:E,0))=0,\"\",INDEX(HAMARA!I:I,MATCH(B110,HAMARA!E:E,0))),\"\")","v":"השקעות אחרות"}]
[378,"DT83",0,{"$f":"IFERROR(IF(INDEX(HAMARA!I:I,MATCH(B111,HAMARA!E:E,0))=0,\"\",INDEX(HAMARA!I:I,MATCH(B111,HAMARA!E:E,0))),\"\")","v":"השקעות אחרות"}]
[378,"DT360",338.49400000000003,{"$f":"IFERROR(IF(INDEX(HAMARA!I:I,MATCH(B112,HAMARA!E:E,0))=0,\"\",INDEX(HAMARA!I:I,MATCH(B112,HAMARA!E:E,0))),\"\")","v":"מניות וני\"ע סחירים אחרים"}]
[378,"DT361",0,{"$f":"IFERROR(IF(INDEX(HAMARA!I:I,MATCH(B113,HAMARA!E:E,0))=0,\"\",INDEX(HAMARA!I:I,MATCH(B113,HAMARA!E:E,0))),\"\")","v":"מניות וני\"ע סחירים אחרים"}]
[378,"DT362",14492.047,{"$f":"IFERROR(IF(INDEX(HAMARA!I:I,MATCH(B114,HAMARA!E:E,0))=0,\"\",INDEX(HAMARA!I:I,MATCH(B114,HAMARA!E:E,0))),\"\")","v":"מניות וני\"ע סחירים אחרים"}]
[378,"DT363",0,{"$f":"IFERROR(IF(INDEX(HAMARA!I:I,MATCH(B115,HAMARA!E:E,0))=0,\"\",INDEX(HAMARA!I:I,MATCH(B115,HAMARA!E:E,0))),\"\")","v":"מניות וני\"ע סחירים אחרים"}]
[378,"DT406",0,{"$f":"IFERROR(IF(INDEX(HAMARA!I:I,MATCH(B116,HAMARA!E:E,0))=0,\"\",INDEX(HAMARA!I:I,MATCH(B116,HAMARA!E:E,0))),\"\")","v":"מניות וני\"ע סחירים אחרים"}]
[378,"DT623",0,{"$f":"IFERROR(IF(INDEX(HAMARA!I:I,MATCH(B117,HAMARA!E:E,0))=0,\"\",INDEX(HAMARA!I:I,MATCH(B117,HAMARA!E:E,0))),\"\")","v":"מניות וני\"ע סחירים אחרים"}]
[378,"DT366",176370.68599999999,{"$f":"IFERROR(IF(INDEX(HAMARA!I:I,MATCH(B118,HAMARA!E:E,0))=0,\"\",INDEX(HAMARA!I:I,MATCH(B118,HAMARA!E:E,0))),\"\")","v":"מניות וני\"ע סחירים אחרים"}]
[378,"DT367",17335.803,{"$f":"IFERROR(IF(INDEX(HAMARA!I:I,MATCH(B119,HAMARA!E:E,0))=0,\"\",INDEX(HAMARA!I:I,MATCH(B119,HAMARA!E:E,0))),\"\")","v":"מניות וני\"ע סחירים אחרים"}]
[378,"DT407",0,{"$f":"IFERROR(IF(INDEX(HAMARA!I:I,MATCH(B120,HAMARA!E:E,0))=0,\"\",INDEX(HAMARA!I:I,MATCH(B120,HAMARA!E:E,0))),\"\")","v":"מניות וני\"ע סחירים אחרים"}]
[378,"DT624",0,{"$f":"IFERROR(IF(INDEX(HAMARA!I:I,MATCH(B121,HAMARA!E:E,0))=0,\"\",INDEX(HAMARA!I:I,MATCH(B121,HAMARA!E:E,0))),\"\")","v":"מניות וני\"ע סחירים אחרים"}]
[378,"DB10",0,{"$f":"IFERROR(IF(INDEX(HAMARA!I:I,MATCH(B122,HAMARA!E:E,0))=0,\"\",INDEX(HAMARA!I:I,MATCH(B122,HAMARA!E:E,0))),\"\")","v":"מניות וני\"ע סחירים אחרים"}]
[378,"DT701",0,{"$f":"IFERROR(IF(INDEX(HAMARA!I:I,MATCH(B123,HAMARA!E:E,0))=0,\"\",INDEX(HAMARA!I:I,MATCH(B123,HAMARA!E:E,0))),\"\")","v":"מניות וני\"ע סחירים אחרים"}]
[378,"DT702",0,{"$f":"IFERROR(IF(INDEX(HAMARA!I:I,MATCH(B124,HAMARA!E:E,0))=0,\"\",INDEX(HAMARA!I:I,MATCH(B124,HAMARA!E:E,0))),\"\")","v":"מניות וני\"ע סחירים אחרים"}]
[378,"DT703",701.40800000000002,{"$f":"IFERROR(IF(INDEX(HAMARA!I:I,MATCH(B125,HAMARA!E:E,0))=0,\"\",INDEX(HAMARA!I:I,MATCH(B125,HAMARA!E:E,0))),\"\")","v":"מניות וני\"ע סחירים אחרים"}]
[378,"DT704",0,{"$f":"IFERROR(IF(INDEX(HAMARA!I:I,MATCH(B126,HAMARA!E:E,0))=0,\"\",INDEX(HAMARA!I:I,MATCH(B126,HAMARA!E:E,0))),\"\")","v":"מניות וני\"ע סחירים אחרים"}]
[378,"DT53",0,{"$f":"IFERROR(IF(INDEX(HAMARA!I:I,MATCH(B127,HAMARA!E:E,0))=0,\"\",INDEX(HAMARA!I:I,MATCH(B127,HAMARA!E:E,0))),\"\")","v":"השקעות אחרות"}]
[378,"DT466",20721.024000000001,{"$f":"IFERROR(IF(INDEX(HAMARA!I:I,MATCH(B128,HAMARA!E:E,0))=0,\"\",INDEX(HAMARA!I:I,MATCH(B128,HAMARA!E:E,0))),\"\")","v":"השקעות אחרות"}]
[378,"DT225",1722.7470000000001,{"$f":"IFERROR(IF(INDEX(HAMARA!I:I,MATCH(B129,HAMARA!E:E,0))=0,\"\",INDEX(HAMARA!I:I,MATCH(B129,HAMARA!E:E,0))),\"\")","v":"השקעות אחרות"}]
[378,"DT52",4996.9430000000002,{"$f":"IFERROR(IF(INDEX(HAMARA!I:I,MATCH(B130,HAMARA!E:E,0))=0,\"\",INDEX(HAMARA!I:I,MATCH(B130,HAMARA!E:E,0))),\"\")","v":"השקעות אחרות"}]
[378,"DT89",0,{"$f":"IFERROR(IF(INDEX(HAMARA!I:I,MATCH(B131,HAMARA!E:E,0))=0,\"\",INDEX(HAMARA!I:I,MATCH(B131,HAMARA!E:E,0))),\"\")","v":"השקעות אחרות"}]
[378,"DT467",977.1,{"$f":"IFERROR(IF(INDEX(HAMARA!I:I,MATCH(B132,HAMARA!E:E,0))=0,\"\",INDEX(HAMARA!I:I,MATCH(B132,HAMARA!E:E,0))),\"\")","v":"השקעות אחרות"}]
[378,"DT226",7357.1710000000003,{"$f":"IFERROR(IF(INDEX(HAMARA!I:I,MATCH(B133,HAMARA!E:E,0))=0,\"\",INDEX(HAMARA!I:I,MATCH(B133,HAMARA!E:E,0))),\"\")","v":"השקעות אחרות"}]
[378,"DT88",53596.322,{"$f":"IFERROR(IF(INDEX(HAMARA!I:I,MATCH(B134,HAMARA!E:E,0))=0,\"\",INDEX(HAMARA!I:I,MATCH(B134,HAMARA!E:E,0))),\"\")","v":"השקעות אחרות"}]
[378,"DB5",259.65100000000001,{"$f":"IFERROR(IF(INDEX(HAMARA!I:I,MATCH(B135,HAMARA!E:E,0))=0,\"\",INDEX(HAMARA!I:I,MATCH(B135,HAMARA!E:E,0))),\"\")","v":"מניות וני\"ע סחירים אחרים"}]
[378,"DT439",0,{"$f":"IFERROR(IF(INDEX(HAMARA!I:I,MATCH(B136,HAMARA!E:E,0))=0,\"\",INDEX(HAMARA!I:I,MATCH(B136,HAMARA!E:E,0))),\"\")","v":"השקעות אחרות"}]
[378,"DT211",0,{"$f":"IFERROR(IF(INDEX(HAMARA!I:I,MATCH(B137,HAMARA!E:E,0))=0,\"\",INDEX(HAMARA!I:I,MATCH(B137,HAMARA!E:E,0))),\"\")","v":"השקעות אחרות"}]
[378,"DT440",0.30299999999999999,{"$f":"IFERROR(IF(INDEX(HAMARA!I:I,MATCH(B138,HAMARA!E:E,0))=0,\"\",INDEX(HAMARA!I:I,MATCH(B138,HAMARA!E:E,0))),\"\")","v":"השקעות אחרות"}]
[378,"DT749",0,{"$f":"IFERROR(IF(INDEX(HAMARA!I:I,MATCH(B139,HAMARA!E:E,0))=0,\"\",INDEX(HAMARA!I:I,MATCH(B139,HAMARA!E:E,0))),\"\")","v":"השקעות אחרות"}]
[378,"DT441",0,{"$f":"IFERROR(IF(INDEX(HAMARA!I:I,MATCH(B140,HAMARA!E:E,0))=0,\"\",INDEX(HAMARA!I:I,MATCH(B140,HAMARA!E:E,0))),\"\")","v":"השקעות אחרות"}]
[378,"DT442",2329.2339999999999,{"$f":"IFERROR(IF(INDEX(HAMARA!I:I,MATCH(B141,HAMARA!E:E,0))=0,\"\",INDEX(HAMARA!I:I,MATCH(B141,HAMARA!E:E,0))),\"\")","v":"השקעות אחרות"}]
[378,"DT443",0,{"$f":"IFERROR(IF(INDEX(HAMARA!I:I,MATCH(B142,HAMARA!E:E,0))=0,\"\",INDEX(HAMARA!I:I,MATCH(B142,HAMARA!E:E,0))),\"\")","v":"השקעות אחרות"}]
[378,"DT444",0,{"$f":"IFERROR(IF(INDEX(HAMARA!I:I,MATCH(B143,HAMARA!E:E,0))=0,\"\",INDEX(HAMARA!I:I,MATCH(B143,HAMARA!E:E,0))),\"\")","v":"השקעות אחרות"}]
[378,"DT445",0,{"$f":"IFERROR(IF(INDEX(HAMARA!I:I,MATCH(B144,HAMARA!E:E,0))=0,\"\",INDEX(HAMARA!I:I,MATCH(B144,HAMARA!E:E,0))),\"\")","v":"השקעות אחרות"}]
[378,"DT212",0,{"$f":"IFERROR(IF(INDEX(HAMARA!I:I,MATCH(B145,HAMARA!E:E,0))=0,\"\",INDEX(HAMARA!I:I,MATCH(B145,HAMARA!E:E,0))),\"\")","v":"השקעות אחרות"}]
[378,"DT446",0,{"$f":"IFERROR(IF(INDEX(HAMARA!I:I,MATCH(B146,HAMARA!E:E,0))=0,\"\",INDEX(HAMARA!I:I,MATCH(B146,HAMARA!E:E,0))),\"\")","v":"השקעות אחרות"}]
[378,"DT447",0,{"$f":"IFERROR(IF(INDEX(HAMARA!I:I,MATCH(B147,HAMARA!E:E,0))=0,\"\",INDEX(HAMARA!I:I,MATCH(B147,HAMARA!E:E,0))),\"\")","v":"השקעות אחרות"}]
[378,"DT448",0,{"$f":"IFERROR(IF(INDEX(HAMARA!I:I,MATCH(B148,HAMARA!E:E,0))=0,\"\",INDEX(HAMARA!I:I,MATCH(B148,HAMARA!E:E,0))),\"\")","v":"השקעות אחרות"}]
[378,"DT449",0,{"$f":"IFERROR(IF(INDEX(HAMARA!I:I,MATCH(B149,HAMARA!E:E,0))=0,\"\",INDEX(HAMARA!I:I,MATCH(B149,HAMARA!E:E,0))),\"\")","v":"השקעות אחרות"}]
[378,"DT468",0,{"$f":"IFERROR(IF(INDEX(HAMARA!I:I,MATCH(B150,HAMARA!E:E,0))=0,\"\",INDEX(HAMARA!I:I,MATCH(B150,HAMARA!E:E,0))),\"\")","v":"מניות וני\"ע סחירים אחרים"}]
[378,"DT469",0,{"$f":"IFERROR(IF(INDEX(HAMARA!I:I,MATCH(B151,HAMARA!E:E,0))=0,\"\",INDEX(HAMARA!I:I,MATCH(B151,HAMARA!E:E,0))),\"\")","v":"מניות וני\"ע סחירים אחרים"}]
[378,"DT175",0,{"$f":"IFERROR(IF(INDEX(HAMARA!I:I,MATCH(B152,HAMARA!E:E,0))=0,\"\",INDEX(HAMARA!I:I,MATCH(B152,HAMARA!E:E,0))),\"\")","v":"השקעות אחרות"}]
[378,"DT208",0,{"$f":"IFERROR(IF(INDEX(HAMARA!I:I,MATCH(B153,HAMARA!E:E,0))=0,\"\",INDEX(HAMARA!I:I,MATCH(B153,HAMARA!E:E,0))),\"\")","v":"השקעות אחרות"}]
[378,"DT176",0,{"$f":"IFERROR(IF(INDEX(HAMARA!I:I,MATCH(B154,HAMARA!E:E,0))=0,\"\",INDEX(HAMARA!I:I,MATCH(B154,HAMARA!E:E,0))),\"\")","v":"השקעות אחרות"}]
[378,"DT209",0,{"$f":"IFERROR(IF(INDEX(HAMARA!I:I,MATCH(B155,HAMARA!E:E,0))=0,\"\",INDEX(HAMARA!I:I,MATCH(B155,HAMARA!E:E,0))),\"\")","v":"השקעות אחרות"}]
[378,"DT177",0,{"$f":"IFERROR(IF(INDEX(HAMARA!I:I,MATCH(B156,HAMARA!E:E,0))=0,\"\",INDEX(HAMARA!I:I,MATCH(B156,HAMARA!E:E,0))),\"\")","v":"השקעות אחרות"}]
[378,"DT210",0,{"$f":"IFERROR(IF(INDEX(HAMARA!I:I,MATCH(B157,HAMARA!E:E,0))=0,\"\",INDEX(HAMARA!I:I,MATCH(B157,HAMARA!E:E,0))),\"\")","v":"השקעות אחרות"}]
[378,"DT472",0,{"$f":"IFERROR(IF(INDEX(HAMARA!I:I,MATCH(B158,HAMARA!E:E,0))=0,\"\",INDEX(HAMARA!I:I,MATCH(B158,HAMARA!E:E,0))),\"\")","v":"השקעות אחרות"}]
[378,"DT470",0,{"$f":"IFERROR(IF(INDEX(HAMARA!I:I,MATCH(B159,HAMARA!E:E,0))=0,\"\",INDEX(HAMARA!I:I,MATCH(B159,HAMARA!E:E,0))),\"\")","v":"השקעות אחרות"}]
[378,"DT345",0,{"$f":"IFERROR(IF(INDEX(HAMARA!I:I,MATCH(B160,HAMARA!E:E,0))=0,\"\",INDEX(HAMARA!I:I,MATCH(B160,HAMARA!E:E,0))),\"\")","v":"השקעות אחרות"}]
[378,"DT347",0,{"$f":"IFERROR(IF(INDEX(HAMARA!I:I,MATCH(B161,HAMARA!E:E,0))=0,\"\",INDEX(HAMARA!I:I,MATCH(B161,HAMARA!E:E,0))),\"\")","v":"השקעות אחרות"}]
[378,"DT625",0,{"$f":"IFERROR(IF(INDEX(HAMARA!I:I,MATCH(B162,HAMARA!E:E,0))=0,\"\",INDEX(HAMARA!I:I,MATCH(B162,HAMARA!E:E,0))),\"\")","v":"השקעות אחרות"}]
[378,"DT626",0,{"$f":"IFERROR(IF(INDEX(HAMARA!I:I,MATCH(B163,HAMARA!E:E,0))=0,\"\",INDEX(HAMARA!I:I,MATCH(B163,HAMARA!E:E,0))),\"\")","v":"השקעות אחרות"}]
[378,"DT471",0,{"$f":"IFERROR(IF(INDEX(HAMARA!I:I,MATCH(B164,HAMARA!E:E,0))=0,\"\",INDEX(HAMARA!I:I,MATCH(B164,HAMARA!E:E,0))),\"\")","v":"השקעות אחרות"}]
[378,"DT473",0,{"$f":"IFERROR(IF(INDEX(HAMARA!I:I,MATCH(B165,HAMARA!E:E,0))=0,\"\",INDEX(HAMARA!I:I,MATCH(B165,HAMARA!E:E,0))),\"\")","v":"השקעות אחרות"}]
[378,"DT346",0,{"$f":"IFERROR(IF(INDEX(HAMARA!I:I,MATCH(B166,HAMARA!E:E,0))=0,\"\",INDEX(HAMARA!I:I,MATCH(B166,HAMARA!E:E,0))),\"\")","v":"השקעות אחרות"}]
[378,"DT348",0,{"$f":"IFERROR(IF(INDEX(HAMARA!I:I,MATCH(B167,HAMARA!E:E,0))=0,\"\",INDEX(HAMARA!I:I,MATCH(B167,HAMARA!E:E,0))),\"\")","v":"השקעות אחרות"}]
[378,"DT213",0,{"$f":"IFERROR(IF(INDEX(HAMARA!I:I,MATCH(B168,HAMARA!E:E,0))=0,\"\",INDEX(HAMARA!I:I,MATCH(B168,HAMARA!E:E,0))),\"\")","v":"מניות וני\"ע סחירים אחרים"}]
[378,"DT217",0,{"$f":"IFERROR(IF(INDEX(HAMARA!I:I,MATCH(B169,HAMARA!E:E,0))=0,\"\",INDEX(HAMARA!I:I,MATCH(B169,HAMARA!E:E,0))),\"\")","v":"מניות וני\"ע סחירים אחרים"}]
[378,"DT214",0,{"$f":"IFERROR(IF(INDEX(HAMARA!I:I,MATCH(B170,HAMARA!E:E,0))=0,\"\",INDEX(HAMARA!I:I,MATCH(B170,HAMARA!E:E,0))),\"\")","v":"השקעות אחרות"}]
[378,"DT218",0,{"$f":"IFERROR(IF(INDEX(HAMARA!I:I,MATCH(B171,HAMARA!E:E,0))=0,\"\",INDEX(HAMARA!I:I,MATCH(B171,HAMARA!E:E,0))),\"\")","v":"השקעות אחרות"}]
[378,"DT215",0,{"$f":"IFERROR(IF(INDEX(HAMARA!I:I,MATCH(B172,HAMARA!E:E,0))=0,\"\",INDEX(HAMARA!I:I,MATCH(B172,HAMARA!E:E,0))),\"\")","v":"השקעות אחרות"}]
[378,"DT219",0,{"$f":"IFERROR(IF(INDEX(HAMARA!I:I,MATCH(B173,HAMARA!E:E,0))=0,\"\",INDEX(HAMARA!I:I,MATCH(B173,HAMARA!E:E,0))),\"\")","v":"השקעות אחרות"}]
[378,"DT216",0,{"$f":"IFERROR(IF(INDEX(HAMARA!I:I,MATCH(B174,HAMARA!E:E,0))=0,\"\",INDEX(HAMARA!I:I,MATCH(B174,HAMARA!E:E,0))),\"\")","v":"השקעות אחרות"}]
[378,"DT220",0,{"$f":"IFERROR(IF(INDEX(HAMARA!I:I,MATCH(B175,HAMARA!E:E,0))=0,\"\",INDEX(HAMARA!I:I,MATCH(B175,HAMARA!E:E,0))),\"\")","v":"השקעות אחרות"}]
[378,"DT474",0,{"$f":"IFERROR(IF(INDEX(HAMARA!I:I,MATCH(B176,HAMARA!E:E,0))=0,\"\",INDEX(HAMARA!I:I,MATCH(B176,HAMARA!E:E,0))),\"\")","v":"השקעות אחרות"}]
[378,"DT475",0,{"$f":"IFERROR(IF(INDEX(HAMARA!I:I,MATCH(B177,HAMARA!E:E,0))=0,\"\",INDEX(HAMARA!I:I,MATCH(B177,HAMARA!E:E,0))),\"\")","v":"השקעות אחרות"}]
[378,"DT476",0,{"$f":"IFERROR(IF(INDEX(HAMARA!I:I,MATCH(B178,HAMARA!E:E,0))=0,\"\",INDEX(HAMARA!I:I,MATCH(B178,HAMARA!E:E,0))),\"\")","v":"השקעות אחרות"}]
[378,"DT481",0,{"$f":"IFERROR(IF(INDEX(HAMARA!I:I,MATCH(B179,HAMARA!E:E,0))=0,\"\",INDEX(HAMARA!I:I,MATCH(B179,HAMARA!E:E,0))),\"\")","v":"השקעות אחרות"}]
[378,"DT477",0,{"$f":"IFERROR(IF(INDEX(HAMARA!I:I,MATCH(B180,HAMARA!E:E,0))=0,\"\",INDEX(HAMARA!I:I,MATCH(B180,HAMARA!E:E,0))),\"\")","v":"השקעות אחרות"}]
[378,"DT482",0,{"$f":"IFERROR(IF(INDEX(HAMARA!I:I,MATCH(B181,HAMARA!E:E,0))=0,\"\",INDEX(HAMARA!I:I,MATCH(B181,HAMARA!E:E,0))),\"\")","v":"השקעות אחרות"}]
[378,"DT478",0,{"$f":"IFERROR(IF(INDEX(HAMARA!I:I,MATCH(B182,HAMARA!E:E,0))=0,\"\",INDEX(HAMARA!I:I,MATCH(B182,HAMARA!E:E,0))),\"\")","v":"השקעות אחרות"}]
[378,"DT483",0,{"$f":"IFERROR(IF(INDEX(HAMARA!I:I,MATCH(B183,HAMARA!E:E,0))=0,\"\",INDEX(HAMARA!I:I,MATCH(B183,HAMARA!E:E,0))),\"\")","v":"השקעות אחרות"}]
[378,"DT479",0,{"$f":"IFERROR(IF(INDEX(HAMARA!I:I,MATCH(B184,HAMARA!E:E,0))=0,\"\",INDEX(HAMARA!I:I,MATCH(B184,HAMARA!E:E,0))),\"\")","v":"השקעות אחרות"}]
[378,"DT484",0,{"$f":"IFERROR(IF(INDEX(HAMARA!I:I,MATCH(B185,HAMARA!E:E,0))=0,\"\",INDEX(HAMARA!I:I,MATCH(B185,HAMARA!E:E,0))),\"\")","v":"השקעות אחרות"}]
[378,"DT480",0,{"$f":"IFERROR(IF(INDEX(HAMARA!I:I,MATCH(B186,HAMARA!E:E,0))=0,\"\",INDEX(HAMARA!I:I,MATCH(B186,HAMARA!E:E,0))),\"\")","v":"השקעות אחרות"}]
[378,"DT485",0,{"$f":"IFERROR(IF(INDEX(HAMARA!I:I,MATCH(B187,HAMARA!E:E,0))=0,\"\",INDEX(HAMARA!I:I,MATCH(B187,HAMARA!E:E,0))),\"\")","v":"השקעות אחרות"}]
[378,"DT705",0,{"$f":"IFERROR(IF(INDEX(HAMARA!I:I,MATCH(B188,HAMARA!E:E,0))=0,\"\",INDEX(HAMARA!I:I,MATCH(B188,HAMARA!E:E,0))),\"\")","v":"השקעות אחרות"}]
[378,"DT706",0,{"$f":"IFERROR(IF(INDEX(HAMARA!I:I,MATCH(B189,HAMARA!E:E,0))=0,\"\",INDEX(HAMARA!I:I,MATCH(B189,HAMARA!E:E,0))),\"\")","v":"השקעות אחרות"}]
[378,"DT707",0,{"$f":"IFERROR(IF(INDEX(HAMARA!I:I,MATCH(B190,HAMARA!E:E,0))=0,\"\",INDEX(HAMARA!I:I,MATCH(B190,HAMARA!E:E,0))),\"\")","v":"השקעות אחרות"}]
[378,"DT708",0,{"$f":"IFERROR(IF(INDEX(HAMARA!I:I,MATCH(B191,HAMARA!E:E,0))=0,\"\",INDEX(HAMARA!I:I,MATCH(B191,HAMARA!E:E,0))),\"\")","v":"השקעות אחרות"}]
[378,"DT709",0,{"$f":"IFERROR(IF(INDEX(HAMARA!I:I,MATCH(B192,HAMARA!E:E,0))=0,\"\",INDEX(HAMARA!I:I,MATCH(B192,HAMARA!E:E,0))),\"\")","v":"השקעות אחרות"}]
[378,"DT710",0,{"$f":"IFERROR(IF(INDEX(HAMARA!I:I,MATCH(B193,HAMARA!E:E,0))=0,\"\",INDEX(HAMARA!I:I,MATCH(B193,HAMARA!E:E,0))),\"\")","v":"השקעות אחרות"}]
[378,"DT711",0,{"$f":"IFERROR(IF(INDEX(HAMARA!I:I,MATCH(B194,HAMARA!E:E,0))=0,\"\",INDEX(HAMARA!I:I,MATCH(B194,HAMARA!E:E,0))),\"\")","v":"השקעות אחרות"}]
[378,"DT712",0,{"$f":"IFERROR(IF(INDEX(HAMARA!I:I,MATCH(B195,HAMARA!E:E,0))=0,\"\",INDEX(HAMARA!I:I,MATCH(B195,HAMARA!E:E,0))),\"\")","v":"השקעות אחרות"}]
[378,"DT713",0,{"$f":"IFERROR(IF(INDEX(HAMARA!I:I,MATCH(B196,HAMARA!E:E,0))=0,\"\",INDEX(HAMARA!I:I,MATCH(B196,HAMARA!E:E,0))),\"\")","v":"השקעות אחרות"}]
[378,"DT714",0,{"$f":"IFERROR(IF(INDEX(HAMARA!I:I,MATCH(B197,HAMARA!E:E,0))=0,\"\",INDEX(HAMARA!I:I,MATCH(B197,HAMARA!E:E,0))),\"\")","v":"השקעות אחרות"}]
[378,"DT715",0,{"$f":"IFERROR(IF(INDEX(HAMARA!I:I,MATCH(B198,HAMARA!E:E,0))=0,\"\",INDEX(HAMARA!I:I,MATCH(B198,HAMARA!E:E,0))),\"\")","v":"השקעות אחרות"}]
[378,"DT716",0,{"$f":"IFERROR(IF(INDEX(HAMARA!I:I,MATCH(B199,HAMARA!E:E,0))=0,\"\",INDEX(HAMARA!I:I,MATCH(B199,HAMARA!E:E,0))),\"\")","v":"מניות וני\"ע סחירים אחרים"}]
[378,"DT717",0,{"$f":"IFERROR(IF(INDEX(HAMARA!I:I,MATCH(B200,HAMARA!E:E,0))=0,\"\",INDEX(HAMARA!I:I,MATCH(B200,HAMARA!E:E,0))),\"\")","v":"השקעות אחרות"}]
[378,"DT718",0,{"$f":"IFERROR(IF(INDEX(HAMARA!I:I,MATCH(B201,HAMARA!E:E,0))=0,\"\",INDEX(HAMARA!I:I,MATCH(B201,HAMARA!E:E,0))),\"\")","v":"השקעות אחרות"}]
[378,"DT719",0,{"$f":"IFERROR(IF(INDEX(HAMARA!I:I,MATCH(B202,HAMARA!E:E,0))=0,\"\",INDEX(HAMARA!I:I,MATCH(B202,HAMARA!E:E,0))),\"\")","v":"השקעות אחרות"}]
[378,"DT720",0,{"$f":"IFERROR(IF(INDEX(HAMARA!I:I,MATCH(B203,HAMARA!E:E,0))=0,\"\",INDEX(HAMARA!I:I,MATCH(B203,HAMARA!E:E,0))),\"\")","v":"השקעות אחרות"}]
[378,"DT721",0,{"$f":"IFERROR(IF(INDEX(HAMARA!I:I,MATCH(B204,HAMARA!E:E,0))=0,\"\",INDEX(HAMARA!I:I,MATCH(B204,HAMARA!E:E,0))),\"\")","v":"השקעות אחרות"}]
[378,"DT722",0,{"$f":"IFERROR(IF(INDEX(HAMARA!I:I,MATCH(B205,HAMARA!E:E,0))=0,\"\",INDEX(HAMARA!I:I,MATCH(B205,HAMARA!E:E,0))),\"\")","v":"השקעות אחרות"}]
[378,"DT723",0,{"$f":"IFERROR(IF(INDEX(HAMARA!I:I,MATCH(B206,HAMARA!E:E,0))=0,\"\",INDEX(HAMARA!I:I,MATCH(B206,HAMARA!E:E,0))),\"\")","v":"השקעות אחרות"}]
[378,"DT724",0,{"$f":"IFERROR(IF(INDEX(HAMARA!I:I,MATCH(B207,HAMARA!E:E,0))=0,\"\",INDEX(HAMARA!I:I,MATCH(B207,HAMARA!E:E,0))),\"\")","v":"השקעות אחרות"}]
[378,"DT725",0,{"$f":"IFERROR(IF(INDEX(HAMARA!I:I,MATCH(B208,HAMARA!E:E,0))=0,\"\",INDEX(HAMARA!I:I,MATCH(B208,HAMARA!E:E,0))),\"\")","v":"השקעות אחרות"}]
[378,"DT726",0,{"$f":"IFERROR(IF(INDEX(HAMARA!I:I,MATCH(B209,HAMARA!E:E,0))=0,\"\",INDEX(HAMARA!I:I,MATCH(B209,HAMARA!E:E,0))),\"\")","v":"השקעות אחרות"}]
[378,"DT646",0,{"$f":"IFERROR(IF(INDEX(HAMARA!I:I,MATCH(B210,HAMARA!E:E,0))=0,\"\",INDEX(HAMARA!I:I,MATCH(B210,HAMARA!E:E,0))),\"\")","v":"השקעות אחרות"}]
[378,"DT647",0,{"$f":"IFERROR(IF(INDEX(HAMARA!I:I,MATCH(B211,HAMARA!E:E,0))=0,\"\",INDEX(HAMARA!I:I,MATCH(B211,HAMARA!E:E,0))),\"\")","v":"השקעות אחרות"}]
[378,"DT648",0,{"$f":"IFERROR(IF(INDEX(HAMARA!I:I,MATCH(B212,HAMARA!E:E,0))=0,\"\",INDEX(HAMARA!I:I,MATCH(B212,HAMARA!E:E,0))),\"\")","v":"השקעות אחרות"}]
[378,"DT649",0,{"$f":"IFERROR(IF(INDEX(HAMARA!I:I,MATCH(B213,HAMARA!E:E,0))=0,\"\",INDEX(HAMARA!I:I,MATCH(B213,HAMARA!E:E,0))),\"\")","v":"השקעות אחרות"}]
[378,"DT650",0,{"$f":"IFERROR(IF(INDEX(HAMARA!I:I,MATCH(B214,HAMARA!E:E,0))=0,\"\",INDEX(HAMARA!I:I,MATCH(B214,HAMARA!E:E,0))),\"\")","v":"השקעות אחרות"}]
[378,"DT651",0,{"$f":"IFERROR(IF(INDEX(HAMARA!I:I,MATCH(B215,HAMARA!E:E,0))=0,\"\",INDEX(HAMARA!I:I,MATCH(B215,HAMARA!E:E,0))),\"\")","v":"השקעות אחרות"}]
[378,"DT652",0,{"$f":"IFERROR(IF(INDEX(HAMARA!I:I,MATCH(B216,HAMARA!E:E,0))=0,\"\",INDEX(HAMARA!I:I,MATCH(B216,HAMARA!E:E,0))),\"\")","v":"השקעות אחרות"}]
[378,"DT653",0,{"$f":"IFERROR(IF(INDEX(HAMARA!I:I,MATCH(B217,HAMARA!E:E,0))=0,\"\",INDEX(HAMARA!I:I,MATCH(B217,HAMARA!E:E,0))),\"\")","v":"השקעות אחרות"}]
[378,"DT654",0,{"$f":"IFERROR(IF(INDEX(HAMARA!I:I,MATCH(B218,HAMARA!E:E,0))=0,\"\",INDEX(HAMARA!I:I,MATCH(B218,HAMARA!E:E,0))),\"\")","v":"השקעות אחרות"}]
[378,"DT655",0,{"$f":"IFERROR(IF(INDEX(HAMARA!I:I,MATCH(B219,HAMARA!E:E,0))=0,\"\",INDEX(HAMARA!I:I,MATCH(B219,HAMARA!E:E,0))),\"\")","v":"השקעות אחרות"}]
[378,"DT656",0,{"$f":"IFERROR(IF(INDEX(HAMARA!I:I,MATCH(B220,HAMARA!E:E,0))=0,\"\",INDEX(HAMARA!I:I,MATCH(B220,HAMARA!E:E,0))),\"\")","v":"השקעות אחרות"}]
[378,"DT657",0,{"$f":"IFERROR(IF(INDEX(HAMARA!I:I,MATCH(B221,HAMARA!E:E,0))=0,\"\",INDEX(HAMARA!I:I,MATCH(B221,HAMARA!E:E,0))),\"\")","v":"השקעות אחרות"}]
[378,"DT678",0,{"$f":"IFERROR(IF(INDEX(HAMARA!I:I,MATCH(B222,HAMARA!E:E,0))=0,\"\",INDEX(HAMARA!I:I,MATCH(B222,HAMARA!E:E,0))),\"\")","v":"השקעות אחרות"}]
[378,"DT679",0,{"$f":"IFERROR(IF(INDEX(HAMARA!I:I,MATCH(B223,HAMARA!E:E,0))=0,\"\",INDEX(HAMARA!I:I,MATCH(B223,HAMARA!E:E,0))),\"\")","v":"השקעות אחרות"}]
[378,"DT680",0,{"$f":"IFERROR(IF(INDEX(HAMARA!I:I,MATCH(B224,HAMARA!E:E,0))=0,\"\",INDEX(HAMARA!I:I,MATCH(B224,HAMARA!E:E,0))),\"\")","v":"השקעות אחרות"}]
[378,"DT681",0,{"$f":"IFERROR(IF(INDEX(HAMARA!I:I,MATCH(B225,HAMARA!E:E,0))=0,\"\",INDEX(HAMARA!I:I,MATCH(B225,HAMARA!E:E,0))),\"\")","v":"השקעות אחרות"}]
[378,"DT682",0,{"$f":"IFERROR(IF(INDEX(HAMARA!I:I,MATCH(B226,HAMARA!E:E,0))=0,\"\",INDEX(HAMARA!I:I,MATCH(B226,HAMARA!E:E,0))),\"\")","v":"השקעות אחרות"}]
[378,"DT683",0,{"$f":"IFERROR(IF(INDEX(HAMARA!I:I,MATCH(B227,HAMARA!E:E,0))=0,\"\",INDEX(HAMARA!I:I,MATCH(B227,HAMARA!E:E,0))),\"\")","v":"השקעות אחרות"}]
[378,"DT658",0,{"$f":"IFERROR(IF(INDEX(HAMARA!I:I,MATCH(B228,HAMARA!E:E,0))=0,\"\",INDEX(HAMARA!I:I,MATCH(B228,HAMARA!E:E,0))),\"\")","v":"השקעות אחרות"}]
[378,"DT659",0,{"$f":"IFERROR(IF(INDEX(HAMARA!I:I,MATCH(B229,HAMARA!E:E,0))=0,\"\",INDEX(HAMARA!I:I,MATCH(B229,HAMARA!E:E,0))),\"\")","v":"השקעות אחרות"}]
[378,"DT660",0,{"$f":"IFERROR(IF(INDEX(HAMARA!I:I,MATCH(B230,HAMARA!E:E,0))=0,\"\",INDEX(HAMARA!I:I,MATCH(B230,HAMARA!E:E,0))),\"\")","v":"השקעות אחרות"}]
[378,"DT661",0,{"$f":"IFERROR(IF(INDEX(HAMARA!I:I,MATCH(B231,HAMARA!E:E,0))=0,\"\",INDEX(HAMARA!I:I,MATCH(B231,HAMARA!E:E,0))),\"\")","v":"השקעות אחרות"}]
[378,"DT727",0,{"$f":"IFERROR(IF(INDEX(HAMARA!I:I,MATCH(B232,HAMARA!E:E,0))=0,\"\",INDEX(HAMARA!I:I,MATCH(B232,HAMARA!E:E,0))),\"\")","v":"השקעות אחרות"}]
[378,"DT728",0,{"$f":"IFERROR(IF(INDEX(HAMARA!I:I,MATCH(B233,HAMARA!E:E,0))=0,\"\",INDEX(HAMARA!I:I,MATCH(B233,HAMARA!E:E,0))),\"\")","v":"השקעות אחרות"}]
[378,"DT729",0,{"$f":"IFERROR(IF(INDEX(HAMARA!I:I,MATCH(B234,HAMARA!E:E,0))=0,\"\",INDEX(HAMARA!I:I,MATCH(B234,HAMARA!E:E,0))),\"\")","v":"השקעות אחרות"}]
[378,"DT730",0,{"$f":"IFERROR(IF(INDEX(HAMARA!I:I,MATCH(B235,HAMARA!E:E,0))=0,\"\",INDEX(HAMARA!I:I,MATCH(B235,HAMARA!E:E,0))),\"\")","v":"השקעות אחרות"}]
[378,"DT731",0,{"$f":"IFERROR(IF(INDEX(HAMARA!I:I,MATCH(B236,HAMARA!E:E,0))=0,\"\",INDEX(HAMARA!I:I,MATCH(B236,HAMARA!E:E,0))),\"\")","v":"השקעות אחרות"}]
[378,"DT732",0,{"$f":"IFERROR(IF(INDEX(HAMARA!I:I,MATCH(B237,HAMARA!E:E,0))=0,\"\",INDEX(HAMARA!I:I,MATCH(B237,HAMARA!E:E,0))),\"\")","v":"השקעות אחרות"}]
[378,"DT733",0,{"$f":"IFERROR(IF(INDEX(HAMARA!I:I,MATCH(B238,HAMARA!E:E,0))=0,\"\",INDEX(HAMARA!I:I,MATCH(B238,HAMARA!E:E,0))),\"\")","v":"השקעות אחרות"}]
[378,"DT734",0,{"$f":"IFERROR(IF(INDEX(HAMARA!I:I,MATCH(B239,HAMARA!E:E,0))=0,\"\",INDEX(HAMARA!I:I,MATCH(B239,HAMARA!E:E,0))),\"\")","v":"השקעות אחרות"}]
[378,"DT735",0,{"$f":"IFERROR(IF(INDEX(HAMARA!I:I,MATCH(B240,HAMARA!E:E,0))=0,\"\",INDEX(HAMARA!I:I,MATCH(B240,HAMARA!E:E,0))),\"\")","v":"השקעות אחרות"}]
[378,"DT736",0,{"$f":"IFERROR(IF(INDEX(HAMARA!I:I,MATCH(B241,HAMARA!E:E,0))=0,\"\",INDEX(HAMARA!I:I,MATCH(B241,HAMARA!E:E,0))),\"\")","v":"השקעות אחרות"}]
[378,"DT737",0,{"$f":"IFERROR(IF(INDEX(HAMARA!I:I,MATCH(B242,HAMARA!E:E,0))=0,\"\",INDEX(HAMARA!I:I,MATCH(B242,HAMARA!E:E,0))),\"\")","v":"השקעות אחרות"}]
[378,"DT738",0,{"$f":"IFERROR(IF(INDEX(HAMARA!I:I,MATCH(B243,HAMARA!E:E,0))=0,\"\",INDEX(HAMARA!I:I,MATCH(B243,HAMARA!E:E,0))),\"\")","v":"השקעות אחרות"}]
[378,"DT739",0,{"$f":"IFERROR(IF(INDEX(HAMARA!I:I,MATCH(B244,HAMARA!E:E,0))=0,\"\",INDEX(HAMARA!I:I,MATCH(B244,HAMARA!E:E,0))),\"\")","v":"השקעות אחרות"}]
[378,"DT740",0,{"$f":"IFERROR(IF(INDEX(HAMARA!I:I,MATCH(B245,HAMARA!E:E,0))=0,\"\",INDEX(HAMARA!I:I,MATCH(B245,HAMARA!E:E,0))),\"\")","v":"השקעות אחרות"}]
[378,"DT741",0,{"$f":"IFERROR(IF(INDEX(HAMARA!I:I,MATCH(B246,HAMARA!E:E,0))=0,\"\",INDEX(HAMARA!I:I,MATCH(B246,HAMARA!E:E,0))),\"\")","v":"השקעות אחרות"}]
[378,"DT742",0,{"$f":"IFERROR(IF(INDEX(HAMARA!I:I,MATCH(B247,HAMARA!E:E,0))=0,\"\",INDEX(HAMARA!I:I,MATCH(B247,HAMARA!E:E,0))),\"\")","v":"השקעות אחרות"}]
[378,"DT743",0,{"$f":"IFERROR(IF(INDEX(HAMARA!I:I,MATCH(B248,HAMARA!E:E,0))=0,\"\",INDEX(HAMARA!I:I,MATCH(B248,HAMARA!E:E,0))),\"\")","v":"השקעות אחרות"}]
[378,"DT744",0,{"$f":"IFERROR(IF(INDEX(HAMARA!I:I,MATCH(B249,HAMARA!E:E,0))=0,\"\",INDEX(HAMARA!I:I,MATCH(B249,HAMARA!E:E,0))),\"\")","v":"השקעות אחרות"}]
[378,"DT745",0,{"$f":"IFERROR(IF(INDEX(HAMARA!I:I,MATCH(B250,HAMARA!E:E,0))=0,\"\",INDEX(HAMARA!I:I,MATCH(B250,HAMARA!E:E,0))),\"\")","v":"השקעות אחרות"}]
[378,"DT746",0,{"$f":"IFERROR(IF(INDEX(HAMARA!I:I,MATCH(B251,HAMARA!E:E,0))=0,\"\",INDEX(HAMARA!I:I,MATCH(B251,HAMARA!E:E,0))),\"\")","v":"השקעות אחרות"}]
[378,"DT747",0,{"$f":"IFERROR(IF(INDEX(HAMARA!I:I,MATCH(B252,HAMARA!E:E,0))=0,\"\",INDEX(HAMARA!I:I,MATCH(B252,HAMARA!E:E,0))),\"\")","v":"השקעות אחרות"}]
[378,"DT748",0,{"$f":"IFERROR(IF(INDEX(HAMARA!I:I,MATCH(B253,HAMARA!E:E,0))=0,\"\",INDEX(HAMARA!I:I,MATCH(B253,HAMARA!E:E,0))),\"\")","v":"השקעות אחרות"}]
[378,"DT662",0,{"$f":"IFERROR(IF(INDEX(HAMARA!I:I,MATCH(B254,HAMARA!E:E,0))=0,\"\",INDEX(HAMARA!I:I,MATCH(B254,HAMARA!E:E,0))),\"\")","v":"השקעות אחרות"}]
[378,"DT663",0,{"$f":"IFERROR(IF(INDEX(HAMARA!I:I,MATCH(B255,HAMARA!E:E,0))=0,\"\",INDEX(HAMARA!I:I,MATCH(B255,HAMARA!E:E,0))),\"\")","v":"השקעות אחרות"}]
[378,"DT664",0,{"$f":"IFERROR(IF(INDEX(HAMARA!I:I,MATCH(B256,HAMARA!E:E,0))=0,\"\",INDEX(HAMARA!I:I,MATCH(B256,HAMARA!E:E,0))),\"\")","v":"השקעות אחרות"}]
[378,"DT665",0,{"$f":"IFERROR(IF(INDEX(HAMARA!I:I,MATCH(B257,HAMARA!E:E,0))=0,\"\",INDEX(HAMARA!I:I,MATCH(B257,HAMARA!E:E,0))),\"\")","v":"השקעות אחרות"}]
[378,"DT666",0,{"$f":"IFERROR(IF(INDEX(HAMARA!I:I,MATCH(B258,HAMARA!E:E,0))=0,\"\",INDEX(HAMARA!I:I,MATCH(B258,HAMARA!E:E,0))),\"\")","v":"השקעות אחרות"}]
[378,"DT667",0,{"$f":"IFERROR(IF(INDEX(HAMARA!I:I,MATCH(B259,HAMARA!E:E,0))=0,\"\",INDEX(HAMARA!I:I,MATCH(B259,HAMARA!E:E,0))),\"\")","v":"השקעות אחרות"}]
[378,"DT668",0,{"$f":"IFERROR(IF(INDEX(HAMARA!I:I,MATCH(B260,HAMARA!E:E,0))=0,\"\",INDEX(HAMARA!I:I,MATCH(B260,HAMARA!E:E,0))),\"\")","v":"השקעות אחרות"}]
[378,"DT669",0,{"$f":"IFERROR(IF(INDEX(HAMARA!I:I,MATCH(B261,HAMARA!E:E,0))=0,\"\",INDEX(HAMARA!I:I,MATCH(B261,HAMARA!E:E,0))),\"\")","v":"השקעות אחרות"}]
[378,"DT670",0,{"$f":"IFERROR(IF(INDEX(HAMARA!I:I,MATCH(B262,HAMARA!E:E,0))=0,\"\",INDEX(HAMARA!I:I,MATCH(B262,HAMARA!E:E,0))),\"\")","v":"השקעות אחרות"}]
[378,"DT671",0,{"$f":"IFERROR(IF(INDEX(HAMARA!I:I,MATCH(B263,HAMARA!E:E,0))=0,\"\",INDEX(HAMARA!I:I,MATCH(B263,HAMARA!E:E,0))),\"\")","v":"השקעות אחרות"}]
[378,"DT672",0,{"$f":"IFERROR(IF(INDEX(HAMARA!I:I,MATCH(B264,HAMARA!E:E,0))=0,\"\",INDEX(HAMARA!I:I,MATCH(B264,HAMARA!E:E,0))),\"\")","v":"השקעות אחרות"}]
[378,"DT673",0,{"$f":"IFERROR(IF(INDEX(HAMARA!I:I,MATCH(B265,HAMARA!E:E,0))=0,\"\",INDEX(HAMARA!I:I,MATCH(B265,HAMARA!E:E,0))),\"\")","v":"השקעות אחרות"}]
[378,"DT684",0,{"$f":"IFERROR(IF(INDEX(HAMARA!I:I,MATCH(B266,HAMARA!E:E,0))=0,\"\",INDEX(HAMARA!I:I,MATCH(B266,HAMARA!E:E,0))),\"\")","v":"השקעות אחרות"}]
[378,"DT685",0,{"$f":"IFERROR(IF(INDEX(HAMARA!I:I,MATCH(B267,HAMARA!E:E,0))=0,\"\",INDEX(HAMARA!I:I,MATCH(B267,HAMARA!E:E,0))),\"\")","v":"השקעות אחרות"}]
[378,"DT686",0,{"$f":"IFERROR(IF(INDEX(HAMARA!I:I,MATCH(B268,HAMARA!E:E,0))=0,\"\",INDEX(HAMARA!I:I,MATCH(B268,HAMARA!E:E,0))),\"\")","v":"השקעות אחרות"}]
[378,"DT687",0,{"$f":"IFERROR(IF(INDEX(HAMARA!I:I,MATCH(B269,HAMARA!E:E,0))=0,\"\",INDEX(HAMARA!I:I,MATCH(B269,HAMARA!E:E,0))),\"\")","v":"השקעות אחרות"}]
[378,"DT688",0,{"$f":"IFERROR(IF(INDEX(HAMARA!I:I,MATCH(B270,HAMARA!E:E,0))=0,\"\",INDEX(HAMARA!I:I,MATCH(B270,HAMARA!E:E,0))),\"\")","v":"השקעות אחרות"}]
[378,"DT689",0,{"$f":"IFERROR(IF(INDEX(HAMARA!I:I,MATCH(B271,HAMARA!E:E,0))=0,\"\",INDEX(HAMARA!I:I,MATCH(B271,HAMARA!E:E,0))),\"\")","v":"השקעות אחרות"}]
[378,"DT674",0,{"$f":"IFERROR(IF(INDEX(HAMARA!I:I,MATCH(B272,HAMARA!E:E,0))=0,\"\",INDEX(HAMARA!I:I,MATCH(B272,HAMARA!E:E,0))),\"\")","v":"השקעות אחרות"}]
[378,"DT675",0,{"$f":"IFERROR(IF(INDEX(HAMARA!I:I,MATCH(B273,HAMARA!E:E,0))=0,\"\",INDEX(HAMARA!I:I,MATCH(B273,HAMARA!E:E,0))),\"\")","v":"השקעות אחרות"}]
[378,"DT676",0,{"$f":"IFERROR(IF(INDEX(HAMARA!I:I,MATCH(B274,HAMARA!E:E,0))=0,\"\",INDEX(HAMARA!I:I,MATCH(B274,HAMARA!E:E,0))),\"\")","v":"השקעות אחרות"}]
[378,"DT677",0,{"$f":"IFERROR(IF(INDEX(HAMARA!I:I,MATCH(B275,HAMARA!E:E,0))=0,\"\",INDEX(HAMARA!I:I,MATCH(B275,HAMARA!E:E,0))),\"\")","v":"השקעות אחרות"}]
[378,"DC1",7961.5739999999996,{"$f":"IFERROR(IF(INDEX(HAMARA!I:I,MATCH(B276,HAMARA!E:E,0))=0,\"\",INDEX(HAMARA!I:I,MATCH(B276,HAMARA!E:E,0))),\"\")","v":"פקדונות והלוואות"}]
[378,"DT502",0,{"$f":"IFERROR(IF(INDEX(HAMARA!I:I,MATCH(B277,HAMARA!E:E,0))=0,\"\",INDEX(HAMARA!I:I,MATCH(B277,HAMARA!E:E,0))),\"\")","v":"פקדונות והלוואות"}]
[378,"DT503",0,{"$f":"IFERROR(IF(INDEX(HAMARA!I:I,MATCH(B278,HAMARA!E:E,0))=0,\"\",INDEX(HAMARA!I:I,MATCH(B278,HAMARA!E:E,0))),\"\")","v":"פקדונות והלוואות"}]
[378,"DT450",0,{"$f":"IFERROR(IF(INDEX(HAMARA!I:I,MATCH(B279,HAMARA!E:E,0))=0,\"\",INDEX(HAMARA!I:I,MATCH(B279,HAMARA!E:E,0))),\"\")","v":"פקדונות והלוואות"}]
[378,"DT504",0,{"$f":"IFERROR(IF(INDEX(HAMARA!I:I,MATCH(B280,HAMARA!E:E,0))=0,\"\",INDEX(HAMARA!I:I,MATCH(B280,HAMARA!E:E,0))),\"\")","v":"פקדונות והלוואות"}]
[378,"DT505",0,{"$f":"IFERROR(IF(INDEX(HAMARA!I:I,MATCH(B281,HAMARA!E:E,0))=0,\"\",INDEX(HAMARA!I:I,MATCH(B281,HAMARA!E:E,0))),\"\")","v":"פקדונות והלוואות"}]
[378,"DT451",0,{"$f":"IFERROR(IF(INDEX(HAMARA!I:I,MATCH(B282,HAMARA!E:E,0))=0,\"\",INDEX(HAMARA!I:I,MATCH(B282,HAMARA!E:E,0))),\"\")","v":"פקדונות והלוואות"}]
[378,"DT506",0,{"$f":"IFERROR(IF(INDEX(HAMARA!I:I,MATCH(B283,HAMARA!E:E,0))=0,\"\",INDEX(HAMARA!I:I,MATCH(B283,HAMARA!E:E,0))),\"\")","v":"פקדונות והלוואות"}]
[378,"DT627",0,{"$f":"IFERROR(IF(INDEX(HAMARA!I:I,MATCH(B284,HAMARA!E:E,0))=0,\"\",INDEX(HAMARA!I:I,MATCH(B284,HAMARA!E:E,0))),\"\")","v":"פקדונות והלוואות"}]
[378,"DT507",2403.587,{"$f":"IFERROR(IF(INDEX(HAMARA!I:I,MATCH(B285,HAMARA!E:E,0))=0,\"\",INDEX(HAMARA!I:I,MATCH(B285,HAMARA!E:E,0))),\"\")","v":"פקדונות והלוואות"}]
[378,"DT577",0,{"$f":"IFERROR(IF(INDEX(HAMARA!I:I,MATCH(B286,HAMARA!E:E,0))=0,\"\",INDEX(HAMARA!I:I,MATCH(B286,HAMARA!E:E,0))),\"\")","v":"פקדונות והלוואות"}]
[378,"DT508",0,{"$f":"IFERROR(IF(INDEX(HAMARA!I:I,MATCH(B287,HAMARA!E:E,0))=0,\"\",INDEX(HAMARA!I:I,MATCH(B287,HAMARA!E:E,0))),\"\")","v":"פקדונות והלוואות"}]
[378,"DT509",0,{"$f":"IFERROR(IF(INDEX(HAMARA!I:I,MATCH(B288,HAMARA!E:E,0))=0,\"\",INDEX(HAMARA!I:I,MATCH(B288,HAMARA!E:E,0))),\"\")","v":"פקדונות והלוואות"}]
[378,"DT511",0,{"$f":"IFERROR(IF(INDEX(HAMARA!I:I,MATCH(B289,HAMARA!E:E,0))=0,\"\",INDEX(HAMARA!I:I,MATCH(B289,HAMARA!E:E,0))),\"\")","v":"פקדונות והלוואות"}]
[378,"DT452",0,{"$f":"IFERROR(IF(INDEX(HAMARA!I:I,MATCH(B290,HAMARA!E:E,0))=0,\"\",INDEX(HAMARA!I:I,MATCH(B290,HAMARA!E:E,0))),\"\")","v":"פקדונות והלוואות"}]
[378,"DT512",0,{"$f":"IFERROR(IF(INDEX(HAMARA!I:I,MATCH(B291,HAMARA!E:E,0))=0,\"\",INDEX(HAMARA!I:I,MATCH(B291,HAMARA!E:E,0))),\"\")","v":"פקדונות והלוואות"}]
[378,"DT513",0,{"$f":"IFERROR(IF(INDEX(HAMARA!I:I,MATCH(B292,HAMARA!E:E,0))=0,\"\",INDEX(HAMARA!I:I,MATCH(B292,HAMARA!E:E,0))),\"\")","v":"פקדונות והלוואות"}]
[378,"DT514",0,{"$f":"IFERROR(IF(INDEX(HAMARA!I:I,MATCH(B293,HAMARA!E:E,0))=0,\"\",INDEX(HAMARA!I:I,MATCH(B293,HAMARA!E:E,0))),\"\")","v":"פקדונות והלוואות"}]
[378,"DT515",0,{"$f":"IFERROR(IF(INDEX(HAMARA!I:I,MATCH(B294,HAMARA!E:E,0))=0,\"\",INDEX(HAMARA!I:I,MATCH(B294,HAMARA!E:E,0))),\"\")","v":"פקדונות והלוואות"}]
[378,"DT516",0,{"$f":"IFERROR(IF(INDEX(HAMARA!I:I,MATCH(B295,HAMARA!E:E,0))=0,\"\",INDEX(HAMARA!I:I,MATCH(B295,HAMARA!E:E,0))),\"\")","v":"פקדונות והלוואות"}]
[378,"DT517",0,{"$f":"IFERROR(IF(INDEX(HAMARA!I:I,MATCH(B296,HAMARA!E:E,0))=0,\"\",INDEX(HAMARA!I:I,MATCH(B296,HAMARA!E:E,0))),\"\")","v":"פקדונות והלוואות"}]
[378,"DT518",0,{"$f":"IFERROR(IF(INDEX(HAMARA!I:I,MATCH(B297,HAMARA!E:E,0))=0,\"\",INDEX(HAMARA!I:I,MATCH(B297,HAMARA!E:E,0))),\"\")","v":"פקדונות והלוואות"}]
[378,"DT519",0,{"$f":"IFERROR(IF(INDEX(HAMARA!I:I,MATCH(B298,HAMARA!E:E,0))=0,\"\",INDEX(HAMARA!I:I,MATCH(B298,HAMARA!E:E,0))),\"\")","v":"פקדונות והלוואות"}]
[378,"DT520",0,{"$f":"IFERROR(IF(INDEX(HAMARA!I:I,MATCH(B299,HAMARA!E:E,0))=0,\"\",INDEX(HAMARA!I:I,MATCH(B299,HAMARA!E:E,0))),\"\")","v":"פקדונות והלוואות"}]
[378,"DT521",0,{"$f":"IFERROR(IF(INDEX(HAMARA!I:I,MATCH(B300,HAMARA!E:E,0))=0,\"\",INDEX(HAMARA!I:I,MATCH(B300,HAMARA!E:E,0))),\"\")","v":"פקדונות והלוואות"}]
[378,"DT522",0,{"$f":"IFERROR(IF(INDEX(HAMARA!I:I,MATCH(B301,HAMARA!E:E,0))=0,\"\",INDEX(HAMARA!I:I,MATCH(B301,HAMARA!E:E,0))),\"\")","v":"פקדונות והלוואות"}]
[378,"DT523",0,{"$f":"IFERROR(IF(INDEX(HAMARA!I:I,MATCH(B302,HAMARA!E:E,0))=0,\"\",INDEX(HAMARA!I:I,MATCH(B302,HAMARA!E:E,0))),\"\")","v":"פקדונות והלוואות"}]
[378,"DT524",0,{"$f":"IFERROR(IF(INDEX(HAMARA!I:I,MATCH(B303,HAMARA!E:E,0))=0,\"\",INDEX(HAMARA!I:I,MATCH(B303,HAMARA!E:E,0))),\"\")","v":"פקדונות והלוואות"}]
[378,"DT525",0,{"$f":"IFERROR(IF(INDEX(HAMARA!I:I,MATCH(B304,HAMARA!E:E,0))=0,\"\",INDEX(HAMARA!I:I,MATCH(B304,HAMARA!E:E,0))),\"\")","v":"פקדונות והלוואות"}]
[378,"DT526",0,{"$f":"IFERROR(IF(INDEX(HAMARA!I:I,MATCH(B305,HAMARA!E:E,0))=0,\"\",INDEX(HAMARA!I:I,MATCH(B305,HAMARA!E:E,0))),\"\")","v":"פקדונות והלוואות"}]
[378,"DT527",0,{"$f":"IFERROR(IF(INDEX(HAMARA!I:I,MATCH(B306,HAMARA!E:E,0))=0,\"\",INDEX(HAMARA!I:I,MATCH(B306,HAMARA!E:E,0))),\"\")","v":"פקדונות והלוואות"}]
[378,"DT530",0,{"$f":"IFERROR(IF(INDEX(HAMARA!I:I,MATCH(B307,HAMARA!E:E,0))=0,\"\",INDEX(HAMARA!I:I,MATCH(B307,HAMARA!E:E,0))),\"\")","v":"פקדונות והלוואות"}]
[378,"DT531",0,{"$f":"IFERROR(IF(INDEX(HAMARA!I:I,MATCH(B308,HAMARA!E:E,0))=0,\"\",INDEX(HAMARA!I:I,MATCH(B308,HAMARA!E:E,0))),\"\")","v":"פקדונות והלוואות"}]
[378,"DT532",0,{"$f":"IFERROR(IF(INDEX(HAMARA!I:I,MATCH(B309,HAMARA!E:E,0))=0,\"\",INDEX(HAMARA!I:I,MATCH(B309,HAMARA!E:E,0))),\"\")","v":"פקדונות והלוואות"}]
[378,"DT533",0,{"$f":"IFERROR(IF(INDEX(HAMARA!I:I,MATCH(B310,HAMARA!E:E,0))=0,\"\",INDEX(HAMARA!I:I,MATCH(B310,HAMARA!E:E,0))),\"\")","v":"פקדונות והלוואות"}]
[378,"DT534",0,{"$f":"IFERROR(IF(INDEX(HAMARA!I:I,MATCH(B311,HAMARA!E:E,0))=0,\"\",INDEX(HAMARA!I:I,MATCH(B311,HAMARA!E:E,0))),\"\")","v":"פקדונות והלוואות"}]
[378,"DT535",0,{"$f":"IFERROR(IF(INDEX(HAMARA!I:I,MATCH(B312,HAMARA!E:E,0))=0,\"\",INDEX(HAMARA!I:I,MATCH(B312,HAMARA!E:E,0))),\"\")","v":"פקדונות והלוואות"}]
[378,"DT536",0,{"$f":"IFERROR(IF(INDEX(HAMARA!I:I,MATCH(B313,HAMARA!E:E,0))=0,\"\",INDEX(HAMARA!I:I,MATCH(B313,HAMARA!E:E,0))),\"\")","v":"פקדונות והלוואות"}]
[378,"DT537",0,{"$f":"IFERROR(IF(INDEX(HAMARA!I:I,MATCH(B314,HAMARA!E:E,0))=0,\"\",INDEX(HAMARA!I:I,MATCH(B314,HAMARA!E:E,0))),\"\")","v":"פקדונות והלוואות"}]
[378,"DT628",0,{"$f":"IFERROR(IF(INDEX(HAMARA!I:I,MATCH(B315,HAMARA!E:E,0))=0,\"\",INDEX(HAMARA!I:I,MATCH(B315,HAMARA!E:E,0))),\"\")","v":"פקדונות והלוואות"}]
[378,"DT629",0,{"$f":"IFERROR(IF(INDEX(HAMARA!I:I,MATCH(B316,HAMARA!E:E,0))=0,\"\",INDEX(HAMARA!I:I,MATCH(B316,HAMARA!E:E,0))),\"\")","v":"פקדונות והלוואות"}]
[378,"DT630",0,{"$f":"IFERROR(IF(INDEX(HAMARA!I:I,MATCH(B317,HAMARA!E:E,0))=0,\"\",INDEX(HAMARA!I:I,MATCH(B317,HAMARA!E:E,0))),\"\")","v":"פקדונות והלוואות"}]
[378,"DT631",0,{"$f":"IFERROR(IF(INDEX(HAMARA!I:I,MATCH(B318,HAMARA!E:E,0))=0,\"\",INDEX(HAMARA!I:I,MATCH(B318,HAMARA!E:E,0))),\"\")","v":"פקדונות והלוואות"}]
[378,"DT632",0,{"$f":"IFERROR(IF(INDEX(HAMARA!I:I,MATCH(B319,HAMARA!E:E,0))=0,\"\",INDEX(HAMARA!I:I,MATCH(B319,HAMARA!E:E,0))),\"\")","v":"פקדונות והלוואות"}]
[378,"DT633",0,{"$f":"IFERROR(IF(INDEX(HAMARA!I:I,MATCH(B320,HAMARA!E:E,0))=0,\"\",INDEX(HAMARA!I:I,MATCH(B320,HAMARA!E:E,0))),\"\")","v":"פקדונות והלוואות"}]
[378,"DT111",0,{"$f":"IFERROR(IF(INDEX(HAMARA!I:I,MATCH(B321,HAMARA!E:E,0))=0,\"\",INDEX(HAMARA!I:I,MATCH(B321,HAMARA!E:E,0))),\"\")","v":"השקעות אחרות"}]
[378,"DT112",0,{"$f":"IFERROR(IF(INDEX(HAMARA!I:I,MATCH(B322,HAMARA!E:E,0))=0,\"\",INDEX(HAMARA!I:I,MATCH(B322,HAMARA!E:E,0))),\"\")","v":"השקעות אחרות"}]
[378,"DT113",0,{"$f":"IFERROR(IF(INDEX(HAMARA!I:I,MATCH(B323,HAMARA!E:E,0))=0,\"\",INDEX(HAMARA!I:I,MATCH(B323,HAMARA!E:E,0))),\"\")","v":"השקעות אחרות"}]
[378,"DT114",0,{"$f":"IFERROR(IF(INDEX(HAMARA!I:I,MATCH(B324,HAMARA!E:E,0))=0,\"\",INDEX(HAMARA!I:I,MATCH(B324,HAMARA!E:E,0))),\"\")","v":"השקעות אחרות"}]
[378,"DT116",0,{"$f":"IFERROR(IF(INDEX(HAMARA!I:I,MATCH(B325,HAMARA!E:E,0))=0,\"\",INDEX(HAMARA!I:I,MATCH(B325,HAMARA!E:E,0))),\"\")","v":"השקעות אחרות"}]
[378,"DT29",0,{"$f":"IFERROR(IF(INDEX(HAMARA!I:I,MATCH(B326,HAMARA!E:E,0))=0,\"\",INDEX(HAMARA!I:I,MATCH(B326,HAMARA!E:E,0))),\"\")","v":"השקעות אחרות"}]
[378,"DT31",0,{"$f":"IFERROR(IF(INDEX(HAMARA!I:I,MATCH(B327,HAMARA!E:E,0))=0,\"\",INDEX(HAMARA!I:I,MATCH(B327,HAMARA!E:E,0))),\"\")","v":"השקעות אחרות"}]
[378,"DT117",0,{"$f":"IFERROR(IF(INDEX(HAMARA!I:I,MATCH(B328,HAMARA!E:E,0))=0,\"\",INDEX(HAMARA!I:I,MATCH(B328,HAMARA!E:E,0))),\"\")","v":"השקעות אחרות"}]
[378,"DT115",0,{"$f":"IFERROR(IF(INDEX(HAMARA!I:I,MATCH(B329,HAMARA!E:E,0))=0,\"\",INDEX(HAMARA!I:I,MATCH(B329,HAMARA!E:E,0))),\"\")","v":"השקעות אחרות"}]
[378,"DT62",0,{"$f":"IFERROR(IF(INDEX(HAMARA!I:I,MATCH(B330,HAMARA!E:E,0))=0,\"\",INDEX(HAMARA!I:I,MATCH(B330,HAMARA!E:E,0))),\"\")","v":"השקעות אחרות"}]
[378,"DT54",299.90899999999999,{"$f":"IFERROR(IF(INDEX(HAMARA!I:I,MATCH(B331,HAMARA!E:E,0))=0,\"\",INDEX(HAMARA!I:I,MATCH(B331,HAMARA!E:E,0))),\"\")","v":"השקעות אחרות"}]
[378,"DT55",-233.22900000000001,{"$f":"IFERROR(IF(INDEX(HAMARA!I:I,MATCH(B332,HAMARA!E:E,0))=0,\"\",INDEX(HAMARA!I:I,MATCH(B332,HAMARA!E:E,0))),\"\")","v":"השקעות אחרות"}]
[378,"DT92",-5.0670000000000002,{"$f":"IFERROR(IF(INDEX(HAMARA!I:I,MATCH(B333,HAMARA!E:E,0))=0,\"\",INDEX(HAMARA!I:I,MATCH(B333,HAMARA!E:E,0))),\"\")","v":"השקעות אחרות"}]
[378,"DT353",0,{"$f":"IFERROR(IF(INDEX(HAMARA!I:I,MATCH(B334,HAMARA!E:E,0))=0,\"\",INDEX(HAMARA!I:I,MATCH(B334,HAMARA!E:E,0))),\"\")","v":"השקעות אחרות"}]
[378,"DT369",0,{"$f":"IFERROR(IF(INDEX(HAMARA!I:I,MATCH(B335,HAMARA!E:E,0))=0,\"\",INDEX(HAMARA!I:I,MATCH(B335,HAMARA!E:E,0))),\"\")","v":"השקעות אחרות"}]
[378,"AT999",25549.494999999999,{"$f":"IFERROR(IF(INDEX(HAMARA!I:I,MATCH(B336,HAMARA!E:E,0))=0,\"\",INDEX(HAMARA!I:I,MATCH(B336,HAMARA!E:E,0))),\"\")","v":""}]
[378,"AT24",0,{"$f":"IFERROR(IF(INDEX(HAMARA!I:I,MATCH(B337,HAMARA!E:E,0))=0,\"\",INDEX(HAMARA!I:I,MATCH(B337,HAMARA!E:E,0))),\"\")","v":""}]
[378,"AT420",0,{"$f":"IFERROR(IF(INDEX(HAMARA!I:I,MATCH(B338,HAMARA!E:E,0))=0,\"\",INDEX(HAMARA!I:I,MATCH(B338,HAMARA!E:E,0))),\"\")","v":""}]
[378,"AT421",0,{"$f":"IFERROR(IF(INDEX(HAMARA!I:I,MATCH(B339,HAMARA!E:E,0))=0,\"\",INDEX(HAMARA!I:I,MATCH(B339,HAMARA!E:E,0))),\"\")","v":""}]
[378,"AT422",0,{"$f":"IFERROR(IF(INDEX(HAMARA!I:I,MATCH(B340,HAMARA!E:E,0))=0,\"\",INDEX(HAMARA!I:I,MATCH(B340,HAMARA!E:E,0))),\"\")","v":""}]
[378,"AT423",0,{"$f":"IFERROR(IF(INDEX(HAMARA!I:I,MATCH(B341,HAMARA!E:E,0))=0,\"\",INDEX(HAMARA!I:I,MATCH(B341,HAMARA!E:E,0))),\"\")","v":""}]
[378,"AT424",0,{"$f":"IFERROR(IF(INDEX(HAMARA!I:I,MATCH(B342,HAMARA!E:E,0))=0,\"\",INDEX(HAMARA!I:I,MATCH(B342,HAMARA!E:E,0))),\"\")","v":""}]
[378,"AT17",0,{"$f":"IFERROR(IF(INDEX(HAMARA!I:I,MATCH(B343,HAMARA!E:E,0))=0,\"\",INDEX(HAMARA!I:I,MATCH(B343,HAMARA!E:E,0))),\"\")","v":""}]
[378,"AT19",0,{"$f":"IFERROR(IF(INDEX(HAMARA!I:I,MATCH(B344,HAMARA!E:E,0))=0,\"\",INDEX(HAMARA!I:I,MATCH(B344,HAMARA!E:E,0))),\"\")","v":""}]
[378,"AT121",0,{"$f":"IFERROR(IF(INDEX(HAMARA!I:I,MATCH(B345,HAMARA!E:E,0))=0,\"\",INDEX(HAMARA!I:I,MATCH(B345,HAMARA!E:E,0))),\"\")","v":""}]
[378,"AT18",0,{"$f":"IFERROR(IF(INDEX(HAMARA!I:I,MATCH(B346,HAMARA!E:E,0))=0,\"\",INDEX(HAMARA!I:I,MATCH(B346,HAMARA!E:E,0))),\"\")","v":""}]
[378,"AT21",9500,{"$f":"IFERROR(IF(INDEX(HAMARA!I:I,MATCH(B347,HAMARA!E:E,0))=0,\"\",INDEX(HAMARA!I:I,MATCH(B347,HAMARA!E:E,0))),\"\")","v":""}]
[378,"AT10",0,{"$f":"IFERROR(IF(INDEX(HAMARA!I:I,MATCH(B348,HAMARA!E:E,0))=0,\"\",INDEX(HAMARA!I:I,MATCH(B348,HAMARA!E:E,0))),\"\")","v":""}]
[378,"AT13",0,{"$f":"IFERROR(IF(INDEX(HAMARA!I:I,MATCH(B349,HAMARA!E:E,0))=0,\"\",INDEX(HAMARA!I:I,MATCH(B349,HAMARA!E:E,0))),\"\")","v":""}]
[378,"AT20",0,{"$f":"IFERROR(IF(INDEX(HAMARA!I:I,MATCH(B350,HAMARA!E:E,0))=0,\"\",INDEX(HAMARA!I:I,MATCH(B350,HAMARA!E:E,0))),\"\")","v":""}]
[378,"AT31",0,{"$f":"IFERROR(IF(INDEX(HAMARA!I:I,MATCH(B351,HAMARA!E:E,0))=0,\"\",INDEX(HAMARA!I:I,MATCH(B351,HAMARA!E:E,0))),\"\")","v":""}]
[378,"AT425",0,{"$f":"IFERROR(IF(INDEX(HAMARA!I:I,MATCH(B352,HAMARA!E:E,0))=0,\"\",INDEX(HAMARA!I:I,MATCH(B352,HAMARA!E:E,0))),\"\")","v":""}]
[378,"AT426",0,{"$f":"IFERROR(IF(INDEX(HAMARA!I:I,MATCH(B353,HAMARA!E:E,0))=0,\"\",INDEX(HAMARA!I:I,MATCH(B353,HAMARA!E:E,0))),\"\")","v":""}]
[378,"AT427",0,{"$f":"IFERROR(IF(INDEX(HAMARA!I:I,MATCH(B354,HAMARA!E:E,0))=0,\"\",INDEX(HAMARA!I:I,MATCH(B354,HAMARA!E:E,0))),\"\")","v":""}]
[378,"AT561",0,{"$f":"IFERROR(IF(INDEX(HAMARA!I:I,MATCH(B355,HAMARA!E:E,0))=0,\"\",INDEX(HAMARA!I:I,MATCH(B355,HAMARA!E:E,0))),\"\")","v":""}]
[378,"AT560",0,{"$f":"IFERROR(IF(INDEX(HAMARA!I:I,MATCH(B356,HAMARA!E:E,0))=0,\"\",INDEX(HAMARA!I:I,MATCH(B356,HAMARA!E:E,0))),\"\")","v":""}]
[378,"AT428",0,{"$f":"IFERROR(IF(INDEX(HAMARA!I:I,MATCH(B357,HAMARA!E:E,0))=0,\"\",INDEX(HAMARA!I:I,MATCH(B357,HAMARA!E:E,0))),\"\")","v":""}]
[378,"AT563",0,{"$f":"IFERROR(IF(INDEX(HAMARA!I:I,MATCH(B358,HAMARA!E:E,0))=0,\"\",INDEX(HAMARA!I:I,MATCH(B358,HAMARA!E:E,0))),\"\")","v":""}]
[378,"AT562",0,{"$f":"IFERROR(IF(INDEX(HAMARA!I:I,MATCH(B359,HAMARA!E:E,0))=0,\"\",INDEX(HAMARA!I:I,MATCH(B359,HAMARA!E:E,0))),\"\")","v":""}]
[378,"AT429",0,{"$f":"IFERROR(IF(INDEX(HAMARA!I:I,MATCH(B360,HAMARA!E:E,0))=0,\"\",INDEX(HAMARA!I:I,MATCH(B360,HAMARA!E:E,0))),\"\")","v":""}]
[378,"AT565",0,{"$f":"IFERROR(IF(INDEX(HAMARA!I:I,MATCH(B361,HAMARA!E:E,0))=0,\"\",INDEX(HAMARA!I:I,MATCH(B361,HAMARA!E:E,0))),\"\")","v":""}]
[378,"AT564",0,{"$f":"IFERROR(IF(INDEX(HAMARA!I:I,MATCH(B362,HAMARA!E:E,0))=0,\"\",INDEX(HAMARA!I:I,MATCH(B362,HAMARA!E:E,0))),\"\")","v":""}]
[378,"AT430",0,{"$f":"IFERROR(IF(INDEX(HAMARA!I:I,MATCH(B363,HAMARA!E:E,0))=0,\"\",INDEX(HAMARA!I:I,MATCH(B363,HAMARA!E:E,0))),\"\")","v":""}]
[378,"AT567",0,{"$f":"IFERROR(IF(INDEX(HAMARA!I:I,MATCH(B364,HAMARA!E:E,0))=0,\"\",INDEX(HAMARA!I:I,MATCH(B364,HAMARA!E:E,0))),\"\")","v":""}]
[378,"AT566",0,{"$f":"IFERROR(IF(INDEX(HAMARA!I:I,MATCH(B365,HAMARA!E:E,0))=0,\"\",INDEX(HAMARA!I:I,MATCH(B365,HAMARA!E:E,0))),\"\")","v":""}]
[378,"AT431",0,{"$f":"IFERROR(IF(INDEX(HAMARA!I:I,MATCH(B366,HAMARA!E:E,0))=0,\"\",INDEX(HAMARA!I:I,MATCH(B366,HAMARA!E:E,0))),\"\")","v":""}]
[378,"AT569",0,{"$f":"IFERROR(IF(INDEX(HAMARA!I:I,MATCH(B367,HAMARA!E:E,0))=0,\"\",INDEX(HAMARA!I:I,MATCH(B367,HAMARA!E:E,0))),\"\")","v":""}]
[378,"AT568",0,{"$f":"IFERROR(IF(INDEX(HAMARA!I:I,MATCH(B368,HAMARA!E:E,0))=0,\"\",INDEX(HAMARA!I:I,MATCH(B368,HAMARA!E:E,0))),\"\")","v":""}]
[378,"AT432",0,{"$f":"IFERROR(IF(INDEX(HAMARA!I:I,MATCH(B369,HAMARA!E:E,0))=0,\"\",INDEX(HAMARA!I:I,MATCH(B369,HAMARA!E:E,0))),\"\")","v":""}]
[378,"AT573",0,{"$f":"IFERROR(IF(INDEX(HAMARA!I:I,MATCH(B370,HAMARA!E:E,0))=0,\"\",INDEX(HAMARA!I:I,MATCH(B370,HAMARA!E:E,0))),\"\")","v":""}]
[378,"AT572",0,{"$f":"IFERROR(IF(INDEX(HAMARA!I:I,MATCH(B371,HAMARA!E:E,0))=0,\"\",INDEX(HAMARA!I:I,MATCH(B371,HAMARA!E:E,0))),\"\")","v":""}]
[378,"AT547",0,{"$f":"IFERROR(IF(INDEX(HAMARA!I:I,MATCH(B372,HAMARA!E:E,0))=0,\"\",INDEX(HAMARA!I:I,MATCH(B372,HAMARA!E:E,0))),\"\")","v":""}]
[378,"AT571",0,{"$f":"IFERROR(IF(INDEX(HAMARA!I:I,MATCH(B373,HAMARA!E:E,0))=0,\"\",INDEX(HAMARA!I:I,MATCH(B373,HAMARA!E:E,0))),\"\")","v":""}]
[378,"AT570",0,{"$f":"IFERROR(IF(INDEX(HAMARA!I:I,MATCH(B374,HAMARA!E:E,0))=0,\"\",INDEX(HAMARA!I:I,MATCH(B374,HAMARA!E:E,0))),\"\")","v":""}]
[378,"AT601",0,{"$f":"IFERROR(IF(INDEX(HAMARA!I:I,MATCH(B375,HAMARA!E:E,0))=0,\"\",INDEX(HAMARA!I:I,MATCH(B375,HAMARA!E:E,0))),\"\")","v":""}]
[378,"AT602",0,{"$f":"IFERROR(IF(INDEX(HAMARA!I:I,MATCH(B376,HAMARA!E:E,0))=0,\"\",INDEX(HAMARA!I:I,MATCH(B376,HAMARA!E:E,0))),\"\")","v":""}]
[378,"AT603",0,{"$f":"IFERROR(IF(INDEX(HAMARA!I:I,MATCH(B377,HAMARA!E:E,0))=0,\"\",INDEX(HAMARA!I:I,MATCH(B377,HAMARA!E:E,0))),\"\")","v":""}]
[378,"AT604",0,{"$f":"IFERROR(IF(INDEX(HAMARA!I:I,MATCH(B378,HAMARA!E:E,0))=0,\"\",INDEX(HAMARA!I:I,MATCH(B378,HAMARA!E:E,0))),\"\")","v":""}]
[378,"AT605",0,{"$f":"IFERROR(IF(INDEX(HAMARA!I:I,MATCH(B379,HAMARA!E:E,0))=0,\"\",INDEX(HAMARA!I:I,MATCH(B379,HAMARA!E:E,0))),\"\")","v":""}]
[378,"AT606",0,{"$f":"IFERROR(IF(INDEX(HAMARA!I:I,MATCH(B380,HAMARA!E:E,0))=0,\"\",INDEX(HAMARA!I:I,MATCH(B380,HAMARA!E:E,0))),\"\")","v":""}]
[378,"AT607",0,{"$f":"IFERROR(IF(INDEX(HAMARA!I:I,MATCH(B381,HAMARA!E:E,0))=0,\"\",INDEX(HAMARA!I:I,MATCH(B381,HAMARA!E:E,0))),\"\")","v":""}]
[378,"AT608",0,{"$f":"IFERROR(IF(INDEX(HAMARA!I:I,MATCH(B382,HAMARA!E:E,0))=0,\"\",INDEX(HAMARA!I:I,MATCH(B382,HAMARA!E:E,0))),\"\")","v":""}]
[378,"AT609",0,{"$f":"IFERROR(IF(INDEX(HAMARA!I:I,MATCH(B383,HAMARA!E:E,0))=0,\"\",INDEX(HAMARA!I:I,MATCH(B383,HAMARA!E:E,0))),\"\")","v":""}]
[378,"AT610",0,{"$f":"IFERROR(IF(INDEX(HAMARA!I:I,MATCH(B384,HAMARA!E:E,0))=0,\"\",INDEX(HAMARA!I:I,MATCH(B384,HAMARA!E:E,0))),\"\")","v":""}]
[378,"AT611",0,{"$f":"IFERROR(IF(INDEX(HAMARA!I:I,MATCH(B385,HAMARA!E:E,0))=0,\"\",INDEX(HAMARA!I:I,MATCH(B385,HAMARA!E:E,0))),\"\")","v":""}]
[378,"AT612",0,{"$f":"IFERROR(IF(INDEX(HAMARA!I:I,MATCH(B386,HAMARA!E:E,0))=0,\"\",INDEX(HAMARA!I:I,MATCH(B386,HAMARA!E:E,0))),\"\")","v":""}]
[378,"AT613",0,{"$f":"IFERROR(IF(INDEX(HAMARA!I:I,MATCH(B387,HAMARA!E:E,0))=0,\"\",INDEX(HAMARA!I:I,MATCH(B387,HAMARA!E:E,0))),\"\")","v":""}]
[378,"AT614",0,{"$f":"IFERROR(IF(INDEX(HAMARA!I:I,MATCH(B388,HAMARA!E:E,0))=0,\"\",INDEX(HAMARA!I:I,MATCH(B388,HAMARA!E:E,0))),\"\")","v":""}]
[378,"AT301",0,{"$f":"IFERROR(IF(INDEX(HAMARA!I:I,MATCH(B389,HAMARA!E:E,0))=0,\"\",INDEX(HAMARA!I:I,MATCH(B389,HAMARA!E:E,0))),\"\")","v":""}]
[378,"AT303",108.375,{"$f":"IFERROR(IF(INDEX(HAMARA!I:I,MATCH(B390,HAMARA!E:E,0))=0,\"\",INDEX(HAMARA!I:I,MATCH(B390,HAMARA!E:E,0))),\"\")","v":""}]
[378,"AT302",0,{"$f":"IFERROR(IF(INDEX(HAMARA!I:I,MATCH(B391,HAMARA!E:E,0))=0,\"\",INDEX(HAMARA!I:I,MATCH(B391,HAMARA!E:E,0))),\"\")","v":""}]
[378,"AT307",25.047999999999998,{"$f":"IFERROR(IF(INDEX(HAMARA!I:I,MATCH(B392,HAMARA!E:E,0))=0,\"\",INDEX(HAMARA!I:I,MATCH(B392,HAMARA!E:E,0))),\"\")","v":""}]
[378,"AT309",437.06200000000001,{"$f":"IFERROR(IF(INDEX(HAMARA!I:I,MATCH(B393,HAMARA!E:E,0))=0,\"\",INDEX(HAMARA!I:I,MATCH(B393,HAMARA!E:E,0))),\"\")","v":""}]
[378,"AT308",0,{"$f":"IFERROR(IF(INDEX(HAMARA!I:I,MATCH(B394,HAMARA!E:E,0))=0,\"\",INDEX(HAMARA!I:I,MATCH(B394,HAMARA!E:E,0))),\"\")","v":""}]
[378,"AT313",0,{"$f":"IFERROR(IF(INDEX(HAMARA!I:I,MATCH(B395,HAMARA!E:E,0))=0,\"\",INDEX(HAMARA!I:I,MATCH(B395,HAMARA!E:E,0))),\"\")","v":""}]
[378,"AT315",0,{"$f":"IFERROR(IF(INDEX(HAMARA!I:I,MATCH(B396,HAMARA!E:E,0))=0,\"\",INDEX(HAMARA!I:I,MATCH(B396,HAMARA!E:E,0))),\"\")","v":""}]
[378,"AT314",0,{"$f":"IFERROR(IF(INDEX(HAMARA!I:I,MATCH(B397,HAMARA!E:E,0))=0,\"\",INDEX(HAMARA!I:I,MATCH(B397,HAMARA!E:E,0))),\"\")","v":""}]
[378,"AT615",0,{"$f":"IFERROR(IF(INDEX(HAMARA!I:I,MATCH(B398,HAMARA!E:E,0))=0,\"\",INDEX(HAMARA!I:I,MATCH(B398,HAMARA!E:E,0))),\"\")","v":""}]
[378,"AT616",0,{"$f":"IFERROR(IF(INDEX(HAMARA!I:I,MATCH(B399,HAMARA!E:E,0))=0,\"\",INDEX(HAMARA!I:I,MATCH(B399,HAMARA!E:E,0))),\"\")","v":""}]
[378,"AT617",0,{"$f":"IFERROR(IF(INDEX(HAMARA!I:I,MATCH(B400,HAMARA!E:E,0))=0,\"\",INDEX(HAMARA!I:I,MATCH(B400,HAMARA!E:E,0))),\"\")","v":""}]
[378,"AT319",17.991,{"$f":"IFERROR(IF(INDEX(HAMARA!I:I,MATCH(B401,HAMARA!E:E,0))=0,\"\",INDEX(HAMARA!I:I,MATCH(B401,HAMARA!E:E,0))),\"\")","v":""}]
[378,"AT321",0,{"$f":"IFERROR(IF(INDEX(HAMARA!I:I,MATCH(B402,HAMARA!E:E,0))=0,\"\",INDEX(HAMARA!I:I,MATCH(B402,HAMARA!E:E,0))),\"\")","v":""}]
[378,"AT320",0,{"$f":"IFERROR(IF(INDEX(HAMARA!I:I,MATCH(B403,HAMARA!E:E,0))=0,\"\",INDEX(HAMARA!I:I,MATCH(B403,HAMARA!E:E,0))),\"\")","v":""}]
[378,"AT325",0,{"$f":"IFERROR(IF(INDEX(HAMARA!I:I,MATCH(B404,HAMARA!E:E,0))=0,\"\",INDEX(HAMARA!I:I,MATCH(B404,HAMARA!E:E,0))),\"\")","v":""}]
[378,"AT327",0,{"$f":"IFERROR(IF(INDEX(HAMARA!I:I,MATCH(B405,HAMARA!E:E,0))=0,\"\",INDEX(HAMARA!I:I,MATCH(B405,HAMARA!E:E,0))),\"\")","v":""}]
[378,"AT326",0,{"$f":"IFERROR(IF(INDEX(HAMARA!I:I,MATCH(B406,HAMARA!E:E,0))=0,\"\",INDEX(HAMARA!I:I,MATCH(B406,HAMARA!E:E,0))),\"\")","v":""}]
[378,"AT553",0,{"$f":"IFERROR(IF(INDEX(HAMARA!I:I,MATCH(B407,HAMARA!E:E,0))=0,\"\",INDEX(HAMARA!I:I,MATCH(B407,HAMARA!E:E,0))),\"\")","v":""}]
[378,"AT555",0,{"$f":"IFERROR(IF(INDEX(HAMARA!I:I,MATCH(B408,HAMARA!E:E,0))=0,\"\",INDEX(HAMARA!I:I,MATCH(B408,HAMARA!E:E,0))),\"\")","v":""}]
[378,"AT554",0,{"$f":"IFERROR(IF(INDEX(HAMARA!I:I,MATCH(B409,HAMARA!E:E,0))=0,\"\",INDEX(HAMARA!I:I,MATCH(B409,HAMARA!E:E,0))),\"\")","v":""}]
[378,"AT337",0,{"$f":"IFERROR(IF(INDEX(HAMARA!I:I,MATCH(B410,HAMARA!E:E,0))=0,\"\",INDEX(HAMARA!I:I,MATCH(B410,HAMARA!E:E,0))),\"\")","v":""}]
[378,"AT339",0,{"$f":"IFERROR(IF(INDEX(HAMARA!I:I,MATCH(B411,HAMARA!E:E,0))=0,\"\",INDEX(HAMARA!I:I,MATCH(B411,HAMARA!E:E,0))),\"\")","v":""}]
[378,"AT338",0,{"$f":"IFERROR(IF(INDEX(HAMARA!I:I,MATCH(B412,HAMARA!E:E,0))=0,\"\",INDEX(HAMARA!I:I,MATCH(B412,HAMARA!E:E,0))),\"\")","v":""}]
[378,"AT618",0,{"$f":"IFERROR(IF(INDEX(HAMARA!I:I,MATCH(B413,HAMARA!E:E,0))=0,\"\",INDEX(HAMARA!I:I,MATCH(B413,HAMARA!E:E,0))),\"\")","v":""}]
[378,"AT619",0,{"$f":"IFERROR(IF(INDEX(HAMARA!I:I,MATCH(B414,HAMARA!E:E,0))=0,\"\",INDEX(HAMARA!I:I,MATCH(B414,HAMARA!E:E,0))),\"\")","v":""}]
[378,"AT620",0,{"$f":"IFERROR(IF(INDEX(HAMARA!I:I,MATCH(B415,HAMARA!E:E,0))=0,\"\",INDEX(HAMARA!I:I,MATCH(B415,HAMARA!E:E,0))),\"\")","v":""}]
[378,"AT621",0,{"$f":"IFERROR(IF(INDEX(HAMARA!I:I,MATCH(B416,HAMARA!E:E,0))=0,\"\",INDEX(HAMARA!I:I,MATCH(B416,HAMARA!E:E,0))),\"\")","v":""}]
[378,"AT454",0,{"$f":"IFERROR(IF(INDEX(HAMARA!I:I,MATCH(B417,HAMARA!E:E,0))=0,\"\",INDEX(HAMARA!I:I,MATCH(B417,HAMARA!E:E,0))),\"\")","v":""}]
[378,"AT455",0,{"$f":"IFERROR(IF(INDEX(HAMARA!I:I,MATCH(B418,HAMARA!E:E,0))=0,\"\",INDEX(HAMARA!I:I,MATCH(B418,HAMARA!E:E,0))),\"\")","v":""}]
[378,"AT456",0,{"$f":"IFERROR(IF(INDEX(HAMARA!I:I,MATCH(B419,HAMARA!E:E,0))=0,\"\",INDEX(HAMARA!I:I,MATCH(B419,HAMARA!E:E,0))),\"\")","v":""}]
[378,"AT457",0,{"$f":"IFERROR(IF(INDEX(HAMARA!I:I,MATCH(B420,HAMARA!E:E,0))=0,\"\",INDEX(HAMARA!I:I,MATCH(B420,HAMARA!E:E,0))),\"\")","v":""}]
[378,"AT458",0,{"$f":"IFERROR(IF(INDEX(HAMARA!I:I,MATCH(B421,HAMARA!E:E,0))=0,\"\",INDEX(HAMARA!I:I,MATCH(B421,HAMARA!E:E,0))),\"\")","v":""}]
[378,"AT459",0,{"$f":"IFERROR(IF(INDEX(HAMARA!I:I,MATCH(B422,HAMARA!E:E,0))=0,\"\",INDEX(HAMARA!I:I,MATCH(B422,HAMARA!E:E,0))),\"\")","v":""}]
[378,"AT460",0,{"$f":"IFERROR(IF(INDEX(HAMARA!I:I,MATCH(B423,HAMARA!E:E,0))=0,\"\",INDEX(HAMARA!I:I,MATCH(B423,HAMARA!E:E,0))),\"\")","v":""}]
[378,"AT461",0,{"$f":"IFERROR(IF(INDEX(HAMARA!I:I,MATCH(B424,HAMARA!E:E,0))=0,\"\",INDEX(HAMARA!I:I,MATCH(B424,HAMARA!E:E,0))),\"\")","v":""}]
[378,"AT462",0,{"$f":"IFERROR(IF(INDEX(HAMARA!I:I,MATCH(B425,HAMARA!E:E,0))=0,\"\",INDEX(HAMARA!I:I,MATCH(B425,HAMARA!E:E,0))),\"\")","v":""}]
[378,"AT558",0,{"$f":"IFERROR(IF(INDEX(HAMARA!I:I,MATCH(B426,HAMARA!E:E,0))=0,\"\",INDEX(HAMARA!I:I,MATCH(B426,HAMARA!E:E,0))),\"\")","v":""}]
[378,"AT463",0,{"$f":"IFERROR(IF(INDEX(HAMARA!I:I,MATCH(B427,HAMARA!E:E,0))=0,\"\",INDEX(HAMARA!I:I,MATCH(B427,HAMARA!E:E,0))),\"\")","v":""}]
[378,"AT464",0,{"$f":"IFERROR(IF(INDEX(HAMARA!I:I,MATCH(B428,HAMARA!E:E,0))=0,\"\",INDEX(HAMARA!I:I,MATCH(B428,HAMARA!E:E,0))),\"\")","v":""}]
[378,"AT465",0,{"$f":"IFERROR(IF(INDEX(HAMARA!I:I,MATCH(B429,HAMARA!E:E,0))=0,\"\",INDEX(HAMARA!I:I,MATCH(B429,HAMARA!E:E,0))),\"\")","v":""}]
[378,"AT559",0,{"$f":"IFERROR(IF(INDEX(HAMARA!I:I,MATCH(B430,HAMARA!E:E,0))=0,\"\",INDEX(HAMARA!I:I,MATCH(B430,HAMARA!E:E,0))),\"\")","v":""}]
[378,"AT402",108.375,{"$f":"IFERROR(IF(INDEX(HAMARA!I:I,MATCH(B431,HAMARA!E:E,0))=0,\"\",INDEX(HAMARA!I:I,MATCH(B431,HAMARA!E:E,0))),\"\")","v":""}]
[378,"AT403",24.155999999999999,{"$f":"IFERROR(IF(INDEX(HAMARA!I:I,MATCH(B432,HAMARA!E:E,0))=0,\"\",INDEX(HAMARA!I:I,MATCH(B432,HAMARA!E:E,0))),\"\")","v":""}]
[378,"AT404",0,{"$f":"IFERROR(IF(INDEX(HAMARA!I:I,MATCH(B433,HAMARA!E:E,0))=0,\"\",INDEX(HAMARA!I:I,MATCH(B433,HAMARA!E:E,0))),\"\")","v":""}]
[378,"AT405",0,{"$f":"IFERROR(IF(INDEX(HAMARA!I:I,MATCH(B434,HAMARA!E:E,0))=0,\"\",INDEX(HAMARA!I:I,MATCH(B434,HAMARA!E:E,0))),\"\")","v":""}]
[378,"AT172",0,{"$f":"IFERROR(IF(INDEX(HAMARA!I:I,MATCH(B435,HAMARA!E:E,0))=0,\"\",INDEX(HAMARA!I:I,MATCH(B435,HAMARA!E:E,0))),\"\")","v":""}]
[378,"AT205",0,{"$f":"IFERROR(IF(INDEX(HAMARA!I:I,MATCH(B436,HAMARA!E:E,0))=0,\"\",INDEX(HAMARA!I:I,MATCH(B436,HAMARA!E:E,0))),\"\")","v":""}]
[378,"AT58",0,{"$f":"IFERROR(IF(INDEX(HAMARA!I:I,MATCH(B437,HAMARA!E:E,0))=0,\"\",INDEX(HAMARA!I:I,MATCH(B437,HAMARA!E:E,0))),\"\")","v":""}]
[378,"AT35",0,{"$f":"IFERROR(IF(INDEX(HAMARA!I:I,MATCH(B438,HAMARA!E:E,0))=0,\"\",INDEX(HAMARA!I:I,MATCH(B438,HAMARA!E:E,0))),\"\")","v":""}]
[378,"AT37",2682.393,{"$f":"IFERROR(IF(INDEX(HAMARA!I:I,MATCH(B439,HAMARA!E:E,0))=0,\"\",INDEX(HAMARA!I:I,MATCH(B439,HAMARA!E:E,0))),\"\")","v":""}]
[378,"AT122",0,{"$f":"IFERROR(IF(INDEX(HAMARA!I:I,MATCH(B440,HAMARA!E:E,0))=0,\"\",INDEX(HAMARA!I:I,MATCH(B440,HAMARA!E:E,0))),\"\")","v":""}]
[378,"AT622",0,{"$f":"IFERROR(IF(INDEX(HAMARA!I:I,MATCH(B441,HAMARA!E:E,0))=0,\"\",INDEX(HAMARA!I:I,MATCH(B441,HAMARA!E:E,0))),\"\")","v":""}]
[378,"AT125",0,{"$f":"IFERROR(IF(INDEX(HAMARA!I:I,MATCH(B442,HAMARA!E:E,0))=0,\"\",INDEX(HAMARA!I:I,MATCH(B442,HAMARA!E:E,0))),\"\")","v":""}]
[378,"AT360",0,{"$f":"IFERROR(IF(INDEX(HAMARA!I:I,MATCH(B443,HAMARA!E:E,0))=0,\"\",INDEX(HAMARA!I:I,MATCH(B443,HAMARA!E:E,0))),\"\")","v":""}]
[378,"AT361",0,{"$f":"IFERROR(IF(INDEX(HAMARA!I:I,MATCH(B444,HAMARA!E:E,0))=0,\"\",INDEX(HAMARA!I:I,MATCH(B444,HAMARA!E:E,0))),\"\")","v":""}]
[378,"AT362",0,{"$f":"IFERROR(IF(INDEX(HAMARA!I:I,MATCH(B445,HAMARA!E:E,0))=0,\"\",INDEX(HAMARA!I:I,MATCH(B445,HAMARA!E:E,0))),\"\")","v":""}]
[378,"AT363",0,{"$f":"IFERROR(IF(INDEX(HAMARA!I:I,MATCH(B446,HAMARA!E:E,0))=0,\"\",INDEX(HAMARA!I:I,MATCH(B446,HAMARA!E:E,0))),\"\")","v":""}]
[378,"AT406",0,{"$f":"IFERROR(IF(INDEX(HAMARA!I:I,MATCH(B447,HAMARA!E:E,0))=0,\"\",INDEX(HAMARA!I:I,MATCH(B447,HAMARA!E:E,0))),\"\")","v":""}]
[378,"AT623",0,{"$f":"IFERROR(IF(INDEX(HAMARA!I:I,MATCH(B448,HAMARA!E:E,0))=0,\"\",INDEX(HAMARA!I:I,MATCH(B448,HAMARA!E:E,0))),\"\")","v":""}]
[378,"AT366",7774.5829999999996,{"$f":"IFERROR(IF(INDEX(HAMARA!I:I,MATCH(B449,HAMARA!E:E,0))=0,\"\",INDEX(HAMARA!I:I,MATCH(B449,HAMARA!E:E,0))),\"\")","v":""}]
[378,"AT367",0,{"$f":"IFERROR(IF(INDEX(HAMARA!I:I,MATCH(B450,HAMARA!E:E,0))=0,\"\",INDEX(HAMARA!I:I,MATCH(B450,HAMARA!E:E,0))),\"\")","v":""}]
[378,"AT407",0,{"$f":"IFERROR(IF(INDEX(HAMARA!I:I,MATCH(B451,HAMARA!E:E,0))=0,\"\",INDEX(HAMARA!I:I,MATCH(B451,HAMARA!E:E,0))),\"\")","v":""}]
[378,"AT624",0,{"$f":"IFERROR(IF(INDEX(HAMARA!I:I,MATCH(B452,HAMARA!E:E,0))=0,\"\",INDEX(HAMARA!I:I,MATCH(B452,HAMARA!E:E,0))),\"\")","v":""}]
[378,"AT47",0,{"$f":"IFERROR(IF(INDEX(HAMARA!I:I,MATCH(B453,HAMARA!E:E,0))=0,\"\",INDEX(HAMARA!I:I,MATCH(B453,HAMARA!E:E,0))),\"\")","v":""}]
[378,"AT701",0,{"$f":"IFERROR(IF(INDEX(HAMARA!I:I,MATCH(B454,HAMARA!E:E,0))=0,\"\",INDEX(HAMARA!I:I,MATCH(B454,HAMARA!E:E,0))),\"\")","v":""}]
[378,"AT702",0,{"$f":"IFERROR(IF(INDEX(HAMARA!I:I,MATCH(B455,HAMARA!E:E,0))=0,\"\",INDEX(HAMARA!I:I,MATCH(B455,HAMARA!E:E,0))),\"\")","v":""}]
[378,"AT703",800.87199999999996,{"$f":"IFERROR(IF(INDEX(HAMARA!I:I,MATCH(B456,HAMARA!E:E,0))=0,\"\",INDEX(HAMARA!I:I,MATCH(B456,HAMARA!E:E,0))),\"\")","v":""}]
[378,"AT704",0,{"$f":"IFERROR(IF(INDEX(HAMARA!I:I,MATCH(B457,HAMARA!E:E,0))=0,\"\",INDEX(HAMARA!I:I,MATCH(B457,HAMARA!E:E,0))),\"\")","v":""}]
[378,"AT61",0,{"$f":"IFERROR(IF(INDEX(HAMARA!I:I,MATCH(B458,HAMARA!E:E,0))=0,\"\",INDEX(HAMARA!I:I,MATCH(B458,HAMARA!E:E,0))),\"\")","v":""}]
[378,"AT466",0,{"$f":"IFERROR(IF(INDEX(HAMARA!I:I,MATCH(B459,HAMARA!E:E,0))=0,\"\",INDEX(HAMARA!I:I,MATCH(B459,HAMARA!E:E,0))),\"\")","v":""}]
[378,"AT225",23.972000000000001,{"$f":"IFERROR(IF(INDEX(HAMARA!I:I,MATCH(B460,HAMARA!E:E,0))=0,\"\",INDEX(HAMARA!I:I,MATCH(B460,HAMARA!E:E,0))),\"\")","v":""}]
[378,"AT60",91.619,{"$f":"IFERROR(IF(INDEX(HAMARA!I:I,MATCH(B461,HAMARA!E:E,0))=0,\"\",INDEX(HAMARA!I:I,MATCH(B461,HAMARA!E:E,0))),\"\")","v":""}]
[378,"AT138",0,{"$f":"IFERROR(IF(INDEX(HAMARA!I:I,MATCH(B462,HAMARA!E:E,0))=0,\"\",INDEX(HAMARA!I:I,MATCH(B462,HAMARA!E:E,0))),\"\")","v":""}]
[378,"AT467",0,{"$f":"IFERROR(IF(INDEX(HAMARA!I:I,MATCH(B463,HAMARA!E:E,0))=0,\"\",INDEX(HAMARA!I:I,MATCH(B463,HAMARA!E:E,0))),\"\")","v":""}]
[378,"AT226",0,{"$f":"IFERROR(IF(INDEX(HAMARA!I:I,MATCH(B464,HAMARA!E:E,0))=0,\"\",INDEX(HAMARA!I:I,MATCH(B464,HAMARA!E:E,0))),\"\")","v":""}]
[378,"AT137",290.976,{"$f":"IFERROR(IF(INDEX(HAMARA!I:I,MATCH(B465,HAMARA!E:E,0))=0,\"\",INDEX(HAMARA!I:I,MATCH(B465,HAMARA!E:E,0))),\"\")","v":""}]
[378,"AT39",0,{"$f":"IFERROR(IF(INDEX(HAMARA!I:I,MATCH(B466,HAMARA!E:E,0))=0,\"\",INDEX(HAMARA!I:I,MATCH(B466,HAMARA!E:E,0))),\"\")","v":""}]
[378,"AT439",0,{"$f":"IFERROR(IF(INDEX(HAMARA!I:I,MATCH(B467,HAMARA!E:E,0))=0,\"\",INDEX(HAMARA!I:I,MATCH(B467,HAMARA!E:E,0))),\"\")","v":""}]
[378,"AT211",0,{"$f":"IFERROR(IF(INDEX(HAMARA!I:I,MATCH(B468,HAMARA!E:E,0))=0,\"\",INDEX(HAMARA!I:I,MATCH(B468,HAMARA!E:E,0))),\"\")","v":""}]
[378,"AT440",0,{"$f":"IFERROR(IF(INDEX(HAMARA!I:I,MATCH(B469,HAMARA!E:E,0))=0,\"\",INDEX(HAMARA!I:I,MATCH(B469,HAMARA!E:E,0))),\"\")","v":""}]
[378,"AT40",0,{"$f":"IFERROR(IF(INDEX(HAMARA!I:I,MATCH(B470,HAMARA!E:E,0))=0,\"\",INDEX(HAMARA!I:I,MATCH(B470,HAMARA!E:E,0))),\"\")","v":""}]
[378,"AT441",0,{"$f":"IFERROR(IF(INDEX(HAMARA!I:I,MATCH(B471,HAMARA!E:E,0))=0,\"\",INDEX(HAMARA!I:I,MATCH(B471,HAMARA!E:E,0))),\"\")","v":""}]
[378,"AT442",3486.098,{"$f":"IFERROR(IF(INDEX(HAMARA!I:I,MATCH(B472,HAMARA!E:E,0))=0,\"\",INDEX(HAMARA!I:I,MATCH(B472,HAMARA!E:E,0))),\"\")","v":""}]
[378,"AT443",0,{"$f":"IFERROR(IF(INDEX(HAMARA!I:I,MATCH(B473,HAMARA!E:E,0))=0,\"\",INDEX(HAMARA!I:I,MATCH(B473,HAMARA!E:E,0))),\"\")","v":""}]
[378,"AT444",0,{"$f":"IFERROR(IF(INDEX(HAMARA!I:I,MATCH(B474,HAMARA!E:E,0))=0,\"\",INDEX(HAMARA!I:I,MATCH(B474,HAMARA!E:E,0))),\"\")","v":""}]
[378,"AT445",0,{"$f":"IFERROR(IF(INDEX(HAMARA!I:I,MATCH(B475,HAMARA!E:E,0))=0,\"\",INDEX(HAMARA!I:I,MATCH(B475,HAMARA!E:E,0))),\"\")","v":""}]
[378,"AT212",0,{"$f":"IFERROR(IF(INDEX(HAMARA!I:I,MATCH(B476,HAMARA!E:E,0))=0,\"\",INDEX(HAMARA!I:I,MATCH(B476,HAMARA!E:E,0))),\"\")","v":""}]
[378,"AT446",0,{"$f":"IFERROR(IF(INDEX(HAMARA!I:I,MATCH(B477,HAMARA!E:E,0))=0,\"\",INDEX(HAMARA!I:I,MATCH(B477,HAMARA!E:E,0))),\"\")","v":""}]
[378,"AT447",0,{"$f":"IFERROR(IF(INDEX(HAMARA!I:I,MATCH(B478,HAMARA!E:E,0))=0,\"\",INDEX(HAMARA!I:I,MATCH(B478,HAMARA!E:E,0))),\"\")","v":""}]
[378,"AT448",0,{"$f":"IFERROR(IF(INDEX(HAMARA!I:I,MATCH(B479,HAMARA!E:E,0))=0,\"\",INDEX(HAMARA!I:I,MATCH(B479,HAMARA!E:E,0))),\"\")","v":""}]
[378,"AT449",0,{"$f":"IFERROR(IF(INDEX(HAMARA!I:I,MATCH(B480,HAMARA!E:E,0))=0,\"\",INDEX(HAMARA!I:I,MATCH(B480,HAMARA!E:E,0))),\"\")","v":""}]
[378,"AT468",0,{"$f":"IFERROR(IF(INDEX(HAMARA!I:I,MATCH(B481,HAMARA!E:E,0))=0,\"\",INDEX(HAMARA!I:I,MATCH(B481,HAMARA!E:E,0))),\"\")","v":""}]
[378,"AT469",0,{"$f":"IFERROR(IF(INDEX(HAMARA!I:I,MATCH(B482,HAMARA!E:E,0))=0,\"\",INDEX(HAMARA!I:I,MATCH(B482,HAMARA!E:E,0))),\"\")","v":""}]
[378,"AT175",0,{"$f":"IFERROR(IF(INDEX(HAMARA!I:I,MATCH(B483,HAMARA!E:E,0))=0,\"\",INDEX(HAMARA!I:I,MATCH(B483,HAMARA!E:E,0))),\"\")","v":""}]
[378,"AT208",0,{"$f":"IFERROR(IF(INDEX(HAMARA!I:I,MATCH(B484,HAMARA!E:E,0))=0,\"\",INDEX(HAMARA!I:I,MATCH(B484,HAMARA!E:E,0))),\"\")","v":""}]
[378,"AT176",0,{"$f":"IFERROR(IF(INDEX(HAMARA!I:I,MATCH(B485,HAMARA!E:E,0))=0,\"\",INDEX(HAMARA!I:I,MATCH(B485,HAMARA!E:E,0))),\"\")","v":""}]
[378,"AT209",0,{"$f":"IFERROR(IF(INDEX(HAMARA!I:I,MATCH(B486,HAMARA!E:E,0))=0,\"\",INDEX(HAMARA!I:I,MATCH(B486,HAMARA!E:E,0))),\"\")","v":""}]
[378,"AT177",0,{"$f":"IFERROR(IF(INDEX(HAMARA!I:I,MATCH(B487,HAMARA!E:E,0))=0,\"\",INDEX(HAMARA!I:I,MATCH(B487,HAMARA!E:E,0))),\"\")","v":""}]
[378,"AT210",0,{"$f":"IFERROR(IF(INDEX(HAMARA!I:I,MATCH(B488,HAMARA!E:E,0))=0,\"\",INDEX(HAMARA!I:I,MATCH(B488,HAMARA!E:E,0))),\"\")","v":""}]
[378,"AT472",0,{"$f":"IFERROR(IF(INDEX(HAMARA!I:I,MATCH(B489,HAMARA!E:E,0))=0,\"\",INDEX(HAMARA!I:I,MATCH(B489,HAMARA!E:E,0))),\"\")","v":""}]
[378,"AT470",0,{"$f":"IFERROR(IF(INDEX(HAMARA!I:I,MATCH(B490,HAMARA!E:E,0))=0,\"\",INDEX(HAMARA!I:I,MATCH(B490,HAMARA!E:E,0))),\"\")","v":""}]
[378,"AT345",0,{"$f":"IFERROR(IF(INDEX(HAMARA!I:I,MATCH(B491,HAMARA!E:E,0))=0,\"\",INDEX(HAMARA!I:I,MATCH(B491,HAMARA!E:E,0))),\"\")","v":""}]
[378,"AT347",0,{"$f":"IFERROR(IF(INDEX(HAMARA!I:I,MATCH(B492,HAMARA!E:E,0))=0,\"\",INDEX(HAMARA!I:I,MATCH(B492,HAMARA!E:E,0))),\"\")","v":""}]
[378,"AT625",0,{"$f":"IFERROR(IF(INDEX(HAMARA!I:I,MATCH(B493,HAMARA!E:E,0))=0,\"\",INDEX(HAMARA!I:I,MATCH(B493,HAMARA!E:E,0))),\"\")","v":""}]
[378,"AT626",0,{"$f":"IFERROR(IF(INDEX(HAMARA!I:I,MATCH(B494,HAMARA!E:E,0))=0,\"\",INDEX(HAMARA!I:I,MATCH(B494,HAMARA!E:E,0))),\"\")","v":""}]
[378,"AT471",0,{"$f":"IFERROR(IF(INDEX(HAMARA!I:I,MATCH(B495,HAMARA!E:E,0))=0,\"\",INDEX(HAMARA!I:I,MATCH(B495,HAMARA!E:E,0))),\"\")","v":""}]
[378,"AT473",0,{"$f":"IFERROR(IF(INDEX(HAMARA!I:I,MATCH(B496,HAMARA!E:E,0))=0,\"\",INDEX(HAMARA!I:I,MATCH(B496,HAMARA!E:E,0))),\"\")","v":""}]
[378,"AT346",0,{"$f":"IFERROR(IF(INDEX(HAMARA!I:I,MATCH(B497,HAMARA!E:E,0))=0,\"\",INDEX(HAMARA!I:I,MATCH(B497,HAMARA!E:E,0))),\"\")","v":""}]
[378,"AT348",0,{"$f":"IFERROR(IF(INDEX(HAMARA!I:I,MATCH(B498,HAMARA!E:E,0))=0,\"\",INDEX(HAMARA!I:I,MATCH(B498,HAMARA!E:E,0))),\"\")","v":""}]
[378,"AT213",0,{"$f":"IFERROR(IF(INDEX(HAMARA!I:I,MATCH(B499,HAMARA!E:E,0))=0,\"\",INDEX(HAMARA!I:I,MATCH(B499,HAMARA!E:E,0))),\"\")","v":""}]
[378,"AT217",0,{"$f":"IFERROR(IF(INDEX(HAMARA!I:I,MATCH(B500,HAMARA!E:E,0))=0,\"\",INDEX(HAMARA!I:I,MATCH(B500,HAMARA!E:E,0))),\"\")","v":""}]
[378,"AT214",0,{"$f":"IFERROR(IF(INDEX(HAMARA!I:I,MATCH(B501,HAMARA!E:E,0))=0,\"\",INDEX(HAMARA!I:I,MATCH(B501,HAMARA!E:E,0))),\"\")","v":""}]
[378,"AT218",0,{"$f":"IFERROR(IF(INDEX(HAMARA!I:I,MATCH(B502,HAMARA!E:E,0))=0,\"\",INDEX(HAMARA!I:I,MATCH(B502,HAMARA!E:E,0))),\"\")","v":""}]
[378,"AT215",0,{"$f":"IFERROR(IF(INDEX(HAMARA!I:I,MATCH(B503,HAMARA!E:E,0))=0,\"\",INDEX(HAMARA!I:I,MATCH(B503,HAMARA!E:E,0))),\"\")","v":""}]
[378,"AT219",0,{"$f":"IFERROR(IF(INDEX(HAMARA!I:I,MATCH(B504,HAMARA!E:E,0))=0,\"\",INDEX(HAMARA!I:I,MATCH(B504,HAMARA!E:E,0))),\"\")","v":""}]
[378,"AT216",0,{"$f":"IFERROR(IF(INDEX(HAMARA!I:I,MATCH(B505,HAMARA!E:E,0))=0,\"\",INDEX(HAMARA!I:I,MATCH(B505,HAMARA!E:E,0))),\"\")","v":""}]
[378,"AT220",0,{"$f":"IFERROR(IF(INDEX(HAMARA!I:I,MATCH(B506,HAMARA!E:E,0))=0,\"\",INDEX(HAMARA!I:I,MATCH(B506,HAMARA!E:E,0))),\"\")","v":""}]
[378,"AT474",0,{"$f":"IFERROR(IF(INDEX(HAMARA!I:I,MATCH(B507,HAMARA!E:E,0))=0,\"\",INDEX(HAMARA!I:I,MATCH(B507,HAMARA!E:E,0))),\"\")","v":""}]
[378,"AT475",0,{"$f":"IFERROR(IF(INDEX(HAMARA!I:I,MATCH(B508,HAMARA!E:E,0))=0,\"\",INDEX(HAMARA!I:I,MATCH(B508,HAMARA!E:E,0))),\"\")","v":""}]
[378,"AT476",0,{"$f":"IFERROR(IF(INDEX(HAMARA!I:I,MATCH(B509,HAMARA!E:E,0))=0,\"\",INDEX(HAMARA!I:I,MATCH(B509,HAMARA!E:E,0))),\"\")","v":""}]
[378,"AT481",0,{"$f":"IFERROR(IF(INDEX(HAMARA!I:I,MATCH(B510,HAMARA!E:E,0))=0,\"\",INDEX(HAMARA!I:I,MATCH(B510,HAMARA!E:E,0))),\"\")","v":""}]
[378,"AT477",0,{"$f":"IFERROR(IF(INDEX(HAMARA!I:I,MATCH(B511,HAMARA!E:E,0))=0,\"\",INDEX(HAMARA!I:I,MATCH(B511,HAMARA!E:E,0))),\"\")","v":""}]
[378,"AT482",0,{"$f":"IFERROR(IF(INDEX(HAMARA!I:I,MATCH(B512,HAMARA!E:E,0))=0,\"\",INDEX(HAMARA!I:I,MATCH(B512,HAMARA!E:E,0))),\"\")","v":""}]
[378,"AT478",0,{"$f":"IFERROR(IF(INDEX(HAMARA!I:I,MATCH(B513,HAMARA!E:E,0))=0,\"\",INDEX(HAMARA!I:I,MATCH(B513,HAMARA!E:E,0))),\"\")","v":""}]
[378,"AT483",0,{"$f":"IFERROR(IF(INDEX(HAMARA!I:I,MATCH(B514,HAMARA!E:E,0))=0,\"\",INDEX(HAMARA!I:I,MATCH(B514,HAMARA!E:E,0))),\"\")","v":""}]
[378,"AT479",0,{"$f":"IFERROR(IF(INDEX(HAMARA!I:I,MATCH(B515,HAMARA!E:E,0))=0,\"\",INDEX(HAMARA!I:I,MATCH(B515,HAMARA!E:E,0))),\"\")","v":""}]
[378,"AT484",0,{"$f":"IFERROR(IF(INDEX(HAMARA!I:I,MATCH(B516,HAMARA!E:E,0))=0,\"\",INDEX(HAMARA!I:I,MATCH(B516,HAMARA!E:E,0))),\"\")","v":""}]
[378,"AT480",0,{"$f":"IFERROR(IF(INDEX(HAMARA!I:I,MATCH(B517,HAMARA!E:E,0))=0,\"\",INDEX(HAMARA!I:I,MATCH(B517,HAMARA!E:E,0))),\"\")","v":""}]
[378,"AT485",0,{"$f":"IFERROR(IF(INDEX(HAMARA!I:I,MATCH(B518,HAMARA!E:E,0))=0,\"\",INDEX(HAMARA!I:I,MATCH(B518,HAMARA!E:E,0))),\"\")","v":""}]
[378,"AT705",0,{"$f":"IFERROR(IF(INDEX(HAMARA!I:I,MATCH(B519,HAMARA!E:E,0))=0,\"\",INDEX(HAMARA!I:I,MATCH(B519,HAMARA!E:E,0))),\"\")","v":""}]
[378,"AT706",0,{"$f":"IFERROR(IF(INDEX(HAMARA!I:I,MATCH(B520,HAMARA!E:E,0))=0,\"\",INDEX(HAMARA!I:I,MATCH(B520,HAMARA!E:E,0))),\"\")","v":""}]
[378,"AT707",0,{"$f":"IFERROR(IF(INDEX(HAMARA!I:I,MATCH(B521,HAMARA!E:E,0))=0,\"\",INDEX(HAMARA!I:I,MATCH(B521,HAMARA!E:E,0))),\"\")","v":""}]
[378,"AT708",0,{"$f":"IFERROR(IF(INDEX(HAMARA!I:I,MATCH(B522,HAMARA!E:E,0))=0,\"\",INDEX(HAMARA!I:I,MATCH(B522,HAMARA!E:E,0))),\"\")","v":""}]
[378,"AT709",0,{"$f":"IFERROR(IF(INDEX(HAMARA!I:I,MATCH(B523,HAMARA!E:E,0))=0,\"\",INDEX(HAMARA!I:I,MATCH(B523,HAMARA!E:E,0))),\"\")","v":""}]
[378,"AT710",0,{"$f":"IFERROR(IF(INDEX(HAMARA!I:I,MATCH(B524,HAMARA!E:E,0))=0,\"\",INDEX(HAMARA!I:I,MATCH(B524,HAMARA!E:E,0))),\"\")","v":""}]
[378,"AT711",0,{"$f":"IFERROR(IF(INDEX(HAMARA!I:I,MATCH(B525,HAMARA!E:E,0))=0,\"\",INDEX(HAMARA!I:I,MATCH(B525,HAMARA!E:E,0))),\"\")","v":""}]
[378,"AT712",0,{"$f":"IFERROR(IF(INDEX(HAMARA!I:I,MATCH(B526,HAMARA!E:E,0))=0,\"\",INDEX(HAMARA!I:I,MATCH(B526,HAMARA!E:E,0))),\"\")","v":""}]
[378,"AT713",0,{"$f":"IFERROR(IF(INDEX(HAMARA!I:I,MATCH(B527,HAMARA!E:E,0))=0,\"\",INDEX(HAMARA!I:I,MATCH(B527,HAMARA!E:E,0))),\"\")","v":""}]
[378,"AT714",0,{"$f":"IFERROR(IF(INDEX(HAMARA!I:I,MATCH(B528,HAMARA!E:E,0))=0,\"\",INDEX(HAMARA!I:I,MATCH(B528,HAMARA!E:E,0))),\"\")","v":""}]
[378,"AT715",0,{"$f":"IFERROR(IF(INDEX(HAMARA!I:I,MATCH(B529,HAMARA!E:E,0))=0,\"\",INDEX(HAMARA!I:I,MATCH(B529,HAMARA!E:E,0))),\"\")","v":""}]
[378,"AT716",0,{"$f":"IFERROR(IF(INDEX(HAMARA!I:I,MATCH(B530,HAMARA!E:E,0))=0,\"\",INDEX(HAMARA!I:I,MATCH(B530,HAMARA!E:E,0))),\"\")","v":""}]
[378,"AT717",0,{"$f":"IFERROR(IF(INDEX(HAMARA!I:I,MATCH(B531,HAMARA!E:E,0))=0,\"\",INDEX(HAMARA!I:I,MATCH(B531,HAMARA!E:E,0))),\"\")","v":""}]
[378,"AT718",0,{"$f":"IFERROR(IF(INDEX(HAMARA!I:I,MATCH(B532,HAMARA!E:E,0))=0,\"\",INDEX(HAMARA!I:I,MATCH(B532,HAMARA!E:E,0))),\"\")","v":""}]
[378,"AT719",0,{"$f":"IFERROR(IF(INDEX(HAMARA!I:I,MATCH(B533,HAMARA!E:E,0))=0,\"\",INDEX(HAMARA!I:I,MATCH(B533,HAMARA!E:E,0))),\"\")","v":""}]
[378,"AT720",0,{"$f":"IFERROR(IF(INDEX(HAMARA!I:I,MATCH(B534,HAMARA!E:E,0))=0,\"\",INDEX(HAMARA!I:I,MATCH(B534,HAMARA!E:E,0))),\"\")","v":""}]
[378,"AT721",0,{"$f":"IFERROR(IF(INDEX(HAMARA!I:I,MATCH(B535,HAMARA!E:E,0))=0,\"\",INDEX(HAMARA!I:I,MATCH(B535,HAMARA!E:E,0))),\"\")","v":""}]
[378,"AT722",0,{"$f":"IFERROR(IF(INDEX(HAMARA!I:I,MATCH(B536,HAMARA!E:E,0))=0,\"\",INDEX(HAMARA!I:I,MATCH(B536,HAMARA!E:E,0))),\"\")","v":""}]
[378,"AT723",0,{"$f":"IFERROR(IF(INDEX(HAMARA!I:I,MATCH(B537,HAMARA!E:E,0))=0,\"\",INDEX(HAMARA!I:I,MATCH(B537,HAMARA!E:E,0))),\"\")","v":""}]
[378,"AT724",0,{"$f":"IFERROR(IF(INDEX(HAMARA!I:I,MATCH(B538,HAMARA!E:E,0))=0,\"\",INDEX(HAMARA!I:I,MATCH(B538,HAMARA!E:E,0))),\"\")","v":""}]
[378,"AT725",0,{"$f":"IFERROR(IF(INDEX(HAMARA!I:I,MATCH(B539,HAMARA!E:E,0))=0,\"\",INDEX(HAMARA!I:I,MATCH(B539,HAMARA!E:E,0))),\"\")","v":""}]
[378,"AT726",0,{"$f":"IFERROR(IF(INDEX(HAMARA!I:I,MATCH(B540,HAMARA!E:E,0))=0,\"\",INDEX(HAMARA!I:I,MATCH(B540,HAMARA!E:E,0))),\"\")","v":""}]
[378,"AT646",0,{"$f":"IFERROR(IF(INDEX(HAMARA!I:I,MATCH(B541,HAMARA!E:E,0))=0,\"\",INDEX(HAMARA!I:I,MATCH(B541,HAMARA!E:E,0))),\"\")","v":""}]
[378,"AT647",0,{"$f":"IFERROR(IF(INDEX(HAMARA!I:I,MATCH(B542,HAMARA!E:E,0))=0,\"\",INDEX(HAMARA!I:I,MATCH(B542,HAMARA!E:E,0))),\"\")","v":""}]
[378,"AT648",0,{"$f":"IFERROR(IF(INDEX(HAMARA!I:I,MATCH(B543,HAMARA!E:E,0))=0,\"\",INDEX(HAMARA!I:I,MATCH(B543,HAMARA!E:E,0))),\"\")","v":""}]
[378,"AT649",0,{"$f":"IFERROR(IF(INDEX(HAMARA!I:I,MATCH(B544,HAMARA!E:E,0))=0,\"\",INDEX(HAMARA!I:I,MATCH(B544,HAMARA!E:E,0))),\"\")","v":""}]
[378,"AT650",0,{"$f":"IFERROR(IF(INDEX(HAMARA!I:I,MATCH(B545,HAMARA!E:E,0))=0,\"\",INDEX(HAMARA!I:I,MATCH(B545,HAMARA!E:E,0))),\"\")","v":""}]
[378,"AT651",0,{"$f":"IFERROR(IF(INDEX(HAMARA!I:I,MATCH(B546,HAMARA!E:E,0))=0,\"\",INDEX(HAMARA!I:I,MATCH(B546,HAMARA!E:E,0))),\"\")","v":""}]
[378,"AT652",0,{"$f":"IFERROR(IF(INDEX(HAMARA!I:I,MATCH(B547,HAMARA!E:E,0))=0,\"\",INDEX(HAMARA!I:I,MATCH(B547,HAMARA!E:E,0))),\"\")","v":""}]
[378,"AT653",0,{"$f":"IFERROR(IF(INDEX(HAMARA!I:I,MATCH(B548,HAMARA!E:E,0))=0,\"\",INDEX(HAMARA!I:I,MATCH(B548,HAMARA!E:E,0))),\"\")","v":""}]
[378,"AT654",0,{"$f":"IFERROR(IF(INDEX(HAMARA!I:I,MATCH(B549,HAMARA!E:E,0))=0,\"\",INDEX(HAMARA!I:I,MATCH(B549,HAMARA!E:E,0))),\"\")","v":""}]
[378,"AT655",0,{"$f":"IFERROR(IF(INDEX(HAMARA!I:I,MATCH(B550,HAMARA!E:E,0))=0,\"\",INDEX(HAMARA!I:I,MATCH(B550,HAMARA!E:E,0))),\"\")","v":""}]
[378,"AT656",0,{"$f":"IFERROR(IF(INDEX(HAMARA!I:I,MATCH(B551,HAMARA!E:E,0))=0,\"\",INDEX(HAMARA!I:I,MATCH(B551,HAMARA!E:E,0))),\"\")","v":""}]
[378,"AT657",0,{"$f":"IFERROR(IF(INDEX(HAMARA!I:I,MATCH(B552,HAMARA!E:E,0))=0,\"\",INDEX(HAMARA!I:I,MATCH(B552,HAMARA!E:E,0))),\"\")","v":""}]
[378,"AT678",0,{"$f":"IFERROR(IF(INDEX(HAMARA!I:I,MATCH(B553,HAMARA!E:E,0))=0,\"\",INDEX(HAMARA!I:I,MATCH(B553,HAMARA!E:E,0))),\"\")","v":""}]
[378,"AT679",0,{"$f":"IFERROR(IF(INDEX(HAMARA!I:I,MATCH(B554,HAMARA!E:E,0))=0,\"\",INDEX(HAMARA!I:I,MATCH(B554,HAMARA!E:E,0))),\"\")","v":""}]
[378,"AT680",0,{"$f":"IFERROR(IF(INDEX(HAMARA!I:I,MATCH(B555,HAMARA!E:E,0))=0,\"\",INDEX(HAMARA!I:I,MATCH(B555,HAMARA!E:E,0))),\"\")","v":""}]
[378,"AT681",0,{"$f":"IFERROR(IF(INDEX(HAMARA!I:I,MATCH(B556,HAMARA!E:E,0))=0,\"\",INDEX(HAMARA!I:I,MATCH(B556,HAMARA!E:E,0))),\"\")","v":""}]
[378,"AT682",0,{"$f":"IFERROR(IF(INDEX(HAMARA!I:I,MATCH(B557,HAMARA!E:E,0))=0,\"\",INDEX(HAMARA!I:I,MATCH(B557,HAMARA!E:E,0))),\"\")","v":""}]
[378,"AT683",0,{"$f":"IFERROR(IF(INDEX(HAMARA!I:I,MATCH(B558,HAMARA!E:E,0))=0,\"\",INDEX(HAMARA!I:I,MATCH(B558,HAMARA!E:E,0))),\"\")","v":""}]
[378,"AT658",0,{"$f":"IFERROR(IF(INDEX(HAMARA!I:I,MATCH(B559,HAMARA!E:E,0))=0,\"\",INDEX(HAMARA!I:I,MATCH(B559,HAMARA!E:E,0))),\"\")","v":""}]
[378,"AT659",0,{"$f":"IFERROR(IF(INDEX(HAMARA!I:I,MATCH(B560,HAMARA!E:E,0))=0,\"\",INDEX(HAMARA!I:I,MATCH(B560,HAMARA!E:E,0))),\"\")","v":""}]
[378,"AT660",0,{"$f":"IFERROR(IF(INDEX(HAMARA!I:I,MATCH(B561,HAMARA!E:E,0))=0,\"\",INDEX(HAMARA!I:I,MATCH(B561,HAMARA!E:E,0))),\"\")","v":""}]
[378,"AT661",0,{"$f":"IFERROR(IF(INDEX(HAMARA!I:I,MATCH(B562,HAMARA!E:E,0))=0,\"\",INDEX(HAMARA!I:I,MATCH(B562,HAMARA!E:E,0))),\"\")","v":""}]
[378,"AT727",0,{"$f":"IFERROR(IF(INDEX(HAMARA!I:I,MATCH(B563,HAMARA!E:E,0))=0,\"\",INDEX(HAMARA!I:I,MATCH(B563,HAMARA!E:E,0))),\"\")","v":""}]
[378,"AT728",0,{"$f":"IFERROR(IF(INDEX(HAMARA!I:I,MATCH(B564,HAMARA!E:E,0))=0,\"\",INDEX(HAMARA!I:I,MATCH(B564,HAMARA!E:E,0))),\"\")","v":""}]
[378,"AT729",0,{"$f":"IFERROR(IF(INDEX(HAMARA!I:I,MATCH(B565,HAMARA!E:E,0))=0,\"\",INDEX(HAMARA!I:I,MATCH(B565,HAMARA!E:E,0))),\"\")","v":""}]
[378,"AT730",0,{"$f":"IFERROR(IF(INDEX(HAMARA!I:I,MATCH(B566,HAMARA!E:E,0))=0,\"\",INDEX(HAMARA!I:I,MATCH(B566,HAMARA!E:E,0))),\"\")","v":""}]
[378,"AT731",0,{"$f":"IFERROR(IF(INDEX(HAMARA!I:I,MATCH(B567,HAMARA!E:E,0))=0,\"\",INDEX(HAMARA!I:I,MATCH(B567,HAMARA!E:E,0))),\"\")","v":""}]
[378,"AT732",0,{"$f":"IFERROR(IF(INDEX(HAMARA!I:I,MATCH(B568,HAMARA!E:E,0))=0,\"\",INDEX(HAMARA!I:I,MATCH(B568,HAMARA!E:E,0))),\"\")","v":""}]
[378,"AT733",0,{"$f":"IFERROR(IF(INDEX(HAMARA!I:I,MATCH(B569,HAMARA!E:E,0))=0,\"\",INDEX(HAMARA!I:I,MATCH(B569,HAMARA!E:E,0))),\"\")","v":""}]
[378,"AT734",0,{"$f":"IFERROR(IF(INDEX(HAMARA!I:I,MATCH(B570,HAMARA!E:E,0))=0,\"\",INDEX(HAMARA!I:I,MATCH(B570,HAMARA!E:E,0))),\"\")","v":""}]
[378,"AT735",0,{"$f":"IFERROR(IF(INDEX(HAMARA!I:I,MATCH(B571,HAMARA!E:E,0))=0,\"\",INDEX(HAMARA!I:I,MATCH(B571,HAMARA!E:E,0))),\"\")","v":""}]
[378,"AT736",0,{"$f":"IFERROR(IF(INDEX(HAMARA!I:I,MATCH(B572,HAMARA!E:E,0))=0,\"\",INDEX(HAMARA!I:I,MATCH(B572,HAMARA!E:E,0))),\"\")","v":""}]
[378,"AT737",0,{"$f":"IFERROR(IF(INDEX(HAMARA!I:I,MATCH(B573,HAMARA!E:E,0))=0,\"\",INDEX(HAMARA!I:I,MATCH(B573,HAMARA!E:E,0))),\"\")","v":""}]
[378,"AT738",0,{"$f":"IFERROR(IF(INDEX(HAMARA!I:I,MATCH(B574,HAMARA!E:E,0))=0,\"\",INDEX(HAMARA!I:I,MATCH(B574,HAMARA!E:E,0))),\"\")","v":""}]
[378,"AT739",0,{"$f":"IFERROR(IF(INDEX(HAMARA!I:I,MATCH(B575,HAMARA!E:E,0))=0,\"\",INDEX(HAMARA!I:I,MATCH(B575,HAMARA!E:E,0))),\"\")","v":""}]
[378,"AT740",0,{"$f":"IFERROR(IF(INDEX(HAMARA!I:I,MATCH(B576,HAMARA!E:E,0))=0,\"\",INDEX(HAMARA!I:I,MATCH(B576,HAMARA!E:E,0))),\"\")","v":""}]
[378,"AT741",0,{"$f":"IFERROR(IF(INDEX(HAMARA!I:I,MATCH(B577,HAMARA!E:E,0))=0,\"\",INDEX(HAMARA!I:I,MATCH(B577,HAMARA!E:E,0))),\"\")","v":""}]
[378,"AT742",0,{"$f":"IFERROR(IF(INDEX(HAMARA!I:I,MATCH(B578,HAMARA!E:E,0))=0,\"\",INDEX(HAMARA!I:I,MATCH(B578,HAMARA!E:E,0))),\"\")","v":""}]
[378,"AT743",0,{"$f":"IFERROR(IF(INDEX(HAMARA!I:I,MATCH(B579,HAMARA!E:E,0))=0,\"\",INDEX(HAMARA!I:I,MATCH(B579,HAMARA!E:E,0))),\"\")","v":""}]
[378,"AT744",0,{"$f":"IFERROR(IF(INDEX(HAMARA!I:I,MATCH(B580,HAMARA!E:E,0))=0,\"\",INDEX(HAMARA!I:I,MATCH(B580,HAMARA!E:E,0))),\"\")","v":""}]
[378,"AT745",0,{"$f":"IFERROR(IF(INDEX(HAMARA!I:I,MATCH(B581,HAMARA!E:E,0))=0,\"\",INDEX(HAMARA!I:I,MATCH(B581,HAMARA!E:E,0))),\"\")","v":""}]
[378,"AT746",0,{"$f":"IFERROR(IF(INDEX(HAMARA!I:I,MATCH(B582,HAMARA!E:E,0))=0,\"\",INDEX(HAMARA!I:I,MATCH(B582,HAMARA!E:E,0))),\"\")","v":""}]
[378,"AT747",0,{"$f":"IFERROR(IF(INDEX(HAMARA!I:I,MATCH(B583,HAMARA!E:E,0))=0,\"\",INDEX(HAMARA!I:I,MATCH(B583,HAMARA!E:E,0))),\"\")","v":""}]
[378,"AT748",0,{"$f":"IFERROR(IF(INDEX(HAMARA!I:I,MATCH(B584,HAMARA!E:E,0))=0,\"\",INDEX(HAMARA!I:I,MATCH(B584,HAMARA!E:E,0))),\"\")","v":""}]
[378,"AT662",0,{"$f":"IFERROR(IF(INDEX(HAMARA!I:I,MATCH(B585,HAMARA!E:E,0))=0,\"\",INDEX(HAMARA!I:I,MATCH(B585,HAMARA!E:E,0))),\"\")","v":""}]
[378,"AT663",0,{"$f":"IFERROR(IF(INDEX(HAMARA!I:I,MATCH(B586,HAMARA!E:E,0))=0,\"\",INDEX(HAMARA!I:I,MATCH(B586,HAMARA!E:E,0))),\"\")","v":""}]
[378,"AT664",0,{"$f":"IFERROR(IF(INDEX(HAMARA!I:I,MATCH(B587,HAMARA!E:E,0))=0,\"\",INDEX(HAMARA!I:I,MATCH(B587,HAMARA!E:E,0))),\"\")","v":""}]
[378,"AT665",0,{"$f":"IFERROR(IF(INDEX(HAMARA!I:I,MATCH(B588,HAMARA!E:E,0))=0,\"\",INDEX(HAMARA!I:I,MATCH(B588,HAMARA!E:E,0))),\"\")","v":""}]
[378,"AT666",0,{"$f":"IFERROR(IF(INDEX(HAMARA!I:I,MATCH(B589,HAMARA!E:E,0))=0,\"\",INDEX(HAMARA!I:I,MATCH(B589,HAMARA!E:E,0))),\"\")","v":""}]
[378,"AT667",0,{"$f":"IFERROR(IF(INDEX(HAMARA!I:I,MATCH(B590,HAMARA!E:E,0))=0,\"\",INDEX(HAMARA!I:I,MATCH(B590,HAMARA!E:E,0))),\"\")","v":""}]
[378,"AT668",0,{"$f":"IFERROR(IF(INDEX(HAMARA!I:I,MATCH(B591,HAMARA!E:E,0))=0,\"\",INDEX(HAMARA!I:I,MATCH(B591,HAMARA!E:E,0))),\"\")","v":""}]
[378,"AT669",0,{"$f":"IFERROR(IF(INDEX(HAMARA!I:I,MATCH(B592,HAMARA!E:E,0))=0,\"\",INDEX(HAMARA!I:I,MATCH(B592,HAMARA!E:E,0))),\"\")","v":""}]
[378,"AT670",0,{"$f":"IFERROR(IF(INDEX(HAMARA!I:I,MATCH(B593,HAMARA!E:E,0))=0,\"\",INDEX(HAMARA!I:I,MATCH(B593,HAMARA!E:E,0))),\"\")","v":""}]
[378,"AT671",0,{"$f":"IFERROR(IF(INDEX(HAMARA!I:I,MATCH(B594,HAMARA!E:E,0))=0,\"\",INDEX(HAMARA!I:I,MATCH(B594,HAMARA!E:E,0))),\"\")","v":""}]
[378,"AT672",0,{"$f":"IFERROR(IF(INDEX(HAMARA!I:I,MATCH(B595,HAMARA!E:E,0))=0,\"\",INDEX(HAMARA!I:I,MATCH(B595,HAMARA!E:E,0))),\"\")","v":""}]
[378,"AT673",0,{"$f":"IFERROR(IF(INDEX(HAMARA!I:I,MATCH(B596,HAMARA!E:E,0))=0,\"\",INDEX(HAMARA!I:I,MATCH(B596,HAMARA!E:E,0))),\"\")","v":""}]
[378,"AT684",0,{"$f":"IFERROR(IF(INDEX(HAMARA!I:I,MATCH(B597,HAMARA!E:E,0))=0,\"\",INDEX(HAMARA!I:I,MATCH(B597,HAMARA!E:E,0))),\"\")","v":""}]
[378,"AT685",0,{"$f":"IFERROR(IF(INDEX(HAMARA!I:I,MATCH(B598,HAMARA!E:E,0))=0,\"\",INDEX(HAMARA!I:I,MATCH(B598,HAMARA!E:E,0))),\"\")","v":""}]
[378,"AT686",0,{"$f":"IFERROR(IF(INDEX(HAMARA!I:I,MATCH(B599,HAMARA!E:E,0))=0,\"\",INDEX(HAMARA!I:I,MATCH(B599,HAMARA!E:E,0))),\"\")","v":""}]
[378,"AT687",0,{"$f":"IFERROR(IF(INDEX(HAMARA!I:I,MATCH(B600,HAMARA!E:E,0))=0,\"\",INDEX(HAMARA!I:I,MATCH(B600,HAMARA!E:E,0))),\"\")","v":""}]
[378,"AT688",0,{"$f":"IFERROR(IF(INDEX(HAMARA!I:I,MATCH(B601,HAMARA!E:E,0))=0,\"\",INDEX(HAMARA!I:I,MATCH(B601,HAMARA!E:E,0))),\"\")","v":""}]
[378,"AT689",0,{"$f":"IFERROR(IF(INDEX(HAMARA!I:I,MATCH(B602,HAMARA!E:E,0))=0,\"\",INDEX(HAMARA!I:I,MATCH(B602,HAMARA!E:E,0))),\"\")","v":""}]
[378,"AT674",0,{"$f":"IFERROR(IF(INDEX(HAMARA!I:I,MATCH(B603,HAMARA!E:E,0))=0,\"\",INDEX(HAMARA!I:I,MATCH(B603,HAMARA!E:E,0))),\"\")","v":""}]
[378,"AT675",0,{"$f":"IFERROR(IF(INDEX(HAMARA!I:I,MATCH(B604,HAMARA!E:E,0))=0,\"\",INDEX(HAMARA!I:I,MATCH(B604,HAMARA!E:E,0))),\"\")","v":""}]
[378,"AT676",0,{"$f":"IFERROR(IF(INDEX(HAMARA!I:I,MATCH(B605,HAMARA!E:E,0))=0,\"\",INDEX(HAMARA!I:I,MATCH(B605,HAMARA!E:E,0))),\"\")","v":""}]
[378,"AT677",0,{"$f":"IFERROR(IF(INDEX(HAMARA!I:I,MATCH(B606,HAMARA!E:E,0))=0,\"\",INDEX(HAMARA!I:I,MATCH(B606,HAMARA!E:E,0))),\"\")","v":""}]
[378,"AT53",166.49799999999999,{"$f":"IFERROR(IF(INDEX(HAMARA!I:I,MATCH(B607,HAMARA!E:E,0))=0,\"\",INDEX(HAMARA!I:I,MATCH(B607,HAMARA!E:E,0))),\"\")","v":""}]
[378,"AT502",0,{"$f":"IFERROR(IF(INDEX(HAMARA!I:I,MATCH(B608,HAMARA!E:E,0))=0,\"\",INDEX(HAMARA!I:I,MATCH(B608,HAMARA!E:E,0))),\"\")","v":""}]
[378,"AT503",0,{"$f":"IFERROR(IF(INDEX(HAMARA!I:I,MATCH(B609,HAMARA!E:E,0))=0,\"\",INDEX(HAMARA!I:I,MATCH(B609,HAMARA!E:E,0))),\"\")","v":""}]
[378,"AT450",0,{"$f":"IFERROR(IF(INDEX(HAMARA!I:I,MATCH(B610,HAMARA!E:E,0))=0,\"\",INDEX(HAMARA!I:I,MATCH(B610,HAMARA!E:E,0))),\"\")","v":""}]
[378,"AT504",0,{"$f":"IFERROR(IF(INDEX(HAMARA!I:I,MATCH(B611,HAMARA!E:E,0))=0,\"\",INDEX(HAMARA!I:I,MATCH(B611,HAMARA!E:E,0))),\"\")","v":""}]
[378,"AT505",0,{"$f":"IFERROR(IF(INDEX(HAMARA!I:I,MATCH(B612,HAMARA!E:E,0))=0,\"\",INDEX(HAMARA!I:I,MATCH(B612,HAMARA!E:E,0))),\"\")","v":""}]
[378,"AT451",0,{"$f":"IFERROR(IF(INDEX(HAMARA!I:I,MATCH(B613,HAMARA!E:E,0))=0,\"\",INDEX(HAMARA!I:I,MATCH(B613,HAMARA!E:E,0))),\"\")","v":""}]
[378,"AT506",0,{"$f":"IFERROR(IF(INDEX(HAMARA!I:I,MATCH(B614,HAMARA!E:E,0))=0,\"\",INDEX(HAMARA!I:I,MATCH(B614,HAMARA!E:E,0))),\"\")","v":""}]
[378,"AT627",0,{"$f":"IFERROR(IF(INDEX(HAMARA!I:I,MATCH(B615,HAMARA!E:E,0))=0,\"\",INDEX(HAMARA!I:I,MATCH(B615,HAMARA!E:E,0))),\"\")","v":""}]
[378,"AT507",11.477,{"$f":"IFERROR(IF(INDEX(HAMARA!I:I,MATCH(B616,HAMARA!E:E,0))=0,\"\",INDEX(HAMARA!I:I,MATCH(B616,HAMARA!E:E,0))),\"\")","v":""}]
[378,"AT577",0,{"$f":"IFERROR(IF(INDEX(HAMARA!I:I,MATCH(B617,HAMARA!E:E,0))=0,\"\",INDEX(HAMARA!I:I,MATCH(B617,HAMARA!E:E,0))),\"\")","v":""}]
[378,"AT508",0,{"$f":"IFERROR(IF(INDEX(HAMARA!I:I,MATCH(B618,HAMARA!E:E,0))=0,\"\",INDEX(HAMARA!I:I,MATCH(B618,HAMARA!E:E,0))),\"\")","v":""}]
[378,"AT509",0,{"$f":"IFERROR(IF(INDEX(HAMARA!I:I,MATCH(B619,HAMARA!E:E,0))=0,\"\",INDEX(HAMARA!I:I,MATCH(B619,HAMARA!E:E,0))),\"\")","v":""}]
[378,"AT511",0,{"$f":"IFERROR(IF(INDEX(HAMARA!I:I,MATCH(B620,HAMARA!E:E,0))=0,\"\",INDEX(HAMARA!I:I,MATCH(B620,HAMARA!E:E,0))),\"\")","v":""}]
[378,"AT452",0,{"$f":"IFERROR(IF(INDEX(HAMARA!I:I,MATCH(B621,HAMARA!E:E,0))=0,\"\",INDEX(HAMARA!I:I,MATCH(B621,HAMARA!E:E,0))),\"\")","v":""}]
[378,"AT512",0,{"$f":"IFERROR(IF(INDEX(HAMARA!I:I,MATCH(B622,HAMARA!E:E,0))=0,\"\",INDEX(HAMARA!I:I,MATCH(B622,HAMARA!E:E,0))),\"\")","v":""}]
[378,"AT513",0,{"$f":"IFERROR(IF(INDEX(HAMARA!I:I,MATCH(B623,HAMARA!E:E,0))=0,\"\",INDEX(HAMARA!I:I,MATCH(B623,HAMARA!E:E,0))),\"\")","v":""}]
[378,"AT514",0,{"$f":"IFERROR(IF(INDEX(HAMARA!I:I,MATCH(B624,HAMARA!E:E,0))=0,\"\",INDEX(HAMARA!I:I,MATCH(B624,HAMARA!E:E,0))),\"\")","v":""}]
[378,"AT515",0,{"$f":"IFERROR(IF(INDEX(HAMARA!I:I,MATCH(B625,HAMARA!E:E,0))=0,\"\",INDEX(HAMARA!I:I,MATCH(B625,HAMARA!E:E,0))),\"\")","v":""}]
[378,"AT516",0,{"$f":"IFERROR(IF(INDEX(HAMARA!I:I,MATCH(B626,HAMARA!E:E,0))=0,\"\",INDEX(HAMARA!I:I,MATCH(B626,HAMARA!E:E,0))),\"\")","v":""}]
[378,"AT517",0,{"$f":"IFERROR(IF(INDEX(HAMARA!I:I,MATCH(B627,HAMARA!E:E,0))=0,\"\",INDEX(HAMARA!I:I,MATCH(B627,HAMARA!E:E,0))),\"\")","v":""}]
[378,"AT518",0,{"$f":"IFERROR(IF(INDEX(HAMARA!I:I,MATCH(B628,HAMARA!E:E,0))=0,\"\",INDEX(HAMARA!I:I,MATCH(B628,HAMARA!E:E,0))),\"\")","v":""}]
[378,"AT519",0,{"$f":"IFERROR(IF(INDEX(HAMARA!I:I,MATCH(B629,HAMARA!E:E,0))=0,\"\",INDEX(HAMARA!I:I,MATCH(B629,HAMARA!E:E,0))),\"\")","v":""}]
[378,"AT520",0,{"$f":"IFERROR(IF(INDEX(HAMARA!I:I,MATCH(B630,HAMARA!E:E,0))=0,\"\",INDEX(HAMARA!I:I,MATCH(B630,HAMARA!E:E,0))),\"\")","v":""}]
[378,"AT521",0,{"$f":"IFERROR(IF(INDEX(HAMARA!I:I,MATCH(B631,HAMARA!E:E,0))=0,\"\",INDEX(HAMARA!I:I,MATCH(B631,HAMARA!E:E,0))),\"\")","v":""}]
[378,"AT522",0,{"$f":"IFERROR(IF(INDEX(HAMARA!I:I,MATCH(B632,HAMARA!E:E,0))=0,\"\",INDEX(HAMARA!I:I,MATCH(B632,HAMARA!E:E,0))),\"\")","v":""}]
[378,"AT523",0,{"$f":"IFERROR(IF(INDEX(HAMARA!I:I,MATCH(B633,HAMARA!E:E,0))=0,\"\",INDEX(HAMARA!I:I,MATCH(B633,HAMARA!E:E,0))),\"\")","v":""}]
[378,"AT524",0,{"$f":"IFERROR(IF(INDEX(HAMARA!I:I,MATCH(B634,HAMARA!E:E,0))=0,\"\",INDEX(HAMARA!I:I,MATCH(B634,HAMARA!E:E,0))),\"\")","v":""}]
[378,"AT525",0,{"$f":"IFERROR(IF(INDEX(HAMARA!I:I,MATCH(B635,HAMARA!E:E,0))=0,\"\",INDEX(HAMARA!I:I,MATCH(B635,HAMARA!E:E,0))),\"\")","v":""}]
[378,"AT526",0,{"$f":"IFERROR(IF(INDEX(HAMARA!I:I,MATCH(B636,HAMARA!E:E,0))=0,\"\",INDEX(HAMARA!I:I,MATCH(B636,HAMARA!E:E,0))),\"\")","v":""}]
[378,"AT527",0,{"$f":"IFERROR(IF(INDEX(HAMARA!I:I,MATCH(B637,HAMARA!E:E,0))=0,\"\",INDEX(HAMARA!I:I,MATCH(B637,HAMARA!E:E,0))),\"\")","v":""}]
[378,"AT530",0,{"$f":"IFERROR(IF(INDEX(HAMARA!I:I,MATCH(B638,HAMARA!E:E,0))=0,\"\",INDEX(HAMARA!I:I,MATCH(B638,HAMARA!E:E,0))),\"\")","v":""}]
[378,"AT531",0,{"$f":"IFERROR(IF(INDEX(HAMARA!I:I,MATCH(B639,HAMARA!E:E,0))=0,\"\",INDEX(HAMARA!I:I,MATCH(B639,HAMARA!E:E,0))),\"\")","v":""}]
[378,"AT532",0,{"$f":"IFERROR(IF(INDEX(HAMARA!I:I,MATCH(B640,HAMARA!E:E,0))=0,\"\",INDEX(HAMARA!I:I,MATCH(B640,HAMARA!E:E,0))),\"\")","v":""}]
[378,"AT533",0,{"$f":"IFERROR(IF(INDEX(HAMARA!I:I,MATCH(B641,HAMARA!E:E,0))=0,\"\",INDEX(HAMARA!I:I,MATCH(B641,HAMARA!E:E,0))),\"\")","v":""}]
[378,"AT534",0,{"$f":"IFERROR(IF(INDEX(HAMARA!I:I,MATCH(B642,HAMARA!E:E,0))=0,\"\",INDEX(HAMARA!I:I,MATCH(B642,HAMARA!E:E,0))),\"\")","v":""}]
[378,"AT535",0,{"$f":"IFERROR(IF(INDEX(HAMARA!I:I,MATCH(B643,HAMARA!E:E,0))=0,\"\",INDEX(HAMARA!I:I,MATCH(B643,HAMARA!E:E,0))),\"\")","v":""}]
[378,"AT536",0,{"$f":"IFERROR(IF(INDEX(HAMARA!I:I,MATCH(B644,HAMARA!E:E,0))=0,\"\",INDEX(HAMARA!I:I,MATCH(B644,HAMARA!E:E,0))),\"\")","v":""}]
[378,"AT537",0,{"$f":"IFERROR(IF(INDEX(HAMARA!I:I,MATCH(B645,HAMARA!E:E,0))=0,\"\",INDEX(HAMARA!I:I,MATCH(B645,HAMARA!E:E,0))),\"\")","v":""}]
[378,"AT628",0,{"$f":"IFERROR(IF(INDEX(HAMARA!I:I,MATCH(B646,HAMARA!E:E,0))=0,\"\",INDEX(HAMARA!I:I,MATCH(B646,HAMARA!E:E,0))),\"\")","v":""}]
[378,"AT629",0,{"$f":"IFERROR(IF(INDEX(HAMARA!I:I,MATCH(B647,HAMARA!E:E,0))=0,\"\",INDEX(HAMARA!I:I,MATCH(B647,HAMARA!E:E,0))),\"\")","v":""}]
[378,"AT630",0,{"$f":"IFERROR(IF(INDEX(HAMARA!I:I,MATCH(B648,HAMARA!E:E,0))=0,\"\",INDEX(HAMARA!I:I,MATCH(B648,HAMARA!E:E,0))),\"\")","v":""}]
[378,"AT631",0,{"$f":"IFERROR(IF(INDEX(HAMARA!I:I,MATCH(B649,HAMARA!E:E,0))=0,\"\",INDEX(HAMARA!I:I,MATCH(B649,HAMARA!E:E,0))),\"\")","v":""}]
[378,"AT632",0,{"$f":"IFERROR(IF(INDEX(HAMARA!I:I,MATCH(B650,HAMARA!E:E,0))=0,\"\",INDEX(HAMARA!I:I,MATCH(B650,HAMARA!E:E,0))),\"\")","v":""}]
[378,"AT633",0,{"$f":"IFERROR(IF(INDEX(HAMARA!I:I,MATCH(B651,HAMARA!E:E,0))=0,\"\",INDEX(HAMARA!I:I,MATCH(B651,HAMARA!E:E,0))),\"\")","v":""}]
[378,"AT162",0,{"$f":"IFERROR(IF(INDEX(HAMARA!I:I,MATCH(B652,HAMARA!E:E,0))=0,\"\",INDEX(HAMARA!I:I,MATCH(B652,HAMARA!E:E,0))),\"\")","v":""}]
[378,"AT163",0,{"$f":"IFERROR(IF(INDEX(HAMARA!I:I,MATCH(B653,HAMARA!E:E,0))=0,\"\",INDEX(HAMARA!I:I,MATCH(B653,HAMARA!E:E,0))),\"\")","v":""}]
[378,"AT164",0,{"$f":"IFERROR(IF(INDEX(HAMARA!I:I,MATCH(B654,HAMARA!E:E,0))=0,\"\",INDEX(HAMARA!I:I,MATCH(B654,HAMARA!E:E,0))),\"\")","v":""}]
[378,"AT165",0,{"$f":"IFERROR(IF(INDEX(HAMARA!I:I,MATCH(B655,HAMARA!E:E,0))=0,\"\",INDEX(HAMARA!I:I,MATCH(B655,HAMARA!E:E,0))),\"\")","v":""}]
[378,"AT166",0,{"$f":"IFERROR(IF(INDEX(HAMARA!I:I,MATCH(B656,HAMARA!E:E,0))=0,\"\",INDEX(HAMARA!I:I,MATCH(B656,HAMARA!E:E,0))),\"\")","v":""}]
[378,"AT36",0,{"$f":"IFERROR(IF(INDEX(HAMARA!I:I,MATCH(B657,HAMARA!E:E,0))=0,\"\",INDEX(HAMARA!I:I,MATCH(B657,HAMARA!E:E,0))),\"\")","v":""}]
[378,"AT38",0,{"$f":"IFERROR(IF(INDEX(HAMARA!I:I,MATCH(B658,HAMARA!E:E,0))=0,\"\",INDEX(HAMARA!I:I,MATCH(B658,HAMARA!E:E,0))),\"\")","v":""}]
[378,"AT167",0,{"$f":"IFERROR(IF(INDEX(HAMARA!I:I,MATCH(B659,HAMARA!E:E,0))=0,\"\",INDEX(HAMARA!I:I,MATCH(B659,HAMARA!E:E,0))),\"\")","v":""}]
[378,"AT228",0,{"$f":"IFERROR(IF(INDEX(HAMARA!I:I,MATCH(B660,HAMARA!E:E,0))=0,\"\",INDEX(HAMARA!I:I,MATCH(B660,HAMARA!E:E,0))),\"\")","v":""}]
[378,"AT95",0,{"$f":"IFERROR(IF(INDEX(HAMARA!I:I,MATCH(B661,HAMARA!E:E,0))=0,\"\",INDEX(HAMARA!I:I,MATCH(B661,HAMARA!E:E,0))),\"\")","v":""}]
[378,"AT63",0,{"$f":"IFERROR(IF(INDEX(HAMARA!I:I,MATCH(B662,HAMARA!E:E,0))=0,\"\",INDEX(HAMARA!I:I,MATCH(B662,HAMARA!E:E,0))),\"\")","v":""}]
[378,"AT168",0,{"$f":"IFERROR(IF(INDEX(HAMARA!I:I,MATCH(B663,HAMARA!E:E,0))=0,\"\",INDEX(HAMARA!I:I,MATCH(B663,HAMARA!E:E,0))),\"\")","v":""}]
[378,"AT100",0,{"$f":"IFERROR(IF(INDEX(HAMARA!I:I,MATCH(B664,HAMARA!E:E,0))=0,\"\",INDEX(HAMARA!I:I,MATCH(B664,HAMARA!E:E,0))),\"\")","v":""}]
[378,"AT99",0,{"$f":"IFERROR(IF(INDEX(HAMARA!I:I,MATCH(B665,HAMARA!E:E,0))=0,\"\",INDEX(HAMARA!I:I,MATCH(B665,HAMARA!E:E,0))),\"\")","v":""}]
[378,"AT139",0,{"$f":"IFERROR(IF(INDEX(HAMARA!I:I,MATCH(B666,HAMARA!E:E,0))=0,\"\",INDEX(HAMARA!I:I,MATCH(B666,HAMARA!E:E,0))),\"\")","v":""}]
[378,"AT142",0,{"$f":"IFERROR(IF(INDEX(HAMARA!I:I,MATCH(B667,HAMARA!E:E,0))=0,\"\",INDEX(HAMARA!I:I,MATCH(B667,HAMARA!E:E,0))),\"\")","v":""}]
[378,"BT999",23215.892,{"$f":"IFERROR(IF(INDEX(HAMARA!I:I,MATCH(B668,HAMARA!E:E,0))=0,\"\",INDEX(HAMARA!I:I,MATCH(B668,HAMARA!E:E,0))),\"\")","v":""}]
[378,"BT34",0,{"$f":"IFERROR(IF(INDEX(HAMARA!I:I,MATCH(B669,HAMARA!E:E,0))=0,\"\",INDEX(HAMARA!I:I,MATCH(B669,HAMARA!E:E,0))),\"\")","v":""}]
[378,"BT420",0,{"$f":"IFERROR(IF(INDEX(HAMARA!I:I,MATCH(B670,HAMARA!E:E,0))=0,\"\",INDEX(HAMARA!I:I,MATCH(B670,HAMARA!E:E,0))),\"\")","v":""}]
[378,"BT421",0,{"$f":"IFERROR(IF(INDEX(HAMARA!I:I,MATCH(B671,HAMARA!E:E,0))=0,\"\",INDEX(HAMARA!I:I,MATCH(B671,HAMARA!E:E,0))),\"\")","v":""}]
[378,"BT422",0,{"$f":"IFERROR(IF(INDEX(HAMARA!I:I,MATCH(B672,HAMARA!E:E,0))=0,\"\",INDEX(HAMARA!I:I,MATCH(B672,HAMARA!E:E,0))),\"\")","v":""}]
[378,"BT423",0,{"$f":"IFERROR(IF(INDEX(HAMARA!I:I,MATCH(B673,HAMARA!E:E,0))=0,\"\",INDEX(HAMARA!I:I,MATCH(B673,HAMARA!E:E,0))),\"\")","v":""}]
[378,"BT424",0,{"$f":"IFERROR(IF(INDEX(HAMARA!I:I,MATCH(B674,HAMARA!E:E,0))=0,\"\",INDEX(HAMARA!I:I,MATCH(B674,HAMARA!E:E,0))),\"\")","v":""}]
[378,"BT27",0,{"$f":"IFERROR(IF(INDEX(HAMARA!I:I,MATCH(B675,HAMARA!E:E,0))=0,\"\",INDEX(HAMARA!I:I,MATCH(B675,HAMARA!E:E,0))),\"\")","v":""}]
[378,"BT29",0,{"$f":"IFERROR(IF(INDEX(HAMARA!I:I,MATCH(B676,HAMARA!E:E,0))=0,\"\",INDEX(HAMARA!I:I,MATCH(B676,HAMARA!E:E,0))),\"\")","v":""}]
[378,"BT104",0,{"$f":"IFERROR(IF(INDEX(HAMARA!I:I,MATCH(B677,HAMARA!E:E,0))=0,\"\",INDEX(HAMARA!I:I,MATCH(B677,HAMARA!E:E,0))),\"\")","v":""}]
[378,"BT28",0,{"$f":"IFERROR(IF(INDEX(HAMARA!I:I,MATCH(B678,HAMARA!E:E,0))=0,\"\",INDEX(HAMARA!I:I,MATCH(B678,HAMARA!E:E,0))),\"\")","v":""}]
[378,"BT31",9617,{"$f":"IFERROR(IF(INDEX(HAMARA!I:I,MATCH(B679,HAMARA!E:E,0))=0,\"\",INDEX(HAMARA!I:I,MATCH(B679,HAMARA!E:E,0))),\"\")","v":""}]
[378,"BT24",0,{"$f":"IFERROR(IF(INDEX(HAMARA!I:I,MATCH(B680,HAMARA!E:E,0))=0,\"\",INDEX(HAMARA!I:I,MATCH(B680,HAMARA!E:E,0))),\"\")","v":""}]
[378,"BT30",0,{"$f":"IFERROR(IF(INDEX(HAMARA!I:I,MATCH(B681,HAMARA!E:E,0))=0,\"\",INDEX(HAMARA!I:I,MATCH(B681,HAMARA!E:E,0))),\"\")","v":""}]
[378,"BT41",0,{"$f":"IFERROR(IF(INDEX(HAMARA!I:I,MATCH(B682,HAMARA!E:E,0))=0,\"\",INDEX(HAMARA!I:I,MATCH(B682,HAMARA!E:E,0))),\"\")","v":""}]
[378,"BT425",0,{"$f":"IFERROR(IF(INDEX(HAMARA!I:I,MATCH(B683,HAMARA!E:E,0))=0,\"\",INDEX(HAMARA!I:I,MATCH(B683,HAMARA!E:E,0))),\"\")","v":""}]
[378,"BT426",0,{"$f":"IFERROR(IF(INDEX(HAMARA!I:I,MATCH(B684,HAMARA!E:E,0))=0,\"\",INDEX(HAMARA!I:I,MATCH(B684,HAMARA!E:E,0))),\"\")","v":""}]
[378,"BT427",0,{"$f":"IFERROR(IF(INDEX(HAMARA!I:I,MATCH(B685,HAMARA!E:E,0))=0,\"\",INDEX(HAMARA!I:I,MATCH(B685,HAMARA!E:E,0))),\"\")","v":""}]
[378,"BT561",0,{"$f":"IFERROR(IF(INDEX(HAMARA!I:I,MATCH(B686,HAMARA!E:E,0))=0,\"\",INDEX(HAMARA!I:I,MATCH(B686,HAMARA!E:E,0))),\"\")","v":""}]
[378,"BT560",0,{"$f":"IFERROR(IF(INDEX(HAMARA!I:I,MATCH(B687,HAMARA!E:E,0))=0,\"\",INDEX(HAMARA!I:I,MATCH(B687,HAMARA!E:E,0))),\"\")","v":""}]
[378,"BT428",0,{"$f":"IFERROR(IF(INDEX(HAMARA!I:I,MATCH(B688,HAMARA!E:E,0))=0,\"\",INDEX(HAMARA!I:I,MATCH(B688,HAMARA!E:E,0))),\"\")","v":""}]
[378,"BT563",0,{"$f":"IFERROR(IF(INDEX(HAMARA!I:I,MATCH(B689,HAMARA!E:E,0))=0,\"\",INDEX(HAMARA!I:I,MATCH(B689,HAMARA!E:E,0))),\"\")","v":""}]
[378,"BT562",0,{"$f":"IFERROR(IF(INDEX(HAMARA!I:I,MATCH(B690,HAMARA!E:E,0))=0,\"\",INDEX(HAMARA!I:I,MATCH(B690,HAMARA!E:E,0))),\"\")","v":""}]
[378,"BT429",0,{"$f":"IFERROR(IF(INDEX(HAMARA!I:I,MATCH(B691,HAMARA!E:E,0))=0,\"\",INDEX(HAMARA!I:I,MATCH(B691,HAMARA!E:E,0))),\"\")","v":""}]
[378,"BT565",0,{"$f":"IFERROR(IF(INDEX(HAMARA!I:I,MATCH(B692,HAMARA!E:E,0))=0,\"\",INDEX(HAMARA!I:I,MATCH(B692,HAMARA!E:E,0))),\"\")","v":""}]
[378,"BT564",0,{"$f":"IFERROR(IF(INDEX(HAMARA!I:I,MATCH(B693,HAMARA!E:E,0))=0,\"\",INDEX(HAMARA!I:I,MATCH(B693,HAMARA!E:E,0))),\"\")","v":""}]
[378,"BT430",0,{"$f":"IFERROR(IF(INDEX(HAMARA!I:I,MATCH(B694,HAMARA!E:E,0))=0,\"\",INDEX(HAMARA!I:I,MATCH(B694,HAMARA!E:E,0))),\"\")","v":""}]
[378,"BT567",0,{"$f":"IFERROR(IF(INDEX(HAMARA!I:I,MATCH(B695,HAMARA!E:E,0))=0,\"\",INDEX(HAMARA!I:I,MATCH(B695,HAMARA!E:E,0))),\"\")","v":""}]
[378,"BT566",0,{"$f":"IFERROR(IF(INDEX(HAMARA!I:I,MATCH(B696,HAMARA!E:E,0))=0,\"\",INDEX(HAMARA!I:I,MATCH(B696,HAMARA!E:E,0))),\"\")","v":""}]
[378,"BT431",0,{"$f":"IFERROR(IF(INDEX(HAMARA!I:I,MATCH(B697,HAMARA!E:E,0))=0,\"\",INDEX(HAMARA!I:I,MATCH(B697,HAMARA!E:E,0))),\"\")","v":""}]
[378,"BT569",0,{"$f":"IFERROR(IF(INDEX(HAMARA!I:I,MATCH(B698,HAMARA!E:E,0))=0,\"\",INDEX(HAMARA!I:I,MATCH(B698,HAMARA!E:E,0))),\"\")","v":""}]
[378,"BT568",0,{"$f":"IFERROR(IF(INDEX(HAMARA!I:I,MATCH(B699,HAMARA!E:E,0))=0,\"\",INDEX(HAMARA!I:I,MATCH(B699,HAMARA!E:E,0))),\"\")","v":""}]
[378,"BT432",0,{"$f":"IFERROR(IF(INDEX(HAMARA!I:I,MATCH(B700,HAMARA!E:E,0))=0,\"\",INDEX(HAMARA!I:I,MATCH(B700,HAMARA!E:E,0))),\"\")","v":""}]
[378,"BT573",0,{"$f":"IFERROR(IF(INDEX(HAMARA!I:I,MATCH(B701,HAMARA!E:E,0))=0,\"\",INDEX(HAMARA!I:I,MATCH(B701,HAMARA!E:E,0))),\"\")","v":""}]
[378,"BT572",0,{"$f":"IFERROR(IF(INDEX(HAMARA!I:I,MATCH(B702,HAMARA!E:E,0))=0,\"\",INDEX(HAMARA!I:I,MATCH(B702,HAMARA!E:E,0))),\"\")","v":""}]
[378,"BT547",0,{"$f":"IFERROR(IF(INDEX(HAMARA!I:I,MATCH(B703,HAMARA!E:E,0))=0,\"\",INDEX(HAMARA!I:I,MATCH(B703,HAMARA!E:E,0))),\"\")","v":""}]
[378,"BT571",0,{"$f":"IFERROR(IF(INDEX(HAMARA!I:I,MATCH(B704,HAMARA!E:E,0))=0,\"\",INDEX(HAMARA!I:I,MATCH(B704,HAMARA!E:E,0))),\"\")","v":""}]
[378,"BT570",0,{"$f":"IFERROR(IF(INDEX(HAMARA!I:I,MATCH(B705,HAMARA!E:E,0))=0,\"\",INDEX(HAMARA!I:I,MATCH(B705,HAMARA!E:E,0))),\"\")","v":""}]
[378,"BT601",0,{"$f":"IFERROR(IF(INDEX(HAMARA!I:I,MATCH(B706,HAMARA!E:E,0))=0,\"\",INDEX(HAMARA!I:I,MATCH(B706,HAMARA!E:E,0))),\"\")","v":""}]
[378,"BT602",0,{"$f":"IFERROR(IF(INDEX(HAMARA!I:I,MATCH(B707,HAMARA!E:E,0))=0,\"\",INDEX(HAMARA!I:I,MATCH(B707,HAMARA!E:E,0))),\"\")","v":""}]
[378,"BT603",0,{"$f":"IFERROR(IF(INDEX(HAMARA!I:I,MATCH(B708,HAMARA!E:E,0))=0,\"\",INDEX(HAMARA!I:I,MATCH(B708,HAMARA!E:E,0))),\"\")","v":""}]
[378,"BT604",0,{"$f":"IFERROR(IF(INDEX(HAMARA!I:I,MATCH(B709,HAMARA!E:E,0))=0,\"\",INDEX(HAMARA!I:I,MATCH(B709,HAMARA!E:E,0))),\"\")","v":""}]
[378,"BT605",0,{"$f":"IFERROR(IF(INDEX(HAMARA!I:I,MATCH(B710,HAMARA!E:E,0))=0,\"\",INDEX(HAMARA!I:I,MATCH(B710,HAMARA!E:E,0))),\"\")","v":""}]
[378,"BT606",0,{"$f":"IFERROR(IF(INDEX(HAMARA!I:I,MATCH(B711,HAMARA!E:E,0))=0,\"\",INDEX(HAMARA!I:I,MATCH(B711,HAMARA!E:E,0))),\"\")","v":""}]
[378,"BT607",0,{"$f":"IFERROR(IF(INDEX(HAMARA!I:I,MATCH(B712,HAMARA!E:E,0))=0,\"\",INDEX(HAMARA!I:I,MATCH(B712,HAMARA!E:E,0))),\"\")","v":""}]
[378,"BT608",0,{"$f":"IFERROR(IF(INDEX(HAMARA!I:I,MATCH(B713,HAMARA!E:E,0))=0,\"\",INDEX(HAMARA!I:I,MATCH(B713,HAMARA!E:E,0))),\"\")","v":""}]
[378,"BT609",0,{"$f":"IFERROR(IF(INDEX(HAMARA!I:I,MATCH(B714,HAMARA!E:E,0))=0,\"\",INDEX(HAMARA!I:I,MATCH(B714,HAMARA!E:E,0))),\"\")","v":""}]
[378,"BT610",0,{"$f":"IFERROR(IF(INDEX(HAMARA!I:I,MATCH(B715,HAMARA!E:E,0))=0,\"\",INDEX(HAMARA!I:I,MATCH(B715,HAMARA!E:E,0))),\"\")","v":""}]
[378,"BT611",0,{"$f":"IFERROR(IF(INDEX(HAMARA!I:I,MATCH(B716,HAMARA!E:E,0))=0,\"\",INDEX(HAMARA!I:I,MATCH(B716,HAMARA!E:E,0))),\"\")","v":""}]
[378,"BT612",0,{"$f":"IFERROR(IF(INDEX(HAMARA!I:I,MATCH(B717,HAMARA!E:E,0))=0,\"\",INDEX(HAMARA!I:I,MATCH(B717,HAMARA!E:E,0))),\"\")","v":""}]
[378,"BT613",0,{"$f":"IFERROR(IF(INDEX(HAMARA!I:I,MATCH(B718,HAMARA!E:E,0))=0,\"\",INDEX(HAMARA!I:I,MATCH(B718,HAMARA!E:E,0))),\"\")","v":""}]
[378,"BT614",0,{"$f":"IFERROR(IF(INDEX(HAMARA!I:I,MATCH(B719,HAMARA!E:E,0))=0,\"\",INDEX(HAMARA!I:I,MATCH(B719,HAMARA!E:E,0))),\"\")","v":""}]
[378,"BT301",1383.845,{"$f":"IFERROR(IF(INDEX(HAMARA!I:I,MATCH(B720,HAMARA!E:E,0))=0,\"\",INDEX(HAMARA!I:I,MATCH(B720,HAMARA!E:E,0))),\"\")","v":""}]
[378,"BT303",0,{"$f":"IFERROR(IF(INDEX(HAMARA!I:I,MATCH(B721,HAMARA!E:E,0))=0,\"\",INDEX(HAMARA!I:I,MATCH(B721,HAMARA!E:E,0))),\"\")","v":""}]
[378,"BT302",0,{"$f":"IFERROR(IF(INDEX(HAMARA!I:I,MATCH(B722,HAMARA!E:E,0))=0,\"\",INDEX(HAMARA!I:I,MATCH(B722,HAMARA!E:E,0))),\"\")","v":""}]
[378,"BT307",0,{"$f":"IFERROR(IF(INDEX(HAMARA!I:I,MATCH(B723,HAMARA!E:E,0))=0,\"\",INDEX(HAMARA!I:I,MATCH(B723,HAMARA!E:E,0))),\"\")","v":""}]
[378,"BT309",0,{"$f":"IFERROR(IF(INDEX(HAMARA!I:I,MATCH(B724,HAMARA!E:E,0))=0,\"\",INDEX(HAMARA!I:I,MATCH(B724,HAMARA!E:E,0))),\"\")","v":""}]
[378,"BT308",0,{"$f":"IFERROR(IF(INDEX(HAMARA!I:I,MATCH(B725,HAMARA!E:E,0))=0,\"\",INDEX(HAMARA!I:I,MATCH(B725,HAMARA!E:E,0))),\"\")","v":""}]
[378,"BT313",0,{"$f":"IFERROR(IF(INDEX(HAMARA!I:I,MATCH(B726,HAMARA!E:E,0))=0,\"\",INDEX(HAMARA!I:I,MATCH(B726,HAMARA!E:E,0))),\"\")","v":""}]
[378,"BT315",0,{"$f":"IFERROR(IF(INDEX(HAMARA!I:I,MATCH(B727,HAMARA!E:E,0))=0,\"\",INDEX(HAMARA!I:I,MATCH(B727,HAMARA!E:E,0))),\"\")","v":""}]
[378,"BT314",0,{"$f":"IFERROR(IF(INDEX(HAMARA!I:I,MATCH(B728,HAMARA!E:E,0))=0,\"\",INDEX(HAMARA!I:I,MATCH(B728,HAMARA!E:E,0))),\"\")","v":""}]
[378,"BT615",0,{"$f":"IFERROR(IF(INDEX(HAMARA!I:I,MATCH(B729,HAMARA!E:E,0))=0,\"\",INDEX(HAMARA!I:I,MATCH(B729,HAMARA!E:E,0))),\"\")","v":""}]
[378,"BT616",0,{"$f":"IFERROR(IF(INDEX(HAMARA!I:I,MATCH(B730,HAMARA!E:E,0))=0,\"\",INDEX(HAMARA!I:I,MATCH(B730,HAMARA!E:E,0))),\"\")","v":""}]
[378,"BT617",0,{"$f":"IFERROR(IF(INDEX(HAMARA!I:I,MATCH(B731,HAMARA!E:E,0))=0,\"\",INDEX(HAMARA!I:I,MATCH(B731,HAMARA!E:E,0))),\"\")","v":""}]
[378,"BT319",0,{"$f":"IFERROR(IF(INDEX(HAMARA!I:I,MATCH(B732,HAMARA!E:E,0))=0,\"\",INDEX(HAMARA!I:I,MATCH(B732,HAMARA!E:E,0))),\"\")","v":""}]
[378,"BT321",0,{"$f":"IFERROR(IF(INDEX(HAMARA!I:I,MATCH(B733,HAMARA!E:E,0))=0,\"\",INDEX(HAMARA!I:I,MATCH(B733,HAMARA!E:E,0))),\"\")","v":""}]
[378,"BT320",0,{"$f":"IFERROR(IF(INDEX(HAMARA!I:I,MATCH(B734,HAMARA!E:E,0))=0,\"\",INDEX(HAMARA!I:I,MATCH(B734,HAMARA!E:E,0))),\"\")","v":""}]
[378,"BT325",0,{"$f":"IFERROR(IF(INDEX(HAMARA!I:I,MATCH(B735,HAMARA!E:E,0))=0,\"\",INDEX(HAMARA!I:I,MATCH(B735,HAMARA!E:E,0))),\"\")","v":""}]
[378,"BT327",0,{"$f":"IFERROR(IF(INDEX(HAMARA!I:I,MATCH(B736,HAMARA!E:E,0))=0,\"\",INDEX(HAMARA!I:I,MATCH(B736,HAMARA!E:E,0))),\"\")","v":""}]
[378,"BT326",0,{"$f":"IFERROR(IF(INDEX(HAMARA!I:I,MATCH(B737,HAMARA!E:E,0))=0,\"\",INDEX(HAMARA!I:I,MATCH(B737,HAMARA!E:E,0))),\"\")","v":""}]
[378,"BT553",0,{"$f":"IFERROR(IF(INDEX(HAMARA!I:I,MATCH(B738,HAMARA!E:E,0))=0,\"\",INDEX(HAMARA!I:I,MATCH(B738,HAMARA!E:E,0))),\"\")","v":""}]
[378,"BT555",0,{"$f":"IFERROR(IF(INDEX(HAMARA!I:I,MATCH(B739,HAMARA!E:E,0))=0,\"\",INDEX(HAMARA!I:I,MATCH(B739,HAMARA!E:E,0))),\"\")","v":""}]
[378,"BT554",0,{"$f":"IFERROR(IF(INDEX(HAMARA!I:I,MATCH(B740,HAMARA!E:E,0))=0,\"\",INDEX(HAMARA!I:I,MATCH(B740,HAMARA!E:E,0))),\"\")","v":""}]
[378,"BT337",0,{"$f":"IFERROR(IF(INDEX(HAMARA!I:I,MATCH(B741,HAMARA!E:E,0))=0,\"\",INDEX(HAMARA!I:I,MATCH(B741,HAMARA!E:E,0))),\"\")","v":""}]
[378,"BT339",0,{"$f":"IFERROR(IF(INDEX(HAMARA!I:I,MATCH(B742,HAMARA!E:E,0))=0,\"\",INDEX(HAMARA!I:I,MATCH(B742,HAMARA!E:E,0))),\"\")","v":""}]
[378,"BT338",0,{"$f":"IFERROR(IF(INDEX(HAMARA!I:I,MATCH(B743,HAMARA!E:E,0))=0,\"\",INDEX(HAMARA!I:I,MATCH(B743,HAMARA!E:E,0))),\"\")","v":""}]
[378,"BT618",0,{"$f":"IFERROR(IF(INDEX(HAMARA!I:I,MATCH(B744,HAMARA!E:E,0))=0,\"\",INDEX(HAMARA!I:I,MATCH(B744,HAMARA!E:E,0))),\"\")","v":""}]
[378,"BT619",0,{"$f":"IFERROR(IF(INDEX(HAMARA!I:I,MATCH(B745,HAMARA!E:E,0))=0,\"\",INDEX(HAMARA!I:I,MATCH(B745,HAMARA!E:E,0))),\"\")","v":""}]
[378,"BT620",0,{"$f":"IFERROR(IF(INDEX(HAMARA!I:I,MATCH(B746,HAMARA!E:E,0))=0,\"\",INDEX(HAMARA!I:I,MATCH(B746,HAMARA!E:E,0))),\"\")","v":""}]
[378,"BT621",0,{"$f":"IFERROR(IF(INDEX(HAMARA!I:I,MATCH(B747,HAMARA!E:E,0))=0,\"\",INDEX(HAMARA!I:I,MATCH(B747,HAMARA!E:E,0))),\"\")","v":""}]
[378,"BT454",0,{"$f":"IFERROR(IF(INDEX(HAMARA!I:I,MATCH(B748,HAMARA!E:E,0))=0,\"\",INDEX(HAMARA!I:I,MATCH(B748,HAMARA!E:E,0))),\"\")","v":""}]
[378,"BT455",0,{"$f":"IFERROR(IF(INDEX(HAMARA!I:I,MATCH(B749,HAMARA!E:E,0))=0,\"\",INDEX(HAMARA!I:I,MATCH(B749,HAMARA!E:E,0))),\"\")","v":""}]
[378,"BT456",0,{"$f":"IFERROR(IF(INDEX(HAMARA!I:I,MATCH(B750,HAMARA!E:E,0))=0,\"\",INDEX(HAMARA!I:I,MATCH(B750,HAMARA!E:E,0))),\"\")","v":""}]
[378,"BT457",0,{"$f":"IFERROR(IF(INDEX(HAMARA!I:I,MATCH(B751,HAMARA!E:E,0))=0,\"\",INDEX(HAMARA!I:I,MATCH(B751,HAMARA!E:E,0))),\"\")","v":""}]
[378,"BT458",0,{"$f":"IFERROR(IF(INDEX(HAMARA!I:I,MATCH(B752,HAMARA!E:E,0))=0,\"\",INDEX(HAMARA!I:I,MATCH(B752,HAMARA!E:E,0))),\"\")","v":""}]
[378,"BT459",0,{"$f":"IFERROR(IF(INDEX(HAMARA!I:I,MATCH(B753,HAMARA!E:E,0))=0,\"\",INDEX(HAMARA!I:I,MATCH(B753,HAMARA!E:E,0))),\"\")","v":""}]
[378,"BT460",0,{"$f":"IFERROR(IF(INDEX(HAMARA!I:I,MATCH(B754,HAMARA!E:E,0))=0,\"\",INDEX(HAMARA!I:I,MATCH(B754,HAMARA!E:E,0))),\"\")","v":""}]
[378,"BT461",0,{"$f":"IFERROR(IF(INDEX(HAMARA!I:I,MATCH(B755,HAMARA!E:E,0))=0,\"\",INDEX(HAMARA!I:I,MATCH(B755,HAMARA!E:E,0))),\"\")","v":""}]
[378,"BT462",0,{"$f":"IFERROR(IF(INDEX(HAMARA!I:I,MATCH(B756,HAMARA!E:E,0))=0,\"\",INDEX(HAMARA!I:I,MATCH(B756,HAMARA!E:E,0))),\"\")","v":""}]
[378,"BT558",0,{"$f":"IFERROR(IF(INDEX(HAMARA!I:I,MATCH(B757,HAMARA!E:E,0))=0,\"\",INDEX(HAMARA!I:I,MATCH(B757,HAMARA!E:E,0))),\"\")","v":""}]
[378,"BT463",0,{"$f":"IFERROR(IF(INDEX(HAMARA!I:I,MATCH(B758,HAMARA!E:E,0))=0,\"\",INDEX(HAMARA!I:I,MATCH(B758,HAMARA!E:E,0))),\"\")","v":""}]
[378,"BT464",0,{"$f":"IFERROR(IF(INDEX(HAMARA!I:I,MATCH(B759,HAMARA!E:E,0))=0,\"\",INDEX(HAMARA!I:I,MATCH(B759,HAMARA!E:E,0))),\"\")","v":""}]
[378,"BT465",0,{"$f":"IFERROR(IF(INDEX(HAMARA!I:I,MATCH(B760,HAMARA!E:E,0))=0,\"\",INDEX(HAMARA!I:I,MATCH(B760,HAMARA!E:E,0))),\"\")","v":""}]
[378,"BT559",0,{"$f":"IFERROR(IF(INDEX(HAMARA!I:I,MATCH(B761,HAMARA!E:E,0))=0,\"\",INDEX(HAMARA!I:I,MATCH(B761,HAMARA!E:E,0))),\"\")","v":""}]
[378,"BT402",0,{"$f":"IFERROR(IF(INDEX(HAMARA!I:I,MATCH(B762,HAMARA!E:E,0))=0,\"\",INDEX(HAMARA!I:I,MATCH(B762,HAMARA!E:E,0))),\"\")","v":""}]
[378,"BT403",0,{"$f":"IFERROR(IF(INDEX(HAMARA!I:I,MATCH(B763,HAMARA!E:E,0))=0,\"\",INDEX(HAMARA!I:I,MATCH(B763,HAMARA!E:E,0))),\"\")","v":""}]
[378,"BT404",0,{"$f":"IFERROR(IF(INDEX(HAMARA!I:I,MATCH(B764,HAMARA!E:E,0))=0,\"\",INDEX(HAMARA!I:I,MATCH(B764,HAMARA!E:E,0))),\"\")","v":""}]
[378,"BT405",0,{"$f":"IFERROR(IF(INDEX(HAMARA!I:I,MATCH(B765,HAMARA!E:E,0))=0,\"\",INDEX(HAMARA!I:I,MATCH(B765,HAMARA!E:E,0))),\"\")","v":""}]
[378,"BT172",0,{"$f":"IFERROR(IF(INDEX(HAMARA!I:I,MATCH(B766,HAMARA!E:E,0))=0,\"\",INDEX(HAMARA!I:I,MATCH(B766,HAMARA!E:E,0))),\"\")","v":""}]
[378,"BT205",0,{"$f":"IFERROR(IF(INDEX(HAMARA!I:I,MATCH(B767,HAMARA!E:E,0))=0,\"\",INDEX(HAMARA!I:I,MATCH(B767,HAMARA!E:E,0))),\"\")","v":""}]
[378,"BT67",0,{"$f":"IFERROR(IF(INDEX(HAMARA!I:I,MATCH(B768,HAMARA!E:E,0))=0,\"\",INDEX(HAMARA!I:I,MATCH(B768,HAMARA!E:E,0))),\"\")","v":""}]
[378,"BT44",0,{"$f":"IFERROR(IF(INDEX(HAMARA!I:I,MATCH(B769,HAMARA!E:E,0))=0,\"\",INDEX(HAMARA!I:I,MATCH(B769,HAMARA!E:E,0))),\"\")","v":""}]
[378,"BT46",1083.2750000000001,{"$f":"IFERROR(IF(INDEX(HAMARA!I:I,MATCH(B770,HAMARA!E:E,0))=0,\"\",INDEX(HAMARA!I:I,MATCH(B770,HAMARA!E:E,0))),\"\")","v":""}]
[378,"BT105",0,{"$f":"IFERROR(IF(INDEX(HAMARA!I:I,MATCH(B771,HAMARA!E:E,0))=0,\"\",INDEX(HAMARA!I:I,MATCH(B771,HAMARA!E:E,0))),\"\")","v":""}]
[378,"BT622",0,{"$f":"IFERROR(IF(INDEX(HAMARA!I:I,MATCH(B772,HAMARA!E:E,0))=0,\"\",INDEX(HAMARA!I:I,MATCH(B772,HAMARA!E:E,0))),\"\")","v":""}]
[378,"BT108",0,{"$f":"IFERROR(IF(INDEX(HAMARA!I:I,MATCH(B773,HAMARA!E:E,0))=0,\"\",INDEX(HAMARA!I:I,MATCH(B773,HAMARA!E:E,0))),\"\")","v":""}]
[378,"BT360",0,{"$f":"IFERROR(IF(INDEX(HAMARA!I:I,MATCH(B774,HAMARA!E:E,0))=0,\"\",INDEX(HAMARA!I:I,MATCH(B774,HAMARA!E:E,0))),\"\")","v":""}]
[378,"BT361",0,{"$f":"IFERROR(IF(INDEX(HAMARA!I:I,MATCH(B775,HAMARA!E:E,0))=0,\"\",INDEX(HAMARA!I:I,MATCH(B775,HAMARA!E:E,0))),\"\")","v":""}]
[378,"BT362",0,{"$f":"IFERROR(IF(INDEX(HAMARA!I:I,MATCH(B776,HAMARA!E:E,0))=0,\"\",INDEX(HAMARA!I:I,MATCH(B776,HAMARA!E:E,0))),\"\")","v":""}]
[378,"BT363",0,{"$f":"IFERROR(IF(INDEX(HAMARA!I:I,MATCH(B777,HAMARA!E:E,0))=0,\"\",INDEX(HAMARA!I:I,MATCH(B777,HAMARA!E:E,0))),\"\")","v":""}]
[378,"BT406",0,{"$f":"IFERROR(IF(INDEX(HAMARA!I:I,MATCH(B778,HAMARA!E:E,0))=0,\"\",INDEX(HAMARA!I:I,MATCH(B778,HAMARA!E:E,0))),\"\")","v":""}]
[378,"BT623",0,{"$f":"IFERROR(IF(INDEX(HAMARA!I:I,MATCH(B779,HAMARA!E:E,0))=0,\"\",INDEX(HAMARA!I:I,MATCH(B779,HAMARA!E:E,0))),\"\")","v":""}]
[378,"BT366",9235.15,{"$f":"IFERROR(IF(INDEX(HAMARA!I:I,MATCH(B780,HAMARA!E:E,0))=0,\"\",INDEX(HAMARA!I:I,MATCH(B780,HAMARA!E:E,0))),\"\")","v":""}]
[378,"BT367",0,{"$f":"IFERROR(IF(INDEX(HAMARA!I:I,MATCH(B781,HAMARA!E:E,0))=0,\"\",INDEX(HAMARA!I:I,MATCH(B781,HAMARA!E:E,0))),\"\")","v":""}]
[378,"BT407",0,{"$f":"IFERROR(IF(INDEX(HAMARA!I:I,MATCH(B782,HAMARA!E:E,0))=0,\"\",INDEX(HAMARA!I:I,MATCH(B782,HAMARA!E:E,0))),\"\")","v":""}]
[378,"BT624",0,{"$f":"IFERROR(IF(INDEX(HAMARA!I:I,MATCH(B783,HAMARA!E:E,0))=0,\"\",INDEX(HAMARA!I:I,MATCH(B783,HAMARA!E:E,0))),\"\")","v":""}]
[378,"BT56",0,{"$f":"IFERROR(IF(INDEX(HAMARA!I:I,MATCH(B784,HAMARA!E:E,0))=0,\"\",INDEX(HAMARA!I:I,MATCH(B784,HAMARA!E:E,0))),\"\")","v":""}]
[378,"BT701",0,{"$f":"IFERROR(IF(INDEX(HAMARA!I:I,MATCH(B785,HAMARA!E:E,0))=0,\"\",INDEX(HAMARA!I:I,MATCH(B785,HAMARA!E:E,0))),\"\")","v":""}]
[378,"BT702",0,{"$f":"IFERROR(IF(INDEX(HAMARA!I:I,MATCH(B786,HAMARA!E:E,0))=0,\"\",INDEX(HAMARA!I:I,MATCH(B786,HAMARA!E:E,0))),\"\")","v":""}]
[378,"BT703",0,{"$f":"IFERROR(IF(INDEX(HAMARA!I:I,MATCH(B787,HAMARA!E:E,0))=0,\"\",INDEX(HAMARA!I:I,MATCH(B787,HAMARA!E:E,0))),\"\")","v":""}]
[378,"BT704",0,{"$f":"IFERROR(IF(INDEX(HAMARA!I:I,MATCH(B788,HAMARA!E:E,0))=0,\"\",INDEX(HAMARA!I:I,MATCH(B788,HAMARA!E:E,0))),\"\")","v":""}]
[378,"BT70",0,{"$f":"IFERROR(IF(INDEX(HAMARA!I:I,MATCH(B789,HAMARA!E:E,0))=0,\"\",INDEX(HAMARA!I:I,MATCH(B789,HAMARA!E:E,0))),\"\")","v":""}]
[378,"BT466",0,{"$f":"IFERROR(IF(INDEX(HAMARA!I:I,MATCH(B790,HAMARA!E:E,0))=0,\"\",INDEX(HAMARA!I:I,MATCH(B790,HAMARA!E:E,0))),\"\")","v":""}]
[378,"BT225",48.854999999999997,{"$f":"IFERROR(IF(INDEX(HAMARA!I:I,MATCH(B791,HAMARA!E:E,0))=0,\"\",INDEX(HAMARA!I:I,MATCH(B791,HAMARA!E:E,0))),\"\")","v":""}]
[378,"BT69",0,{"$f":"IFERROR(IF(INDEX(HAMARA!I:I,MATCH(B792,HAMARA!E:E,0))=0,\"\",INDEX(HAMARA!I:I,MATCH(B792,HAMARA!E:E,0))),\"\")","v":""}]
[378,"BT118",0,{"$f":"IFERROR(IF(INDEX(HAMARA!I:I,MATCH(B793,HAMARA!E:E,0))=0,\"\",INDEX(HAMARA!I:I,MATCH(B793,HAMARA!E:E,0))),\"\")","v":""}]
[378,"BT467",0,{"$f":"IFERROR(IF(INDEX(HAMARA!I:I,MATCH(B794,HAMARA!E:E,0))=0,\"\",INDEX(HAMARA!I:I,MATCH(B794,HAMARA!E:E,0))),\"\")","v":""}]
[378,"BT226",401.22199999999998,{"$f":"IFERROR(IF(INDEX(HAMARA!I:I,MATCH(B795,HAMARA!E:E,0))=0,\"\",INDEX(HAMARA!I:I,MATCH(B795,HAMARA!E:E,0))),\"\")","v":""}]
[378,"BT117",85.710999999999999,{"$f":"IFERROR(IF(INDEX(HAMARA!I:I,MATCH(B796,HAMARA!E:E,0))=0,\"\",INDEX(HAMARA!I:I,MATCH(B796,HAMARA!E:E,0))),\"\")","v":""}]
[378,"BT48",0,{"$f":"IFERROR(IF(INDEX(HAMARA!I:I,MATCH(B797,HAMARA!E:E,0))=0,\"\",INDEX(HAMARA!I:I,MATCH(B797,HAMARA!E:E,0))),\"\")","v":""}]
[378,"BT439",0,{"$f":"IFERROR(IF(INDEX(HAMARA!I:I,MATCH(B798,HAMARA!E:E,0))=0,\"\",INDEX(HAMARA!I:I,MATCH(B798,HAMARA!E:E,0))),\"\")","v":""}]
[378,"BT211",0,{"$f":"IFERROR(IF(INDEX(HAMARA!I:I,MATCH(B799,HAMARA!E:E,0))=0,\"\",INDEX(HAMARA!I:I,MATCH(B799,HAMARA!E:E,0))),\"\")","v":""}]
[378,"BT440",0,{"$f":"IFERROR(IF(INDEX(HAMARA!I:I,MATCH(B800,HAMARA!E:E,0))=0,\"\",INDEX(HAMARA!I:I,MATCH(B800,HAMARA!E:E,0))),\"\")","v":""}]
[378,"BT49",0,{"$f":"IFERROR(IF(INDEX(HAMARA!I:I,MATCH(B801,HAMARA!E:E,0))=0,\"\",INDEX(HAMARA!I:I,MATCH(B801,HAMARA!E:E,0))),\"\")","v":""}]
[378,"BT441",0,{"$f":"IFERROR(IF(INDEX(HAMARA!I:I,MATCH(B802,HAMARA!E:E,0))=0,\"\",INDEX(HAMARA!I:I,MATCH(B802,HAMARA!E:E,0))),\"\")","v":""}]
[378,"BT442",91.5,{"$f":"IFERROR(IF(INDEX(HAMARA!I:I,MATCH(B803,HAMARA!E:E,0))=0,\"\",INDEX(HAMARA!I:I,MATCH(B803,HAMARA!E:E,0))),\"\")","v":""}]
[378,"BT443",0,{"$f":"IFERROR(IF(INDEX(HAMARA!I:I,MATCH(B804,HAMARA!E:E,0))=0,\"\",INDEX(HAMARA!I:I,MATCH(B804,HAMARA!E:E,0))),\"\")","v":""}]
[378,"BT444",0,{"$f":"IFERROR(IF(INDEX(HAMARA!I:I,MATCH(B805,HAMARA!E:E,0))=0,\"\",INDEX(HAMARA!I:I,MATCH(B805,HAMARA!E:E,0))),\"\")","v":""}]
[378,"BT445",0,{"$f":"IFERROR(IF(INDEX(HAMARA!I:I,MATCH(B806,HAMARA!E:E,0))=0,\"\",INDEX(HAMARA!I:I,MATCH(B806,HAMARA!E:E,0))),\"\")","v":""}]
[378,"BT212",0,{"$f":"IFERROR(IF(INDEX(HAMARA!I:I,MATCH(B807,HAMARA!E:E,0))=0,\"\",INDEX(HAMARA!I:I,MATCH(B807,HAMARA!E:E,0))),\"\")","v":""}]
[378,"BT446",0,{"$f":"IFERROR(IF(INDEX(HAMARA!I:I,MATCH(B808,HAMARA!E:E,0))=0,\"\",INDEX(HAMARA!I:I,MATCH(B808,HAMARA!E:E,0))),\"\")","v":""}]
[378,"BT447",0,{"$f":"IFERROR(IF(INDEX(HAMARA!I:I,MATCH(B809,HAMARA!E:E,0))=0,\"\",INDEX(HAMARA!I:I,MATCH(B809,HAMARA!E:E,0))),\"\")","v":""}]
[378,"BT448",0,{"$f":"IFERROR(IF(INDEX(HAMARA!I:I,MATCH(B810,HAMARA!E:E,0))=0,\"\",INDEX(HAMARA!I:I,MATCH(B810,HAMARA!E:E,0))),\"\")","v":""}]
[378,"BT449",0,{"$f":"IFERROR(IF(INDEX(HAMARA!I:I,MATCH(B811,HAMARA!E:E,0))=0,\"\",INDEX(HAMARA!I:I,MATCH(B811,HAMARA!E:E,0))),\"\")","v":""}]
[378,"BT468",0,{"$f":"IFERROR(IF(INDEX(HAMARA!I:I,MATCH(B812,HAMARA!E:E,0))=0,\"\",INDEX(HAMARA!I:I,MATCH(B812,HAMARA!E:E,0))),\"\")","v":""}]
[378,"BT469",0,{"$f":"IFERROR(IF(INDEX(HAMARA!I:I,MATCH(B813,HAMARA!E:E,0))=0,\"\",INDEX(HAMARA!I:I,MATCH(B813,HAMARA!E:E,0))),\"\")","v":""}]
[378,"BT175",0,{"$f":"IFERROR(IF(INDEX(HAMARA!I:I,MATCH(B814,HAMARA!E:E,0))=0,\"\",INDEX(HAMARA!I:I,MATCH(B814,HAMARA!E:E,0))),\"\")","v":""}]
[378,"BT208",0,{"$f":"IFERROR(IF(INDEX(HAMARA!I:I,MATCH(B815,HAMARA!E:E,0))=0,\"\",INDEX(HAMARA!I:I,MATCH(B815,HAMARA!E:E,0))),\"\")","v":""}]
[378,"BT176",0,{"$f":"IFERROR(IF(INDEX(HAMARA!I:I,MATCH(B816,HAMARA!E:E,0))=0,\"\",INDEX(HAMARA!I:I,MATCH(B816,HAMARA!E:E,0))),\"\")","v":""}]
[378,"BT209",0,{"$f":"IFERROR(IF(INDEX(HAMARA!I:I,MATCH(B817,HAMARA!E:E,0))=0,\"\",INDEX(HAMARA!I:I,MATCH(B817,HAMARA!E:E,0))),\"\")","v":""}]
[378,"BT177",0,{"$f":"IFERROR(IF(INDEX(HAMARA!I:I,MATCH(B818,HAMARA!E:E,0))=0,\"\",INDEX(HAMARA!I:I,MATCH(B818,HAMARA!E:E,0))),\"\")","v":""}]
[378,"BT210",0,{"$f":"IFERROR(IF(INDEX(HAMARA!I:I,MATCH(B819,HAMARA!E:E,0))=0,\"\",INDEX(HAMARA!I:I,MATCH(B819,HAMARA!E:E,0))),\"\")","v":""}]
[378,"BT472",0,{"$f":"IFERROR(IF(INDEX(HAMARA!I:I,MATCH(B820,HAMARA!E:E,0))=0,\"\",INDEX(HAMARA!I:I,MATCH(B820,HAMARA!E:E,0))),\"\")","v":""}]
[378,"BT470",0,{"$f":"IFERROR(IF(INDEX(HAMARA!I:I,MATCH(B821,HAMARA!E:E,0))=0,\"\",INDEX(HAMARA!I:I,MATCH(B821,HAMARA!E:E,0))),\"\")","v":""}]
[378,"BT345",0,{"$f":"IFERROR(IF(INDEX(HAMARA!I:I,MATCH(B822,HAMARA!E:E,0))=0,\"\",INDEX(HAMARA!I:I,MATCH(B822,HAMARA!E:E,0))),\"\")","v":""}]
[378,"BT347",0,{"$f":"IFERROR(IF(INDEX(HAMARA!I:I,MATCH(B823,HAMARA!E:E,0))=0,\"\",INDEX(HAMARA!I:I,MATCH(B823,HAMARA!E:E,0))),\"\")","v":""}]
[378,"BT625",0,{"$f":"IFERROR(IF(INDEX(HAMARA!I:I,MATCH(B824,HAMARA!E:E,0))=0,\"\",INDEX(HAMARA!I:I,MATCH(B824,HAMARA!E:E,0))),\"\")","v":""}]
[378,"BT626",0,{"$f":"IFERROR(IF(INDEX(HAMARA!I:I,MATCH(B825,HAMARA!E:E,0))=0,\"\",INDEX(HAMARA!I:I,MATCH(B825,HAMARA!E:E,0))),\"\")","v":""}]
[378,"BT471",0,{"$f":"IFERROR(IF(INDEX(HAMARA!I:I,MATCH(B826,HAMARA!E:E,0))=0,\"\",INDEX(HAMARA!I:I,MATCH(B826,HAMARA!E:E,0))),\"\")","v":""}]
[378,"BT473",0,{"$f":"IFERROR(IF(INDEX(HAMARA!I:I,MATCH(B827,HAMARA!E:E,0))=0,\"\",INDEX(HAMARA!I:I,MATCH(B827,HAMARA!E:E,0))),\"\")","v":""}]
[378,"BT346",0,{"$f":"IFERROR(IF(INDEX(HAMARA!I:I,MATCH(B828,HAMARA!E:E,0))=0,\"\",INDEX(HAMARA!I:I,MATCH(B828,HAMARA!E:E,0))),\"\")","v":""}]
[378,"BT348",0,{"$f":"IFERROR(IF(INDEX(HAMARA!I:I,MATCH(B829,HAMARA!E:E,0))=0,\"\",INDEX(HAMARA!I:I,MATCH(B829,HAMARA!E:E,0))),\"\")","v":""}]
[378,"BT213",0,{"$f":"IFERROR(IF(INDEX(HAMARA!I:I,MATCH(B830,HAMARA!E:E,0))=0,\"\",INDEX(HAMARA!I:I,MATCH(B830,HAMARA!E:E,0))),\"\")","v":""}]
[378,"BT217",0,{"$f":"IFERROR(IF(INDEX(HAMARA!I:I,MATCH(B831,HAMARA!E:E,0))=0,\"\",INDEX(HAMARA!I:I,MATCH(B831,HAMARA!E:E,0))),\"\")","v":""}]
[378,"BT214",0,{"$f":"IFERROR(IF(INDEX(HAMARA!I:I,MATCH(B832,HAMARA!E:E,0))=0,\"\",INDEX(HAMARA!I:I,MATCH(B832,HAMARA!E:E,0))),\"\")","v":""}]
[378,"BT218",0,{"$f":"IFERROR(IF(INDEX(HAMARA!I:I,MATCH(B833,HAMARA!E:E,0))=0,\"\",INDEX(HAMARA!I:I,MATCH(B833,HAMARA!E:E,0))),\"\")","v":""}]
[378,"BT215",0,{"$f":"IFERROR(IF(INDEX(HAMARA!I:I,MATCH(B834,HAMARA!E:E,0))=0,\"\",INDEX(HAMARA!I:I,MATCH(B834,HAMARA!E:E,0))),\"\")","v":""}]
[378,"BT219",0,{"$f":"IFERROR(IF(INDEX(HAMARA!I:I,MATCH(B835,HAMARA!E:E,0))=0,\"\",INDEX(HAMARA!I:I,MATCH(B835,HAMARA!E:E,0))),\"\")","v":""}]
[378,"BT216",0,{"$f":"IFERROR(IF(INDEX(HAMARA!I:I,MATCH(B836,HAMARA!E:E,0))=0,\"\",INDEX(HAMARA!I:I,MATCH(B836,HAMARA!E:E,0))),\"\")","v":""}]
[378,"BT220",0,{"$f":"IFERROR(IF(INDEX(HAMARA!I:I,MATCH(B837,HAMARA!E:E,0))=0,\"\",INDEX(HAMARA!I:I,MATCH(B837,HAMARA!E:E,0))),\"\")","v":""}]
[378,"BT474",0,{"$f":"IFERROR(IF(INDEX(HAMARA!I:I,MATCH(B838,HAMARA!E:E,0))=0,\"\",INDEX(HAMARA!I:I,MATCH(B838,HAMARA!E:E,0))),\"\")","v":""}]
[378,"BT475",0,{"$f":"IFERROR(IF(INDEX(HAMARA!I:I,MATCH(B839,HAMARA!E:E,0))=0,\"\",INDEX(HAMARA!I:I,MATCH(B839,HAMARA!E:E,0))),\"\")","v":""}]
[378,"BT476",0,{"$f":"IFERROR(IF(INDEX(HAMARA!I:I,MATCH(B840,HAMARA!E:E,0))=0,\"\",INDEX(HAMARA!I:I,MATCH(B840,HAMARA!E:E,0))),\"\")","v":""}]
[378,"BT481",0,{"$f":"IFERROR(IF(INDEX(HAMARA!I:I,MATCH(B841,HAMARA!E:E,0))=0,\"\",INDEX(HAMARA!I:I,MATCH(B841,HAMARA!E:E,0))),\"\")","v":""}]
[378,"BT477",0,{"$f":"IFERROR(IF(INDEX(HAMARA!I:I,MATCH(B842,HAMARA!E:E,0))=0,\"\",INDEX(HAMARA!I:I,MATCH(B842,HAMARA!E:E,0))),\"\")","v":""}]
[378,"BT482",0,{"$f":"IFERROR(IF(INDEX(HAMARA!I:I,MATCH(B843,HAMARA!E:E,0))=0,\"\",INDEX(HAMARA!I:I,MATCH(B843,HAMARA!E:E,0))),\"\")","v":""}]
[378,"BT478",0,{"$f":"IFERROR(IF(INDEX(HAMARA!I:I,MATCH(B844,HAMARA!E:E,0))=0,\"\",INDEX(HAMARA!I:I,MATCH(B844,HAMARA!E:E,0))),\"\")","v":""}]
[378,"BT483",0,{"$f":"IFERROR(IF(INDEX(HAMARA!I:I,MATCH(B845,HAMARA!E:E,0))=0,\"\",INDEX(HAMARA!I:I,MATCH(B845,HAMARA!E:E,0))),\"\")","v":""}]
[378,"BT479",0,{"$f":"IFERROR(IF(INDEX(HAMARA!I:I,MATCH(B846,HAMARA!E:E,0))=0,\"\",INDEX(HAMARA!I:I,MATCH(B846,HAMARA!E:E,0))),\"\")","v":""}]
[378,"BT484",0,{"$f":"IFERROR(IF(INDEX(HAMARA!I:I,MATCH(B847,HAMARA!E:E,0))=0,\"\",INDEX(HAMARA!I:I,MATCH(B847,HAMARA!E:E,0))),\"\")","v":""}]
[378,"BT480",0,{"$f":"IFERROR(IF(INDEX(HAMARA!I:I,MATCH(B848,HAMARA!E:E,0))=0,\"\",INDEX(HAMARA!I:I,MATCH(B848,HAMARA!E:E,0))),\"\")","v":""}]
[378,"BT485",0,{"$f":"IFERROR(IF(INDEX(HAMARA!I:I,MATCH(B849,HAMARA!E:E,0))=0,\"\",INDEX(HAMARA!I:I,MATCH(B849,HAMARA!E:E,0))),\"\")","v":""}]
[378,"BT705",0,{"$f":"IFERROR(IF(INDEX(HAMARA!I:I,MATCH(B850,HAMARA!E:E,0))=0,\"\",INDEX(HAMARA!I:I,MATCH(B850,HAMARA!E:E,0))),\"\")","v":""}]
[378,"BT706",0,{"$f":"IFERROR(IF(INDEX(HAMARA!I:I,MATCH(B851,HAMARA!E:E,0))=0,\"\",INDEX(HAMARA!I:I,MATCH(B851,HAMARA!E:E,0))),\"\")","v":""}]
[378,"BT707",0,{"$f":"IFERROR(IF(INDEX(HAMARA!I:I,MATCH(B852,HAMARA!E:E,0))=0,\"\",INDEX(HAMARA!I:I,MATCH(B852,HAMARA!E:E,0))),\"\")","v":""}]
[378,"BT708",0,{"$f":"IFERROR(IF(INDEX(HAMARA!I:I,MATCH(B853,HAMARA!E:E,0))=0,\"\",INDEX(HAMARA!I:I,MATCH(B853,HAMARA!E:E,0))),\"\")","v":""}]
[378,"BT709",0,{"$f":"IFERROR(IF(INDEX(HAMARA!I:I,MATCH(B854,HAMARA!E:E,0))=0,\"\",INDEX(HAMARA!I:I,MATCH(B854,HAMARA!E:E,0))),\"\")","v":""}]
[378,"BT710",0,{"$f":"IFERROR(IF(INDEX(HAMARA!I:I,MATCH(B855,HAMARA!E:E,0))=0,\"\",INDEX(HAMARA!I:I,MATCH(B855,HAMARA!E:E,0))),\"\")","v":""}]
[378,"BT711",0,{"$f":"IFERROR(IF(INDEX(HAMARA!I:I,MATCH(B856,HAMARA!E:E,0))=0,\"\",INDEX(HAMARA!I:I,MATCH(B856,HAMARA!E:E,0))),\"\")","v":""}]
[378,"BT712",0,{"$f":"IFERROR(IF(INDEX(HAMARA!I:I,MATCH(B857,HAMARA!E:E,0))=0,\"\",INDEX(HAMARA!I:I,MATCH(B857,HAMARA!E:E,0))),\"\")","v":""}]
[378,"BT713",0,{"$f":"IFERROR(IF(INDEX(HAMARA!I:I,MATCH(B858,HAMARA!E:E,0))=0,\"\",INDEX(HAMARA!I:I,MATCH(B858,HAMARA!E:E,0))),\"\")","v":""}]
[378,"BT714",0,{"$f":"IFERROR(IF(INDEX(HAMARA!I:I,MATCH(B859,HAMARA!E:E,0))=0,\"\",INDEX(HAMARA!I:I,MATCH(B859,HAMARA!E:E,0))),\"\")","v":""}]
[378,"BT715",0,{"$f":"IFERROR(IF(INDEX(HAMARA!I:I,MATCH(B860,HAMARA!E:E,0))=0,\"\",INDEX(HAMARA!I:I,MATCH(B860,HAMARA!E:E,0))),\"\")","v":""}]
[378,"BT716",0,{"$f":"IFERROR(IF(INDEX(HAMARA!I:I,MATCH(B861,HAMARA!E:E,0))=0,\"\",INDEX(HAMARA!I:I,MATCH(B861,HAMARA!E:E,0))),\"\")","v":""}]
[378,"BT717",0,{"$f":"IFERROR(IF(INDEX(HAMARA!I:I,MATCH(B862,HAMARA!E:E,0))=0,\"\",INDEX(HAMARA!I:I,MATCH(B862,HAMARA!E:E,0))),\"\")","v":""}]
[378,"BT718",0,{"$f":"IFERROR(IF(INDEX(HAMARA!I:I,MATCH(B863,HAMARA!E:E,0))=0,\"\",INDEX(HAMARA!I:I,MATCH(B863,HAMARA!E:E,0))),\"\")","v":""}]
[378,"BT719",0,{"$f":"IFERROR(IF(INDEX(HAMARA!I:I,MATCH(B864,HAMARA!E:E,0))=0,\"\",INDEX(HAMARA!I:I,MATCH(B864,HAMARA!E:E,0))),\"\")","v":""}]
[378,"BT720",0,{"$f":"IFERROR(IF(INDEX(HAMARA!I:I,MATCH(B865,HAMARA!E:E,0))=0,\"\",INDEX(HAMARA!I:I,MATCH(B865,HAMARA!E:E,0))),\"\")","v":""}]
[378,"BT721",0,{"$f":"IFERROR(IF(INDEX(HAMARA!I:I,MATCH(B866,HAMARA!E:E,0))=0,\"\",INDEX(HAMARA!I:I,MATCH(B866,HAMARA!E:E,0))),\"\")","v":""}]
[378,"BT722",0,{"$f":"IFERROR(IF(INDEX(HAMARA!I:I,MATCH(B867,HAMARA!E:E,0))=0,\"\",INDEX(HAMARA!I:I,MATCH(B867,HAMARA!E:E,0))),\"\")","v":""}]
[378,"BT723",0,{"$f":"IFERROR(IF(INDEX(HAMARA!I:I,MATCH(B868,HAMARA!E:E,0))=0,\"\",INDEX(HAMARA!I:I,MATCH(B868,HAMARA!E:E,0))),\"\")","v":""}]
[378,"BT724",0,{"$f":"IFERROR(IF(INDEX(HAMARA!I:I,MATCH(B869,HAMARA!E:E,0))=0,\"\",INDEX(HAMARA!I:I,MATCH(B869,HAMARA!E:E,0))),\"\")","v":""}]
[378,"BT725",0,{"$f":"IFERROR(IF(INDEX(HAMARA!I:I,MATCH(B870,HAMARA!E:E,0))=0,\"\",INDEX(HAMARA!I:I,MATCH(B870,HAMARA!E:E,0))),\"\")","v":""}]
[378,"BT726",0,{"$f":"IFERROR(IF(INDEX(HAMARA!I:I,MATCH(B871,HAMARA!E:E,0))=0,\"\",INDEX(HAMARA!I:I,MATCH(B871,HAMARA!E:E,0))),\"\")","v":""}]
[378,"BT646",0,{"$f":"IFERROR(IF(INDEX(HAMARA!I:I,MATCH(B872,HAMARA!E:E,0))=0,\"\",INDEX(HAMARA!I:I,MATCH(B872,HAMARA!E:E,0))),\"\")","v":""}]
[378,"BT647",0,{"$f":"IFERROR(IF(INDEX(HAMARA!I:I,MATCH(B873,HAMARA!E:E,0))=0,\"\",INDEX(HAMARA!I:I,MATCH(B873,HAMARA!E:E,0))),\"\")","v":""}]
[378,"BT648",0,{"$f":"IFERROR(IF(INDEX(HAMARA!I:I,MATCH(B874,HAMARA!E:E,0))=0,\"\",INDEX(HAMARA!I:I,MATCH(B874,HAMARA!E:E,0))),\"\")","v":""}]
[378,"BT649",0,{"$f":"IFERROR(IF(INDEX(HAMARA!I:I,MATCH(B875,HAMARA!E:E,0))=0,\"\",INDEX(HAMARA!I:I,MATCH(B875,HAMARA!E:E,0))),\"\")","v":""}]
[378,"BT650",0,{"$f":"IFERROR(IF(INDEX(HAMARA!I:I,MATCH(B876,HAMARA!E:E,0))=0,\"\",INDEX(HAMARA!I:I,MATCH(B876,HAMARA!E:E,0))),\"\")","v":""}]
[378,"BT651",0,{"$f":"IFERROR(IF(INDEX(HAMARA!I:I,MATCH(B877,HAMARA!E:E,0))=0,\"\",INDEX(HAMARA!I:I,MATCH(B877,HAMARA!E:E,0))),\"\")","v":""}]
[378,"BT652",0,{"$f":"IFERROR(IF(INDEX(HAMARA!I:I,MATCH(B878,HAMARA!E:E,0))=0,\"\",INDEX(HAMARA!I:I,MATCH(B878,HAMARA!E:E,0))),\"\")","v":""}]
[378,"BT653",0,{"$f":"IFERROR(IF(INDEX(HAMARA!I:I,MATCH(B879,HAMARA!E:E,0))=0,\"\",INDEX(HAMARA!I:I,MATCH(B879,HAMARA!E:E,0))),\"\")","v":""}]
[378,"BT654",0,{"$f":"IFERROR(IF(INDEX(HAMARA!I:I,MATCH(B880,HAMARA!E:E,0))=0,\"\",INDEX(HAMARA!I:I,MATCH(B880,HAMARA!E:E,0))),\"\")","v":""}]
[378,"BT655",0,{"$f":"IFERROR(IF(INDEX(HAMARA!I:I,MATCH(B881,HAMARA!E:E,0))=0,\"\",INDEX(HAMARA!I:I,MATCH(B881,HAMARA!E:E,0))),\"\")","v":""}]
[378,"BT656",0,{"$f":"IFERROR(IF(INDEX(HAMARA!I:I,MATCH(B882,HAMARA!E:E,0))=0,\"\",INDEX(HAMARA!I:I,MATCH(B882,HAMARA!E:E,0))),\"\")","v":""}]
[378,"BT657",0,{"$f":"IFERROR(IF(INDEX(HAMARA!I:I,MATCH(B883,HAMARA!E:E,0))=0,\"\",INDEX(HAMARA!I:I,MATCH(B883,HAMARA!E:E,0))),\"\")","v":""}]
[378,"BT678",0,{"$f":"IFERROR(IF(INDEX(HAMARA!I:I,MATCH(B884,HAMARA!E:E,0))=0,\"\",INDEX(HAMARA!I:I,MATCH(B884,HAMARA!E:E,0))),\"\")","v":""}]
[378,"BT679",0,{"$f":"IFERROR(IF(INDEX(HAMARA!I:I,MATCH(B885,HAMARA!E:E,0))=0,\"\",INDEX(HAMARA!I:I,MATCH(B885,HAMARA!E:E,0))),\"\")","v":""}]
[378,"BT680",0,{"$f":"IFERROR(IF(INDEX(HAMARA!I:I,MATCH(B886,HAMARA!E:E,0))=0,\"\",INDEX(HAMARA!I:I,MATCH(B886,HAMARA!E:E,0))),\"\")","v":""}]
[378,"BT681",0,{"$f":"IFERROR(IF(INDEX(HAMARA!I:I,MATCH(B887,HAMARA!E:E,0))=0,\"\",INDEX(HAMARA!I:I,MATCH(B887,HAMARA!E:E,0))),\"\")","v":""}]
[378,"BT682",0,{"$f":"IFERROR(IF(INDEX(HAMARA!I:I,MATCH(B888,HAMARA!E:E,0))=0,\"\",INDEX(HAMARA!I:I,MATCH(B888,HAMARA!E:E,0))),\"\")","v":""}]
[378,"BT683",0,{"$f":"IFERROR(IF(INDEX(HAMARA!I:I,MATCH(B889,HAMARA!E:E,0))=0,\"\",INDEX(HAMARA!I:I,MATCH(B889,HAMARA!E:E,0))),\"\")","v":""}]
[378,"BT658",0,{"$f":"IFERROR(IF(INDEX(HAMARA!I:I,MATCH(B890,HAMARA!E:E,0))=0,\"\",INDEX(HAMARA!I:I,MATCH(B890,HAMARA!E:E,0))),\"\")","v":""}]
[378,"BT659",0,{"$f":"IFERROR(IF(INDEX(HAMARA!I:I,MATCH(B891,HAMARA!E:E,0))=0,\"\",INDEX(HAMARA!I:I,MATCH(B891,HAMARA!E:E,0))),\"\")","v":""}]
[378,"BT660",0,{"$f":"IFERROR(IF(INDEX(HAMARA!I:I,MATCH(B892,HAMARA!E:E,0))=0,\"\",INDEX(HAMARA!I:I,MATCH(B892,HAMARA!E:E,0))),\"\")","v":""}]
[378,"BT661",0,{"$f":"IFERROR(IF(INDEX(HAMARA!I:I,MATCH(B893,HAMARA!E:E,0))=0,\"\",INDEX(HAMARA!I:I,MATCH(B893,HAMARA!E:E,0))),\"\")","v":""}]
[378,"BT727",0,{"$f":"IFERROR(IF(INDEX(HAMARA!I:I,MATCH(B894,HAMARA!E:E,0))=0,\"\",INDEX(HAMARA!I:I,MATCH(B894,HAMARA!E:E,0))),\"\")","v":""}]
[378,"BT728",0,{"$f":"IFERROR(IF(INDEX(HAMARA!I:I,MATCH(B895,HAMARA!E:E,0))=0,\"\",INDEX(HAMARA!I:I,MATCH(B895,HAMARA!E:E,0))),\"\")","v":""}]
[378,"BT729",0,{"$f":"IFERROR(IF(INDEX(HAMARA!I:I,MATCH(B896,HAMARA!E:E,0))=0,\"\",INDEX(HAMARA!I:I,MATCH(B896,HAMARA!E:E,0))),\"\")","v":""}]
[378,"BT730",0,{"$f":"IFERROR(IF(INDEX(HAMARA!I:I,MATCH(B897,HAMARA!E:E,0))=0,\"\",INDEX(HAMARA!I:I,MATCH(B897,HAMARA!E:E,0))),\"\")","v":""}]
[378,"BT731",0,{"$f":"IFERROR(IF(INDEX(HAMARA!I:I,MATCH(B898,HAMARA!E:E,0))=0,\"\",INDEX(HAMARA!I:I,MATCH(B898,HAMARA!E:E,0))),\"\")","v":""}]
[378,"BT732",0,{"$f":"IFERROR(IF(INDEX(HAMARA!I:I,MATCH(B899,HAMARA!E:E,0))=0,\"\",INDEX(HAMARA!I:I,MATCH(B899,HAMARA!E:E,0))),\"\")","v":""}]
[378,"BT733",0,{"$f":"IFERROR(IF(INDEX(HAMARA!I:I,MATCH(B900,HAMARA!E:E,0))=0,\"\",INDEX(HAMARA!I:I,MATCH(B900,HAMARA!E:E,0))),\"\")","v":""}]
[378,"BT734",0,{"$f":"IFERROR(IF(INDEX(HAMARA!I:I,MATCH(B901,HAMARA!E:E,0))=0,\"\",INDEX(HAMARA!I:I,MATCH(B901,HAMARA!E:E,0))),\"\")","v":""}]
[378,"BT735",0,{"$f":"IFERROR(IF(INDEX(HAMARA!I:I,MATCH(B902,HAMARA!E:E,0))=0,\"\",INDEX(HAMARA!I:I,MATCH(B902,HAMARA!E:E,0))),\"\")","v":""}]
[378,"BT736",0,{"$f":"IFERROR(IF(INDEX(HAMARA!I:I,MATCH(B903,HAMARA!E:E,0))=0,\"\",INDEX(HAMARA!I:I,MATCH(B903,HAMARA!E:E,0))),\"\")","v":""}]
[378,"BT737",0,{"$f":"IFERROR(IF(INDEX(HAMARA!I:I,MATCH(B904,HAMARA!E:E,0))=0,\"\",INDEX(HAMARA!I:I,MATCH(B904,HAMARA!E:E,0))),\"\")","v":""}]
[378,"BT738",0,{"$f":"IFERROR(IF(INDEX(HAMARA!I:I,MATCH(B905,HAMARA!E:E,0))=0,\"\",INDEX(HAMARA!I:I,MATCH(B905,HAMARA!E:E,0))),\"\")","v":""}]
[378,"BT739",0,{"$f":"IFERROR(IF(INDEX(HAMARA!I:I,MATCH(B906,HAMARA!E:E,0))=0,\"\",INDEX(HAMARA!I:I,MATCH(B906,HAMARA!E:E,0))),\"\")","v":""}]
[378,"BT740",0,{"$f":"IFERROR(IF(INDEX(HAMARA!I:I,MATCH(B907,HAMARA!E:E,0))=0,\"\",INDEX(HAMARA!I:I,MATCH(B907,HAMARA!E:E,0))),\"\")","v":""}]
[378,"BT741",0,{"$f":"IFERROR(IF(INDEX(HAMARA!I:I,MATCH(B908,HAMARA!E:E,0))=0,\"\",INDEX(HAMARA!I:I,MATCH(B908,HAMARA!E:E,0))),\"\")","v":""}]
[378,"BT742",0,{"$f":"IFERROR(IF(INDEX(HAMARA!I:I,MATCH(B909,HAMARA!E:E,0))=0,\"\",INDEX(HAMARA!I:I,MATCH(B909,HAMARA!E:E,0))),\"\")","v":""}]
[378,"BT743",0,{"$f":"IFERROR(IF(INDEX(HAMARA!I:I,MATCH(B910,HAMARA!E:E,0))=0,\"\",INDEX(HAMARA!I:I,MATCH(B910,HAMARA!E:E,0))),\"\")","v":""}]
[378,"BT744",0,{"$f":"IFERROR(IF(INDEX(HAMARA!I:I,MATCH(B911,HAMARA!E:E,0))=0,\"\",INDEX(HAMARA!I:I,MATCH(B911,HAMARA!E:E,0))),\"\")","v":""}]
[378,"BT745",0,{"$f":"IFERROR(IF(INDEX(HAMARA!I:I,MATCH(B912,HAMARA!E:E,0))=0,\"\",INDEX(HAMARA!I:I,MATCH(B912,HAMARA!E:E,0))),\"\")","v":""}]
[378,"BT746",0,{"$f":"IFERROR(IF(INDEX(HAMARA!I:I,MATCH(B913,HAMARA!E:E,0))=0,\"\",INDEX(HAMARA!I:I,MATCH(B913,HAMARA!E:E,0))),\"\")","v":""}]
[378,"BT747",0,{"$f":"IFERROR(IF(INDEX(HAMARA!I:I,MATCH(B914,HAMARA!E:E,0))=0,\"\",INDEX(HAMARA!I:I,MATCH(B914,HAMARA!E:E,0))),\"\")","v":""}]
[378,"BT748",0,{"$f":"IFERROR(IF(INDEX(HAMARA!I:I,MATCH(B915,HAMARA!E:E,0))=0,\"\",INDEX(HAMARA!I:I,MATCH(B915,HAMARA!E:E,0))),\"\")","v":""}]
[378,"BT662",0,{"$f":"IFERROR(IF(INDEX(HAMARA!I:I,MATCH(B916,HAMARA!E:E,0))=0,\"\",INDEX(HAMARA!I:I,MATCH(B916,HAMARA!E:E,0))),\"\")","v":""}]
[378,"BT663",0,{"$f":"IFERROR(IF(INDEX(HAMARA!I:I,MATCH(B917,HAMARA!E:E,0))=0,\"\",INDEX(HAMARA!I:I,MATCH(B917,HAMARA!E:E,0))),\"\")","v":""}]
[378,"BT664",0,{"$f":"IFERROR(IF(INDEX(HAMARA!I:I,MATCH(B918,HAMARA!E:E,0))=0,\"\",INDEX(HAMARA!I:I,MATCH(B918,HAMARA!E:E,0))),\"\")","v":""}]
[378,"BT665",0,{"$f":"IFERROR(IF(INDEX(HAMARA!I:I,MATCH(B919,HAMARA!E:E,0))=0,\"\",INDEX(HAMARA!I:I,MATCH(B919,HAMARA!E:E,0))),\"\")","v":""}]
[378,"BT666",0,{"$f":"IFERROR(IF(INDEX(HAMARA!I:I,MATCH(B920,HAMARA!E:E,0))=0,\"\",INDEX(HAMARA!I:I,MATCH(B920,HAMARA!E:E,0))),\"\")","v":""}]
[378,"BT667",0,{"$f":"IFERROR(IF(INDEX(HAMARA!I:I,MATCH(B921,HAMARA!E:E,0))=0,\"\",INDEX(HAMARA!I:I,MATCH(B921,HAMARA!E:E,0))),\"\")","v":""}]
[378,"BT668",0,{"$f":"IFERROR(IF(INDEX(HAMARA!I:I,MATCH(B922,HAMARA!E:E,0))=0,\"\",INDEX(HAMARA!I:I,MATCH(B922,HAMARA!E:E,0))),\"\")","v":""}]
[378,"BT669",0,{"$f":"IFERROR(IF(INDEX(HAMARA!I:I,MATCH(B923,HAMARA!E:E,0))=0,\"\",INDEX(HAMARA!I:I,MATCH(B923,HAMARA!E:E,0))),\"\")","v":""}]
[378,"BT670",0,{"$f":"IFERROR(IF(INDEX(HAMARA!I:I,MATCH(B924,HAMARA!E:E,0))=0,\"\",INDEX(HAMARA!I:I,MATCH(B924,HAMARA!E:E,0))),\"\")","v":""}]
[378,"BT671",0,{"$f":"IFERROR(IF(INDEX(HAMARA!I:I,MATCH(B925,HAMARA!E:E,0))=0,\"\",INDEX(HAMARA!I:I,MATCH(B925,HAMARA!E:E,0))),\"\")","v":""}]
[378,"BT672",0,{"$f":"IFERROR(IF(INDEX(HAMARA!I:I,MATCH(B926,HAMARA!E:E,0))=0,\"\",INDEX(HAMARA!I:I,MATCH(B926,HAMARA!E:E,0))),\"\")","v":""}]
[378,"BT673",0,{"$f":"IFERROR(IF(INDEX(HAMARA!I:I,MATCH(B927,HAMARA!E:E,0))=0,\"\",INDEX(HAMARA!I:I,MATCH(B927,HAMARA!E:E,0))),\"\")","v":""}]
[378,"BT684",0,{"$f":"IFERROR(IF(INDEX(HAMARA!I:I,MATCH(B928,HAMARA!E:E,0))=0,\"\",INDEX(HAMARA!I:I,MATCH(B928,HAMARA!E:E,0))),\"\")","v":""}]
[378,"BT685",0,{"$f":"IFERROR(IF(INDEX(HAMARA!I:I,MATCH(B929,HAMARA!E:E,0))=0,\"\",INDEX(HAMARA!I:I,MATCH(B929,HAMARA!E:E,0))),\"\")","v":""}]
[378,"BT686",0,{"$f":"IFERROR(IF(INDEX(HAMARA!I:I,MATCH(B930,HAMARA!E:E,0))=0,\"\",INDEX(HAMARA!I:I,MATCH(B930,HAMARA!E:E,0))),\"\")","v":""}]
[378,"BT687",0,{"$f":"IFERROR(IF(INDEX(HAMARA!I:I,MATCH(B931,HAMARA!E:E,0))=0,\"\",INDEX(HAMARA!I:I,MATCH(B931,HAMARA!E:E,0))),\"\")","v":""}]
[378,"BT688",0,{"$f":"IFERROR(IF(INDEX(HAMARA!I:I,MATCH(B932,HAMARA!E:E,0))=0,\"\",INDEX(HAMARA!I:I,MATCH(B932,HAMARA!E:E,0))),\"\")","v":""}]
[378,"BT689",0,{"$f":"IFERROR(IF(INDEX(HAMARA!I:I,MATCH(B933,HAMARA!E:E,0))=0,\"\",INDEX(HAMARA!I:I,MATCH(B933,HAMARA!E:E,0))),\"\")","v":""}]
[378,"BT674",0,{"$f":"IFERROR(IF(INDEX(HAMARA!I:I,MATCH(B934,HAMARA!E:E,0))=0,\"\",INDEX(HAMARA!I:I,MATCH(B934,HAMARA!E:E,0))),\"\")","v":""}]
[378,"BT675",0,{"$f":"IFERROR(IF(INDEX(HAMARA!I:I,MATCH(B935,HAMARA!E:E,0))=0,\"\",INDEX(HAMARA!I:I,MATCH(B935,HAMARA!E:E,0))),\"\")","v":""}]
[378,"BT676",0,{"$f":"IFERROR(IF(INDEX(HAMARA!I:I,MATCH(B936,HAMARA!E:E,0))=0,\"\",INDEX(HAMARA!I:I,MATCH(B936,HAMARA!E:E,0))),\"\")","v":""}]
[378,"BT677",0,{"$f":"IFERROR(IF(INDEX(HAMARA!I:I,MATCH(B937,HAMARA!E:E,0))=0,\"\",INDEX(HAMARA!I:I,MATCH(B937,HAMARA!E:E,0))),\"\")","v":""}]
[378,"BT62",288.94600000000003,{"$f":"IFERROR(IF(INDEX(HAMARA!I:I,MATCH(B938,HAMARA!E:E,0))=0,\"\",INDEX(HAMARA!I:I,MATCH(B938,HAMARA!E:E,0))),\"\")","v":""}]
[378,"BT502",0,{"$f":"IFERROR(IF(INDEX(HAMARA!I:I,MATCH(B939,HAMARA!E:E,0))=0,\"\",INDEX(HAMARA!I:I,MATCH(B939,HAMARA!E:E,0))),\"\")","v":""}]
[378,"BT503",0,{"$f":"IFERROR(IF(INDEX(HAMARA!I:I,MATCH(B940,HAMARA!E:E,0))=0,\"\",INDEX(HAMARA!I:I,MATCH(B940,HAMARA!E:E,0))),\"\")","v":""}]
[378,"BT450",0,{"$f":"IFERROR(IF(INDEX(HAMARA!I:I,MATCH(B941,HAMARA!E:E,0))=0,\"\",INDEX(HAMARA!I:I,MATCH(B941,HAMARA!E:E,0))),\"\")","v":""}]
[378,"BT504",0,{"$f":"IFERROR(IF(INDEX(HAMARA!I:I,MATCH(B942,HAMARA!E:E,0))=0,\"\",INDEX(HAMARA!I:I,MATCH(B942,HAMARA!E:E,0))),\"\")","v":""}]
[378,"BT505",0,{"$f":"IFERROR(IF(INDEX(HAMARA!I:I,MATCH(B943,HAMARA!E:E,0))=0,\"\",INDEX(HAMARA!I:I,MATCH(B943,HAMARA!E:E,0))),\"\")","v":""}]
[378,"BT451",0,{"$f":"IFERROR(IF(INDEX(HAMARA!I:I,MATCH(B944,HAMARA!E:E,0))=0,\"\",INDEX(HAMARA!I:I,MATCH(B944,HAMARA!E:E,0))),\"\")","v":""}]
[378,"BT506",0,{"$f":"IFERROR(IF(INDEX(HAMARA!I:I,MATCH(B945,HAMARA!E:E,0))=0,\"\",INDEX(HAMARA!I:I,MATCH(B945,HAMARA!E:E,0))),\"\")","v":""}]
[378,"BT627",0,{"$f":"IFERROR(IF(INDEX(HAMARA!I:I,MATCH(B946,HAMARA!E:E,0))=0,\"\",INDEX(HAMARA!I:I,MATCH(B946,HAMARA!E:E,0))),\"\")","v":""}]
[378,"BT507",0,{"$f":"IFERROR(IF(INDEX(HAMARA!I:I,MATCH(B947,HAMARA!E:E,0))=0,\"\",INDEX(HAMARA!I:I,MATCH(B947,HAMARA!E:E,0))),\"\")","v":""}]
[378,"BT577",0,{"$f":"IFERROR(IF(INDEX(HAMARA!I:I,MATCH(B948,HAMARA!E:E,0))=0,\"\",INDEX(HAMARA!I:I,MATCH(B948,HAMARA!E:E,0))),\"\")","v":""}]
[378,"BT508",0,{"$f":"IFERROR(IF(INDEX(HAMARA!I:I,MATCH(B949,HAMARA!E:E,0))=0,\"\",INDEX(HAMARA!I:I,MATCH(B949,HAMARA!E:E,0))),\"\")","v":""}]
[378,"BT509",0,{"$f":"IFERROR(IF(INDEX(HAMARA!I:I,MATCH(B950,HAMARA!E:E,0))=0,\"\",INDEX(HAMARA!I:I,MATCH(B950,HAMARA!E:E,0))),\"\")","v":""}]
[378,"BT511",0,{"$f":"IFERROR(IF(INDEX(HAMARA!I:I,MATCH(B951,HAMARA!E:E,0))=0,\"\",INDEX(HAMARA!I:I,MATCH(B951,HAMARA!E:E,0))),\"\")","v":""}]
[378,"BT452",0,{"$f":"IFERROR(IF(INDEX(HAMARA!I:I,MATCH(B952,HAMARA!E:E,0))=0,\"\",INDEX(HAMARA!I:I,MATCH(B952,HAMARA!E:E,0))),\"\")","v":""}]
[378,"BT512",0,{"$f":"IFERROR(IF(INDEX(HAMARA!I:I,MATCH(B953,HAMARA!E:E,0))=0,\"\",INDEX(HAMARA!I:I,MATCH(B953,HAMARA!E:E,0))),\"\")","v":""}]
[378,"BT513",0,{"$f":"IFERROR(IF(INDEX(HAMARA!I:I,MATCH(B954,HAMARA!E:E,0))=0,\"\",INDEX(HAMARA!I:I,MATCH(B954,HAMARA!E:E,0))),\"\")","v":""}]
[378,"BT514",0,{"$f":"IFERROR(IF(INDEX(HAMARA!I:I,MATCH(B955,HAMARA!E:E,0))=0,\"\",INDEX(HAMARA!I:I,MATCH(B955,HAMARA!E:E,0))),\"\")","v":""}]
[378,"BT515",0,{"$f":"IFERROR(IF(INDEX(HAMARA!I:I,MATCH(B956,HAMARA!E:E,0))=0,\"\",INDEX(HAMARA!I:I,MATCH(B956,HAMARA!E:E,0))),\"\")","v":""}]
[378,"BT516",0,{"$f":"IFERROR(IF(INDEX(HAMARA!I:I,MATCH(B957,HAMARA!E:E,0))=0,\"\",INDEX(HAMARA!I:I,MATCH(B957,HAMARA!E:E,0))),\"\")","v":""}]
[378,"BT517",0,{"$f":"IFERROR(IF(INDEX(HAMARA!I:I,MATCH(B958,HAMARA!E:E,0))=0,\"\",INDEX(HAMARA!I:I,MATCH(B958,HAMARA!E:E,0))),\"\")","v":""}]
[378,"BT518",0,{"$f":"IFERROR(IF(INDEX(HAMARA!I:I,MATCH(B959,HAMARA!E:E,0))=0,\"\",INDEX(HAMARA!I:I,MATCH(B959,HAMARA!E:E,0))),\"\")","v":""}]
[378,"BT519",0,{"$f":"IFERROR(IF(INDEX(HAMARA!I:I,MATCH(B960,HAMARA!E:E,0))=0,\"\",INDEX(HAMARA!I:I,MATCH(B960,HAMARA!E:E,0))),\"\")","v":""}]
[378,"BT520",0,{"$f":"IFERROR(IF(INDEX(HAMARA!I:I,MATCH(B961,HAMARA!E:E,0))=0,\"\",INDEX(HAMARA!I:I,MATCH(B961,HAMARA!E:E,0))),\"\")","v":""}]
[378,"BT521",0,{"$f":"IFERROR(IF(INDEX(HAMARA!I:I,MATCH(B962,HAMARA!E:E,0))=0,\"\",INDEX(HAMARA!I:I,MATCH(B962,HAMARA!E:E,0))),\"\")","v":""}]
[378,"BT522",0,{"$f":"IFERROR(IF(INDEX(HAMARA!I:I,MATCH(B963,HAMARA!E:E,0))=0,\"\",INDEX(HAMARA!I:I,MATCH(B963,HAMARA!E:E,0))),\"\")","v":""}]
[378,"BT523",0,{"$f":"IFERROR(IF(INDEX(HAMARA!I:I,MATCH(B964,HAMARA!E:E,0))=0,\"\",INDEX(HAMARA!I:I,MATCH(B964,HAMARA!E:E,0))),\"\")","v":""}]
[378,"BT524",0,{"$f":"IFERROR(IF(INDEX(HAMARA!I:I,MATCH(B965,HAMARA!E:E,0))=0,\"\",INDEX(HAMARA!I:I,MATCH(B965,HAMARA!E:E,0))),\"\")","v":""}]
[378,"BT525",0,{"$f":"IFERROR(IF(INDEX(HAMARA!I:I,MATCH(B966,HAMARA!E:E,0))=0,\"\",INDEX(HAMARA!I:I,MATCH(B966,HAMARA!E:E,0))),\"\")","v":""}]
[378,"BT526",0,{"$f":"IFERROR(IF(INDEX(HAMARA!I:I,MATCH(B967,HAMARA!E:E,0))=0,\"\",INDEX(HAMARA!I:I,MATCH(B967,HAMARA!E:E,0))),\"\")","v":""}]
[378,"BT527",0,{"$f":"IFERROR(IF(INDEX(HAMARA!I:I,MATCH(B968,HAMARA!E:E,0))=0,\"\",INDEX(HAMARA!I:I,MATCH(B968,HAMARA!E:E,0))),\"\")","v":""}]
[378,"BT530",0,{"$f":"IFERROR(IF(INDEX(HAMARA!I:I,MATCH(B969,HAMARA!E:E,0))=0,\"\",INDEX(HAMARA!I:I,MATCH(B969,HAMARA!E:E,0))),\"\")","v":""}]
[378,"BT531",0,{"$f":"IFERROR(IF(INDEX(HAMARA!I:I,MATCH(B970,HAMARA!E:E,0))=0,\"\",INDEX(HAMARA!I:I,MATCH(B970,HAMARA!E:E,0))),\"\")","v":""}]
[378,"BT532",0,{"$f":"IFERROR(IF(INDEX(HAMARA!I:I,MATCH(B971,HAMARA!E:E,0))=0,\"\",INDEX(HAMARA!I:I,MATCH(B971,HAMARA!E:E,0))),\"\")","v":""}]
[378,"BT533",0,{"$f":"IFERROR(IF(INDEX(HAMARA!I:I,MATCH(B972,HAMARA!E:E,0))=0,\"\",INDEX(HAMARA!I:I,MATCH(B972,HAMARA!E:E,0))),\"\")","v":""}]
[378,"BT534",0,{"$f":"IFERROR(IF(INDEX(HAMARA!I:I,MATCH(B973,HAMARA!E:E,0))=0,\"\",INDEX(HAMARA!I:I,MATCH(B973,HAMARA!E:E,0))),\"\")","v":""}]
[378,"BT535",0,{"$f":"IFERROR(IF(INDEX(HAMARA!I:I,MATCH(B974,HAMARA!E:E,0))=0,\"\",INDEX(HAMARA!I:I,MATCH(B974,HAMARA!E:E,0))),\"\")","v":""}]
[378,"BT536",0,{"$f":"IFERROR(IF(INDEX(HAMARA!I:I,MATCH(B975,HAMARA!E:E,0))=0,\"\",INDEX(HAMARA!I:I,MATCH(B975,HAMARA!E:E,0))),\"\")","v":""}]
[378,"BT537",0,{"$f":"IFERROR(IF(INDEX(HAMARA!I:I,MATCH(B976,HAMARA!E:E,0))=0,\"\",INDEX(HAMARA!I:I,MATCH(B976,HAMARA!E:E,0))),\"\")","v":""}]
[378,"BT628",0,{"$f":"IFERROR(IF(INDEX(HAMARA!I:I,MATCH(B977,HAMARA!E:E,0))=0,\"\",INDEX(HAMARA!I:I,MATCH(B977,HAMARA!E:E,0))),\"\")","v":""}]
[378,"BT629",0,{"$f":"IFERROR(IF(INDEX(HAMARA!I:I,MATCH(B978,HAMARA!E:E,0))=0,\"\",INDEX(HAMARA!I:I,MATCH(B978,HAMARA!E:E,0))),\"\")","v":""}]
[378,"BT630",0,{"$f":"IFERROR(IF(INDEX(HAMARA!I:I,MATCH(B979,HAMARA!E:E,0))=0,\"\",INDEX(HAMARA!I:I,MATCH(B979,HAMARA!E:E,0))),\"\")","v":""}]
[378,"BT631",0,{"$f":"IFERROR(IF(INDEX(HAMARA!I:I,MATCH(B980,HAMARA!E:E,0))=0,\"\",INDEX(HAMARA!I:I,MATCH(B980,HAMARA!E:E,0))),\"\")","v":""}]
[378,"BT632",0,{"$f":"IFERROR(IF(INDEX(HAMARA!I:I,MATCH(B981,HAMARA!E:E,0))=0,\"\",INDEX(HAMARA!I:I,MATCH(B981,HAMARA!E:E,0))),\"\")","v":""}]
[378,"BT633",0,{"$f":"IFERROR(IF(INDEX(HAMARA!I:I,MATCH(B982,HAMARA!E:E,0))=0,\"\",INDEX(HAMARA!I:I,MATCH(B982,HAMARA!E:E,0))),\"\")","v":""}]
[378,"BT162",0,{"$f":"IFERROR(IF(INDEX(HAMARA!I:I,MATCH(B983,HAMARA!E:E,0))=0,\"\",INDEX(HAMARA!I:I,MATCH(B983,HAMARA!E:E,0))),\"\")","v":""}]
[378,"BT163",0,{"$f":"IFERROR(IF(INDEX(HAMARA!I:I,MATCH(B984,HAMARA!E:E,0))=0,\"\",INDEX(HAMARA!I:I,MATCH(B984,HAMARA!E:E,0))),\"\")","v":""}]
[378,"BT164",0,{"$f":"IFERROR(IF(INDEX(HAMARA!I:I,MATCH(B985,HAMARA!E:E,0))=0,\"\",INDEX(HAMARA!I:I,MATCH(B985,HAMARA!E:E,0))),\"\")","v":""}]
[378,"BT165",0,{"$f":"IFERROR(IF(INDEX(HAMARA!I:I,MATCH(B986,HAMARA!E:E,0))=0,\"\",INDEX(HAMARA!I:I,MATCH(B986,HAMARA!E:E,0))),\"\")","v":""}]
[378,"BT180",0,{"$f":"IFERROR(IF(INDEX(HAMARA!I:I,MATCH(B987,HAMARA!E:E,0))=0,\"\",INDEX(HAMARA!I:I,MATCH(B987,HAMARA!E:E,0))),\"\")","v":""}]
[378,"BT45",0,{"$f":"IFERROR(IF(INDEX(HAMARA!I:I,MATCH(B988,HAMARA!E:E,0))=0,\"\",INDEX(HAMARA!I:I,MATCH(B988,HAMARA!E:E,0))),\"\")","v":""}]
[378,"BT47",0,{"$f":"IFERROR(IF(INDEX(HAMARA!I:I,MATCH(B989,HAMARA!E:E,0))=0,\"\",INDEX(HAMARA!I:I,MATCH(B989,HAMARA!E:E,0))),\"\")","v":""}]
[378,"BT181",0,{"$f":"IFERROR(IF(INDEX(HAMARA!I:I,MATCH(B990,HAMARA!E:E,0))=0,\"\",INDEX(HAMARA!I:I,MATCH(B990,HAMARA!E:E,0))),\"\")","v":""}]
[378,"BT228",0,{"$f":"IFERROR(IF(INDEX(HAMARA!I:I,MATCH(B991,HAMARA!E:E,0))=0,\"\",INDEX(HAMARA!I:I,MATCH(B991,HAMARA!E:E,0))),\"\")","v":""}]
[378,"BT88",0,{"$f":"IFERROR(IF(INDEX(HAMARA!I:I,MATCH(B992,HAMARA!E:E,0))=0,\"\",INDEX(HAMARA!I:I,MATCH(B992,HAMARA!E:E,0))),\"\")","v":""}]
[378,"BT72",943.40099999999995,{"$f":"IFERROR(IF(INDEX(HAMARA!I:I,MATCH(B993,HAMARA!E:E,0))=0,\"\",INDEX(HAMARA!I:I,MATCH(B993,HAMARA!E:E,0))),\"\")","v":""}]
[378,"BT168",0,{"$f":"IFERROR(IF(INDEX(HAMARA!I:I,MATCH(B994,HAMARA!E:E,0))=0,\"\",INDEX(HAMARA!I:I,MATCH(B994,HAMARA!E:E,0))),\"\")","v":""}]
[378,"BT89",0,{"$f":"IFERROR(IF(INDEX(HAMARA!I:I,MATCH(B995,HAMARA!E:E,0))=0,\"\",INDEX(HAMARA!I:I,MATCH(B995,HAMARA!E:E,0))),\"\")","v":""}]
[378,"BT755",0,{"$f":"IFERROR(IF(INDEX(HAMARA!I:I,MATCH(B996,HAMARA!E:E,0))=0,\"\",INDEX(HAMARA!I:I,MATCH(B996,HAMARA!E:E,0))),\"\")","v":""}]
[378,"BT119",36.988,{"$f":"IFERROR(IF(INDEX(HAMARA!I:I,MATCH(B997,HAMARA!E:E,0))=0,\"\",INDEX(HAMARA!I:I,MATCH(B997,HAMARA!E:E,0))),\"\")","v":""}]
[378,"BT120",0,{"$f":"IFERROR(IF(INDEX(HAMARA!I:I,MATCH(B998,HAMARA!E:E,0))=0,\"\",INDEX(HAMARA!I:I,MATCH(B998,HAMARA!E:E,0))),\"\")","v":""}]
[378,"A1",4476.4690000000001,{"$f":"IFERROR(IF(INDEX(HAMARA!I:I,MATCH(B999,HAMARA!E:E,0))=0,\"\",INDEX(HAMARA!I:I,MATCH(B999,HAMARA!E:E,0))),\"\")","v":""}]
[378,"AA3",9.7000000000000003E-2,{"$f":"IFERROR(IF(INDEX(HAMARA!I:I,MATCH(B1000,HAMARA!E:E,0))=0,\"\",INDEX(HAMARA!I:I,MATCH(B1000,HAMARA!E:E,0))),\"\")","v":""}]
[378,"AT110",0,{"$f":"IFERROR(IF(INDEX(HAMARA!I:I,MATCH(B1001,HAMARA!E:E,0))=0,\"\",INDEX(HAMARA!I:I,MATCH(B1001,HAMARA!E:E,0))),\"\")","v":""}]
[378,"AA9",-83.533000000000001,{"$f":"IFERROR(IF(INDEX(HAMARA!I:I,MATCH(B1002,HAMARA!E:E,0))=0,\"\",INDEX(HAMARA!I:I,MATCH(B1002,HAMARA!E:E,0))),\"\")","v":""}]
[378,"AT108",0,{"$f":"IFERROR(IF(INDEX(HAMARA!I:I,MATCH(B1003,HAMARA!E:E,0))=0,\"\",INDEX(HAMARA!I:I,MATCH(B1003,HAMARA!E:E,0))),\"\")","v":""}]
[378,"AT72",2.9740000000000002,{"$f":"IFERROR(IF(INDEX(HAMARA!I:I,MATCH(B1004,HAMARA!E:E,0))=0,\"\",INDEX(HAMARA!I:I,MATCH(B1004,HAMARA!E:E,0))),\"\")","v":""}]
[378,"AT1",0,{"$f":"IFERROR(IF(INDEX(HAMARA!I:I,MATCH(B1005,HAMARA!E:E,0))=0,\"\",INDEX(HAMARA!I:I,MATCH(B1005,HAMARA!E:E,0))),\"\")","v":""}]
[378,"AA1",3416.6660000000002,{"$f":"IFERROR(IF(INDEX(HAMARA!I:I,MATCH(B1006,HAMARA!E:E,0))=0,\"\",INDEX(HAMARA!I:I,MATCH(B1006,HAMARA!E:E,0))),\"\")","v":""}]
[378,"AA2",1140.2660000000001,{"$f":"IFERROR(IF(INDEX(HAMARA!I:I,MATCH(B1007,HAMARA!E:E,0))=0,\"\",INDEX(HAMARA!I:I,MATCH(B1007,HAMARA!E:E,0))),\"\")","v":""}]
[378,"AT781",0,{"$f":"IFERROR(IF(INDEX(HAMARA!I:I,MATCH(B1008,HAMARA!E:E,0))=0,\"\",INDEX(HAMARA!I:I,MATCH(B1008,HAMARA!E:E,0))),\"\")","v":""}]
[378,"AT782",0,{"$f":"IFERROR(IF(INDEX(HAMARA!I:I,MATCH(B1009,HAMARA!E:E,0))=0,\"\",INDEX(HAMARA!I:I,MATCH(B1009,HAMARA!E:E,0))),\"\")","v":""}]
[378,"AT791",0,{"$f":"IFERROR(IF(INDEX(HAMARA!I:I,MATCH(B1010,HAMARA!E:E,0))=0,\"\",INDEX(HAMARA!I:I,MATCH(B1010,HAMARA!E:E,0))),\"\")","v":""}]
[378,"AT749",0,{"$f":"IFERROR(IF(INDEX(HAMARA!I:I,MATCH(B1011,HAMARA!E:E,0))=0,\"\",INDEX(HAMARA!I:I,MATCH(B1011,HAMARA!E:E,0))),\"\")","v":""}]
[378,"AT750",0,{"$f":"IFERROR(IF(INDEX(HAMARA!I:I,MATCH(B1012,HAMARA!E:E,0))=0,\"\",INDEX(HAMARA!I:I,MATCH(B1012,HAMARA!E:E,0))),\"\")","v":""}]
[378,"AT751",0,{"$f":"IFERROR(IF(INDEX(HAMARA!I:I,MATCH(B1013,HAMARA!E:E,0))=0,\"\",INDEX(HAMARA!I:I,MATCH(B1013,HAMARA!E:E,0))),\"\")","v":""}]
[378,"AT114",0,{"$f":"IFERROR(IF(INDEX(HAMARA!I:I,MATCH(B1014,HAMARA!E:E,0))=0,\"\",INDEX(HAMARA!I:I,MATCH(B1014,HAMARA!E:E,0))),\"\")","v":""}]
[378,"AT752",0,{"$f":"IFERROR(IF(INDEX(HAMARA!I:I,MATCH(B1015,HAMARA!E:E,0))=0,\"\",INDEX(HAMARA!I:I,MATCH(B1015,HAMARA!E:E,0))),\"\")","v":""}]
[378,"AT7",0,{"$f":"IFERROR(IF(INDEX(HAMARA!I:I,MATCH(B1016,HAMARA!E:E,0))=0,\"\",INDEX(HAMARA!I:I,MATCH(B1016,HAMARA!E:E,0))),\"\")","v":""}]
[378,"AT252",0,{"$f":"IFERROR(IF(INDEX(HAMARA!I:I,MATCH(B1017,HAMARA!E:E,0))=0,\"\",INDEX(HAMARA!I:I,MATCH(B1017,HAMARA!E:E,0))),\"\")","v":""}]
[378,"AT253",0,{"$f":"IFERROR(IF(INDEX(HAMARA!I:I,MATCH(B1018,HAMARA!E:E,0))=0,\"\",INDEX(HAMARA!I:I,MATCH(B1018,HAMARA!E:E,0))),\"\")","v":""}]
[378,"AT575",0,{"$f":"IFERROR(IF(INDEX(HAMARA!I:I,MATCH(B1019,HAMARA!E:E,0))=0,\"\",INDEX(HAMARA!I:I,MATCH(B1019,HAMARA!E:E,0))),\"\")","v":""}]
[378,"AT290",0,{"$f":"IFERROR(IF(INDEX(HAMARA!I:I,MATCH(B1020,HAMARA!E:E,0))=0,\"\",INDEX(HAMARA!I:I,MATCH(B1020,HAMARA!E:E,0))),\"\")","v":""}]
[378,"AT642",0,{"$f":"IFERROR(IF(INDEX(HAMARA!I:I,MATCH(B1021,HAMARA!E:E,0))=0,\"\",INDEX(HAMARA!I:I,MATCH(B1021,HAMARA!E:E,0))),\"\")","v":""}]
[378,"AT753",0,{"$f":"IFERROR(IF(INDEX(HAMARA!I:I,MATCH(B1022,HAMARA!E:E,0))=0,\"\",INDEX(HAMARA!I:I,MATCH(B1022,HAMARA!E:E,0))),\"\")","v":""}]
[378,"AT71",0,{"$f":"IFERROR(IF(INDEX(HAMARA!I:I,MATCH(B1023,HAMARA!E:E,0))=0,\"\",INDEX(HAMARA!I:I,MATCH(B1023,HAMARA!E:E,0))),\"\")","v":""}]
[378,"AT111",0,{"$f":"IFERROR(IF(INDEX(HAMARA!I:I,MATCH(B1024,HAMARA!E:E,0))=0,\"\",INDEX(HAMARA!I:I,MATCH(B1024,HAMARA!E:E,0))),\"\")","v":""}]
[378,"AT760",0,{"$f":"IFERROR(IF(INDEX(HAMARA!I:I,MATCH(B1025,HAMARA!E:E,0))=0,\"\",INDEX(HAMARA!I:I,MATCH(B1025,HAMARA!E:E,0))),\"\")","v":""}]
[378,"AT761",0,{"$f":"IFERROR(IF(INDEX(HAMARA!I:I,MATCH(B1026,HAMARA!E:E,0))=0,\"\",INDEX(HAMARA!I:I,MATCH(B1026,HAMARA!E:E,0))),\"\")","v":""}]
[378,"AT762",0,{"$f":"IFERROR(IF(INDEX(HAMARA!I:I,MATCH(B1027,HAMARA!E:E,0))=0,\"\",INDEX(HAMARA!I:I,MATCH(B1027,HAMARA!E:E,0))),\"\")","v":""}]
[378,"AT763",0,{"$f":"IFERROR(IF(INDEX(HAMARA!I:I,MATCH(B1028,HAMARA!E:E,0))=0,\"\",INDEX(HAMARA!I:I,MATCH(B1028,HAMARA!E:E,0))),\"\")","v":""}]
[378,"AT764",0,{"$f":"IFERROR(IF(INDEX(HAMARA!I:I,MATCH(B1029,HAMARA!E:E,0))=0,\"\",INDEX(HAMARA!I:I,MATCH(B1029,HAMARA!E:E,0))),\"\")","v":""}]
[378,"AT104",0,{"$f":"IFERROR(IF(INDEX(HAMARA!I:I,MATCH(B1030,HAMARA!E:E,0))=0,\"\",INDEX(HAMARA!I:I,MATCH(B1030,HAMARA!E:E,0))),\"\")","v":""}]
[378,"AT634",0,{"$f":"IFERROR(IF(INDEX(HAMARA!I:I,MATCH(B1031,HAMARA!E:E,0))=0,\"\",INDEX(HAMARA!I:I,MATCH(B1031,HAMARA!E:E,0))),\"\")","v":""}]
[378,"AA12",0,{"$f":"IFERROR(IF(INDEX(HAMARA!I:I,MATCH(B1032,HAMARA!E:E,0))=0,\"\",INDEX(HAMARA!I:I,MATCH(B1032,HAMARA!E:E,0))),\"\")","v":""}]
[378,"AT758",0,{"$f":"IFERROR(IF(INDEX(HAMARA!I:I,MATCH(B1033,HAMARA!E:E,0))=0,\"\",INDEX(HAMARA!I:I,MATCH(B1033,HAMARA!E:E,0))),\"\")","v":""}]
[378,"AT759",0,{"$f":"IFERROR(IF(INDEX(HAMARA!I:I,MATCH(B1034,HAMARA!E:E,0))=0,\"\",INDEX(HAMARA!I:I,MATCH(B1034,HAMARA!E:E,0))),\"\")","v":""}]
[378,"B1",6613.3339999999998,{"$f":"IFERROR(IF(INDEX(HAMARA!I:I,MATCH(B1035,HAMARA!E:E,0))=0,\"\",INDEX(HAMARA!I:I,MATCH(B1035,HAMARA!E:E,0))),\"\")","v":""}]
[378,"BT3",0,{"$f":"IFERROR(IF(INDEX(HAMARA!I:I,MATCH(B1036,HAMARA!E:E,0))=0,\"\",INDEX(HAMARA!I:I,MATCH(B1036,HAMARA!E:E,0))),\"\")","v":""}]
[378,"BT95",0,{"$f":"IFERROR(IF(INDEX(HAMARA!I:I,MATCH(B1037,HAMARA!E:E,0))=0,\"\",INDEX(HAMARA!I:I,MATCH(B1037,HAMARA!E:E,0))),\"\")","v":""}]
[378,"BF4",0.77600000000000002,{"$f":"IFERROR(IF(INDEX(HAMARA!I:I,MATCH(B1038,HAMARA!E:E,0))=0,\"\",INDEX(HAMARA!I:I,MATCH(B1038,HAMARA!E:E,0))),\"\")","v":""}]
[378,"BT1",0,{"$f":"IFERROR(IF(INDEX(HAMARA!I:I,MATCH(B1039,HAMARA!E:E,0))=0,\"\",INDEX(HAMARA!I:I,MATCH(B1039,HAMARA!E:E,0))),\"\")","v":""}]
[378,"BT2",2814.0059999999999,{"$f":"IFERROR(IF(INDEX(HAMARA!I:I,MATCH(B1040,HAMARA!E:E,0))=0,\"\",INDEX(HAMARA!I:I,MATCH(B1040,HAMARA!E:E,0))),\"\")","v":""}]
[378,"BT125",0,{"$f":"IFERROR(IF(INDEX(HAMARA!I:I,MATCH(B1041,HAMARA!E:E,0))=0,\"\",INDEX(HAMARA!I:I,MATCH(B1041,HAMARA!E:E,0))),\"\")","v":""}]
[378,"BT126",0,{"$f":"IFERROR(IF(INDEX(HAMARA!I:I,MATCH(B1042,HAMARA!E:E,0))=0,\"\",INDEX(HAMARA!I:I,MATCH(B1042,HAMARA!E:E,0))),\"\")","v":""}]
[378,"BT4",0,{"$f":"IFERROR(IF(INDEX(HAMARA!I:I,MATCH(B1043,HAMARA!E:E,0))=0,\"\",INDEX(HAMARA!I:I,MATCH(B1043,HAMARA!E:E,0))),\"\")","v":""}]
[378,"BT5",0,{"$f":"IFERROR(IF(INDEX(HAMARA!I:I,MATCH(B1044,HAMARA!E:E,0))=0,\"\",INDEX(HAMARA!I:I,MATCH(B1044,HAMARA!E:E,0))),\"\")","v":""}]
[378,"BT749",0,{"$f":"IFERROR(IF(INDEX(HAMARA!I:I,MATCH(B1045,HAMARA!E:E,0))=0,\"\",INDEX(HAMARA!I:I,MATCH(B1045,HAMARA!E:E,0))),\"\")","v":""}]
[378,"BT750",3474.297,{"$f":"IFERROR(IF(INDEX(HAMARA!I:I,MATCH(B1046,HAMARA!E:E,0))=0,\"\",INDEX(HAMARA!I:I,MATCH(B1046,HAMARA!E:E,0))),\"\")","v":""}]
[378,"BT751",0,{"$f":"IFERROR(IF(INDEX(HAMARA!I:I,MATCH(B1047,HAMARA!E:E,0))=0,\"\",INDEX(HAMARA!I:I,MATCH(B1047,HAMARA!E:E,0))),\"\")","v":""}]
[378,"BT97",17.571000000000002,{"$f":"IFERROR(IF(INDEX(HAMARA!I:I,MATCH(B1048,HAMARA!E:E,0))=0,\"\",INDEX(HAMARA!I:I,MATCH(B1048,HAMARA!E:E,0))),\"\")","v":""}]
[378,"BT752",0,{"$f":"IFERROR(IF(INDEX(HAMARA!I:I,MATCH(B1049,HAMARA!E:E,0))=0,\"\",INDEX(HAMARA!I:I,MATCH(B1049,HAMARA!E:E,0))),\"\")","v":""}]
[378,"BT19",0,{"$f":"IFERROR(IF(INDEX(HAMARA!I:I,MATCH(B1050,HAMARA!E:E,0))=0,\"\",INDEX(HAMARA!I:I,MATCH(B1050,HAMARA!E:E,0))),\"\")","v":""}]
[378,"BT641",0,{"$f":"IFERROR(IF(INDEX(HAMARA!I:I,MATCH(B1051,HAMARA!E:E,0))=0,\"\",INDEX(HAMARA!I:I,MATCH(B1051,HAMARA!E:E,0))),\"\")","v":""}]
[378,"BT642",0,{"$f":"IFERROR(IF(INDEX(HAMARA!I:I,MATCH(B1052,HAMARA!E:E,0))=0,\"\",INDEX(HAMARA!I:I,MATCH(B1052,HAMARA!E:E,0))),\"\")","v":""}]
[378,"BT575",0,{"$f":"IFERROR(IF(INDEX(HAMARA!I:I,MATCH(B1053,HAMARA!E:E,0))=0,\"\",INDEX(HAMARA!I:I,MATCH(B1053,HAMARA!E:E,0))),\"\")","v":""}]
[378,"BT643",0,{"$f":"IFERROR(IF(INDEX(HAMARA!I:I,MATCH(B1054,HAMARA!E:E,0))=0,\"\",INDEX(HAMARA!I:I,MATCH(B1054,HAMARA!E:E,0))),\"\")","v":""}]
[378,"BT644",0,{"$f":"IFERROR(IF(INDEX(HAMARA!I:I,MATCH(B1055,HAMARA!E:E,0))=0,\"\",INDEX(HAMARA!I:I,MATCH(B1055,HAMARA!E:E,0))),\"\")","v":""}]
[378,"BT754",0,{"$f":"IFERROR(IF(INDEX(HAMARA!I:I,MATCH(B1056,HAMARA!E:E,0))=0,\"\",INDEX(HAMARA!I:I,MATCH(B1056,HAMARA!E:E,0))),\"\")","v":""}]
[378,"BT76",0,{"$f":"IFERROR(IF(INDEX(HAMARA!I:I,MATCH(B1057,HAMARA!E:E,0))=0,\"\",INDEX(HAMARA!I:I,MATCH(B1057,HAMARA!E:E,0))),\"\")","v":""}]
[378,"BT81",0,{"$f":"IFERROR(IF(INDEX(HAMARA!I:I,MATCH(B1058,HAMARA!E:E,0))=0,\"\",INDEX(HAMARA!I:I,MATCH(B1058,HAMARA!E:E,0))),\"\")","v":""}]
[378,"BT760",0,{"$f":"IFERROR(IF(INDEX(HAMARA!I:I,MATCH(B1059,HAMARA!E:E,0))=0,\"\",INDEX(HAMARA!I:I,MATCH(B1059,HAMARA!E:E,0))),\"\")","v":""}]
[378,"BT761",0,{"$f":"IFERROR(IF(INDEX(HAMARA!I:I,MATCH(B1060,HAMARA!E:E,0))=0,\"\",INDEX(HAMARA!I:I,MATCH(B1060,HAMARA!E:E,0))),\"\")","v":""}]
[378,"BT762",0,{"$f":"IFERROR(IF(INDEX(HAMARA!I:I,MATCH(B1061,HAMARA!E:E,0))=0,\"\",INDEX(HAMARA!I:I,MATCH(B1061,HAMARA!E:E,0))),\"\")","v":""}]
[378,"BT763",0,{"$f":"IFERROR(IF(INDEX(HAMARA!I:I,MATCH(B1062,HAMARA!E:E,0))=0,\"\",INDEX(HAMARA!I:I,MATCH(B1062,HAMARA!E:E,0))),\"\")","v":""}]
[378,"BT764",0,{"$f":"IFERROR(IF(INDEX(HAMARA!I:I,MATCH(B1063,HAMARA!E:E,0))=0,\"\",INDEX(HAMARA!I:I,MATCH(B1063,HAMARA!E:E,0))),\"\")","v":""}]
[378,"BT83",299.673,{"$f":"IFERROR(IF(INDEX(HAMARA!I:I,MATCH(B1064,HAMARA!E:E,0))=0,\"\",INDEX(HAMARA!I:I,MATCH(B1064,HAMARA!E:E,0))),\"\")","v":""}]
[378,"BT634",7.0119999999999996,{"$f":"IFERROR(IF(INDEX(HAMARA!I:I,MATCH(B1065,HAMARA!E:E,0))=0,\"\",INDEX(HAMARA!I:I,MATCH(B1065,HAMARA!E:E,0))),\"\")","v":""}]
[378,"BT80",0,{"$f":"IFERROR(IF(INDEX(HAMARA!I:I,MATCH(B1066,HAMARA!E:E,0))=0,\"\",INDEX(HAMARA!I:I,MATCH(B1066,HAMARA!E:E,0))),\"\")","v":""}]
[378,"K2",0,{"$f":"IFERROR(IF(INDEX(HAMARA!I:I,MATCH(B1067,HAMARA!E:E,0))=0,\"\",INDEX(HAMARA!I:I,MATCH(B1067,HAMARA!E:E,0))),\"\")","v":""}]
[378,"KT712",0,{"$f":"IFERROR(IF(INDEX(HAMARA!I:I,MATCH(B1068,HAMARA!E:E,0))=0,\"\",INDEX(HAMARA!I:I,MATCH(B1068,HAMARA!E:E,0))),\"\")","v":""}]
[378,"KT1",0,{"$f":"IFERROR(IF(INDEX(HAMARA!I:I,MATCH(B1069,HAMARA!E:E,0))=0,\"\",INDEX(HAMARA!I:I,MATCH(B1069,HAMARA!E:E,0))),\"\")","v":""}]
[378,"KT713",0,{"$f":"IFERROR(IF(INDEX(HAMARA!I:I,MATCH(B1070,HAMARA!E:E,0))=0,\"\",INDEX(HAMARA!I:I,MATCH(B1070,HAMARA!E:E,0))),\"\")","v":""}]
[378,"KT307",173609.41399999999,{"$f":"IFERROR(IF(INDEX(HAMARA!I:I,MATCH(B1071,HAMARA!E:E,0))=0,\"\",INDEX(HAMARA!I:I,MATCH(B1071,HAMARA!E:E,0))),\"\")","v":""}]
[378,"KT311",524937.01500000001,{"$f":"IFERROR(IF(INDEX(HAMARA!I:I,MATCH(B1072,HAMARA!E:E,0))=0,\"\",INDEX(HAMARA!I:I,MATCH(B1072,HAMARA!E:E,0))),\"\")","v":""}]
[378,"KT308",0,{"$f":"IFERROR(IF(INDEX(HAMARA!I:I,MATCH(B1073,HAMARA!E:E,0))=0,\"\",INDEX(HAMARA!I:I,MATCH(B1073,HAMARA!E:E,0))),\"\")","v":""}]
[378,"KT3",0,{"$f":"IFERROR(IF(INDEX(HAMARA!I:I,MATCH(B1074,HAMARA!E:E,0))=0,\"\",INDEX(HAMARA!I:I,MATCH(B1074,HAMARA!E:E,0))),\"\")","v":""}]
[378,"KT714",0,{"$f":"IFERROR(IF(INDEX(HAMARA!I:I,MATCH(B1075,HAMARA!E:E,0))=0,\"\",INDEX(HAMARA!I:I,MATCH(B1075,HAMARA!E:E,0))),\"\")","v":""}]
[378,"KT991",0,{"$f":"IFERROR(IF(INDEX(HAMARA!I:I,MATCH(B1076,HAMARA!E:E,0))=0,\"\",INDEX(HAMARA!I:I,MATCH(B1076,HAMARA!E:E,0))),\"\")","v":""}]
[378,"KT992",0,{"$f":"IFERROR(IF(INDEX(HAMARA!I:I,MATCH(B1077,HAMARA!E:E,0))=0,\"\",INDEX(HAMARA!I:I,MATCH(B1077,HAMARA!E:E,0))),\"\")","v":""}]
[378,"KT993",0,{"$f":"IFERROR(IF(INDEX(HAMARA!I:I,MATCH(B1078,HAMARA!E:E,0))=0,\"\",INDEX(HAMARA!I:I,MATCH(B1078,HAMARA!E:E,0))),\"\")","v":""}]
[378,"KT28",0,{"$f":"IFERROR(IF(INDEX(HAMARA!I:I,MATCH(B1079,HAMARA!E:E,0))=0,\"\",INDEX(HAMARA!I:I,MATCH(B1079,HAMARA!E:E,0))),\"\")","v":""}]
[378,"KT53",0,{"$f":"IFERROR(IF(INDEX(HAMARA!I:I,MATCH(B1080,HAMARA!E:E,0))=0,\"\",INDEX(HAMARA!I:I,MATCH(B1080,HAMARA!E:E,0))),\"\")","v":""}]
[378,"KT54",0,{"$f":"IFERROR(IF(INDEX(HAMARA!I:I,MATCH(B1081,HAMARA!E:E,0))=0,\"\",INDEX(HAMARA!I:I,MATCH(B1081,HAMARA!E:E,0))),\"\")","v":""}]
[378,"KT55",0,{"$f":"IFERROR(IF(INDEX(HAMARA!I:I,MATCH(B1082,HAMARA!E:E,0))=0,\"\",INDEX(HAMARA!I:I,MATCH(B1082,HAMARA!E:E,0))),\"\")","v":""}]
[378,"KT56",0,{"$f":"IFERROR(IF(INDEX(HAMARA!I:I,MATCH(B1083,HAMARA!E:E,0))=0,\"\",INDEX(HAMARA!I:I,MATCH(B1083,HAMARA!E:E,0))),\"\")","v":""}]
[378,"KT57",0,{"$f":"IFERROR(IF(INDEX(HAMARA!I:I,MATCH(B1084,HAMARA!E:E,0))=0,\"\",INDEX(HAMARA!I:I,MATCH(B1084,HAMARA!E:E,0))),\"\")","v":""}]
[378,"KT58",577973.21,{"$f":"IFERROR(IF(INDEX(HAMARA!I:I,MATCH(B1085,HAMARA!E:E,0))=0,\"\",INDEX(HAMARA!I:I,MATCH(B1085,HAMARA!E:E,0))),\"\")","v":""}]
[378,"KT59",0,{"$f":"IFERROR(IF(INDEX(HAMARA!I:I,MATCH(B1086,HAMARA!E:E,0))=0,\"\",INDEX(HAMARA!I:I,MATCH(B1086,HAMARA!E:E,0))),\"\")","v":""}]
[378,"KT60",0,{"$f":"IFERROR(IF(INDEX(HAMARA!I:I,MATCH(B1087,HAMARA!E:E,0))=0,\"\",INDEX(HAMARA!I:I,MATCH(B1087,HAMARA!E:E,0))),\"\")","v":""}]
[378,"KT705",1,{"$f":"IFERROR(IF(INDEX(HAMARA!I:I,MATCH(B1088,HAMARA!E:E,0))=0,\"\",INDEX(HAMARA!I:I,MATCH(B1088,HAMARA!E:E,0))),\"\")","v":""}]
[378,"KT706",0,{"$f":"IFERROR(IF(INDEX(HAMARA!I:I,MATCH(B1089,HAMARA!E:E,0))=0,\"\",INDEX(HAMARA!I:I,MATCH(B1089,HAMARA!E:E,0))),\"\")","v":""}]
[378,"KT707",37,{"$f":"IFERROR(IF(INDEX(HAMARA!I:I,MATCH(B1090,HAMARA!E:E,0))=0,\"\",INDEX(HAMARA!I:I,MATCH(B1090,HAMARA!E:E,0))),\"\")","v":""}]
[378,"KT708",0,{"$f":"IFERROR(IF(INDEX(HAMARA!I:I,MATCH(B1091,HAMARA!E:E,0))=0,\"\",INDEX(HAMARA!I:I,MATCH(B1091,HAMARA!E:E,0))),\"\")","v":""}]
[378,"KT709",0,{"$f":"IFERROR(IF(INDEX(HAMARA!I:I,MATCH(B1092,HAMARA!E:E,0))=0,\"\",INDEX(HAMARA!I:I,MATCH(B1092,HAMARA!E:E,0))),\"\")","v":""}]
[378,"KT710",0,{"$f":"IFERROR(IF(INDEX(HAMARA!I:I,MATCH(B1093,HAMARA!E:E,0))=0,\"\",INDEX(HAMARA!I:I,MATCH(B1093,HAMARA!E:E,0))),\"\")","v":""}]
[378,"KT314",558.78399999999999,{"$f":"IFERROR(IF(INDEX(HAMARA!I:I,MATCH(B1094,HAMARA!E:E,0))=0,\"\",INDEX(HAMARA!I:I,MATCH(B1094,HAMARA!E:E,0))),\"\")","v":""}]
[378,"KT72",82.673000000000002,{"$f":"IFERROR(IF(INDEX(HAMARA!I:I,MATCH(B1095,HAMARA!E:E,0))=0,\"\",INDEX(HAMARA!I:I,MATCH(B1095,HAMARA!E:E,0))),\"\")","v":""}]
[378,"EA",8680.7810000000009,{"$f":"IFERROR(IF(INDEX(HAMARA!I:I,MATCH(B1096,HAMARA!E:E,0))=0,\"\",INDEX(HAMARA!I:I,MATCH(B1096,HAMARA!E:E,0))),\"\")","v":""}]
[378,"KT10",0,{"$f":"IFERROR(IF(INDEX(HAMARA!I:I,MATCH(B1097,HAMARA!E:E,0))=0,\"\",INDEX(HAMARA!I:I,MATCH(B1097,HAMARA!E:E,0))),\"\")","v":""}]
[378,"KT37",0,{"$f":"IFERROR(IF(INDEX(HAMARA!I:I,MATCH(B1098,HAMARA!E:E,0))=0,\"\",INDEX(HAMARA!I:I,MATCH(B1098,HAMARA!E:E,0))),\"\")","v":""}]
[378,"KT22",1.1319999999999999,{"$f":"IFERROR(IF(INDEX(HAMARA!I:I,MATCH(B1099,HAMARA!E:E,0))=0,\"\",INDEX(HAMARA!I:I,MATCH(B1099,HAMARA!E:E,0))),\"\")","v":""}]
[378,"KT51",12.513999999999999,{"$f":"IFERROR(IF(INDEX(HAMARA!I:I,MATCH(B1100,HAMARA!E:E,0))=0,\"\",INDEX(HAMARA!I:I,MATCH(B1100,HAMARA!E:E,0))),\"\")","v":""}]
[378,"KT502",7851.0789999999997,{"$f":"IFERROR(IF(INDEX(HAMARA!I:I,MATCH(B1101,HAMARA!E:E,0))=0,\"\",INDEX(HAMARA!I:I,MATCH(B1101,HAMARA!E:E,0))),\"\")","v":""}]
[378,"KT503",79214.612999999998,{"$f":"IFERROR(IF(INDEX(HAMARA!I:I,MATCH(B1102,HAMARA!E:E,0))=0,\"\",INDEX(HAMARA!I:I,MATCH(B1102,HAMARA!E:E,0))),\"\")","v":""}]
[378,"KT14",0,{"$f":"IFERROR(IF(INDEX(HAMARA!I:I,MATCH(B1103,HAMARA!E:E,0))=0,\"\",INDEX(HAMARA!I:I,MATCH(B1103,HAMARA!E:E,0))),\"\")","v":""}]
[378,"KT15",0,{"$f":"IFERROR(IF(INDEX(HAMARA!I:I,MATCH(B1104,HAMARA!E:E,0))=0,\"\",INDEX(HAMARA!I:I,MATCH(B1104,HAMARA!E:E,0))),\"\")","v":""}]
[378,"KT70",0,{"$f":"IFERROR(IF(INDEX(HAMARA!I:I,MATCH(B1105,HAMARA!E:E,0))=0,\"\",INDEX(HAMARA!I:I,MATCH(B1105,HAMARA!E:E,0))),\"\")","v":""}]
[378,"KT71",0,{"$f":"IFERROR(IF(INDEX(HAMARA!I:I,MATCH(B1106,HAMARA!E:E,0))=0,\"\",INDEX(HAMARA!I:I,MATCH(B1106,HAMARA!E:E,0))),\"\")","v":""}]
[378,"KT946",0,{"$f":"IFERROR(IF(INDEX(HAMARA!I:I,MATCH(B1107,HAMARA!E:E,0))=0,\"\",INDEX(HAMARA!I:I,MATCH(B1107,HAMARA!E:E,0))),\"\")","v":""}]
[378,"KT947",0,{"$f":"IFERROR(IF(INDEX(HAMARA!I:I,MATCH(B1108,HAMARA!E:E,0))=0,\"\",INDEX(HAMARA!I:I,MATCH(B1108,HAMARA!E:E,0))),\"\")","v":""}]
[378,"KT948",0,{"$f":"IFERROR(IF(INDEX(HAMARA!I:I,MATCH(B1109,HAMARA!E:E,0))=0,\"\",INDEX(HAMARA!I:I,MATCH(B1109,HAMARA!E:E,0))),\"\")","v":""}]
[378,"KT324",0,{"$f":"IFERROR(IF(INDEX(HAMARA!I:I,MATCH(B1110,HAMARA!E:E,0))=0,\"\",INDEX(HAMARA!I:I,MATCH(B1110,HAMARA!E:E,0))),\"\")","v":""}]
[378,"KT950",0,{"$f":"IFERROR(IF(INDEX(HAMARA!I:I,MATCH(B1111,HAMARA!E:E,0))=0,\"\",INDEX(HAMARA!I:I,MATCH(B1111,HAMARA!E:E,0))),\"\")","v":""}]
[378,"KT951",0,{"$f":"IFERROR(IF(INDEX(HAMARA!I:I,MATCH(B1112,HAMARA!E:E,0))=0,\"\",INDEX(HAMARA!I:I,MATCH(B1112,HAMARA!E:E,0))),\"\")","v":""}]
[378,"KT949",0,{"$f":"IFERROR(IF(INDEX(HAMARA!I:I,MATCH(B1113,HAMARA!E:E,0))=0,\"\",INDEX(HAMARA!I:I,MATCH(B1113,HAMARA!E:E,0))),\"\")","v":""}]
[378,"KT411",0,{"$f":"IFERROR(IF(INDEX(HAMARA!I:I,MATCH(B1114,HAMARA!E:E,0))=0,\"\",INDEX(HAMARA!I:I,MATCH(B1114,HAMARA!E:E,0))),\"\")","v":""}]
[378,"KT74",0,{"$f":"IFERROR(IF(INDEX(HAMARA!I:I,MATCH(B1115,HAMARA!E:E,0))=0,\"\",INDEX(HAMARA!I:I,MATCH(B1115,HAMARA!E:E,0))),\"\")","v":""}]
[378,"KT604",0,{"$f":"IFERROR(IF(INDEX(HAMARA!I:I,MATCH(B1116,HAMARA!E:E,0))=0,\"\",INDEX(HAMARA!I:I,MATCH(B1116,HAMARA!E:E,0))),\"\")","v":""}]
[378,"KT62",0,{"$f":"IFERROR(IF(INDEX(HAMARA!I:I,MATCH(B1117,HAMARA!E:E,0))=0,\"\",INDEX(HAMARA!I:I,MATCH(B1117,HAMARA!E:E,0))),\"\")","v":""}]
[378,"KT551",0,{"$f":"IFERROR(IF(INDEX(HAMARA!I:I,MATCH(B1118,HAMARA!E:E,0))=0,\"\",INDEX(HAMARA!I:I,MATCH(B1118,HAMARA!E:E,0))),\"\")","v":""}]
[378,"KT605",8199,{"$f":"IFERROR(IF(INDEX(HAMARA!I:I,MATCH(B1119,HAMARA!E:E,0))=0,\"\",INDEX(HAMARA!I:I,MATCH(B1119,HAMARA!E:E,0))),\"\")","v":""}]
[378,"KT21",0,{"$f":"IFERROR(IF(INDEX(HAMARA!I:I,MATCH(B1120,HAMARA!E:E,0))=0,\"\",INDEX(HAMARA!I:I,MATCH(B1120,HAMARA!E:E,0))),\"\")","v":""}]
[378,"KT941",0,{"$f":"IFERROR(IF(INDEX(HAMARA!I:I,MATCH(B1121,HAMARA!E:E,0))=0,\"\",INDEX(HAMARA!I:I,MATCH(B1121,HAMARA!E:E,0))),\"\")","v":""}]
[378,"KT20",0,{"$f":"IFERROR(IF(INDEX(HAMARA!I:I,MATCH(B1122,HAMARA!E:E,0))=0,\"\",INDEX(HAMARA!I:I,MATCH(B1122,HAMARA!E:E,0))),\"\")","v":""}]
[378,"KT942",0,{"$f":"IFERROR(IF(INDEX(HAMARA!I:I,MATCH(B1123,HAMARA!E:E,0))=0,\"\",INDEX(HAMARA!I:I,MATCH(B1123,HAMARA!E:E,0))),\"\")","v":""}]
[378,"KT303",0,{"$f":"IFERROR(IF(INDEX(HAMARA!I:I,MATCH(B1124,HAMARA!E:E,0))=0,\"\",INDEX(HAMARA!I:I,MATCH(B1124,HAMARA!E:E,0))),\"\")","v":""}]
[378,"KT304",0,{"$f":"IFERROR(IF(INDEX(HAMARA!I:I,MATCH(B1125,HAMARA!E:E,0))=0,\"\",INDEX(HAMARA!I:I,MATCH(B1125,HAMARA!E:E,0))),\"\")","v":""}]
[378,"KT716",0,{"$f":"IFERROR(IF(INDEX(HAMARA!I:I,MATCH(B1126,HAMARA!E:E,0))=0,\"\",INDEX(HAMARA!I:I,MATCH(B1126,HAMARA!E:E,0))),\"\")","v":""}]
[378,"KT305",-169697.47700000001,{"$f":"IFERROR(IF(INDEX(HAMARA!I:I,MATCH(B1127,HAMARA!E:E,0))=0,\"\",INDEX(HAMARA!I:I,MATCH(B1127,HAMARA!E:E,0))),\"\")","v":""}]
[378,"KT461",0,{"$f":"IFERROR(IF(INDEX(HAMARA!I:I,MATCH(B1128,HAMARA!E:E,0))=0,\"\",INDEX(HAMARA!I:I,MATCH(B1128,HAMARA!E:E,0))),\"\")","v":""}]
[378,"KT717",0,{"$f":"IFERROR(IF(INDEX(HAMARA!I:I,MATCH(B1129,HAMARA!E:E,0))=0,\"\",INDEX(HAMARA!I:I,MATCH(B1129,HAMARA!E:E,0))),\"\")","v":""}]
[378,"KT548",0,{"$f":"IFERROR(IF(INDEX(HAMARA!I:I,MATCH(B1130,HAMARA!E:E,0))=0,\"\",INDEX(HAMARA!I:I,MATCH(B1130,HAMARA!E:E,0))),\"\")","v":""}]
[378,"KT549",0,{"$f":"IFERROR(IF(INDEX(HAMARA!I:I,MATCH(B1131,HAMARA!E:E,0))=0,\"\",INDEX(HAMARA!I:I,MATCH(B1131,HAMARA!E:E,0))),\"\")","v":""}]
[378,"KT550",0,{"$f":"IFERROR(IF(INDEX(HAMARA!I:I,MATCH(B1132,HAMARA!E:E,0))=0,\"\",INDEX(HAMARA!I:I,MATCH(B1132,HAMARA!E:E,0))),\"\")","v":""}]
[378,"KT761",348775.74200000003,{"$f":"IFERROR(IF(INDEX(HAMARA!I:I,MATCH(B1133,HAMARA!E:E,0))=0,\"\",INDEX(HAMARA!I:I,MATCH(B1133,HAMARA!E:E,0))),\"\")","v":""}]
[378,"KT762",121610.91499999999,{"$f":"IFERROR(IF(INDEX(HAMARA!I:I,MATCH(B1134,HAMARA!E:E,0))=0,\"\",INDEX(HAMARA!I:I,MATCH(B1134,HAMARA!E:E,0))),\"\")","v":""}]
[378,"KT763",282057.05800000002,{"$f":"IFERROR(IF(INDEX(HAMARA!I:I,MATCH(B1135,HAMARA!E:E,0))=0,\"\",INDEX(HAMARA!I:I,MATCH(B1135,HAMARA!E:E,0))),\"\")","v":""}]
[378,"KT943",349576.77299999999,{"$f":"IFERROR(IF(INDEX(HAMARA!I:I,MATCH(B1136,HAMARA!E:E,0))=0,\"\",INDEX(HAMARA!I:I,MATCH(B1136,HAMARA!E:E,0))),\"\")","v":""}]
[378,"KT944",285209.39199999999,{"$f":"IFERROR(IF(INDEX(HAMARA!I:I,MATCH(B1137,HAMARA!E:E,0))=0,\"\",INDEX(HAMARA!I:I,MATCH(B1137,HAMARA!E:E,0))),\"\")","v":""}]
[378,"KT945",123486.98299999999,{"$f":"IFERROR(IF(INDEX(HAMARA!I:I,MATCH(B1138,HAMARA!E:E,0))=0,\"\",INDEX(HAMARA!I:I,MATCH(B1138,HAMARA!E:E,0))),\"\")","v":""}]
[378,"KT606",0,{"$f":"IFERROR(IF(INDEX(HAMARA!I:I,MATCH(B1139,HAMARA!E:E,0))=0,\"\",INDEX(HAMARA!I:I,MATCH(B1139,HAMARA!E:E,0))),\"\")","v":""}]
[378,"KT530",0,{"$f":"IFERROR(IF(INDEX(HAMARA!I:I,MATCH(B1140,HAMARA!E:E,0))=0,\"\",INDEX(HAMARA!I:I,MATCH(B1140,HAMARA!E:E,0))),\"\")","v":""}]
[378,"KT547",27818.527999999998,{"$f":"IFERROR(IF(INDEX(HAMARA!I:I,MATCH(B1141,HAMARA!E:E,0))=0,\"\",INDEX(HAMARA!I:I,MATCH(B1141,HAMARA!E:E,0))),\"\")","v":""}]
[378,"KT932",0,{"$f":"IFERROR(IF(INDEX(HAMARA!I:I,MATCH(B1142,HAMARA!E:E,0))=0,\"\",INDEX(HAMARA!I:I,MATCH(B1142,HAMARA!E:E,0))),\"\")","v":""}]
[378,"KT933",0,{"$f":"IFERROR(IF(INDEX(HAMARA!I:I,MATCH(B1143,HAMARA!E:E,0))=0,\"\",INDEX(HAMARA!I:I,MATCH(B1143,HAMARA!E:E,0))),\"\")","v":""}]
[378,"KT934",25.68,{"$f":"IFERROR(IF(INDEX(HAMARA!I:I,MATCH(B1144,HAMARA!E:E,0))=0,\"\",INDEX(HAMARA!I:I,MATCH(B1144,HAMARA!E:E,0))),\"\")","v":""}]
[378,"KT935",0,{"$f":"IFERROR(IF(INDEX(HAMARA!I:I,MATCH(B1145,HAMARA!E:E,0))=0,\"\",INDEX(HAMARA!I:I,MATCH(B1145,HAMARA!E:E,0))),\"\")","v":""}]
[378,"KT936",0,{"$f":"IFERROR(IF(INDEX(HAMARA!I:I,MATCH(B1146,HAMARA!E:E,0))=0,\"\",INDEX(HAMARA!I:I,MATCH(B1146,HAMARA!E:E,0))),\"\")","v":""}]
[378,"KT937",0,{"$f":"IFERROR(IF(INDEX(HAMARA!I:I,MATCH(B1147,HAMARA!E:E,0))=0,\"\",INDEX(HAMARA!I:I,MATCH(B1147,HAMARA!E:E,0))),\"\")","v":""}]
[378,"KT938",0,{"$f":"IFERROR(IF(INDEX(HAMARA!I:I,MATCH(B1148,HAMARA!E:E,0))=0,\"\",INDEX(HAMARA!I:I,MATCH(B1148,HAMARA!E:E,0))),\"\")","v":""}]
[378,"KT939",0,{"$f":"IFERROR(IF(INDEX(HAMARA!I:I,MATCH(B1149,HAMARA!E:E,0))=0,\"\",INDEX(HAMARA!I:I,MATCH(B1149,HAMARA!E:E,0))),\"\")","v":""}]
[378,"KT940",0,{"$f":"IFERROR(IF(INDEX(HAMARA!I:I,MATCH(B1150,HAMARA!E:E,0))=0,\"\",INDEX(HAMARA!I:I,MATCH(B1150,HAMARA!E:E,0))),\"\")","v":""}]
[378,"KT600",0,{"$f":"IFERROR(IF(INDEX(HAMARA!I:I,MATCH(B1151,HAMARA!E:E,0))=0,\"\",INDEX(HAMARA!I:I,MATCH(B1151,HAMARA!E:E,0))),\"\")","v":""}]
[378,"ZT101",693622.45499999996,{"$f":"IFERROR(IF(INDEX(HAMARA!I:I,MATCH(B1152,HAMARA!E:E,0))=0,\"\",INDEX(HAMARA!I:I,MATCH(B1152,HAMARA!E:E,0))),\"\")","v":""}]
[378,"ZT102",693622.45499999996,{"$f":"IFERROR(IF(INDEX(HAMARA!I:I,MATCH(B1153,HAMARA!E:E,0))=0,\"\",INDEX(HAMARA!I:I,MATCH(B1153,HAMARA!E:E,0))),\"\")","v":""}]
[378,"ZT103",693622.45499999996,{"$f":"IFERROR(IF(INDEX(HAMARA!I:I,MATCH(B1154,HAMARA!E:E,0))=0,\"\",INDEX(HAMARA!I:I,MATCH(B1154,HAMARA!E:E,0))),\"\")","v":""}]
[378,"ZT104",693622.45499999996,{"$f":"IFERROR(IF(INDEX(HAMARA!I:I,MATCH(B1155,HAMARA!E:E,0))=0,\"\",INDEX(HAMARA!I:I,MATCH(B1155,HAMARA!E:E,0))),\"\")","v":""}]
[378,"ZT105",697638.50899999996,{"$f":"IFERROR(IF(INDEX(HAMARA!I:I,MATCH(B1156,HAMARA!E:E,0))=0,\"\",INDEX(HAMARA!I:I,MATCH(B1156,HAMARA!E:E,0))),\"\")","v":""}]
[378,"ZT106",697638.50899999996,{"$f":"IFERROR(IF(INDEX(HAMARA!I:I,MATCH(B1157,HAMARA!E:E,0))=0,\"\",INDEX(HAMARA!I:I,MATCH(B1157,HAMARA!E:E,0))),\"\")","v":""}]
[378,"ZT107",697638.50899999996,{"$f":"IFERROR(IF(INDEX(HAMARA!I:I,MATCH(B1158,HAMARA!E:E,0))=0,\"\",INDEX(HAMARA!I:I,MATCH(B1158,HAMARA!E:E,0))),\"\")","v":""}]
[378,"ZT108",697352.17500000005,{"$f":"IFERROR(IF(INDEX(HAMARA!I:I,MATCH(B1159,HAMARA!E:E,0))=0,\"\",INDEX(HAMARA!I:I,MATCH(B1159,HAMARA!E:E,0))),\"\")","v":""}]
[378,"ZT109",699269.22499999998,{"$f":"IFERROR(IF(INDEX(HAMARA!I:I,MATCH(B1160,HAMARA!E:E,0))=0,\"\",INDEX(HAMARA!I:I,MATCH(B1160,HAMARA!E:E,0))),\"\")","v":""}]
[378,"ZT110",699269.22499999998,{"$f":"IFERROR(IF(INDEX(HAMARA!I:I,MATCH(B1161,HAMARA!E:E,0))=0,\"\",INDEX(HAMARA!I:I,MATCH(B1161,HAMARA!E:E,0))),\"\")","v":""}]
[378,"ZT111",699269.22499999998,{"$f":"IFERROR(IF(INDEX(HAMARA!I:I,MATCH(B1162,HAMARA!E:E,0))=0,\"\",INDEX(HAMARA!I:I,MATCH(B1162,HAMARA!E:E,0))),\"\")","v":""}]
[378,"ZT112",692820.98499999999,{"$f":"IFERROR(IF(INDEX(HAMARA!I:I,MATCH(B1163,HAMARA!E:E,0))=0,\"\",INDEX(HAMARA!I:I,MATCH(B1163,HAMARA!E:E,0))),\"\")","v":""}]
[378,"ZT113",692820.98499999999,{"$f":"IFERROR(IF(INDEX(HAMARA!I:I,MATCH(B1164,HAMARA!E:E,0))=0,\"\",INDEX(HAMARA!I:I,MATCH(B1164,HAMARA!E:E,0))),\"\")","v":""}]
[378,"ZT114",692820.98499999999,{"$f":"IFERROR(IF(INDEX(HAMARA!I:I,MATCH(B1165,HAMARA!E:E,0))=0,\"\",INDEX(HAMARA!I:I,MATCH(B1165,HAMARA!E:E,0))),\"\")","v":""}]
[378,"ZT115",700335.99,{"$f":"IFERROR(IF(INDEX(HAMARA!I:I,MATCH(B1166,HAMARA!E:E,0))=0,\"\",INDEX(HAMARA!I:I,MATCH(B1166,HAMARA!E:E,0))),\"\")","v":""}]
[378,"ZT116",699125.87399999995,{"$f":"IFERROR(IF(INDEX(HAMARA!I:I,MATCH(B1167,HAMARA!E:E,0))=0,\"\",INDEX(HAMARA!I:I,MATCH(B1167,HAMARA!E:E,0))),\"\")","v":""}]
[378,"ZT117",699125.87399999995,{"$f":"IFERROR(IF(INDEX(HAMARA!I:I,MATCH(B1168,HAMARA!E:E,0))=0,\"\",INDEX(HAMARA!I:I,MATCH(B1168,HAMARA!E:E,0))),\"\")","v":""}]
[378,"ZT118",699125.87399999995,{"$f":"IFERROR(IF(INDEX(HAMARA!I:I,MATCH(B1169,HAMARA!E:E,0))=0,\"\",INDEX(HAMARA!I:I,MATCH(B1169,HAMARA!E:E,0))),\"\")","v":""}]
[378,"ZT119",697547.174,{"$f":"IFERROR(IF(INDEX(HAMARA!I:I,MATCH(B1170,HAMARA!E:E,0))=0,\"\",INDEX(HAMARA!I:I,MATCH(B1170,HAMARA!E:E,0))),\"\")","v":""}]
[378,"ZT120",700435.94099999999,{"$f":"IFERROR(IF(INDEX(HAMARA!I:I,MATCH(B1171,HAMARA!E:E,0))=0,\"\",INDEX(HAMARA!I:I,MATCH(B1171,HAMARA!E:E,0))),\"\")","v":""}]
[378,"ZT121",697892.39300000004,{"$f":"IFERROR(IF(INDEX(HAMARA!I:I,MATCH(B1172,HAMARA!E:E,0))=0,\"\",INDEX(HAMARA!I:I,MATCH(B1172,HAMARA!E:E,0))),\"\")","v":""}]
[378,"ZT122",697028.59299999999,{"$f":"IFERROR(IF(INDEX(HAMARA!I:I,MATCH(B1173,HAMARA!E:E,0))=0,\"\",INDEX(HAMARA!I:I,MATCH(B1173,HAMARA!E:E,0))),\"\")","v":""}]
[378,"ZT123",699534.28,{"$f":"IFERROR(IF(INDEX(HAMARA!I:I,MATCH(B1174,HAMARA!E:E,0))=0,\"\",INDEX(HAMARA!I:I,MATCH(B1174,HAMARA!E:E,0))),\"\")","v":""}]
[378,"ZT124",699534.28,{"$f":"IFERROR(IF(INDEX(HAMARA!I:I,MATCH(B1175,HAMARA!E:E,0))=0,\"\",INDEX(HAMARA!I:I,MATCH(B1175,HAMARA!E:E,0))),\"\")","v":""}]
[378,"ZT125",699534.28,{"$f":"IFERROR(IF(INDEX(HAMARA!I:I,MATCH(B1176,HAMARA!E:E,0))=0,\"\",INDEX(HAMARA!I:I,MATCH(B1176,HAMARA!E:E,0))),\"\")","v":""}]
[378,"ZT126",701368.89899999998,{"$f":"IFERROR(IF(INDEX(HAMARA!I:I,MATCH(B1177,HAMARA!E:E,0))=0,\"\",INDEX(HAMARA!I:I,MATCH(B1177,HAMARA!E:E,0))),\"\")","v":""}]
[378,"ZT127",701783.495,{"$f":"IFERROR(IF(INDEX(HAMARA!I:I,MATCH(B1178,HAMARA!E:E,0))=0,\"\",INDEX(HAMARA!I:I,MATCH(B1178,HAMARA!E:E,0))),\"\")","v":""}]
[378,"ZT128",700964.33400000003,{"$f":"IFERROR(IF(INDEX(HAMARA!I:I,MATCH(B1179,HAMARA!E:E,0))=0,\"\",INDEX(HAMARA!I:I,MATCH(B1179,HAMARA!E:E,0))),\"\")","v":""}]
[378,"ZT129",702090.31400000001,{"$f":"IFERROR(IF(INDEX(HAMARA!I:I,MATCH(B1180,HAMARA!E:E,0))=0,\"\",INDEX(HAMARA!I:I,MATCH(B1180,HAMARA!E:E,0))),\"\")","v":""}]
[378,"ZT130",699337.25199999998,{"$f":"IFERROR(IF(INDEX(HAMARA!I:I,MATCH(B1181,HAMARA!E:E,0))=0,\"\",INDEX(HAMARA!I:I,MATCH(B1181,HAMARA!E:E,0))),\"\")","v":""}]
[378,"ZT201",0,{"$f":"IFERROR(IF(INDEX(HAMARA!I:I,MATCH(B1182,HAMARA!E:E,0))=0,\"\",INDEX(HAMARA!I:I,MATCH(B1182,HAMARA!E:E,0))),\"\")","v":""}]
[378,"ZT202",0,{"$f":"IFERROR(IF(INDEX(HAMARA!I:I,MATCH(B1183,HAMARA!E:E,0))=0,\"\",INDEX(HAMARA!I:I,MATCH(B1183,HAMARA!E:E,0))),\"\")","v":""}]
[378,"ZT203",0,{"$f":"IFERROR(IF(INDEX(HAMARA!I:I,MATCH(B1184,HAMARA!E:E,0))=0,\"\",INDEX(HAMARA!I:I,MATCH(B1184,HAMARA!E:E,0))),\"\")","v":""}]
[378,"ZT204",0,{"$f":"IFERROR(IF(INDEX(HAMARA!I:I,MATCH(B1185,HAMARA!E:E,0))=0,\"\",INDEX(HAMARA!I:I,MATCH(B1185,HAMARA!E:E,0))),\"\")","v":""}]
[378,"ZT205",382.916,{"$f":"IFERROR(IF(INDEX(HAMARA!I:I,MATCH(B1186,HAMARA!E:E,0))=0,\"\",INDEX(HAMARA!I:I,MATCH(B1186,HAMARA!E:E,0))),\"\")","v":""}]
[378,"ZT206",0,{"$f":"IFERROR(IF(INDEX(HAMARA!I:I,MATCH(B1187,HAMARA!E:E,0))=0,\"\",INDEX(HAMARA!I:I,MATCH(B1187,HAMARA!E:E,0))),\"\")","v":""}]
[378,"ZT207",0,{"$f":"IFERROR(IF(INDEX(HAMARA!I:I,MATCH(B1188,HAMARA!E:E,0))=0,\"\",INDEX(HAMARA!I:I,MATCH(B1188,HAMARA!E:E,0))),\"\")","v":""}]
[378,"ZT208",470.87099999999998,{"$f":"IFERROR(IF(INDEX(HAMARA!I:I,MATCH(B1189,HAMARA!E:E,0))=0,\"\",INDEX(HAMARA!I:I,MATCH(B1189,HAMARA!E:E,0))),\"\")","v":""}]
[378,"ZT209",340.19499999999999,{"$f":"IFERROR(IF(INDEX(HAMARA!I:I,MATCH(B1190,HAMARA!E:E,0))=0,\"\",INDEX(HAMARA!I:I,MATCH(B1190,HAMARA!E:E,0))),\"\")","v":""}]
[378,"ZT210",0,{"$f":"IFERROR(IF(INDEX(HAMARA!I:I,MATCH(B1191,HAMARA!E:E,0))=0,\"\",INDEX(HAMARA!I:I,MATCH(B1191,HAMARA!E:E,0))),\"\")","v":""}]
[378,"ZT211",0,{"$f":"IFERROR(IF(INDEX(HAMARA!I:I,MATCH(B1192,HAMARA!E:E,0))=0,\"\",INDEX(HAMARA!I:I,MATCH(B1192,HAMARA!E:E,0))),\"\")","v":""}]
[378,"ZT212",404.82299999999998,{"$f":"IFERROR(IF(INDEX(HAMARA!I:I,MATCH(B1193,HAMARA!E:E,0))=0,\"\",INDEX(HAMARA!I:I,MATCH(B1193,HAMARA!E:E,0))),\"\")","v":""}]
[378,"ZT213",0,{"$f":"IFERROR(IF(INDEX(HAMARA!I:I,MATCH(B1194,HAMARA!E:E,0))=0,\"\",INDEX(HAMARA!I:I,MATCH(B1194,HAMARA!E:E,0))),\"\")","v":""}]
[378,"ZT214",0,{"$f":"IFERROR(IF(INDEX(HAMARA!I:I,MATCH(B1195,HAMARA!E:E,0))=0,\"\",INDEX(HAMARA!I:I,MATCH(B1195,HAMARA!E:E,0))),\"\")","v":""}]
[378,"ZT215",2320.2719999999999,{"$f":"IFERROR(IF(INDEX(HAMARA!I:I,MATCH(B1196,HAMARA!E:E,0))=0,\"\",INDEX(HAMARA!I:I,MATCH(B1196,HAMARA!E:E,0))),\"\")","v":""}]
[378,"ZT216",174.52099999999999,{"$f":"IFERROR(IF(INDEX(HAMARA!I:I,MATCH(B1197,HAMARA!E:E,0))=0,\"\",INDEX(HAMARA!I:I,MATCH(B1197,HAMARA!E:E,0))),\"\")","v":""}]
[378,"ZT217",0,{"$f":"IFERROR(IF(INDEX(HAMARA!I:I,MATCH(B1198,HAMARA!E:E,0))=0,\"\",INDEX(HAMARA!I:I,MATCH(B1198,HAMARA!E:E,0))),\"\")","v":""}]
[378,"ZT218",0,{"$f":"IFERROR(IF(INDEX(HAMARA!I:I,MATCH(B1199,HAMARA!E:E,0))=0,\"\",INDEX(HAMARA!I:I,MATCH(B1199,HAMARA!E:E,0))),\"\")","v":""}]
[378,"ZT219",187.345,{"$f":"IFERROR(IF(INDEX(HAMARA!I:I,MATCH(B1200,HAMARA!E:E,0))=0,\"\",INDEX(HAMARA!I:I,MATCH(B1200,HAMARA!E:E,0))),\"\")","v":""}]
[378,"ZT220",56.429000000000002,{"$f":"IFERROR(IF(INDEX(HAMARA!I:I,MATCH(B1201,HAMARA!E:E,0))=0,\"\",INDEX(HAMARA!I:I,MATCH(B1201,HAMARA!E:E,0))),\"\")","v":""}]
[378,"ZT221",13.286,{"$f":"IFERROR(IF(INDEX(HAMARA!I:I,MATCH(B1202,HAMARA!E:E,0))=0,\"\",INDEX(HAMARA!I:I,MATCH(B1202,HAMARA!E:E,0))),\"\")","v":""}]
[378,"ZT222",11.185,{"$f":"IFERROR(IF(INDEX(HAMARA!I:I,MATCH(B1203,HAMARA!E:E,0))=0,\"\",INDEX(HAMARA!I:I,MATCH(B1203,HAMARA!E:E,0))),\"\")","v":""}]
[378,"ZT223",5.8810000000000002,{"$f":"IFERROR(IF(INDEX(HAMARA!I:I,MATCH(B1204,HAMARA!E:E,0))=0,\"\",INDEX(HAMARA!I:I,MATCH(B1204,HAMARA!E:E,0))),\"\")","v":""}]
[378,"ZT224",0,{"$f":"IFERROR(IF(INDEX(HAMARA!I:I,MATCH(B1205,HAMARA!E:E,0))=0,\"\",INDEX(HAMARA!I:I,MATCH(B1205,HAMARA!E:E,0))),\"\")","v":""}]
[378,"ZT225",0,{"$f":"IFERROR(IF(INDEX(HAMARA!I:I,MATCH(B1206,HAMARA!E:E,0))=0,\"\",INDEX(HAMARA!I:I,MATCH(B1206,HAMARA!E:E,0))),\"\")","v":""}]
[378,"ZT226",69.506,{"$f":"IFERROR(IF(INDEX(HAMARA!I:I,MATCH(B1207,HAMARA!E:E,0))=0,\"\",INDEX(HAMARA!I:I,MATCH(B1207,HAMARA!E:E,0))),\"\")","v":""}]
[378,"ZT227",-2.1030000000000002,{"$f":"IFERROR(IF(INDEX(HAMARA!I:I,MATCH(B1208,HAMARA!E:E,0))=0,\"\",INDEX(HAMARA!I:I,MATCH(B1208,HAMARA!E:E,0))),\"\")","v":""}]
[378,"ZT228",6.97,{"$f":"IFERROR(IF(INDEX(HAMARA!I:I,MATCH(B1209,HAMARA!E:E,0))=0,\"\",INDEX(HAMARA!I:I,MATCH(B1209,HAMARA!E:E,0))),\"\")","v":""}]
[378,"ZT229",9.3979999999999997,{"$f":"IFERROR(IF(INDEX(HAMARA!I:I,MATCH(B1210,HAMARA!E:E,0))=0,\"\",INDEX(HAMARA!I:I,MATCH(B1210,HAMARA!E:E,0))),\"\")","v":""}]
[378,"ZT230",17.794,{"$f":"IFERROR(IF(INDEX(HAMARA!I:I,MATCH(B1211,HAMARA!E:E,0))=0,\"\",INDEX(HAMARA!I:I,MATCH(B1211,HAMARA!E:E,0))),\"\")","v":""}]
[378,"ZT301",0,{"$f":"IFERROR(IF(INDEX(HAMARA!I:I,MATCH(B1212,HAMARA!E:E,0))=0,\"\",INDEX(HAMARA!I:I,MATCH(B1212,HAMARA!E:E,0))),\"\")","v":""}]
[378,"ZT302",0,{"$f":"IFERROR(IF(INDEX(HAMARA!I:I,MATCH(B1213,HAMARA!E:E,0))=0,\"\",INDEX(HAMARA!I:I,MATCH(B1213,HAMARA!E:E,0))),\"\")","v":""}]
[378,"ZT303",0,{"$f":"IFERROR(IF(INDEX(HAMARA!I:I,MATCH(B1214,HAMARA!E:E,0))=0,\"\",INDEX(HAMARA!I:I,MATCH(B1214,HAMARA!E:E,0))),\"\")","v":""}]
[378,"ZT304",0,{"$f":"IFERROR(IF(INDEX(HAMARA!I:I,MATCH(B1215,HAMARA!E:E,0))=0,\"\",INDEX(HAMARA!I:I,MATCH(B1215,HAMARA!E:E,0))),\"\")","v":""}]
[378,"ZT305",0,{"$f":"IFERROR(IF(INDEX(HAMARA!I:I,MATCH(B1216,HAMARA!E:E,0))=0,\"\",INDEX(HAMARA!I:I,MATCH(B1216,HAMARA!E:E,0))),\"\")","v":""}]
[378,"ZT306",0,{"$f":"IFERROR(IF(INDEX(HAMARA!I:I,MATCH(B1217,HAMARA!E:E,0))=0,\"\",INDEX(HAMARA!I:I,MATCH(B1217,HAMARA!E:E,0))),\"\")","v":""}]
[378,"ZT307",0,{"$f":"IFERROR(IF(INDEX(HAMARA!I:I,MATCH(B1218,HAMARA!E:E,0))=0,\"\",INDEX(HAMARA!I:I,MATCH(B1218,HAMARA!E:E,0))),\"\")","v":""}]
[378,"ZT308",0,{"$f":"IFERROR(IF(INDEX(HAMARA!I:I,MATCH(B1219,HAMARA!E:E,0))=0,\"\",INDEX(HAMARA!I:I,MATCH(B1219,HAMARA!E:E,0))),\"\")","v":""}]
[378,"ZT309",0,{"$f":"IFERROR(IF(INDEX(HAMARA!I:I,MATCH(B1220,HAMARA!E:E,0))=0,\"\",INDEX(HAMARA!I:I,MATCH(B1220,HAMARA!E:E,0))),\"\")","v":""}]
[378,"ZT310",0,{"$f":"IFERROR(IF(INDEX(HAMARA!I:I,MATCH(B1221,HAMARA!E:E,0))=0,\"\",INDEX(HAMARA!I:I,MATCH(B1221,HAMARA!E:E,0))),\"\")","v":""}]
[378,"ZT311",0,{"$f":"IFERROR(IF(INDEX(HAMARA!I:I,MATCH(B1222,HAMARA!E:E,0))=0,\"\",INDEX(HAMARA!I:I,MATCH(B1222,HAMARA!E:E,0))),\"\")","v":""}]
[378,"ZT312",1143.1880000000001,{"$f":"IFERROR(IF(INDEX(HAMARA!I:I,MATCH(B1223,HAMARA!E:E,0))=0,\"\",INDEX(HAMARA!I:I,MATCH(B1223,HAMARA!E:E,0))),\"\")","v":""}]
[378,"ZT313",0,{"$f":"IFERROR(IF(INDEX(HAMARA!I:I,MATCH(B1224,HAMARA!E:E,0))=0,\"\",INDEX(HAMARA!I:I,MATCH(B1224,HAMARA!E:E,0))),\"\")","v":""}]
[378,"ZT314",0,{"$f":"IFERROR(IF(INDEX(HAMARA!I:I,MATCH(B1225,HAMARA!E:E,0))=0,\"\",INDEX(HAMARA!I:I,MATCH(B1225,HAMARA!E:E,0))),\"\")","v":""}]
[378,"ZT315",764.03499999999997,{"$f":"IFERROR(IF(INDEX(HAMARA!I:I,MATCH(B1226,HAMARA!E:E,0))=0,\"\",INDEX(HAMARA!I:I,MATCH(B1226,HAMARA!E:E,0))),\"\")","v":""}]
[378,"ZT316",101.785,{"$f":"IFERROR(IF(INDEX(HAMARA!I:I,MATCH(B1227,HAMARA!E:E,0))=0,\"\",INDEX(HAMARA!I:I,MATCH(B1227,HAMARA!E:E,0))),\"\")","v":""}]
[378,"ZT317",0,{"$f":"IFERROR(IF(INDEX(HAMARA!I:I,MATCH(B1228,HAMARA!E:E,0))=0,\"\",INDEX(HAMARA!I:I,MATCH(B1228,HAMARA!E:E,0))),\"\")","v":""}]
[378,"ZT318",0,{"$f":"IFERROR(IF(INDEX(HAMARA!I:I,MATCH(B1229,HAMARA!E:E,0))=0,\"\",INDEX(HAMARA!I:I,MATCH(B1229,HAMARA!E:E,0))),\"\")","v":""}]
[378,"ZT319",15.223000000000001,{"$f":"IFERROR(IF(INDEX(HAMARA!I:I,MATCH(B1230,HAMARA!E:E,0))=0,\"\",INDEX(HAMARA!I:I,MATCH(B1230,HAMARA!E:E,0))),\"\")","v":""}]
[378,"ZT320",258.12299999999999,{"$f":"IFERROR(IF(INDEX(HAMARA!I:I,MATCH(B1231,HAMARA!E:E,0))=0,\"\",INDEX(HAMARA!I:I,MATCH(B1231,HAMARA!E:E,0))),\"\")","v":""}]
[378,"ZT321",473.065,{"$f":"IFERROR(IF(INDEX(HAMARA!I:I,MATCH(B1232,HAMARA!E:E,0))=0,\"\",INDEX(HAMARA!I:I,MATCH(B1232,HAMARA!E:E,0))),\"\")","v":""}]
[378,"ZT322",25.289000000000001,{"$f":"IFERROR(IF(INDEX(HAMARA!I:I,MATCH(B1233,HAMARA!E:E,0))=0,\"\",INDEX(HAMARA!I:I,MATCH(B1233,HAMARA!E:E,0))),\"\")","v":""}]
[378,"ZT323",446.005,{"$f":"IFERROR(IF(INDEX(HAMARA!I:I,MATCH(B1234,HAMARA!E:E,0))=0,\"\",INDEX(HAMARA!I:I,MATCH(B1234,HAMARA!E:E,0))),\"\")","v":""}]
[378,"ZT324",0,{"$f":"IFERROR(IF(INDEX(HAMARA!I:I,MATCH(B1235,HAMARA!E:E,0))=0,\"\",INDEX(HAMARA!I:I,MATCH(B1235,HAMARA!E:E,0))),\"\")","v":""}]
[378,"ZT325",0,{"$f":"IFERROR(IF(INDEX(HAMARA!I:I,MATCH(B1236,HAMARA!E:E,0))=0,\"\",INDEX(HAMARA!I:I,MATCH(B1236,HAMARA!E:E,0))),\"\")","v":""}]
[378,"ZT326",259.89100000000002,{"$f":"IFERROR(IF(INDEX(HAMARA!I:I,MATCH(B1237,HAMARA!E:E,0))=0,\"\",INDEX(HAMARA!I:I,MATCH(B1237,HAMARA!E:E,0))),\"\")","v":""}]
[378,"ZT327",357.17700000000002,{"$f":"IFERROR(IF(INDEX(HAMARA!I:I,MATCH(B1238,HAMARA!E:E,0))=0,\"\",INDEX(HAMARA!I:I,MATCH(B1238,HAMARA!E:E,0))),\"\")","v":""}]
[378,"ZT328",158.226,{"$f":"IFERROR(IF(INDEX(HAMARA!I:I,MATCH(B1239,HAMARA!E:E,0))=0,\"\",INDEX(HAMARA!I:I,MATCH(B1239,HAMARA!E:E,0))),\"\")","v":""}]
[378,"ZT329",775.28899999999999,{"$f":"IFERROR(IF(INDEX(HAMARA!I:I,MATCH(B1240,HAMARA!E:E,0))=0,\"\",INDEX(HAMARA!I:I,MATCH(B1240,HAMARA!E:E,0))),\"\")","v":""}]
[378,"ZT330",1528.577,{"$f":"IFERROR(IF(INDEX(HAMARA!I:I,MATCH(B1241,HAMARA!E:E,0))=0,\"\",INDEX(HAMARA!I:I,MATCH(B1241,HAMARA!E:E,0))),\"\")","v":""}]
[378,"ZT401",0,{"$f":"IFERROR(IF(INDEX(HAMARA!I:I,MATCH(B1242,HAMARA!E:E,0))=0,\"\",INDEX(HAMARA!I:I,MATCH(B1242,HAMARA!E:E,0))),\"\")","v":""}]
[378,"ZT402",0,{"$f":"IFERROR(IF(INDEX(HAMARA!I:I,MATCH(B1243,HAMARA!E:E,0))=0,\"\",INDEX(HAMARA!I:I,MATCH(B1243,HAMARA!E:E,0))),\"\")","v":""}]
[378,"ZT403",0,{"$f":"IFERROR(IF(INDEX(HAMARA!I:I,MATCH(B1244,HAMARA!E:E,0))=0,\"\",INDEX(HAMARA!I:I,MATCH(B1244,HAMARA!E:E,0))),\"\")","v":""}]
[378,"ZT404",0,{"$f":"IFERROR(IF(INDEX(HAMARA!I:I,MATCH(B1245,HAMARA!E:E,0))=0,\"\",INDEX(HAMARA!I:I,MATCH(B1245,HAMARA!E:E,0))),\"\")","v":""}]
[378,"ZT405",0,{"$f":"IFERROR(IF(INDEX(HAMARA!I:I,MATCH(B1246,HAMARA!E:E,0))=0,\"\",INDEX(HAMARA!I:I,MATCH(B1246,HAMARA!E:E,0))),\"\")","v":""}]
[378,"ZT406",0,{"$f":"IFERROR(IF(INDEX(HAMARA!I:I,MATCH(B1247,HAMARA!E:E,0))=0,\"\",INDEX(HAMARA!I:I,MATCH(B1247,HAMARA!E:E,0))),\"\")","v":""}]
[378,"ZT407",0,{"$f":"IFERROR(IF(INDEX(HAMARA!I:I,MATCH(B1248,HAMARA!E:E,0))=0,\"\",INDEX(HAMARA!I:I,MATCH(B1248,HAMARA!E:E,0))),\"\")","v":""}]
[378,"ZT408",0,{"$f":"IFERROR(IF(INDEX(HAMARA!I:I,MATCH(B1249,HAMARA!E:E,0))=0,\"\",INDEX(HAMARA!I:I,MATCH(B1249,HAMARA!E:E,0))),\"\")","v":""}]
[378,"ZT409",298.51100000000002,{"$f":"IFERROR(IF(INDEX(HAMARA!I:I,MATCH(B1250,HAMARA!E:E,0))=0,\"\",INDEX(HAMARA!I:I,MATCH(B1250,HAMARA!E:E,0))),\"\")","v":""}]
[378,"ZT410",0,{"$f":"IFERROR(IF(INDEX(HAMARA!I:I,MATCH(B1251,HAMARA!E:E,0))=0,\"\",INDEX(HAMARA!I:I,MATCH(B1251,HAMARA!E:E,0))),\"\")","v":""}]
[378,"ZT411",0,{"$f":"IFERROR(IF(INDEX(HAMARA!I:I,MATCH(B1252,HAMARA!E:E,0))=0,\"\",INDEX(HAMARA!I:I,MATCH(B1252,HAMARA!E:E,0))),\"\")","v":""}]
[378,"ZT412",6.0999999999999999E-2,{"$f":"IFERROR(IF(INDEX(HAMARA!I:I,MATCH(B1253,HAMARA!E:E,0))=0,\"\",INDEX(HAMARA!I:I,MATCH(B1253,HAMARA!E:E,0))),\"\")","v":""}]
[378,"ZT413",0,{"$f":"IFERROR(IF(INDEX(HAMARA!I:I,MATCH(B1254,HAMARA!E:E,0))=0,\"\",INDEX(HAMARA!I:I,MATCH(B1254,HAMARA!E:E,0))),\"\")","v":""}]
[378,"ZT414",0,{"$f":"IFERROR(IF(INDEX(HAMARA!I:I,MATCH(B1255,HAMARA!E:E,0))=0,\"\",INDEX(HAMARA!I:I,MATCH(B1255,HAMARA!E:E,0))),\"\")","v":""}]
[378,"ZT415",6.8000000000000005E-2,{"$f":"IFERROR(IF(INDEX(HAMARA!I:I,MATCH(B1256,HAMARA!E:E,0))=0,\"\",INDEX(HAMARA!I:I,MATCH(B1256,HAMARA!E:E,0))),\"\")","v":""}]
[378,"ZT416",1.0999999999999999E-2,{"$f":"IFERROR(IF(INDEX(HAMARA!I:I,MATCH(B1257,HAMARA!E:E,0))=0,\"\",INDEX(HAMARA!I:I,MATCH(B1257,HAMARA!E:E,0))),\"\")","v":""}]
[378,"ZT417",0,{"$f":"IFERROR(IF(INDEX(HAMARA!I:I,MATCH(B1258,HAMARA!E:E,0))=0,\"\",INDEX(HAMARA!I:I,MATCH(B1258,HAMARA!E:E,0))),\"\")","v":""}]
[378,"ZT418",0,{"$f":"IFERROR(IF(INDEX(HAMARA!I:I,MATCH(B1259,HAMARA!E:E,0))=0,\"\",INDEX(HAMARA!I:I,MATCH(B1259,HAMARA!E:E,0))),\"\")","v":""}]
[378,"ZT419",2E-3,{"$f":"IFERROR(IF(INDEX(HAMARA!I:I,MATCH(B1260,HAMARA!E:E,0))=0,\"\",INDEX(HAMARA!I:I,MATCH(B1260,HAMARA!E:E,0))),\"\")","v":""}]
[378,"ZT420",4.2000000000000003E-2,{"$f":"IFERROR(IF(INDEX(HAMARA!I:I,MATCH(B1261,HAMARA!E:E,0))=0,\"\",INDEX(HAMARA!I:I,MATCH(B1261,HAMARA!E:E,0))),\"\")","v":""}]
[378,"ZT421",8.6999999999999994E-2,{"$f":"IFERROR(IF(INDEX(HAMARA!I:I,MATCH(B1262,HAMARA!E:E,0))=0,\"\",INDEX(HAMARA!I:I,MATCH(B1262,HAMARA!E:E,0))),\"\")","v":""}]
[378,"ZT422",5.0000000000000001E-3,{"$f":"IFERROR(IF(INDEX(HAMARA!I:I,MATCH(B1263,HAMARA!E:E,0))=0,\"\",INDEX(HAMARA!I:I,MATCH(B1263,HAMARA!E:E,0))),\"\")","v":""}]
[378,"ZT423",7.9000000000000001E-2,{"$f":"IFERROR(IF(INDEX(HAMARA!I:I,MATCH(B1264,HAMARA!E:E,0))=0,\"\",INDEX(HAMARA!I:I,MATCH(B1264,HAMARA!E:E,0))),\"\")","v":""}]
[378,"ZT424",0,{"$f":"IFERROR(IF(INDEX(HAMARA!I:I,MATCH(B1265,HAMARA!E:E,0))=0,\"\",INDEX(HAMARA!I:I,MATCH(B1265,HAMARA!E:E,0))),\"\")","v":""}]
[378,"ZT425",0,{"$f":"IFERROR(IF(INDEX(HAMARA!I:I,MATCH(B1266,HAMARA!E:E,0))=0,\"\",INDEX(HAMARA!I:I,MATCH(B1266,HAMARA!E:E,0))),\"\")","v":""}]
[378,"ZT426",5.3999999999999999E-2,{"$f":"IFERROR(IF(INDEX(HAMARA!I:I,MATCH(B1267,HAMARA!E:E,0))=0,\"\",INDEX(HAMARA!I:I,MATCH(B1267,HAMARA!E:E,0))),\"\")","v":""}]
[378,"ZT427",7.9000000000000001E-2,{"$f":"IFERROR(IF(INDEX(HAMARA!I:I,MATCH(B1268,HAMARA!E:E,0))=0,\"\",INDEX(HAMARA!I:I,MATCH(B1268,HAMARA!E:E,0))),\"\")","v":""}]
[378,"ZT428",4.3999999999999997E-2,{"$f":"IFERROR(IF(INDEX(HAMARA!I:I,MATCH(B1269,HAMARA!E:E,0))=0,\"\",INDEX(HAMARA!I:I,MATCH(B1269,HAMARA!E:E,0))),\"\")","v":""}]
[378,"ZT429",0.20899999999999999,{"$f":"IFERROR(IF(INDEX(HAMARA!I:I,MATCH(B1270,HAMARA!E:E,0))=0,\"\",INDEX(HAMARA!I:I,MATCH(B1270,HAMARA!E:E,0))),\"\")","v":""}]
[378,"ZT430",0.44500000000000001,{"$f":"IFERROR(IF(INDEX(HAMARA!I:I,MATCH(B1271,HAMARA!E:E,0))=0,\"\",INDEX(HAMARA!I:I,MATCH(B1271,HAMARA!E:E,0))),\"\")","v":""}]
[378,"ZT501",0,{"$f":"IFERROR(IF(INDEX(HAMARA!I:I,MATCH(B1272,HAMARA!E:E,0))=0,\"\",INDEX(HAMARA!I:I,MATCH(B1272,HAMARA!E:E,0))),\"\")","v":""}]
[378,"ZT502",0,{"$f":"IFERROR(IF(INDEX(HAMARA!I:I,MATCH(B1273,HAMARA!E:E,0))=0,\"\",INDEX(HAMARA!I:I,MATCH(B1273,HAMARA!E:E,0))),\"\")","v":""}]
[378,"ZT503",0,{"$f":"IFERROR(IF(INDEX(HAMARA!I:I,MATCH(B1274,HAMARA!E:E,0))=0,\"\",INDEX(HAMARA!I:I,MATCH(B1274,HAMARA!E:E,0))),\"\")","v":""}]
[378,"ZT504",0,{"$f":"IFERROR(IF(INDEX(HAMARA!I:I,MATCH(B1275,HAMARA!E:E,0))=0,\"\",INDEX(HAMARA!I:I,MATCH(B1275,HAMARA!E:E,0))),\"\")","v":""}]
[378,"ZT505",0.52400000000000002,{"$f":"IFERROR(IF(INDEX(HAMARA!I:I,MATCH(B1276,HAMARA!E:E,0))=0,\"\",INDEX(HAMARA!I:I,MATCH(B1276,HAMARA!E:E,0))),\"\")","v":""}]
[378,"ZT506",0,{"$f":"IFERROR(IF(INDEX(HAMARA!I:I,MATCH(B1277,HAMARA!E:E,0))=0,\"\",INDEX(HAMARA!I:I,MATCH(B1277,HAMARA!E:E,0))),\"\")","v":""}]
[378,"ZT507",0,{"$f":"IFERROR(IF(INDEX(HAMARA!I:I,MATCH(B1278,HAMARA!E:E,0))=0,\"\",INDEX(HAMARA!I:I,MATCH(B1278,HAMARA!E:E,0))),\"\")","v":""}]
[378,"ZT508",-0.109,{"$f":"IFERROR(IF(INDEX(HAMARA!I:I,MATCH(B1279,HAMARA!E:E,0))=0,\"\",INDEX(HAMARA!I:I,MATCH(B1279,HAMARA!E:E,0))),\"\")","v":""}]
[378,"ZT509",0.26900000000000002,{"$f":"IFERROR(IF(INDEX(HAMARA!I:I,MATCH(B1280,HAMARA!E:E,0))=0,\"\",INDEX(HAMARA!I:I,MATCH(B1280,HAMARA!E:E,0))),\"\")","v":""}]
[378,"ZT510",0,{"$f":"IFERROR(IF(INDEX(HAMARA!I:I,MATCH(B1281,HAMARA!E:E,0))=0,\"\",INDEX(HAMARA!I:I,MATCH(B1281,HAMARA!E:E,0))),\"\")","v":""}]
[378,"ZT511",0,{"$f":"IFERROR(IF(INDEX(HAMARA!I:I,MATCH(B1282,HAMARA!E:E,0))=0,\"\",INDEX(HAMARA!I:I,MATCH(B1282,HAMARA!E:E,0))),\"\")","v":""}]
[378,"ZT512",-0.81799999999999995,{"$f":"IFERROR(IF(INDEX(HAMARA!I:I,MATCH(B1283,HAMARA!E:E,0))=0,\"\",INDEX(HAMARA!I:I,MATCH(B1283,HAMARA!E:E,0))),\"\")","v":""}]
[378,"ZT513",0,{"$f":"IFERROR(IF(INDEX(HAMARA!I:I,MATCH(B1284,HAMARA!E:E,0))=0,\"\",INDEX(HAMARA!I:I,MATCH(B1284,HAMARA!E:E,0))),\"\")","v":""}]
[378,"ZT514",0,{"$f":"IFERROR(IF(INDEX(HAMARA!I:I,MATCH(B1285,HAMARA!E:E,0))=0,\"\",INDEX(HAMARA!I:I,MATCH(B1285,HAMARA!E:E,0))),\"\")","v":""}]
[378,"ZT515",0.86099999999999999,{"$f":"IFERROR(IF(INDEX(HAMARA!I:I,MATCH(B1286,HAMARA!E:E,0))=0,\"\",INDEX(HAMARA!I:I,MATCH(B1286,HAMARA!E:E,0))),\"\")","v":""}]
[378,"ZT516",-0.183,{"$f":"IFERROR(IF(INDEX(HAMARA!I:I,MATCH(B1287,HAMARA!E:E,0))=0,\"\",INDEX(HAMARA!I:I,MATCH(B1287,HAMARA!E:E,0))),\"\")","v":""}]
[378,"ZT517",0,{"$f":"IFERROR(IF(INDEX(HAMARA!I:I,MATCH(B1288,HAMARA!E:E,0))=0,\"\",INDEX(HAMARA!I:I,MATCH(B1288,HAMARA!E:E,0))),\"\")","v":""}]
[378,"ZT518",0,{"$f":"IFERROR(IF(INDEX(HAMARA!I:I,MATCH(B1289,HAMARA!E:E,0))=0,\"\",INDEX(HAMARA!I:I,MATCH(B1289,HAMARA!E:E,0))),\"\")","v":""}]
[378,"ZT519",-0.25,{"$f":"IFERROR(IF(INDEX(HAMARA!I:I,MATCH(B1290,HAMARA!E:E,0))=0,\"\",INDEX(HAMARA!I:I,MATCH(B1290,HAMARA!E:E,0))),\"\")","v":""}]
[378,"ZT520",0.443,{"$f":"IFERROR(IF(INDEX(HAMARA!I:I,MATCH(B1291,HAMARA!E:E,0))=0,\"\",INDEX(HAMARA!I:I,MATCH(B1291,HAMARA!E:E,0))),\"\")","v":""}]
[378,"ZT521",-0.29799999999999999,{"$f":"IFERROR(IF(INDEX(HAMARA!I:I,MATCH(B1292,HAMARA!E:E,0))=0,\"\",INDEX(HAMARA!I:I,MATCH(B1292,HAMARA!E:E,0))),\"\")","v":""}]
[378,"ZT522",-0.122,{"$f":"IFERROR(IF(INDEX(HAMARA!I:I,MATCH(B1293,HAMARA!E:E,0))=0,\"\",INDEX(HAMARA!I:I,MATCH(B1293,HAMARA!E:E,0))),\"\")","v":""}]
[378,"ZT523",0.42299999999999999,{"$f":"IFERROR(IF(INDEX(HAMARA!I:I,MATCH(B1294,HAMARA!E:E,0))=0,\"\",INDEX(HAMARA!I:I,MATCH(B1294,HAMARA!E:E,0))),\"\")","v":""}]
[378,"ZT524",0,{"$f":"IFERROR(IF(INDEX(HAMARA!I:I,MATCH(B1295,HAMARA!E:E,0))=0,\"\",INDEX(HAMARA!I:I,MATCH(B1295,HAMARA!E:E,0))),\"\")","v":""}]
[378,"ZT525",0,{"$f":"IFERROR(IF(INDEX(HAMARA!I:I,MATCH(B1296,HAMARA!E:E,0))=0,\"\",INDEX(HAMARA!I:I,MATCH(B1296,HAMARA!E:E,0))),\"\")","v":""}]
[378,"ZT526",0.28999999999999998,{"$f":"IFERROR(IF(INDEX(HAMARA!I:I,MATCH(B1297,HAMARA!E:E,0))=0,\"\",INDEX(HAMARA!I:I,MATCH(B1297,HAMARA!E:E,0))),\"\")","v":""}]
[378,"ZT527",0.11,{"$f":"IFERROR(IF(INDEX(HAMARA!I:I,MATCH(B1298,HAMARA!E:E,0))=0,\"\",INDEX(HAMARA!I:I,MATCH(B1298,HAMARA!E:E,0))),\"\")","v":""}]
[378,"ZT528",-9.5000000000000001E-2,{"$f":"IFERROR(IF(INDEX(HAMARA!I:I,MATCH(B1299,HAMARA!E:E,0))=0,\"\",INDEX(HAMARA!I:I,MATCH(B1299,HAMARA!E:E,0))),\"\")","v":""}]
[378,"ZT529",0.27,{"$f":"IFERROR(IF(INDEX(HAMARA!I:I,MATCH(B1300,HAMARA!E:E,0))=0,\"\",INDEX(HAMARA!I:I,MATCH(B1300,HAMARA!E:E,0))),\"\")","v":""}]
[378,"ZT530",-0.17699999999999999,{"$f":"IFERROR(IF(INDEX(HAMARA!I:I,MATCH(B1301,HAMARA!E:E,0))=0,\"\",INDEX(HAMARA!I:I,MATCH(B1301,HAMARA!E:E,0))),\"\")","v":""}]
[378,"KT650",88961856005,{"$f":"IFERROR(IF(INDEX(HAMARA!I:I,MATCH(B1302,HAMARA!E:E,0))=0,\"\",INDEX(HAMARA!I:I,MATCH(B1302,HAMARA!E:E,0))),\"\")","v":""}]
[378,"KT651",61234882201,{"$f":"IFERROR(IF(INDEX(HAMARA!I:I,MATCH(B1303,HAMARA!E:E,0))=0,\"\",INDEX(HAMARA!I:I,MATCH(B1303,HAMARA!E:E,0))),\"\")","v":""}]
[378,"FT650",520018078,{"$f":"IFERROR(IF(INDEX(HAMARA!I:I,MATCH(B1304,HAMARA!E:E,0))=0,\"\",INDEX(HAMARA!I:I,MATCH(B1304,HAMARA!E:E,0))),\"\")","v":""}]
[378,"FT651",520018078,{"$f":"IFERROR(IF(INDEX(HAMARA!I:I,MATCH(B1305,HAMARA!E:E,0))=0,\"\",INDEX(HAMARA!I:I,MATCH(B1305,HAMARA!E:E,0))),\"\")","v":""}]
[378,"KT770",2,{"$f":"IFERROR(IF(INDEX(HAMARA!I:I,MATCH(B1306,HAMARA!E:E,0))=0,\"\",INDEX(HAMARA!I:I,MATCH(B1306,HAMARA!E:E,0))),\"\")","v":""}]
[378,"KT771",8,{"$f":"IFERROR(IF(INDEX(HAMARA!I:I,MATCH(B1307,HAMARA!E:E,0))=0,\"\",INDEX(HAMARA!I:I,MATCH(B1307,HAMARA!E:E,0))),\"\")","v":""}]
[378,"KT772",0,{"$f":"IFERROR(IF(INDEX(HAMARA!I:I,MATCH(B1308,HAMARA!E:E,0))=0,\"\",INDEX(HAMARA!I:I,MATCH(B1308,HAMARA!E:E,0))),\"\")","v":""}]
[378,"KT773",0,{"$f":"IFERROR(IF(INDEX(HAMARA!I:I,MATCH(B1309,HAMARA!E:E,0))=0,\"\",INDEX(HAMARA!I:I,MATCH(B1309,HAMARA!E:E,0))),\"\")","v":""}]
[378,"KT774",0,{"$f":"IFERROR(IF(INDEX(HAMARA!I:I,MATCH(B1310,HAMARA!E:E,0))=0,\"\",INDEX(HAMARA!I:I,MATCH(B1310,HAMARA!E:E,0))),\"\")","v":""}]
[378,"KT775",0,{"$f":"IFERROR(IF(INDEX(HAMARA!I:I,MATCH(B1311,HAMARA!E:E,0))=0,\"\",INDEX(HAMARA!I:I,MATCH(B1311,HAMARA!E:E,0))),\"\")","v":""}]
[378,"KT776",0,{"$f":"IFERROR(IF(INDEX(HAMARA!I:I,MATCH(B1312,HAMARA!E:E,0))=0,\"\",INDEX(HAMARA!I:I,MATCH(B1312,HAMARA!E:E,0))),\"\")","v":""}]
[378,"KT777",0,{"$f":"IFERROR(IF(INDEX(HAMARA!I:I,MATCH(B1313,HAMARA!E:E,0))=0,\"\",INDEX(HAMARA!I:I,MATCH(B1313,HAMARA!E:E,0))),\"\")","v":""}]
[378,"KT778",0,{"$f":"IFERROR(IF(INDEX(HAMARA!I:I,MATCH(B1314,HAMARA!E:E,0))=0,\"\",INDEX(HAMARA!I:I,MATCH(B1314,HAMARA!E:E,0))),\"\")","v":""}]
[378,"KT779",0,{"$f":"IFERROR(IF(INDEX(HAMARA!I:I,MATCH(B1315,HAMARA!E:E,0))=0,\"\",INDEX(HAMARA!I:I,MATCH(B1315,HAMARA!E:E,0))),\"\")","v":""}]
[378,"KT780",0,{"$f":"IFERROR(IF(INDEX(HAMARA!I:I,MATCH(B1316,HAMARA!E:E,0))=0,\"\",INDEX(HAMARA!I:I,MATCH(B1316,HAMARA!E:E,0))),\"\")","v":""}]
[378,"KT781",0,{"$f":"IFERROR(IF(INDEX(HAMARA!I:I,MATCH(B1317,HAMARA!E:E,0))=0,\"\",INDEX(HAMARA!I:I,MATCH(B1317,HAMARA!E:E,0))),\"\")","v":""}]
[378,"KT782",0,{"$f":"IFERROR(IF(INDEX(HAMARA!I:I,MATCH(B1318,HAMARA!E:E,0))=0,\"\",INDEX(HAMARA!I:I,MATCH(B1318,HAMARA!E:E,0))),\"\")","v":""}]
[378,"KT783",0,{"$f":"IFERROR(IF(INDEX(HAMARA!I:I,MATCH(B1319,HAMARA!E:E,0))=0,\"\",INDEX(HAMARA!I:I,MATCH(B1319,HAMARA!E:E,0))),\"\")","v":""}]
[378,"KT784",0,{"$f":"IFERROR(IF(INDEX(HAMARA!I:I,MATCH(B1320,HAMARA!E:E,0))=0,\"\",INDEX(HAMARA!I:I,MATCH(B1320,HAMARA!E:E,0))),\"\")","v":""}]
[378,"KT785",0,{"$f":"IFERROR(IF(INDEX(HAMARA!I:I,MATCH(B1321,HAMARA!E:E,0))=0,\"\",INDEX(HAMARA!I:I,MATCH(B1321,HAMARA!E:E,0))),\"\")","v":""}]
[378,"KT786",0,{"$f":"IFERROR(IF(INDEX(HAMARA!I:I,MATCH(B1322,HAMARA!E:E,0))=0,\"\",INDEX(HAMARA!I:I,MATCH(B1322,HAMARA!E:E,0))),\"\")","v":""}]
[378,"KT787",0,{"$f":"IFERROR(IF(INDEX(HAMARA!I:I,MATCH(B1323,HAMARA!E:E,0))=0,\"\",INDEX(HAMARA!I:I,MATCH(B1323,HAMARA!E:E,0))),\"\")","v":""}]
[378,"KT788",0,{"$f":"IFERROR(IF(INDEX(HAMARA!I:I,MATCH(B1324,HAMARA!E:E,0))=0,\"\",INDEX(HAMARA!I:I,MATCH(B1324,HAMARA!E:E,0))),\"\")","v":""}]
[378,"KT789",0,{"$f":"IFERROR(IF(INDEX(HAMARA!I:I,MATCH(B1325,HAMARA!E:E,0))=0,\"\",INDEX(HAMARA!I:I,MATCH(B1325,HAMARA!E:E,0))),\"\")","v":""}]
[378,"KT790",0,{"$f":"IFERROR(IF(INDEX(HAMARA!I:I,MATCH(B1326,HAMARA!E:E,0))=0,\"\",INDEX(HAMARA!I:I,MATCH(B1326,HAMARA!E:E,0))),\"\")","v":""}]
[378,"KT791",0,{"$f":"IFERROR(IF(INDEX(HAMARA!I:I,MATCH(B1327,HAMARA!E:E,0))=0,\"\",INDEX(HAMARA!I:I,MATCH(B1327,HAMARA!E:E,0))),\"\")","v":""}]
[378,"KT792",0,{"$f":"IFERROR(IF(INDEX(HAMARA!I:I,MATCH(B1328,HAMARA!E:E,0))=0,\"\",INDEX(HAMARA!I:I,MATCH(B1328,HAMARA!E:E,0))),\"\")","v":""}]
[378,"KT793",0,{"$f":"IFERROR(IF(INDEX(HAMARA!I:I,MATCH(B1329,HAMARA!E:E,0))=0,\"\",INDEX(HAMARA!I:I,MATCH(B1329,HAMARA!E:E,0))),\"\")","v":""}]
[378,"KT794",0,{"$f":"IFERROR(IF(INDEX(HAMARA!I:I,MATCH(B1330,HAMARA!E:E,0))=0,\"\",INDEX(HAMARA!I:I,MATCH(B1330,HAMARA!E:E,0))),\"\")","v":""}]
[378,"KT795",0,{"$f":"IFERROR(IF(INDEX(HAMARA!I:I,MATCH(B1331,HAMARA!E:E,0))=0,\"\",INDEX(HAMARA!I:I,MATCH(B1331,HAMARA!E:E,0))),\"\")","v":""}]
[378,"KT796",0,{"$f":"IFERROR(IF(INDEX(HAMARA!I:I,MATCH(B1332,HAMARA!E:E,0))=0,\"\",INDEX(HAMARA!I:I,MATCH(B1332,HAMARA!E:E,0))),\"\")","v":""}]
[378,"KT797",0,{"$f":"IFERROR(IF(INDEX(HAMARA!I:I,MATCH(B1333,HAMARA!E:E,0))=0,\"\",INDEX(HAMARA!I:I,MATCH(B1333,HAMARA!E:E,0))),\"\")","v":""}]
[378,"KT798",0,{"$f":"IFERROR(IF(INDEX(HAMARA!I:I,MATCH(B1334,HAMARA!E:E,0))=0,\"\",INDEX(HAMARA!I:I,MATCH(B1334,HAMARA!E:E,0))),\"\")","v":""}]
[378,"KT799",0,{"$f":"IFERROR(IF(INDEX(HAMARA!I:I,MATCH(B1335,HAMARA!E:E,0))=0,\"\",INDEX(HAMARA!I:I,MATCH(B1335,HAMARA!E:E,0))),\"\")","v":""}]
[378,"KT840",0,{"$f":"IFERROR(IF(INDEX(HAMARA!I:I,MATCH(B1336,HAMARA!E:E,0))=0,\"\",INDEX(HAMARA!I:I,MATCH(B1336,HAMARA!E:E,0))),\"\")","v":""}]
[378,"KT841",0,{"$f":"IFERROR(IF(INDEX(HAMARA!I:I,MATCH(B1337,HAMARA!E:E,0))=0,\"\",INDEX(HAMARA!I:I,MATCH(B1337,HAMARA!E:E,0))),\"\")","v":""}]
[378,"KT842",0,{"$f":"IFERROR(IF(INDEX(HAMARA!I:I,MATCH(B1338,HAMARA!E:E,0))=0,\"\",INDEX(HAMARA!I:I,MATCH(B1338,HAMARA!E:E,0))),\"\")","v":""}]
[378,"KT843",0,{"$f":"IFERROR(IF(INDEX(HAMARA!I:I,MATCH(B1339,HAMARA!E:E,0))=0,\"\",INDEX(HAMARA!I:I,MATCH(B1339,HAMARA!E:E,0))),\"\")","v":""}]
[378,"KT844",0,{"$f":"IFERROR(IF(INDEX(HAMARA!I:I,MATCH(B1340,HAMARA!E:E,0))=0,\"\",INDEX(HAMARA!I:I,MATCH(B1340,HAMARA!E:E,0))),\"\")","v":""}]
[378,"KT845",0,{"$f":"IFERROR(IF(INDEX(HAMARA!I:I,MATCH(B1341,HAMARA!E:E,0))=0,\"\",INDEX(HAMARA!I:I,MATCH(B1341,HAMARA!E:E,0))),\"\")","v":""}]
[378,"KT846",0,{"$f":"IFERROR(IF(INDEX(HAMARA!I:I,MATCH(B1342,HAMARA!E:E,0))=0,\"\",INDEX(HAMARA!I:I,MATCH(B1342,HAMARA!E:E,0))),\"\")","v":""}]
[378,"KT847",0,{"$f":"IFERROR(IF(INDEX(HAMARA!I:I,MATCH(B1343,HAMARA!E:E,0))=0,\"\",INDEX(HAMARA!I:I,MATCH(B1343,HAMARA!E:E,0))),\"\")","v":""}]
[378,"KT848",0,{"$f":"IFERROR(IF(INDEX(HAMARA!I:I,MATCH(B1344,HAMARA!E:E,0))=0,\"\",INDEX(HAMARA!I:I,MATCH(B1344,HAMARA!E:E,0))),\"\")","v":""}]
[378,"KT849",0,{"$f":"IFERROR(IF(INDEX(HAMARA!I:I,MATCH(B1345,HAMARA!E:E,0))=0,\"\",INDEX(HAMARA!I:I,MATCH(B1345,HAMARA!E:E,0))),\"\")","v":""}]
[378,"KT880",0,{"$f":"IFERROR(IF(INDEX(HAMARA!I:I,MATCH(B1346,HAMARA!E:E,0))=0,\"\",INDEX(HAMARA!I:I,MATCH(B1346,HAMARA!E:E,0))),\"\")","v":""}]
[378,"KT881",0,{"$f":"IFERROR(IF(INDEX(HAMARA!I:I,MATCH(B1347,HAMARA!E:E,0))=0,\"\",INDEX(HAMARA!I:I,MATCH(B1347,HAMARA!E:E,0))),\"\")","v":""}]
[378,"KT882",0,{"$f":"IFERROR(IF(INDEX(HAMARA!I:I,MATCH(B1348,HAMARA!E:E,0))=0,\"\",INDEX(HAMARA!I:I,MATCH(B1348,HAMARA!E:E,0))),\"\")","v":""}]
[378,"KT883",0,{"$f":"IFERROR(IF(INDEX(HAMARA!I:I,MATCH(B1349,HAMARA!E:E,0))=0,\"\",INDEX(HAMARA!I:I,MATCH(B1349,HAMARA!E:E,0))),\"\")","v":""}]
[378,"KT884",0,{"$f":"IFERROR(IF(INDEX(HAMARA!I:I,MATCH(B1350,HAMARA!E:E,0))=0,\"\",INDEX(HAMARA!I:I,MATCH(B1350,HAMARA!E:E,0))),\"\")","v":""}]
[378,"KT885",0,{"$f":"IFERROR(IF(INDEX(HAMARA!I:I,MATCH(B1351,HAMARA!E:E,0))=0,\"\",INDEX(HAMARA!I:I,MATCH(B1351,HAMARA!E:E,0))),\"\")","v":""}]
[378,"KT886",0,{"$f":"IFERROR(IF(INDEX(HAMARA!I:I,MATCH(B1352,HAMARA!E:E,0))=0,\"\",INDEX(HAMARA!I:I,MATCH(B1352,HAMARA!E:E,0))),\"\")","v":""}]
[378,"KT887",0,{"$f":"IFERROR(IF(INDEX(HAMARA!I:I,MATCH(B1353,HAMARA!E:E,0))=0,\"\",INDEX(HAMARA!I:I,MATCH(B1353,HAMARA!E:E,0))),\"\")","v":""}]
[378,"KT888",0,{"$f":"IFERROR(IF(INDEX(HAMARA!I:I,MATCH(B1354,HAMARA!E:E,0))=0,\"\",INDEX(HAMARA!I:I,MATCH(B1354,HAMARA!E:E,0))),\"\")","v":""}]
[378,"KT889",0,{"$f":"IFERROR(IF(INDEX(HAMARA!I:I,MATCH(B1355,HAMARA!E:E,0))=0,\"\",INDEX(HAMARA!I:I,MATCH(B1355,HAMARA!E:E,0))),\"\")","v":""}]
[378,"KT890",0,{"$f":"IFERROR(IF(INDEX(HAMARA!I:I,MATCH(B1356,HAMARA!E:E,0))=0,\"\",INDEX(HAMARA!I:I,MATCH(B1356,HAMARA!E:E,0))),\"\")","v":""}]
[378,"KT891",0,{"$f":"IFERROR(IF(INDEX(HAMARA!I:I,MATCH(B1357,HAMARA!E:E,0))=0,\"\",INDEX(HAMARA!I:I,MATCH(B1357,HAMARA!E:E,0))),\"\")","v":""}]
[378,"KT892",0,{"$f":"IFERROR(IF(INDEX(HAMARA!I:I,MATCH(B1358,HAMARA!E:E,0))=0,\"\",INDEX(HAMARA!I:I,MATCH(B1358,HAMARA!E:E,0))),\"\")","v":""}]
[378,"KT893",0,{"$f":"IFERROR(IF(INDEX(HAMARA!I:I,MATCH(B1359,HAMARA!E:E,0))=0,\"\",INDEX(HAMARA!I:I,MATCH(B1359,HAMARA!E:E,0))),\"\")","v":""}]
[378,"KT894",0,{"$f":"IFERROR(IF(INDEX(HAMARA!I:I,MATCH(B1360,HAMARA!E:E,0))=0,\"\",INDEX(HAMARA!I:I,MATCH(B1360,HAMARA!E:E,0))),\"\")","v":""}]
[378,"KT895",0,{"$f":"IFERROR(IF(INDEX(HAMARA!I:I,MATCH(B1361,HAMARA!E:E,0))=0,\"\",INDEX(HAMARA!I:I,MATCH(B1361,HAMARA!E:E,0))),\"\")","v":""}]
[378,"KT896",0,{"$f":"IFERROR(IF(INDEX(HAMARA!I:I,MATCH(B1362,HAMARA!E:E,0))=0,\"\",INDEX(HAMARA!I:I,MATCH(B1362,HAMARA!E:E,0))),\"\")","v":""}]
[378,"KT897",0,{"$f":"IFERROR(IF(INDEX(HAMARA!I:I,MATCH(B1363,HAMARA!E:E,0))=0,\"\",INDEX(HAMARA!I:I,MATCH(B1363,HAMARA!E:E,0))),\"\")","v":""}]
[378,"KT898",0,{"$f":"IFERROR(IF(INDEX(HAMARA!I:I,MATCH(B1364,HAMARA!E:E,0))=0,\"\",INDEX(HAMARA!I:I,MATCH(B1364,HAMARA!E:E,0))),\"\")","v":""}]
[378,"KT899",0,{"$f":"IFERROR(IF(INDEX(HAMARA!I:I,MATCH(B1365,HAMARA!E:E,0))=0,\"\",INDEX(HAMARA!I:I,MATCH(B1365,HAMARA!E:E,0))),\"\")","v":""}]
[378,"KT800",0,{"$f":"IFERROR(IF(INDEX(HAMARA!I:I,MATCH(B1366,HAMARA!E:E,0))=0,\"\",INDEX(HAMARA!I:I,MATCH(B1366,HAMARA!E:E,0))),\"\")","v":""}]
[378,"KT801",0,{"$f":"IFERROR(IF(INDEX(HAMARA!I:I,MATCH(B1367,HAMARA!E:E,0))=0,\"\",INDEX(HAMARA!I:I,MATCH(B1367,HAMARA!E:E,0))),\"\")","v":""}]
[378,"KT802",0,{"$f":"IFERROR(IF(INDEX(HAMARA!I:I,MATCH(B1368,HAMARA!E:E,0))=0,\"\",INDEX(HAMARA!I:I,MATCH(B1368,HAMARA!E:E,0))),\"\")","v":""}]
[378,"KT803",0,{"$f":"IFERROR(IF(INDEX(HAMARA!I:I,MATCH(B1369,HAMARA!E:E,0))=0,\"\",INDEX(HAMARA!I:I,MATCH(B1369,HAMARA!E:E,0))),\"\")","v":""}]
[378,"KT804",0,{"$f":"IFERROR(IF(INDEX(HAMARA!I:I,MATCH(B1370,HAMARA!E:E,0))=0,\"\",INDEX(HAMARA!I:I,MATCH(B1370,HAMARA!E:E,0))),\"\")","v":""}]
[378,"KT805",0,{"$f":"IFERROR(IF(INDEX(HAMARA!I:I,MATCH(B1371,HAMARA!E:E,0))=0,\"\",INDEX(HAMARA!I:I,MATCH(B1371,HAMARA!E:E,0))),\"\")","v":""}]
[378,"KT806",0,{"$f":"IFERROR(IF(INDEX(HAMARA!I:I,MATCH(B1372,HAMARA!E:E,0))=0,\"\",INDEX(HAMARA!I:I,MATCH(B1372,HAMARA!E:E,0))),\"\")","v":""}]
[378,"KT807",0,{"$f":"IFERROR(IF(INDEX(HAMARA!I:I,MATCH(B1373,HAMARA!E:E,0))=0,\"\",INDEX(HAMARA!I:I,MATCH(B1373,HAMARA!E:E,0))),\"\")","v":""}]
[378,"KT808",0,{"$f":"IFERROR(IF(INDEX(HAMARA!I:I,MATCH(B1374,HAMARA!E:E,0))=0,\"\",INDEX(HAMARA!I:I,MATCH(B1374,HAMARA!E:E,0))),\"\")","v":""}]
[378,"KT809",0,{"$f":"IFERROR(IF(INDEX(HAMARA!I:I,MATCH(B1375,HAMARA!E:E,0))=0,\"\",INDEX(HAMARA!I:I,MATCH(B1375,HAMARA!E:E,0))),\"\")","v":""}]
[378,"KT810",0,{"$f":"IFERROR(IF(INDEX(HAMARA!I:I,MATCH(B1376,HAMARA!E:E,0))=0,\"\",INDEX(HAMARA!I:I,MATCH(B1376,HAMARA!E:E,0))),\"\")","v":""}]
[378,"KT811",0,{"$f":"IFERROR(IF(INDEX(HAMARA!I:I,MATCH(B1377,HAMARA!E:E,0))=0,\"\",INDEX(HAMARA!I:I,MATCH(B1377,HAMARA!E:E,0))),\"\")","v":""}]
[378,"KT812",0,{"$f":"IFERROR(IF(INDEX(HAMARA!I:I,MATCH(B1378,HAMARA!E:E,0))=0,\"\",INDEX(HAMARA!I:I,MATCH(B1378,HAMARA!E:E,0))),\"\")","v":""}]
[378,"KT813",0,{"$f":"IFERROR(IF(INDEX(HAMARA!I:I,MATCH(B1379,HAMARA!E:E,0))=0,\"\",INDEX(HAMARA!I:I,MATCH(B1379,HAMARA!E:E,0))),\"\")","v":""}]
[378,"KT814",0,{"$f":"IFERROR(IF(INDEX(HAMARA!I:I,MATCH(B1380,HAMARA!E:E,0))=0,\"\",INDEX(HAMARA!I:I,MATCH(B1380,HAMARA!E:E,0))),\"\")","v":""}]
[378,"KT815",0,{"$f":"IFERROR(IF(INDEX(HAMARA!I:I,MATCH(B1381,HAMARA!E:E,0))=0,\"\",INDEX(HAMARA!I:I,MATCH(B1381,HAMARA!E:E,0))),\"\")","v":""}]
[378,"KT816",0,{"$f":"IFERROR(IF(INDEX(HAMARA!I:I,MATCH(B1382,HAMARA!E:E,0))=0,\"\",INDEX(HAMARA!I:I,MATCH(B1382,HAMARA!E:E,0))),\"\")","v":""}]
[378,"KT817",0,{"$f":"IFERROR(IF(INDEX(HAMARA!I:I,MATCH(B1383,HAMARA!E:E,0))=0,\"\",INDEX(HAMARA!I:I,MATCH(B1383,HAMARA!E:E,0))),\"\")","v":""}]
[378,"KT818",0,{"$f":"IFERROR(IF(INDEX(HAMARA!I:I,MATCH(B1384,HAMARA!E:E,0))=0,\"\",INDEX(HAMARA!I:I,MATCH(B1384,HAMARA!E:E,0))),\"\")","v":""}]
[378,"KT819",0,{"$f":"IFERROR(IF(INDEX(HAMARA!I:I,MATCH(B1385,HAMARA!E:E,0))=0,\"\",INDEX(HAMARA!I:I,MATCH(B1385,HAMARA!E:E,0))),\"\")","v":""}]
[378,"KT820",0,{"$f":"IFERROR(IF(INDEX(HAMARA!I:I,MATCH(B1386,HAMARA!E:E,0))=0,\"\",INDEX(HAMARA!I:I,MATCH(B1386,HAMARA!E:E,0))),\"\")","v":""}]
[378,"KT821",0,{"$f":"IFERROR(IF(INDEX(HAMARA!I:I,MATCH(B1387,HAMARA!E:E,0))=0,\"\",INDEX(HAMARA!I:I,MATCH(B1387,HAMARA!E:E,0))),\"\")","v":""}]
[378,"KT822",0,{"$f":"IFERROR(IF(INDEX(HAMARA!I:I,MATCH(B1388,HAMARA!E:E,0))=0,\"\",INDEX(HAMARA!I:I,MATCH(B1388,HAMARA!E:E,0))),\"\")","v":""}]
[378,"KT823",0,{"$f":"IFERROR(IF(INDEX(HAMARA!I:I,MATCH(B1389,HAMARA!E:E,0))=0,\"\",INDEX(HAMARA!I:I,MATCH(B1389,HAMARA!E:E,0))),\"\")","v":""}]
[378,"KT824",0,{"$f":"IFERROR(IF(INDEX(HAMARA!I:I,MATCH(B1390,HAMARA!E:E,0))=0,\"\",INDEX(HAMARA!I:I,MATCH(B1390,HAMARA!E:E,0))),\"\")","v":""}]
[378,"KT825",0,{"$f":"IFERROR(IF(INDEX(HAMARA!I:I,MATCH(B1391,HAMARA!E:E,0))=0,\"\",INDEX(HAMARA!I:I,MATCH(B1391,HAMARA!E:E,0))),\"\")","v":""}]
[378,"KT826",0,{"$f":"IFERROR(IF(INDEX(HAMARA!I:I,MATCH(B1392,HAMARA!E:E,0))=0,\"\",INDEX(HAMARA!I:I,MATCH(B1392,HAMARA!E:E,0))),\"\")","v":""}]
[378,"KT827",0,{"$f":"IFERROR(IF(INDEX(HAMARA!I:I,MATCH(B1393,HAMARA!E:E,0))=0,\"\",INDEX(HAMARA!I:I,MATCH(B1393,HAMARA!E:E,0))),\"\")","v":""}]
[378,"KT828",0,{"$f":"IFERROR(IF(INDEX(HAMARA!I:I,MATCH(B1394,HAMARA!E:E,0))=0,\"\",INDEX(HAMARA!I:I,MATCH(B1394,HAMARA!E:E,0))),\"\")","v":""}]
[378,"KT829",0,{"$f":"IFERROR(IF(INDEX(HAMARA!I:I,MATCH(B1395,HAMARA!E:E,0))=0,\"\",INDEX(HAMARA!I:I,MATCH(B1395,HAMARA!E:E,0))),\"\")","v":""}]
[378,"KT850",0,{"$f":"IFERROR(IF(INDEX(HAMARA!I:I,MATCH(B1396,HAMARA!E:E,0))=0,\"\",INDEX(HAMARA!I:I,MATCH(B1396,HAMARA!E:E,0))),\"\")","v":""}]
[378,"KT851",0,{"$f":"IFERROR(IF(INDEX(HAMARA!I:I,MATCH(B1397,HAMARA!E:E,0))=0,\"\",INDEX(HAMARA!I:I,MATCH(B1397,HAMARA!E:E,0))),\"\")","v":""}]
[378,"KT852",0,{"$f":"IFERROR(IF(INDEX(HAMARA!I:I,MATCH(B1398,HAMARA!E:E,0))=0,\"\",INDEX(HAMARA!I:I,MATCH(B1398,HAMARA!E:E,0))),\"\")","v":""}]
[378,"KT853",0,{"$f":"IFERROR(IF(INDEX(HAMARA!I:I,MATCH(B1399,HAMARA!E:E,0))=0,\"\",INDEX(HAMARA!I:I,MATCH(B1399,HAMARA!E:E,0))),\"\")","v":""}]
[378,"KT854",0,{"$f":"IFERROR(IF(INDEX(HAMARA!I:I,MATCH(B1400,HAMARA!E:E,0))=0,\"\",INDEX(HAMARA!I:I,MATCH(B1400,HAMARA!E:E,0))),\"\")","v":""}]
[378,"KT855",0,{"$f":"IFERROR(IF(INDEX(HAMARA!I:I,MATCH(B1401,HAMARA!E:E,0))=0,\"\",INDEX(HAMARA!I:I,MATCH(B1401,HAMARA!E:E,0))),\"\")","v":""}]
[378,"KT856",0,{"$f":"IFERROR(IF(INDEX(HAMARA!I:I,MATCH(B1402,HAMARA!E:E,0))=0,\"\",INDEX(HAMARA!I:I,MATCH(B1402,HAMARA!E:E,0))),\"\")","v":""}]
[378,"KT857",0,{"$f":"IFERROR(IF(INDEX(HAMARA!I:I,MATCH(B1403,HAMARA!E:E,0))=0,\"\",INDEX(HAMARA!I:I,MATCH(B1403,HAMARA!E:E,0))),\"\")","v":""}]
[378,"KT858",0,{"$f":"IFERROR(IF(INDEX(HAMARA!I:I,MATCH(B1404,HAMARA!E:E,0))=0,\"\",INDEX(HAMARA!I:I,MATCH(B1404,HAMARA!E:E,0))),\"\")","v":""}]
[378,"KT859",0,{"$f":"IFERROR(IF(INDEX(HAMARA!I:I,MATCH(B1405,HAMARA!E:E,0))=0,\"\",INDEX(HAMARA!I:I,MATCH(B1405,HAMARA!E:E,0))),\"\")","v":""}]
[378,"KT900",0,{"$f":"IFERROR(IF(INDEX(HAMARA!I:I,MATCH(B1406,HAMARA!E:E,0))=0,\"\",INDEX(HAMARA!I:I,MATCH(B1406,HAMARA!E:E,0))),\"\")","v":""}]
[378,"KT901",0,{"$f":"IFERROR(IF(INDEX(HAMARA!I:I,MATCH(B1407,HAMARA!E:E,0))=0,\"\",INDEX(HAMARA!I:I,MATCH(B1407,HAMARA!E:E,0))),\"\")","v":""}]
[378,"KT902",0,{"$f":"IFERROR(IF(INDEX(HAMARA!I:I,MATCH(B1408,HAMARA!E:E,0))=0,\"\",INDEX(HAMARA!I:I,MATCH(B1408,HAMARA!E:E,0))),\"\")","v":""}]
[378,"KT903",0,{"$f":"IFERROR(IF(INDEX(HAMARA!I:I,MATCH(B1409,HAMARA!E:E,0))=0,\"\",INDEX(HAMARA!I:I,MATCH(B1409,HAMARA!E:E,0))),\"\")","v":""}]
[378,"KT904",0,{"$f":"IFERROR(IF(INDEX(HAMARA!I:I,MATCH(B1410,HAMARA!E:E,0))=0,\"\",INDEX(HAMARA!I:I,MATCH(B1410,HAMARA!E:E,0))),\"\")","v":""}]
[378,"KT905",0,{"$f":"IFERROR(IF(INDEX(HAMARA!I:I,MATCH(B1411,HAMARA!E:E,0))=0,\"\",INDEX(HAMARA!I:I,MATCH(B1411,HAMARA!E:E,0))),\"\")","v":""}]
[378,"KT906",0,{"$f":"IFERROR(IF(INDEX(HAMARA!I:I,MATCH(B1412,HAMARA!E:E,0))=0,\"\",INDEX(HAMARA!I:I,MATCH(B1412,HAMARA!E:E,0))),\"\")","v":""}]
[378,"KT907",0,{"$f":"IFERROR(IF(INDEX(HAMARA!I:I,MATCH(B1413,HAMARA!E:E,0))=0,\"\",INDEX(HAMARA!I:I,MATCH(B1413,HAMARA!E:E,0))),\"\")","v":""}]
[378,"KT908",0,{"$f":"IFERROR(IF(INDEX(HAMARA!I:I,MATCH(B1414,HAMARA!E:E,0))=0,\"\",INDEX(HAMARA!I:I,MATCH(B1414,HAMARA!E:E,0))),\"\")","v":""}]
[378,"KT909",0,{"$f":"IFERROR(IF(INDEX(HAMARA!I:I,MATCH(B1415,HAMARA!E:E,0))=0,\"\",INDEX(HAMARA!I:I,MATCH(B1415,HAMARA!E:E,0))),\"\")","v":""}]
[378,"KT910",0,{"$f":"IFERROR(IF(INDEX(HAMARA!I:I,MATCH(B1416,HAMARA!E:E,0))=0,\"\",INDEX(HAMARA!I:I,MATCH(B1416,HAMARA!E:E,0))),\"\")","v":""}]
[378,"KT911",0,{"$f":"IFERROR(IF(INDEX(HAMARA!I:I,MATCH(B1417,HAMARA!E:E,0))=0,\"\",INDEX(HAMARA!I:I,MATCH(B1417,HAMARA!E:E,0))),\"\")","v":""}]
[378,"KT912",0,{"$f":"IFERROR(IF(INDEX(HAMARA!I:I,MATCH(B1418,HAMARA!E:E,0))=0,\"\",INDEX(HAMARA!I:I,MATCH(B1418,HAMARA!E:E,0))),\"\")","v":""}]
[378,"KT913",0,{"$f":"IFERROR(IF(INDEX(HAMARA!I:I,MATCH(B1419,HAMARA!E:E,0))=0,\"\",INDEX(HAMARA!I:I,MATCH(B1419,HAMARA!E:E,0))),\"\")","v":""}]
[378,"KT914",0,{"$f":"IFERROR(IF(INDEX(HAMARA!I:I,MATCH(B1420,HAMARA!E:E,0))=0,\"\",INDEX(HAMARA!I:I,MATCH(B1420,HAMARA!E:E,0))),\"\")","v":""}]
[378,"KT915",0,{"$f":"IFERROR(IF(INDEX(HAMARA!I:I,MATCH(B1421,HAMARA!E:E,0))=0,\"\",INDEX(HAMARA!I:I,MATCH(B1421,HAMARA!E:E,0))),\"\")","v":""}]
[378,"KT916",0,{"$f":"IFERROR(IF(INDEX(HAMARA!I:I,MATCH(B1422,HAMARA!E:E,0))=0,\"\",INDEX(HAMARA!I:I,MATCH(B1422,HAMARA!E:E,0))),\"\")","v":""}]
[378,"KT917",0,{"$f":"IFERROR(IF(INDEX(HAMARA!I:I,MATCH(B1423,HAMARA!E:E,0))=0,\"\",INDEX(HAMARA!I:I,MATCH(B1423,HAMARA!E:E,0))),\"\")","v":""}]
[378,"KT918",0,{"$f":"IFERROR(IF(INDEX(HAMARA!I:I,MATCH(B1424,HAMARA!E:E,0))=0,\"\",INDEX(HAMARA!I:I,MATCH(B1424,HAMARA!E:E,0))),\"\")","v":""}]
[378,"KT919",0,{"$f":"IFERROR(IF(INDEX(HAMARA!I:I,MATCH(B1425,HAMARA!E:E,0))=0,\"\",INDEX(HAMARA!I:I,MATCH(B1425,HAMARA!E:E,0))),\"\")","v":""}]
[1433,"DE1",9004.5609999999997,{"$f":"IFERROR(IF(INDEX(HAMARA!I:I,MATCH(B1426,HAMARA!E:E,0))=0,\"\",INDEX(HAMARA!I:I,MATCH(B1426,HAMARA!E:E,0))),\"\")","v":""}]
[1433,"DA12",59.466999999999999,{"$f":"IFERROR(IF(INDEX(HAMARA!I:I,MATCH(B1427,HAMARA!E:E,0))=0,\"\",INDEX(HAMARA!I:I,MATCH(B1427,HAMARA!E:E,0))),\"\")","v":"מזומנים ושווי מזומנים"}]
[1433,"DT11",116.29600000000001,{"$f":"IFERROR(IF(INDEX(HAMARA!I:I,MATCH(B1428,HAMARA!E:E,0))=0,\"\",INDEX(HAMARA!I:I,MATCH(B1428,HAMARA!E:E,0))),\"\")","v":"מזומנים ושווי מזומנים"}]
[1433,"DA10",0,{"$f":"IFERROR(IF(INDEX(HAMARA!I:I,MATCH(B1429,HAMARA!E:E,0))=0,\"\",INDEX(HAMARA!I:I,MATCH(B1429,HAMARA!E:E,0))),\"\")","v":"מזומנים ושווי מזומנים"}]
[1433,"DT420",0,{"$f":"IFERROR(IF(INDEX(HAMARA!I:I,MATCH(B1430,HAMARA!E:E,0))=0,\"\",INDEX(HAMARA!I:I,MATCH(B1430,HAMARA!E:E,0))),\"\")","v":"מזומנים ושווי מזומנים"}]
[1433,"DT421",0,{"$f":"IFERROR(IF(INDEX(HAMARA!I:I,MATCH(B1431,HAMARA!E:E,0))=0,\"\",INDEX(HAMARA!I:I,MATCH(B1431,HAMARA!E:E,0))),\"\")","v":"מזומנים ושווי מזומנים"}]
[1433,"DT422",0,{"$f":"IFERROR(IF(INDEX(HAMARA!I:I,MATCH(B1432,HAMARA!E:E,0))=0,\"\",INDEX(HAMARA!I:I,MATCH(B1432,HAMARA!E:E,0))),\"\")","v":"מזומנים ושווי מזומנים"}]
[1433,"DT423",0,{"$f":"IFERROR(IF(INDEX(HAMARA!I:I,MATCH(B1433,HAMARA!E:E,0))=0,\"\",INDEX(HAMARA!I:I,MATCH(B1433,HAMARA!E:E,0))),\"\")","v":"מזומנים ושווי מזומנים"}]
[1433,"DT191",0,{"$f":"IFERROR(IF(INDEX(HAMARA!I:I,MATCH(B1434,HAMARA!E:E,0))=0,\"\",INDEX(HAMARA!I:I,MATCH(B1434,HAMARA!E:E,0))),\"\")","v":"מזומנים ושווי מזומנים"}]
[1433,"DT424",0,{"$f":"IFERROR(IF(INDEX(HAMARA!I:I,MATCH(B1435,HAMARA!E:E,0))=0,\"\",INDEX(HAMARA!I:I,MATCH(B1435,HAMARA!E:E,0))),\"\")","v":"מזומנים ושווי מזומנים"}]
[1433,"DT13",1353.81,{"$f":"IFERROR(IF(INDEX(HAMARA!I:I,MATCH(B1436,HAMARA!E:E,0))=0,\"\",INDEX(HAMARA!I:I,MATCH(B1436,HAMARA!E:E,0))),\"\")","v":"אג\"ח ממשלתיות סחירות"}]
[1433,"DT15",1895.636,{"$f":"IFERROR(IF(INDEX(HAMARA!I:I,MATCH(B1437,HAMARA!E:E,0))=0,\"\",INDEX(HAMARA!I:I,MATCH(B1437,HAMARA!E:E,0))),\"\")","v":"אג\"ח ממשלתיות סחירות"}]
[1433,"DT16",0,{"$f":"IFERROR(IF(INDEX(HAMARA!I:I,MATCH(B1438,HAMARA!E:E,0))=0,\"\",INDEX(HAMARA!I:I,MATCH(B1438,HAMARA!E:E,0))),\"\")","v":"אג\"ח ממשלתיות סחירות"}]
[1433,"DT14",0,{"$f":"IFERROR(IF(INDEX(HAMARA!I:I,MATCH(B1439,HAMARA!E:E,0))=0,\"\",INDEX(HAMARA!I:I,MATCH(B1439,HAMARA!E:E,0))),\"\")","v":"אג\"ח ממשלתיות סחירות"}]
[1433,"DA9",828.53,{"$f":"IFERROR(IF(INDEX(HAMARA!I:I,MATCH(B1440,HAMARA!E:E,0))=0,\"\",INDEX(HAMARA!I:I,MATCH(B1440,HAMARA!E:E,0))),\"\")","v":"אג\"ח ממשלתיות סחירות"}]
[1433,"DT7",0,{"$f":"IFERROR(IF(INDEX(HAMARA!I:I,MATCH(B1441,HAMARA!E:E,0))=0,\"\",INDEX(HAMARA!I:I,MATCH(B1441,HAMARA!E:E,0))),\"\")","v":"השקעות אחרות"}]
[1433,"DA8",0,{"$f":"IFERROR(IF(INDEX(HAMARA!I:I,MATCH(B1442,HAMARA!E:E,0))=0,\"\",INDEX(HAMARA!I:I,MATCH(B1442,HAMARA!E:E,0))),\"\")","v":"השקעות אחרות"}]
[1433,"DT17",0,{"$f":"IFERROR(IF(INDEX(HAMARA!I:I,MATCH(B1443,HAMARA!E:E,0))=0,\"\",INDEX(HAMARA!I:I,MATCH(B1443,HAMARA!E:E,0))),\"\")","v":"אג\"ח ממשלתיות סחירות"}]
[1433,"DT26",0,{"$f":"IFERROR(IF(INDEX(HAMARA!I:I,MATCH(B1444,HAMARA!E:E,0))=0,\"\",INDEX(HAMARA!I:I,MATCH(B1444,HAMARA!E:E,0))),\"\")","v":"אג\"ח ממשלתיות סחירות"}]
[1433,"DT425",0,{"$f":"IFERROR(IF(INDEX(HAMARA!I:I,MATCH(B1445,HAMARA!E:E,0))=0,\"\",INDEX(HAMARA!I:I,MATCH(B1445,HAMARA!E:E,0))),\"\")","v":"השקעות אחרות"}]
[1433,"DT426",0,{"$f":"IFERROR(IF(INDEX(HAMARA!I:I,MATCH(B1446,HAMARA!E:E,0))=0,\"\",INDEX(HAMARA!I:I,MATCH(B1446,HAMARA!E:E,0))),\"\")","v":"השקעות אחרות"}]
[1433,"DT427",0,{"$f":"IFERROR(IF(INDEX(HAMARA!I:I,MATCH(B1447,HAMARA!E:E,0))=0,\"\",INDEX(HAMARA!I:I,MATCH(B1447,HAMARA!E:E,0))),\"\")","v":"אג\"ח קונצרניות סחירות"}]
[1433,"DT561",0,{"$f":"IFERROR(IF(INDEX(HAMARA!I:I,MATCH(B1448,HAMARA!E:E,0))=0,\"\",INDEX(HAMARA!I:I,MATCH(B1448,HAMARA!E:E,0))),\"\")","v":"אג\"ח קונצרניות סחירות"}]
[1433,"DT560",0,{"$f":"IFERROR(IF(INDEX(HAMARA!I:I,MATCH(B1449,HAMARA!E:E,0))=0,\"\",INDEX(HAMARA!I:I,MATCH(B1449,HAMARA!E:E,0))),\"\")","v":"אג\"ח קונצרניות סחירות"}]
[1433,"DT428",0,{"$f":"IFERROR(IF(INDEX(HAMARA!I:I,MATCH(B1450,HAMARA!E:E,0))=0,\"\",INDEX(HAMARA!I:I,MATCH(B1450,HAMARA!E:E,0))),\"\")","v":"אג\"ח קונצרניות סחירות"}]
[1433,"DT563",0,{"$f":"IFERROR(IF(INDEX(HAMARA!I:I,MATCH(B1451,HAMARA!E:E,0))=0,\"\",INDEX(HAMARA!I:I,MATCH(B1451,HAMARA!E:E,0))),\"\")","v":"אג\"ח קונצרניות סחירות"}]
[1433,"DT562",0,{"$f":"IFERROR(IF(INDEX(HAMARA!I:I,MATCH(B1452,HAMARA!E:E,0))=0,\"\",INDEX(HAMARA!I:I,MATCH(B1452,HAMARA!E:E,0))),\"\")","v":"אג\"ח קונצרניות סחירות"}]
[1433,"DT429",0,{"$f":"IFERROR(IF(INDEX(HAMARA!I:I,MATCH(B1453,HAMARA!E:E,0))=0,\"\",INDEX(HAMARA!I:I,MATCH(B1453,HAMARA!E:E,0))),\"\")","v":"אג\"ח קונצרניות סחירות"}]
[1433,"DT565",0,{"$f":"IFERROR(IF(INDEX(HAMARA!I:I,MATCH(B1454,HAMARA!E:E,0))=0,\"\",INDEX(HAMARA!I:I,MATCH(B1454,HAMARA!E:E,0))),\"\")","v":"אג\"ח קונצרניות סחירות"}]
[1433,"DT564",0,{"$f":"IFERROR(IF(INDEX(HAMARA!I:I,MATCH(B1455,HAMARA!E:E,0))=0,\"\",INDEX(HAMARA!I:I,MATCH(B1455,HAMARA!E:E,0))),\"\")","v":"אג\"ח קונצרניות סחירות"}]
[1433,"DT430",0,{"$f":"IFERROR(IF(INDEX(HAMARA!I:I,MATCH(B1456,HAMARA!E:E,0))=0,\"\",INDEX(HAMARA!I:I,MATCH(B1456,HAMARA!E:E,0))),\"\")","v":"השקעות אחרות"}]
[1433,"DT567",0,{"$f":"IFERROR(IF(INDEX(HAMARA!I:I,MATCH(B1457,HAMARA!E:E,0))=0,\"\",INDEX(HAMARA!I:I,MATCH(B1457,HAMARA!E:E,0))),\"\")","v":"השקעות אחרות"}]
[1433,"DT566",0,{"$f":"IFERROR(IF(INDEX(HAMARA!I:I,MATCH(B1458,HAMARA!E:E,0))=0,\"\",INDEX(HAMARA!I:I,MATCH(B1458,HAMARA!E:E,0))),\"\")","v":"השקעות אחרות"}]
[1433,"DT431",0,{"$f":"IFERROR(IF(INDEX(HAMARA!I:I,MATCH(B1459,HAMARA!E:E,0))=0,\"\",INDEX(HAMARA!I:I,MATCH(B1459,HAMARA!E:E,0))),\"\")","v":"השקעות אחרות"}]
[1433,"DT569",0,{"$f":"IFERROR(IF(INDEX(HAMARA!I:I,MATCH(B1460,HAMARA!E:E,0))=0,\"\",INDEX(HAMARA!I:I,MATCH(B1460,HAMARA!E:E,0))),\"\")","v":"השקעות אחרות"}]
[1433,"DT568",0,{"$f":"IFERROR(IF(INDEX(HAMARA!I:I,MATCH(B1461,HAMARA!E:E,0))=0,\"\",INDEX(HAMARA!I:I,MATCH(B1461,HAMARA!E:E,0))),\"\")","v":"השקעות אחרות"}]
[1433,"DT432",0,{"$f":"IFERROR(IF(INDEX(HAMARA!I:I,MATCH(B1462,HAMARA!E:E,0))=0,\"\",INDEX(HAMARA!I:I,MATCH(B1462,HAMARA!E:E,0))),\"\")","v":"השקעות אחרות"}]
[1433,"DT573",0,{"$f":"IFERROR(IF(INDEX(HAMARA!I:I,MATCH(B1463,HAMARA!E:E,0))=0,\"\",INDEX(HAMARA!I:I,MATCH(B1463,HAMARA!E:E,0))),\"\")","v":"השקעות אחרות"}]
[1433,"DT572",0,{"$f":"IFERROR(IF(INDEX(HAMARA!I:I,MATCH(B1464,HAMARA!E:E,0))=0,\"\",INDEX(HAMARA!I:I,MATCH(B1464,HAMARA!E:E,0))),\"\")","v":"השקעות אחרות"}]
[1433,"DT547",0,{"$f":"IFERROR(IF(INDEX(HAMARA!I:I,MATCH(B1465,HAMARA!E:E,0))=0,\"\",INDEX(HAMARA!I:I,MATCH(B1465,HAMARA!E:E,0))),\"\")","v":"השקעות אחרות"}]
[1433,"DT571",0,{"$f":"IFERROR(IF(INDEX(HAMARA!I:I,MATCH(B1466,HAMARA!E:E,0))=0,\"\",INDEX(HAMARA!I:I,MATCH(B1466,HAMARA!E:E,0))),\"\")","v":"השקעות אחרות"}]
[1433,"DT570",0,{"$f":"IFERROR(IF(INDEX(HAMARA!I:I,MATCH(B1467,HAMARA!E:E,0))=0,\"\",INDEX(HAMARA!I:I,MATCH(B1467,HAMARA!E:E,0))),\"\")","v":"השקעות אחרות"}]
[1433,"DT601",0,{"$f":"IFERROR(IF(INDEX(HAMARA!I:I,MATCH(B1468,HAMARA!E:E,0))=0,\"\",INDEX(HAMARA!I:I,MATCH(B1468,HAMARA!E:E,0))),\"\")","v":"אג\"ח קונצרניות סחירות"}]
[1433,"DT602",0,{"$f":"IFERROR(IF(INDEX(HAMARA!I:I,MATCH(B1469,HAMARA!E:E,0))=0,\"\",INDEX(HAMARA!I:I,MATCH(B1469,HAMARA!E:E,0))),\"\")","v":"אג\"ח קונצרניות סחירות"}]
[1433,"DT603",0,{"$f":"IFERROR(IF(INDEX(HAMARA!I:I,MATCH(B1470,HAMARA!E:E,0))=0,\"\",INDEX(HAMARA!I:I,MATCH(B1470,HAMARA!E:E,0))),\"\")","v":"אג\"ח קונצרניות סחירות"}]
[1433,"DT604",0,{"$f":"IFERROR(IF(INDEX(HAMARA!I:I,MATCH(B1471,HAMARA!E:E,0))=0,\"\",INDEX(HAMARA!I:I,MATCH(B1471,HAMARA!E:E,0))),\"\")","v":"אג\"ח קונצרניות סחירות"}]
[1433,"DT605",0,{"$f":"IFERROR(IF(INDEX(HAMARA!I:I,MATCH(B1472,HAMARA!E:E,0))=0,\"\",INDEX(HAMARA!I:I,MATCH(B1472,HAMARA!E:E,0))),\"\")","v":"אג\"ח קונצרניות סחירות"}]
[1433,"DT606",0,{"$f":"IFERROR(IF(INDEX(HAMARA!I:I,MATCH(B1473,HAMARA!E:E,0))=0,\"\",INDEX(HAMARA!I:I,MATCH(B1473,HAMARA!E:E,0))),\"\")","v":"אג\"ח קונצרניות סחירות"}]
[1433,"DT607",0,{"$f":"IFERROR(IF(INDEX(HAMARA!I:I,MATCH(B1474,HAMARA!E:E,0))=0,\"\",INDEX(HAMARA!I:I,MATCH(B1474,HAMARA!E:E,0))),\"\")","v":"השקעות אחרות"}]
[1433,"DT608",0,{"$f":"IFERROR(IF(INDEX(HAMARA!I:I,MATCH(B1475,HAMARA!E:E,0))=0,\"\",INDEX(HAMARA!I:I,MATCH(B1475,HAMARA!E:E,0))),\"\")","v":"השקעות אחרות"}]
[1433,"DT609",0,{"$f":"IFERROR(IF(INDEX(HAMARA!I:I,MATCH(B1476,HAMARA!E:E,0))=0,\"\",INDEX(HAMARA!I:I,MATCH(B1476,HAMARA!E:E,0))),\"\")","v":"השקעות אחרות"}]
[1433,"DT610",0,{"$f":"IFERROR(IF(INDEX(HAMARA!I:I,MATCH(B1477,HAMARA!E:E,0))=0,\"\",INDEX(HAMARA!I:I,MATCH(B1477,HAMARA!E:E,0))),\"\")","v":"השקעות אחרות"}]
[1433,"DT611",0,{"$f":"IFERROR(IF(INDEX(HAMARA!I:I,MATCH(B1478,HAMARA!E:E,0))=0,\"\",INDEX(HAMARA!I:I,MATCH(B1478,HAMARA!E:E,0))),\"\")","v":"השקעות אחרות"}]
[1433,"DT612",0,{"$f":"IFERROR(IF(INDEX(HAMARA!I:I,MATCH(B1479,HAMARA!E:E,0))=0,\"\",INDEX(HAMARA!I:I,MATCH(B1479,HAMARA!E:E,0))),\"\")","v":"השקעות אחרות"}]
[1433,"DT613",0,{"$f":"IFERROR(IF(INDEX(HAMARA!I:I,MATCH(B1480,HAMARA!E:E,0))=0,\"\",INDEX(HAMARA!I:I,MATCH(B1480,HAMARA!E:E,0))),\"\")","v":"השקעות אחרות"}]
[1433,"DT614",0,{"$f":"IFERROR(IF(INDEX(HAMARA!I:I,MATCH(B1481,HAMARA!E:E,0))=0,\"\",INDEX(HAMARA!I:I,MATCH(B1481,HAMARA!E:E,0))),\"\")","v":"השקעות אחרות"}]
[1433,"DT301",1080.93,{"$f":"IFERROR(IF(INDEX(HAMARA!I:I,MATCH(B1482,HAMARA!E:E,0))=0,\"\",INDEX(HAMARA!I:I,MATCH(B1482,HAMARA!E:E,0))),\"\")","v":"אג\"ח קונצרניות סחירות"}]
[1433,"DT303",281.43099999999998,{"$f":"IFERROR(IF(INDEX(HAMARA!I:I,MATCH(B1483,HAMARA!E:E,0))=0,\"\",INDEX(HAMARA!I:I,MATCH(B1483,HAMARA!E:E,0))),\"\")","v":"אג\"ח קונצרניות סחירות"}]
[1433,"DT302",0,{"$f":"IFERROR(IF(INDEX(HAMARA!I:I,MATCH(B1484,HAMARA!E:E,0))=0,\"\",INDEX(HAMARA!I:I,MATCH(B1484,HAMARA!E:E,0))),\"\")","v":"אג\"ח קונצרניות סחירות"}]
[1433,"DT307",50.892000000000003,{"$f":"IFERROR(IF(INDEX(HAMARA!I:I,MATCH(B1485,HAMARA!E:E,0))=0,\"\",INDEX(HAMARA!I:I,MATCH(B1485,HAMARA!E:E,0))),\"\")","v":"אג\"ח קונצרניות סחירות"}]
[1433,"DT309",284.81099999999998,{"$f":"IFERROR(IF(INDEX(HAMARA!I:I,MATCH(B1486,HAMARA!E:E,0))=0,\"\",INDEX(HAMARA!I:I,MATCH(B1486,HAMARA!E:E,0))),\"\")","v":"אג\"ח קונצרניות סחירות"}]
[1433,"DT308",0,{"$f":"IFERROR(IF(INDEX(HAMARA!I:I,MATCH(B1487,HAMARA!E:E,0))=0,\"\",INDEX(HAMARA!I:I,MATCH(B1487,HAMARA!E:E,0))),\"\")","v":"אג\"ח קונצרניות סחירות"}]
[1433,"DT313",0,{"$f":"IFERROR(IF(INDEX(HAMARA!I:I,MATCH(B1488,HAMARA!E:E,0))=0,\"\",INDEX(HAMARA!I:I,MATCH(B1488,HAMARA!E:E,0))),\"\")","v":"אג\"ח קונצרניות סחירות"}]
[1433,"DT315",0,{"$f":"IFERROR(IF(INDEX(HAMARA!I:I,MATCH(B1489,HAMARA!E:E,0))=0,\"\",INDEX(HAMARA!I:I,MATCH(B1489,HAMARA!E:E,0))),\"\")","v":"אג\"ח קונצרניות סחירות"}]
[1433,"DT314",0,{"$f":"IFERROR(IF(INDEX(HAMARA!I:I,MATCH(B1490,HAMARA!E:E,0))=0,\"\",INDEX(HAMARA!I:I,MATCH(B1490,HAMARA!E:E,0))),\"\")","v":"אג\"ח קונצרניות סחירות"}]
[1433,"DT615",0,{"$f":"IFERROR(IF(INDEX(HAMARA!I:I,MATCH(B1491,HAMARA!E:E,0))=0,\"\",INDEX(HAMARA!I:I,MATCH(B1491,HAMARA!E:E,0))),\"\")","v":"אג\"ח קונצרניות סחירות"}]
[1433,"DT616",0,{"$f":"IFERROR(IF(INDEX(HAMARA!I:I,MATCH(B1492,HAMARA!E:E,0))=0,\"\",INDEX(HAMARA!I:I,MATCH(B1492,HAMARA!E:E,0))),\"\")","v":"אג\"ח קונצרניות סחירות"}]
[1433,"DT617",0,{"$f":"IFERROR(IF(INDEX(HAMARA!I:I,MATCH(B1493,HAMARA!E:E,0))=0,\"\",INDEX(HAMARA!I:I,MATCH(B1493,HAMARA!E:E,0))),\"\")","v":"אג\"ח קונצרניות סחירות"}]
[1433,"DT319",0,{"$f":"IFERROR(IF(INDEX(HAMARA!I:I,MATCH(B1494,HAMARA!E:E,0))=0,\"\",INDEX(HAMARA!I:I,MATCH(B1494,HAMARA!E:E,0))),\"\")","v":"השקעות אחרות"}]
[1433,"DT321",0,{"$f":"IFERROR(IF(INDEX(HAMARA!I:I,MATCH(B1495,HAMARA!E:E,0))=0,\"\",INDEX(HAMARA!I:I,MATCH(B1495,HAMARA!E:E,0))),\"\")","v":"השקעות אחרות"}]
[1433,"DT320",0,{"$f":"IFERROR(IF(INDEX(HAMARA!I:I,MATCH(B1496,HAMARA!E:E,0))=0,\"\",INDEX(HAMARA!I:I,MATCH(B1496,HAMARA!E:E,0))),\"\")","v":"השקעות אחרות"}]
[1433,"DT325",0,{"$f":"IFERROR(IF(INDEX(HAMARA!I:I,MATCH(B1497,HAMARA!E:E,0))=0,\"\",INDEX(HAMARA!I:I,MATCH(B1497,HAMARA!E:E,0))),\"\")","v":"השקעות אחרות"}]
[1433,"DT327",0,{"$f":"IFERROR(IF(INDEX(HAMARA!I:I,MATCH(B1498,HAMARA!E:E,0))=0,\"\",INDEX(HAMARA!I:I,MATCH(B1498,HAMARA!E:E,0))),\"\")","v":"השקעות אחרות"}]
[1433,"DT326",0,{"$f":"IFERROR(IF(INDEX(HAMARA!I:I,MATCH(B1499,HAMARA!E:E,0))=0,\"\",INDEX(HAMARA!I:I,MATCH(B1499,HAMARA!E:E,0))),\"\")","v":"השקעות אחרות"}]
[1433,"DT553",0,{"$f":"IFERROR(IF(INDEX(HAMARA!I:I,MATCH(B1500,HAMARA!E:E,0))=0,\"\",INDEX(HAMARA!I:I,MATCH(B1500,HAMARA!E:E,0))),\"\")","v":"השקעות אחרות"}]
[1433,"DT555",0,{"$f":"IFERROR(IF(INDEX(HAMARA!I:I,MATCH(B1501,HAMARA!E:E,0))=0,\"\",INDEX(HAMARA!I:I,MATCH(B1501,HAMARA!E:E,0))),\"\")","v":"השקעות אחרות"}]
[1433,"DT554",0,{"$f":"IFERROR(IF(INDEX(HAMARA!I:I,MATCH(B1502,HAMARA!E:E,0))=0,\"\",INDEX(HAMARA!I:I,MATCH(B1502,HAMARA!E:E,0))),\"\")","v":"השקעות אחרות"}]
[1433,"DT337",0,{"$f":"IFERROR(IF(INDEX(HAMARA!I:I,MATCH(B1503,HAMARA!E:E,0))=0,\"\",INDEX(HAMARA!I:I,MATCH(B1503,HAMARA!E:E,0))),\"\")","v":"השקעות אחרות"}]
[1433,"DT339",0,{"$f":"IFERROR(IF(INDEX(HAMARA!I:I,MATCH(B1504,HAMARA!E:E,0))=0,\"\",INDEX(HAMARA!I:I,MATCH(B1504,HAMARA!E:E,0))),\"\")","v":"השקעות אחרות"}]
[1433,"DT338",0,{"$f":"IFERROR(IF(INDEX(HAMARA!I:I,MATCH(B1505,HAMARA!E:E,0))=0,\"\",INDEX(HAMARA!I:I,MATCH(B1505,HAMARA!E:E,0))),\"\")","v":"השקעות אחרות"}]
[1433,"DT618",0,{"$f":"IFERROR(IF(INDEX(HAMARA!I:I,MATCH(B1506,HAMARA!E:E,0))=0,\"\",INDEX(HAMARA!I:I,MATCH(B1506,HAMARA!E:E,0))),\"\")","v":"השקעות אחרות"}]
[1433,"DT619",0,{"$f":"IFERROR(IF(INDEX(HAMARA!I:I,MATCH(B1507,HAMARA!E:E,0))=0,\"\",INDEX(HAMARA!I:I,MATCH(B1507,HAMARA!E:E,0))),\"\")","v":"השקעות אחרות"}]
[1433,"DT620",0,{"$f":"IFERROR(IF(INDEX(HAMARA!I:I,MATCH(B1508,HAMARA!E:E,0))=0,\"\",INDEX(HAMARA!I:I,MATCH(B1508,HAMARA!E:E,0))),\"\")","v":"השקעות אחרות"}]
[1433,"DT621",0,{"$f":"IFERROR(IF(INDEX(HAMARA!I:I,MATCH(B1509,HAMARA!E:E,0))=0,\"\",INDEX(HAMARA!I:I,MATCH(B1509,HAMARA!E:E,0))),\"\")","v":"השקעות אחרות"}]
[1433,"DT454",0,{"$f":"IFERROR(IF(INDEX(HAMARA!I:I,MATCH(B1510,HAMARA!E:E,0))=0,\"\",INDEX(HAMARA!I:I,MATCH(B1510,HAMARA!E:E,0))),\"\")","v":"השקעות אחרות"}]
[1433,"DT455",0,{"$f":"IFERROR(IF(INDEX(HAMARA!I:I,MATCH(B1511,HAMARA!E:E,0))=0,\"\",INDEX(HAMARA!I:I,MATCH(B1511,HAMARA!E:E,0))),\"\")","v":"השקעות אחרות"}]
[1433,"DT456",0,{"$f":"IFERROR(IF(INDEX(HAMARA!I:I,MATCH(B1512,HAMARA!E:E,0))=0,\"\",INDEX(HAMARA!I:I,MATCH(B1512,HAMARA!E:E,0))),\"\")","v":"אג\"ח קונצרניות סחירות"}]
[1433,"DT457",0,{"$f":"IFERROR(IF(INDEX(HAMARA!I:I,MATCH(B1513,HAMARA!E:E,0))=0,\"\",INDEX(HAMARA!I:I,MATCH(B1513,HAMARA!E:E,0))),\"\")","v":"אג\"ח קונצרניות סחירות"}]
[1433,"DT458",0,{"$f":"IFERROR(IF(INDEX(HAMARA!I:I,MATCH(B1514,HAMARA!E:E,0))=0,\"\",INDEX(HAMARA!I:I,MATCH(B1514,HAMARA!E:E,0))),\"\")","v":"אג\"ח קונצרניות סחירות"}]
[1433,"DT459",0,{"$f":"IFERROR(IF(INDEX(HAMARA!I:I,MATCH(B1515,HAMARA!E:E,0))=0,\"\",INDEX(HAMARA!I:I,MATCH(B1515,HAMARA!E:E,0))),\"\")","v":"אג\"ח קונצרניות סחירות"}]
[1433,"DT460",0,{"$f":"IFERROR(IF(INDEX(HAMARA!I:I,MATCH(B1516,HAMARA!E:E,0))=0,\"\",INDEX(HAMARA!I:I,MATCH(B1516,HAMARA!E:E,0))),\"\")","v":"השקעות אחרות"}]
[1433,"DT461",0,{"$f":"IFERROR(IF(INDEX(HAMARA!I:I,MATCH(B1517,HAMARA!E:E,0))=0,\"\",INDEX(HAMARA!I:I,MATCH(B1517,HAMARA!E:E,0))),\"\")","v":"השקעות אחרות"}]
[1433,"DT462",0,{"$f":"IFERROR(IF(INDEX(HAMARA!I:I,MATCH(B1518,HAMARA!E:E,0))=0,\"\",INDEX(HAMARA!I:I,MATCH(B1518,HAMARA!E:E,0))),\"\")","v":"השקעות אחרות"}]
[1433,"DT558",0,{"$f":"IFERROR(IF(INDEX(HAMARA!I:I,MATCH(B1519,HAMARA!E:E,0))=0,\"\",INDEX(HAMARA!I:I,MATCH(B1519,HAMARA!E:E,0))),\"\")","v":"השקעות אחרות"}]
[1433,"DT463",0,{"$f":"IFERROR(IF(INDEX(HAMARA!I:I,MATCH(B1520,HAMARA!E:E,0))=0,\"\",INDEX(HAMARA!I:I,MATCH(B1520,HAMARA!E:E,0))),\"\")","v":"השקעות אחרות"}]
[1433,"DT464",0,{"$f":"IFERROR(IF(INDEX(HAMARA!I:I,MATCH(B1521,HAMARA!E:E,0))=0,\"\",INDEX(HAMARA!I:I,MATCH(B1521,HAMARA!E:E,0))),\"\")","v":"השקעות אחרות"}]
[1433,"DT465",0,{"$f":"IFERROR(IF(INDEX(HAMARA!I:I,MATCH(B1522,HAMARA!E:E,0))=0,\"\",INDEX(HAMARA!I:I,MATCH(B1522,HAMARA!E:E,0))),\"\")","v":"השקעות אחרות"}]
[1433,"DT559",0,{"$f":"IFERROR(IF(INDEX(HAMARA!I:I,MATCH(B1523,HAMARA!E:E,0))=0,\"\",INDEX(HAMARA!I:I,MATCH(B1523,HAMARA!E:E,0))),\"\")","v":"השקעות אחרות"}]
[1433,"DT402",308.697,{"$f":"IFERROR(IF(INDEX(HAMARA!I:I,MATCH(B1524,HAMARA!E:E,0))=0,\"\",INDEX(HAMARA!I:I,MATCH(B1524,HAMARA!E:E,0))),\"\")","v":"מניות וני\"ע סחירים אחרים"}]
[1433,"DT403",0,{"$f":"IFERROR(IF(INDEX(HAMARA!I:I,MATCH(B1525,HAMARA!E:E,0))=0,\"\",INDEX(HAMARA!I:I,MATCH(B1525,HAMARA!E:E,0))),\"\")","v":"מניות וני\"ע סחירים אחרים"}]
[1433,"DT404",0,{"$f":"IFERROR(IF(INDEX(HAMARA!I:I,MATCH(B1526,HAMARA!E:E,0))=0,\"\",INDEX(HAMARA!I:I,MATCH(B1526,HAMARA!E:E,0))),\"\")","v":"מניות וני\"ע סחירים אחרים"}]
[1433,"DT405",0,{"$f":"IFERROR(IF(INDEX(HAMARA!I:I,MATCH(B1527,HAMARA!E:E,0))=0,\"\",INDEX(HAMARA!I:I,MATCH(B1527,HAMARA!E:E,0))),\"\")","v":"השקעות אחרות"}]
[1433,"DT172",0,{"$f":"IFERROR(IF(INDEX(HAMARA!I:I,MATCH(B1528,HAMARA!E:E,0))=0,\"\",INDEX(HAMARA!I:I,MATCH(B1528,HAMARA!E:E,0))),\"\")","v":"השקעות אחרות"}]
[1433,"DT205",0,{"$f":"IFERROR(IF(INDEX(HAMARA!I:I,MATCH(B1529,HAMARA!E:E,0))=0,\"\",INDEX(HAMARA!I:I,MATCH(B1529,HAMARA!E:E,0))),\"\")","v":"השקעות אחרות"}]
[1433,"DC9",0,{"$f":"IFERROR(IF(INDEX(HAMARA!I:I,MATCH(B1530,HAMARA!E:E,0))=0,\"\",INDEX(HAMARA!I:I,MATCH(B1530,HAMARA!E:E,0))),\"\")","v":"השקעות אחרות"}]
[1433,"DT28",0,{"$f":"IFERROR(IF(INDEX(HAMARA!I:I,MATCH(B1531,HAMARA!E:E,0))=0,\"\",INDEX(HAMARA!I:I,MATCH(B1531,HAMARA!E:E,0))),\"\")","v":"מניות וני\"ע סחירים אחרים"}]
[1433,"DT30",0,{"$f":"IFERROR(IF(INDEX(HAMARA!I:I,MATCH(B1532,HAMARA!E:E,0))=0,\"\",INDEX(HAMARA!I:I,MATCH(B1532,HAMARA!E:E,0))),\"\")","v":"מניות וני\"ע סחירים אחרים"}]
[1433,"DT81",0,{"$f":"IFERROR(IF(INDEX(HAMARA!I:I,MATCH(B1533,HAMARA!E:E,0))=0,\"\",INDEX(HAMARA!I:I,MATCH(B1533,HAMARA!E:E,0))),\"\")","v":"מניות וני\"ע סחירים אחרים"}]
[1433,"DT622",0,{"$f":"IFERROR(IF(INDEX(HAMARA!I:I,MATCH(B1534,HAMARA!E:E,0))=0,\"\",INDEX(HAMARA!I:I,MATCH(B1534,HAMARA!E:E,0))),\"\")","v":"השקעות אחרות"}]
[1433,"DT83",0,{"$f":"IFERROR(IF(INDEX(HAMARA!I:I,MATCH(B1535,HAMARA!E:E,0))=0,\"\",INDEX(HAMARA!I:I,MATCH(B1535,HAMARA!E:E,0))),\"\")","v":"השקעות אחרות"}]
[1433,"DT360",583.096,{"$f":"IFERROR(IF(INDEX(HAMARA!I:I,MATCH(B1536,HAMARA!E:E,0))=0,\"\",INDEX(HAMARA!I:I,MATCH(B1536,HAMARA!E:E,0))),\"\")","v":"מניות וני\"ע סחירים אחרים"}]
[1433,"DT361",0,{"$f":"IFERROR(IF(INDEX(HAMARA!I:I,MATCH(B1537,HAMARA!E:E,0))=0,\"\",INDEX(HAMARA!I:I,MATCH(B1537,HAMARA!E:E,0))),\"\")","v":"מניות וני\"ע סחירים אחרים"}]
[1433,"DT362",681.58500000000004,{"$f":"IFERROR(IF(INDEX(HAMARA!I:I,MATCH(B1538,HAMARA!E:E,0))=0,\"\",INDEX(HAMARA!I:I,MATCH(B1538,HAMARA!E:E,0))),\"\")","v":"מניות וני\"ע סחירים אחרים"}]
[1433,"DT363",0,{"$f":"IFERROR(IF(INDEX(HAMARA!I:I,MATCH(B1539,HAMARA!E:E,0))=0,\"\",INDEX(HAMARA!I:I,MATCH(B1539,HAMARA!E:E,0))),\"\")","v":"מניות וני\"ע סחירים אחרים"}]
[1433,"DT406",0,{"$f":"IFERROR(IF(INDEX(HAMARA!I:I,MATCH(B1540,HAMARA!E:E,0))=0,\"\",INDEX(HAMARA!I:I,MATCH(B1540,HAMARA!E:E,0))),\"\")","v":"מניות וני\"ע סחירים אחרים"}]
[1433,"DT623",0,{"$f":"IFERROR(IF(INDEX(HAMARA!I:I,MATCH(B1541,HAMARA!E:E,0))=0,\"\",INDEX(HAMARA!I:I,MATCH(B1541,HAMARA!E:E,0))),\"\")","v":"מניות וני\"ע סחירים אחרים"}]
[1433,"DT366",1166.134,{"$f":"IFERROR(IF(INDEX(HAMARA!I:I,MATCH(B1542,HAMARA!E:E,0))=0,\"\",INDEX(HAMARA!I:I,MATCH(B1542,HAMARA!E:E,0))),\"\")","v":"מניות וני\"ע סחירים אחרים"}]
[1433,"DT367",222.55699999999999,{"$f":"IFERROR(IF(INDEX(HAMARA!I:I,MATCH(B1543,HAMARA!E:E,0))=0,\"\",INDEX(HAMARA!I:I,MATCH(B1543,HAMARA!E:E,0))),\"\")","v":"מניות וני\"ע סחירים אחרים"}]
[1433,"DT407",0,{"$f":"IFERROR(IF(INDEX(HAMARA!I:I,MATCH(B1544,HAMARA!E:E,0))=0,\"\",INDEX(HAMARA!I:I,MATCH(B1544,HAMARA!E:E,0))),\"\")","v":"מניות וני\"ע סחירים אחרים"}]
[1433,"DT624",0,{"$f":"IFERROR(IF(INDEX(HAMARA!I:I,MATCH(B1545,HAMARA!E:E,0))=0,\"\",INDEX(HAMARA!I:I,MATCH(B1545,HAMARA!E:E,0))),\"\")","v":"מניות וני\"ע סחירים אחרים"}]
[1433,"DB10",0,{"$f":"IFERROR(IF(INDEX(HAMARA!I:I,MATCH(B1546,HAMARA!E:E,0))=0,\"\",INDEX(HAMARA!I:I,MATCH(B1546,HAMARA!E:E,0))),\"\")","v":"מניות וני\"ע סחירים אחרים"}]
[1433,"DT701",82.349000000000004,{"$f":"IFERROR(IF(INDEX(HAMARA!I:I,MATCH(B1547,HAMARA!E:E,0))=0,\"\",INDEX(HAMARA!I:I,MATCH(B1547,HAMARA!E:E,0))),\"\")","v":"מניות וני\"ע סחירים אחרים"}]
[1433,"DT702",0,{"$f":"IFERROR(IF(INDEX(HAMARA!I:I,MATCH(B1548,HAMARA!E:E,0))=0,\"\",INDEX(HAMARA!I:I,MATCH(B1548,HAMARA!E:E,0))),\"\")","v":"מניות וני\"ע סחירים אחרים"}]
[1433,"DT703",0,{"$f":"IFERROR(IF(INDEX(HAMARA!I:I,MATCH(B1549,HAMARA!E:E,0))=0,\"\",INDEX(HAMARA!I:I,MATCH(B1549,HAMARA!E:E,0))),\"\")","v":"מניות וני\"ע סחירים אחרים"}]
[1433,"DT704",0,{"$f":"IFERROR(IF(INDEX(HAMARA!I:I,MATCH(B1550,HAMARA!E:E,0))=0,\"\",INDEX(HAMARA!I:I,MATCH(B1550,HAMARA!E:E,0))),\"\")","v":"מניות וני\"ע סחירים אחרים"}]
[1433,"DT53",0,{"$f":"IFERROR(IF(INDEX(HAMARA!I:I,MATCH(B1551,HAMARA!E:E,0))=0,\"\",INDEX(HAMARA!I:I,MATCH(B1551,HAMARA!E:E,0))),\"\")","v":"השקעות אחרות"}]
[1433,"DT466",0,{"$f":"IFERROR(IF(INDEX(HAMARA!I:I,MATCH(B1552,HAMARA!E:E,0))=0,\"\",INDEX(HAMARA!I:I,MATCH(B1552,HAMARA!E:E,0))),\"\")","v":"השקעות אחרות"}]
[1433,"DT225",0,{"$f":"IFERROR(IF(INDEX(HAMARA!I:I,MATCH(B1553,HAMARA!E:E,0))=0,\"\",INDEX(HAMARA!I:I,MATCH(B1553,HAMARA!E:E,0))),\"\")","v":"השקעות אחרות"}]
[1433,"DT52",0,{"$f":"IFERROR(IF(INDEX(HAMARA!I:I,MATCH(B1554,HAMARA!E:E,0))=0,\"\",INDEX(HAMARA!I:I,MATCH(B1554,HAMARA!E:E,0))),\"\")","v":"השקעות אחרות"}]
[1433,"DT89",0,{"$f":"IFERROR(IF(INDEX(HAMARA!I:I,MATCH(B1555,HAMARA!E:E,0))=0,\"\",INDEX(HAMARA!I:I,MATCH(B1555,HAMARA!E:E,0))),\"\")","v":"השקעות אחרות"}]
[1433,"DT467",0,{"$f":"IFERROR(IF(INDEX(HAMARA!I:I,MATCH(B1556,HAMARA!E:E,0))=0,\"\",INDEX(HAMARA!I:I,MATCH(B1556,HAMARA!E:E,0))),\"\")","v":"השקעות אחרות"}]
[1433,"DT226",0,{"$f":"IFERROR(IF(INDEX(HAMARA!I:I,MATCH(B1557,HAMARA!E:E,0))=0,\"\",INDEX(HAMARA!I:I,MATCH(B1557,HAMARA!E:E,0))),\"\")","v":"השקעות אחרות"}]
[1433,"DT88",0,{"$f":"IFERROR(IF(INDEX(HAMARA!I:I,MATCH(B1558,HAMARA!E:E,0))=0,\"\",INDEX(HAMARA!I:I,MATCH(B1558,HAMARA!E:E,0))),\"\")","v":"השקעות אחרות"}]
[1433,"DB5",0,{"$f":"IFERROR(IF(INDEX(HAMARA!I:I,MATCH(B1559,HAMARA!E:E,0))=0,\"\",INDEX(HAMARA!I:I,MATCH(B1559,HAMARA!E:E,0))),\"\")","v":"מניות וני\"ע סחירים אחרים"}]
[1433,"DT439",0,{"$f":"IFERROR(IF(INDEX(HAMARA!I:I,MATCH(B1560,HAMARA!E:E,0))=0,\"\",INDEX(HAMARA!I:I,MATCH(B1560,HAMARA!E:E,0))),\"\")","v":"השקעות אחרות"}]
[1433,"DT211",0,{"$f":"IFERROR(IF(INDEX(HAMARA!I:I,MATCH(B1561,HAMARA!E:E,0))=0,\"\",INDEX(HAMARA!I:I,MATCH(B1561,HAMARA!E:E,0))),\"\")","v":"השקעות אחרות"}]
[1433,"DT440",0,{"$f":"IFERROR(IF(INDEX(HAMARA!I:I,MATCH(B1562,HAMARA!E:E,0))=0,\"\",INDEX(HAMARA!I:I,MATCH(B1562,HAMARA!E:E,0))),\"\")","v":"השקעות אחרות"}]
[1433,"DT749",0,{"$f":"IFERROR(IF(INDEX(HAMARA!I:I,MATCH(B1563,HAMARA!E:E,0))=0,\"\",INDEX(HAMARA!I:I,MATCH(B1563,HAMARA!E:E,0))),\"\")","v":"השקעות אחרות"}]
[1433,"DT441",0,{"$f":"IFERROR(IF(INDEX(HAMARA!I:I,MATCH(B1564,HAMARA!E:E,0))=0,\"\",INDEX(HAMARA!I:I,MATCH(B1564,HAMARA!E:E,0))),\"\")","v":"השקעות אחרות"}]
[1433,"DT442",1.99,{"$f":"IFERROR(IF(INDEX(HAMARA!I:I,MATCH(B1565,HAMARA!E:E,0))=0,\"\",INDEX(HAMARA!I:I,MATCH(B1565,HAMARA!E:E,0))),\"\")","v":"השקעות אחרות"}]
[1433,"DT443",0,{"$f":"IFERROR(IF(INDEX(HAMARA!I:I,MATCH(B1566,HAMARA!E:E,0))=0,\"\",INDEX(HAMARA!I:I,MATCH(B1566,HAMARA!E:E,0))),\"\")","v":"השקעות אחרות"}]
[1433,"DT444",0,{"$f":"IFERROR(IF(INDEX(HAMARA!I:I,MATCH(B1567,HAMARA!E:E,0))=0,\"\",INDEX(HAMARA!I:I,MATCH(B1567,HAMARA!E:E,0))),\"\")","v":"השקעות אחרות"}]
[1433,"DT445",0,{"$f":"IFERROR(IF(INDEX(HAMARA!I:I,MATCH(B1568,HAMARA!E:E,0))=0,\"\",INDEX(HAMARA!I:I,MATCH(B1568,HAMARA!E:E,0))),\"\")","v":"השקעות אחרות"}]
[1433,"DT212",0,{"$f":"IFERROR(IF(INDEX(HAMARA!I:I,MATCH(B1569,HAMARA!E:E,0))=0,\"\",INDEX(HAMARA!I:I,MATCH(B1569,HAMARA!E:E,0))),\"\")","v":"השקעות אחרות"}]
[1433,"DT446",0,{"$f":"IFERROR(IF(INDEX(HAMARA!I:I,MATCH(B1570,HAMARA!E:E,0))=0,\"\",INDEX(HAMARA!I:I,MATCH(B1570,HAMARA!E:E,0))),\"\")","v":"השקעות אחרות"}]
[1433,"DT447",0,{"$f":"IFERROR(IF(INDEX(HAMARA!I:I,MATCH(B1571,HAMARA!E:E,0))=0,\"\",INDEX(HAMARA!I:I,MATCH(B1571,HAMARA!E:E,0))),\"\")","v":"השקעות אחרות"}]
[1433,"DT448",0,{"$f":"IFERROR(IF(INDEX(HAMARA!I:I,MATCH(B1572,HAMARA!E:E,0))=0,\"\",INDEX(HAMARA!I:I,MATCH(B1572,HAMARA!E:E,0))),\"\")","v":"השקעות אחרות"}]
[1433,"DT449",0,{"$f":"IFERROR(IF(INDEX(HAMARA!I:I,MATCH(B1573,HAMARA!E:E,0))=0,\"\",INDEX(HAMARA!I:I,MATCH(B1573,HAMARA!E:E,0))),\"\")","v":"השקעות אחרות"}]
[1433,"DT468",0,{"$f":"IFERROR(IF(INDEX(HAMARA!I:I,MATCH(B1574,HAMARA!E:E,0))=0,\"\",INDEX(HAMARA!I:I,MATCH(B1574,HAMARA!E:E,0))),\"\")","v":"מניות וני\"ע סחירים אחרים"}]
[1433,"DT469",0,{"$f":"IFERROR(IF(INDEX(HAMARA!I:I,MATCH(B1575,HAMARA!E:E,0))=0,\"\",INDEX(HAMARA!I:I,MATCH(B1575,HAMARA!E:E,0))),\"\")","v":"מניות וני\"ע סחירים אחרים"}]
[1433,"DT175",0,{"$f":"IFERROR(IF(INDEX(HAMARA!I:I,MATCH(B1576,HAMARA!E:E,0))=0,\"\",INDEX(HAMARA!I:I,MATCH(B1576,HAMARA!E:E,0))),\"\")","v":"השקעות אחרות"}]
[1433,"DT208",0,{"$f":"IFERROR(IF(INDEX(HAMARA!I:I,MATCH(B1577,HAMARA!E:E,0))=0,\"\",INDEX(HAMARA!I:I,MATCH(B1577,HAMARA!E:E,0))),\"\")","v":"השקעות אחרות"}]
[1433,"DT176",0,{"$f":"IFERROR(IF(INDEX(HAMARA!I:I,MATCH(B1578,HAMARA!E:E,0))=0,\"\",INDEX(HAMARA!I:I,MATCH(B1578,HAMARA!E:E,0))),\"\")","v":"השקעות אחרות"}]
[1433,"DT209",0,{"$f":"IFERROR(IF(INDEX(HAMARA!I:I,MATCH(B1579,HAMARA!E:E,0))=0,\"\",INDEX(HAMARA!I:I,MATCH(B1579,HAMARA!E:E,0))),\"\")","v":"השקעות אחרות"}]
[1433,"DT177",0,{"$f":"IFERROR(IF(INDEX(HAMARA!I:I,MATCH(B1580,HAMARA!E:E,0))=0,\"\",INDEX(HAMARA!I:I,MATCH(B1580,HAMARA!E:E,0))),\"\")","v":"השקעות אחרות"}]
[1433,"DT210",0,{"$f":"IFERROR(IF(INDEX(HAMARA!I:I,MATCH(B1581,HAMARA!E:E,0))=0,\"\",INDEX(HAMARA!I:I,MATCH(B1581,HAMARA!E:E,0))),\"\")","v":"השקעות אחרות"}]
[1433,"DT472",0,{"$f":"IFERROR(IF(INDEX(HAMARA!I:I,MATCH(B1582,HAMARA!E:E,0))=0,\"\",INDEX(HAMARA!I:I,MATCH(B1582,HAMARA!E:E,0))),\"\")","v":"השקעות אחרות"}]
[1433,"DT470",0,{"$f":"IFERROR(IF(INDEX(HAMARA!I:I,MATCH(B1583,HAMARA!E:E,0))=0,\"\",INDEX(HAMARA!I:I,MATCH(B1583,HAMARA!E:E,0))),\"\")","v":"השקעות אחרות"}]
[1433,"DT345",0,{"$f":"IFERROR(IF(INDEX(HAMARA!I:I,MATCH(B1584,HAMARA!E:E,0))=0,\"\",INDEX(HAMARA!I:I,MATCH(B1584,HAMARA!E:E,0))),\"\")","v":"השקעות אחרות"}]
[1433,"DT347",0,{"$f":"IFERROR(IF(INDEX(HAMARA!I:I,MATCH(B1585,HAMARA!E:E,0))=0,\"\",INDEX(HAMARA!I:I,MATCH(B1585,HAMARA!E:E,0))),\"\")","v":"השקעות אחרות"}]
[1433,"DT625",0,{"$f":"IFERROR(IF(INDEX(HAMARA!I:I,MATCH(B1586,HAMARA!E:E,0))=0,\"\",INDEX(HAMARA!I:I,MATCH(B1586,HAMARA!E:E,0))),\"\")","v":"השקעות אחרות"}]
[1433,"DT626",0,{"$f":"IFERROR(IF(INDEX(HAMARA!I:I,MATCH(B1587,HAMARA!E:E,0))=0,\"\",INDEX(HAMARA!I:I,MATCH(B1587,HAMARA!E:E,0))),\"\")","v":"השקעות אחרות"}]
[1433,"DT471",0,{"$f":"IFERROR(IF(INDEX(HAMARA!I:I,MATCH(B1588,HAMARA!E:E,0))=0,\"\",INDEX(HAMARA!I:I,MATCH(B1588,HAMARA!E:E,0))),\"\")","v":"השקעות אחרות"}]
[1433,"DT473",0,{"$f":"IFERROR(IF(INDEX(HAMARA!I:I,MATCH(B1589,HAMARA!E:E,0))=0,\"\",INDEX(HAMARA!I:I,MATCH(B1589,HAMARA!E:E,0))),\"\")","v":"השקעות אחרות"}]
[1433,"DT346",0,{"$f":"IFERROR(IF(INDEX(HAMARA!I:I,MATCH(B1590,HAMARA!E:E,0))=0,\"\",INDEX(HAMARA!I:I,MATCH(B1590,HAMARA!E:E,0))),\"\")","v":"השקעות אחרות"}]
[1433,"DT348",0,{"$f":"IFERROR(IF(INDEX(HAMARA!I:I,MATCH(B1591,HAMARA!E:E,0))=0,\"\",INDEX(HAMARA!I:I,MATCH(B1591,HAMARA!E:E,0))),\"\")","v":"השקעות אחרות"}]
[1433,"DT213",0,{"$f":"IFERROR(IF(INDEX(HAMARA!I:I,MATCH(B1592,HAMARA!E:E,0))=0,\"\",INDEX(HAMARA!I:I,MATCH(B1592,HAMARA!E:E,0))),\"\")","v":"מניות וני\"ע סחירים אחרים"}]
[1433,"DT217",0,{"$f":"IFERROR(IF(INDEX(HAMARA!I:I,MATCH(B1593,HAMARA!E:E,0))=0,\"\",INDEX(HAMARA!I:I,MATCH(B1593,HAMARA!E:E,0))),\"\")","v":"מניות וני\"ע סחירים אחרים"}]
[1433,"DT214",0,{"$f":"IFERROR(IF(INDEX(HAMARA!I:I,MATCH(B1594,HAMARA!E:E,0))=0,\"\",INDEX(HAMARA!I:I,MATCH(B1594,HAMARA!E:E,0))),\"\")","v":"השקעות אחרות"}]
[1433,"DT218",0,{"$f":"IFERROR(IF(INDEX(HAMARA!I:I,MATCH(B1595,HAMARA!E:E,0))=0,\"\",INDEX(HAMARA!I:I,MATCH(B1595,HAMARA!E:E,0))),\"\")","v":"השקעות אחרות"}]
[1433,"DT215",0,{"$f":"IFERROR(IF(INDEX(HAMARA!I:I,MATCH(B1596,HAMARA!E:E,0))=0,\"\",INDEX(HAMARA!I:I,MATCH(B1596,HAMARA!E:E,0))),\"\")","v":"השקעות אחרות"}]
[1433,"DT219",0,{"$f":"IFERROR(IF(INDEX(HAMARA!I:I,MATCH(B1597,HAMARA!E:E,0))=0,\"\",INDEX(HAMARA!I:I,MATCH(B1597,HAMARA!E:E,0))),\"\")","v":"השקעות אחרות"}]
[1433,"DT216",0,{"$f":"IFERROR(IF(INDEX(HAMARA!I:I,MATCH(B1598,HAMARA!E:E,0))=0,\"\",INDEX(HAMARA!I:I,MATCH(B1598,HAMARA!E:E,0))),\"\")","v":"השקעות אחרות"}]
[1433,"DT220",0,{"$f":"IFERROR(IF(INDEX(HAMARA!I:I,MATCH(B1599,HAMARA!E:E,0))=0,\"\",INDEX(HAMARA!I:I,MATCH(B1599,HAMARA!E:E,0))),\"\")","v":"השקעות אחרות"}]
[1433,"DT474",0,{"$f":"IFERROR(IF(INDEX(HAMARA!I:I,MATCH(B1600,HAMARA!E:E,0))=0,\"\",INDEX(HAMARA!I:I,MATCH(B1600,HAMARA!E:E,0))),\"\")","v":"השקעות אחרות"}]
[1433,"DT475",0,{"$f":"IFERROR(IF(INDEX(HAMARA!I:I,MATCH(B1601,HAMARA!E:E,0))=0,\"\",INDEX(HAMARA!I:I,MATCH(B1601,HAMARA!E:E,0))),\"\")","v":"השקעות אחרות"}]
[1433,"DT476",0,{"$f":"IFERROR(IF(INDEX(HAMARA!I:I,MATCH(B1602,HAMARA!E:E,0))=0,\"\",INDEX(HAMARA!I:I,MATCH(B1602,HAMARA!E:E,0))),\"\")","v":"השקעות אחרות"}]
[1433,"DT481",0,{"$f":"IFERROR(IF(INDEX(HAMARA!I:I,MATCH(B1603,HAMARA!E:E,0))=0,\"\",INDEX(HAMARA!I:I,MATCH(B1603,HAMARA!E:E,0))),\"\")","v":"השקעות אחרות"}]
[1433,"DT477",0,{"$f":"IFERROR(IF(INDEX(HAMARA!I:I,MATCH(B1604,HAMARA!E:E,0))=0,\"\",INDEX(HAMARA!I:I,MATCH(B1604,HAMARA!E:E,0))),\"\")","v":"השקעות אחרות"}]
[1433,"DT482",0,{"$f":"IFERROR(IF(INDEX(HAMARA!I:I,MATCH(B1605,HAMARA!E:E,0))=0,\"\",INDEX(HAMARA!I:I,MATCH(B1605,HAMARA!E:E,0))),\"\")","v":"השקעות אחרות"}]
[1433,"DT478",0,{"$f":"IFERROR(IF(INDEX(HAMARA!I:I,MATCH(B1606,HAMARA!E:E,0))=0,\"\",INDEX(HAMARA!I:I,MATCH(B1606,HAMARA!E:E,0))),\"\")","v":"השקעות אחרות"}]
[1433,"DT483",0,{"$f":"IFERROR(IF(INDEX(HAMARA!I:I,MATCH(B1607,HAMARA!E:E,0))=0,\"\",INDEX(HAMARA!I:I,MATCH(B1607,HAMARA!E:E,0))),\"\")","v":"השקעות אחרות"}]
[1433,"DT479",0,{"$f":"IFERROR(IF(INDEX(HAMARA!I:I,MATCH(B1608,HAMARA!E:E,0))=0,\"\",INDEX(HAMARA!I:I,MATCH(B1608,HAMARA!E:E,0))),\"\")","v":"השקעות אחרות"}]
[1433,"DT484",0,{"$f":"IFERROR(IF(INDEX(HAMARA!I:I,MATCH(B1609,HAMARA!E:E,0))=0,\"\",INDEX(HAMARA!I:I,MATCH(B1609,HAMARA!E:E,0))),\"\")","v":"השקעות אחרות"}]
[1433,"DT480",0,{"$f":"IFERROR(IF(INDEX(HAMARA!I:I,MATCH(B1610,HAMARA!E:E,0))=0,\"\",INDEX(HAMARA!I:I,MATCH(B1610,HAMARA!E:E,0))),\"\")","v":"השקעות אחרות"}]
[1433,"DT485",0,{"$f":"IFERROR(IF(INDEX(HAMARA!I:I,MATCH(B1611,HAMARA!E:E,0))=0,\"\",INDEX(HAMARA!I:I,MATCH(B1611,HAMARA!E:E,0))),\"\")","v":"השקעות אחרות"}]
[1433,"DT705",0,{"$f":"IFERROR(IF(INDEX(HAMARA!I:I,MATCH(B1612,HAMARA!E:E,0))=0,\"\",INDEX(HAMARA!I:I,MATCH(B1612,HAMARA!E:E,0))),\"\")","v":"השקעות אחרות"}]
[1433,"DT706",0,{"$f":"IFERROR(IF(INDEX(HAMARA!I:I,MATCH(B1613,HAMARA!E:E,0))=0,\"\",INDEX(HAMARA!I:I,MATCH(B1613,HAMARA!E:E,0))),\"\")","v":"השקעות אחרות"}]
[1433,"DT707",0,{"$f":"IFERROR(IF(INDEX(HAMARA!I:I,MATCH(B1614,HAMARA!E:E,0))=0,\"\",INDEX(HAMARA!I:I,MATCH(B1614,HAMARA!E:E,0))),\"\")","v":"השקעות אחרות"}]
[1433,"DT708",0,{"$f":"IFERROR(IF(INDEX(HAMARA!I:I,MATCH(B1615,HAMARA!E:E,0))=0,\"\",INDEX(HAMARA!I:I,MATCH(B1615,HAMARA!E:E,0))),\"\")","v":"השקעות אחרות"}]
[1433,"DT709",0,{"$f":"IFERROR(IF(INDEX(HAMARA!I:I,MATCH(B1616,HAMARA!E:E,0))=0,\"\",INDEX(HAMARA!I:I,MATCH(B1616,HAMARA!E:E,0))),\"\")","v":"השקעות אחרות"}]
[1433,"DT710",0,{"$f":"IFERROR(IF(INDEX(HAMARA!I:I,MATCH(B1617,HAMARA!E:E,0))=0,\"\",INDEX(HAMARA!I:I,MATCH(B1617,HAMARA!E:E,0))),\"\")","v":"השקעות אחרות"}]
[1433,"DT711",0,{"$f":"IFERROR(IF(INDEX(HAMARA!I:I,MATCH(B1618,HAMARA!E:E,0))=0,\"\",INDEX(HAMARA!I:I,MATCH(B1618,HAMARA!E:E,0))),\"\")","v":"השקעות אחרות"}]
[1433,"DT712",0,{"$f":"IFERROR(IF(INDEX(HAMARA!I:I,MATCH(B1619,HAMARA!E:E,0))=0,\"\",INDEX(HAMARA!I:I,MATCH(B1619,HAMARA!E:E,0))),\"\")","v":"השקעות אחרות"}]
[1433,"DT713",0,{"$f":"IFERROR(IF(INDEX(HAMARA!I:I,MATCH(B1620,HAMARA!E:E,0))=0,\"\",INDEX(HAMARA!I:I,MATCH(B1620,HAMARA!E:E,0))),\"\")","v":"השקעות אחרות"}]
[1433,"DT714",0,{"$f":"IFERROR(IF(INDEX(HAMARA!I:I,MATCH(B1621,HAMARA!E:E,0))=0,\"\",INDEX(HAMARA!I:I,MATCH(B1621,HAMARA!E:E,0))),\"\")","v":"השקעות אחרות"}]
[1433,"DT715",0,{"$f":"IFERROR(IF(INDEX(HAMARA!I:I,MATCH(B1622,HAMARA!E:E,0))=0,\"\",INDEX(HAMARA!I:I,MATCH(B1622,HAMARA!E:E,0))),\"\")","v":"השקעות אחרות"}]
[1433,"DT716",0,{"$f":"IFERROR(IF(INDEX(HAMARA!I:I,MATCH(B1623,HAMARA!E:E,0))=0,\"\",INDEX(HAMARA!I:I,MATCH(B1623,HAMARA!E:E,0))),\"\")","v":"מניות וני\"ע סחירים אחרים"}]
[1433,"DT717",0,{"$f":"IFERROR(IF(INDEX(HAMARA!I:I,MATCH(B1624,HAMARA!E:E,0))=0,\"\",INDEX(HAMARA!I:I,MATCH(B1624,HAMARA!E:E,0))),\"\")","v":"השקעות אחרות"}]
[1433,"DT718",0,{"$f":"IFERROR(IF(INDEX(HAMARA!I:I,MATCH(B1625,HAMARA!E:E,0))=0,\"\",INDEX(HAMARA!I:I,MATCH(B1625,HAMARA!E:E,0))),\"\")","v":"השקעות אחרות"}]
[1433,"DT719",0,{"$f":"IFERROR(IF(INDEX(HAMARA!I:I,MATCH(B1626,HAMARA!E:E,0))=0,\"\",INDEX(HAMARA!I:I,MATCH(B1626,HAMARA!E:E,0))),\"\")","v":"השקעות אחרות"}]
[1433,"DT720",0,{"$f":"IFERROR(IF(INDEX(HAMARA!I:I,MATCH(B1627,HAMARA!E:E,0))=0,\"\",INDEX(HAMARA!I:I,MATCH(B1627,HAMARA!E:E,0))),\"\")","v":"השקעות אחרות"}]
[1433,"DT721",0,{"$f":"IFERROR(IF(INDEX(HAMARA!I:I,MATCH(B1628,HAMARA!E:E,0))=0,\"\",INDEX(HAMARA!I:I,MATCH(B1628,HAMARA!E:E,0))),\"\")","v":"השקעות אחרות"}]
[1433,"DT722",0,{"$f":"IFERROR(IF(INDEX(HAMARA!I:I,MATCH(B1629,HAMARA!E:E,0))=0,\"\",INDEX(HAMARA!I:I,MATCH(B1629,HAMARA!E:E,0))),\"\")","v":"השקעות אחרות"}]
[1433,"DT723",0,{"$f":"IFERROR(IF(INDEX(HAMARA!I:I,MATCH(B1630,HAMARA!E:E,0))=0,\"\",INDEX(HAMARA!I:I,MATCH(B1630,HAMARA!E:E,0))),\"\")","v":"השקעות אחרות"}]
[1433,"DT724",0,{"$f":"IFERROR(IF(INDEX(HAMARA!I:I,MATCH(B1631,HAMARA!E:E,0))=0,\"\",INDEX(HAMARA!I:I,MATCH(B1631,HAMARA!E:E,0))),\"\")","v":"השקעות אחרות"}]
[1433,"DT725",0,{"$f":"IFERROR(IF(INDEX(HAMARA!I:I,MATCH(B1632,HAMARA!E:E,0))=0,\"\",INDEX(HAMARA!I:I,MATCH(B1632,HAMARA!E:E,0))),\"\")","v":"השקעות אחרות"}]
[1433,"DT726",0,{"$f":"IFERROR(IF(INDEX(HAMARA!I:I,MATCH(B1633,HAMARA!E:E,0))=0,\"\",INDEX(HAMARA!I:I,MATCH(B1633,HAMARA!E:E,0))),\"\")","v":"השקעות אחרות"}]
[1433,"DT646",0,{"$f":"IFERROR(IF(INDEX(HAMARA!I:I,MATCH(B1634,HAMARA!E:E,0))=0,\"\",INDEX(HAMARA!I:I,MATCH(B1634,HAMARA!E:E,0))),\"\")","v":"השקעות אחרות"}]
[1433,"DT647",0,{"$f":"IFERROR(IF(INDEX(HAMARA!I:I,MATCH(B1635,HAMARA!E:E,0))=0,\"\",INDEX(HAMARA!I:I,MATCH(B1635,HAMARA!E:E,0))),\"\")","v":"השקעות אחרות"}]
[1433,"DT648",0,{"$f":"IFERROR(IF(INDEX(HAMARA!I:I,MATCH(B1636,HAMARA!E:E,0))=0,\"\",INDEX(HAMARA!I:I,MATCH(B1636,HAMARA!E:E,0))),\"\")","v":"השקעות אחרות"}]
[1433,"DT649",0,{"$f":"IFERROR(IF(INDEX(HAMARA!I:I,MATCH(B1637,HAMARA!E:E,0))=0,\"\",INDEX(HAMARA!I:I,MATCH(B1637,HAMARA!E:E,0))),\"\")","v":"השקעות אחרות"}]
[1433,"DT650",0,{"$f":"IFERROR(IF(INDEX(HAMARA!I:I,MATCH(B1638,HAMARA!E:E,0))=0,\"\",INDEX(HAMARA!I:I,MATCH(B1638,HAMARA!E:E,0))),\"\")","v":"השקעות אחרות"}]
[1433,"DT651",0,{"$f":"IFERROR(IF(INDEX(HAMARA!I:I,MATCH(B1639,HAMARA!E:E,0))=0,\"\",INDEX(HAMARA!I:I,MATCH(B1639,HAMARA!E:E,0))),\"\")","v":"השקעות אחרות"}]
[1433,"DT652",0,{"$f":"IFERROR(IF(INDEX(HAMARA!I:I,MATCH(B1640,HAMARA!E:E,0))=0,\"\",INDEX(HAMARA!I:I,MATCH(B1640,HAMARA!E:E,0))),\"\")","v":"השקעות אחרות"}]
[1433,"DT653",0,{"$f":"IFERROR(IF(INDEX(HAMARA!I:I,MATCH(B1641,HAMARA!E:E,0))=0,\"\",INDEX(HAMARA!I:I,MATCH(B1641,HAMARA!E:E,0))),\"\")","v":"השקעות אחרות"}]
[1433,"DT654",0,{"$f":"IFERROR(IF(INDEX(HAMARA!I:I,MATCH(B1642,HAMARA!E:E,0))=0,\"\",INDEX(HAMARA!I:I,MATCH(B1642,HAMARA!E:E,0))),\"\")","v":"השקעות אחרות"}]
[1433,"DT655",0,{"$f":"IFERROR(IF(INDEX(HAMARA!I:I,MATCH(B1643,HAMARA!E:E,0))=0,\"\",INDEX(HAMARA!I:I,MATCH(B1643,HAMARA!E:E,0))),\"\")","v":"השקעות אחרות"}]
[1433,"DT656",0,{"$f":"IFERROR(IF(INDEX(HAMARA!I:I,MATCH(B1644,HAMARA!E:E,0))=0,\"\",INDEX(HAMARA!I:I,MATCH(B1644,HAMARA!E:E,0))),\"\")","v":"השקעות אחרות"}]
[1433,"DT657",0,{"$f":"IFERROR(IF(INDEX(HAMARA!I:I,MATCH(B1645,HAMARA!E:E,0))=0,\"\",INDEX(HAMARA!I:I,MATCH(B1645,HAMARA!E:E,0))),\"\")","v":"השקעות אחרות"}]
[1433,"DT678",0,{"$f":"IFERROR(IF(INDEX(HAMARA!I:I,MATCH(B1646,HAMARA!E:E,0))=0,\"\",INDEX(HAMARA!I:I,MATCH(B1646,HAMARA!E:E,0))),\"\")","v":"השקעות אחרות"}]
[1433,"DT679",0,{"$f":"IFERROR(IF(INDEX(HAMARA!I:I,MATCH(B1647,HAMARA!E:E,0))=0,\"\",INDEX(HAMARA!I:I,MATCH(B1647,HAMARA!E:E,0))),\"\")","v":"השקעות אחרות"}]
[1433,"DT680",0,{"$f":"IFERROR(IF(INDEX(HAMARA!I:I,MATCH(B1648,HAMARA!E:E,0))=0,\"\",INDEX(HAMARA!I:I,MATCH(B1648,HAMARA!E:E,0))),\"\")","v":"השקעות אחרות"}]
[1433,"DT681",0,{"$f":"IFERROR(IF(INDEX(HAMARA!I:I,MATCH(B1649,HAMARA!E:E,0))=0,\"\",INDEX(HAMARA!I:I,MATCH(B1649,HAMARA!E:E,0))),\"\")","v":"השקעות אחרות"}]
[1433,"DT682",0,{"$f":"IFERROR(IF(INDEX(HAMARA!I:I,MATCH(B1650,HAMARA!E:E,0))=0,\"\",INDEX(HAMARA!I:I,MATCH(B1650,HAMARA!E:E,0))),\"\")","v":"השקעות אחרות"}]
[1433,"DT683",0,{"$f":"IFERROR(IF(INDEX(HAMARA!I:I,MATCH(B1651,HAMARA!E:E,0))=0,\"\",INDEX(HAMARA!I:I,MATCH(B1651,HAMARA!E:E,0))),\"\")","v":"השקעות אחרות"}]
[1433,"DT658",0,{"$f":"IFERROR(IF(INDEX(HAMARA!I:I,MATCH(B1652,HAMARA!E:E,0))=0,\"\",INDEX(HAMARA!I:I,MATCH(B1652,HAMARA!E:E,0))),\"\")","v":"השקעות אחרות"}]
[1433,"DT659",0,{"$f":"IFERROR(IF(INDEX(HAMARA!I:I,MATCH(B1653,HAMARA!E:E,0))=0,\"\",INDEX(HAMARA!I:I,MATCH(B1653,HAMARA!E:E,0))),\"\")","v":"השקעות אחרות"}]
[1433,"DT660",0,{"$f":"IFERROR(IF(INDEX(HAMARA!I:I,MATCH(B1654,HAMARA!E:E,0))=0,\"\",INDEX(HAMARA!I:I,MATCH(B1654,HAMARA!E:E,0))),\"\")","v":"השקעות אחרות"}]
[1433,"DT661",0,{"$f":"IFERROR(IF(INDEX(HAMARA!I:I,MATCH(B1655,HAMARA!E:E,0))=0,\"\",INDEX(HAMARA!I:I,MATCH(B1655,HAMARA!E:E,0))),\"\")","v":"השקעות אחרות"}]
[1433,"DT727",0,{"$f":"IFERROR(IF(INDEX(HAMARA!I:I,MATCH(B1656,HAMARA!E:E,0))=0,\"\",INDEX(HAMARA!I:I,MATCH(B1656,HAMARA!E:E,0))),\"\")","v":"השקעות אחרות"}]
[1433,"DT728",0,{"$f":"IFERROR(IF(INDEX(HAMARA!I:I,MATCH(B1657,HAMARA!E:E,0))=0,\"\",INDEX(HAMARA!I:I,MATCH(B1657,HAMARA!E:E,0))),\"\")","v":"השקעות אחרות"}]
[1433,"DT729",0,{"$f":"IFERROR(IF(INDEX(HAMARA!I:I,MATCH(B1658,HAMARA!E:E,0))=0,\"\",INDEX(HAMARA!I:I,MATCH(B1658,HAMARA!E:E,0))),\"\")","v":"השקעות אחרות"}]
[1433,"DT730",0,{"$f":"IFERROR(IF(INDEX(HAMARA!I:I,MATCH(B1659,HAMARA!E:E,0))=0,\"\",INDEX(HAMARA!I:I,MATCH(B1659,HAMARA!E:E,0))),\"\")","v":"השקעות אחרות"}]
[1433,"DT731",0,{"$f":"IFERROR(IF(INDEX(HAMARA!I:I,MATCH(B1660,HAMARA!E:E,0))=0,\"\",INDEX(HAMARA!I:I,MATCH(B1660,HAMARA!E:E,0))),\"\")","v":"השקעות אחרות"}]
[1433,"DT732",0,{"$f":"IFERROR(IF(INDEX(HAMARA!I:I,MATCH(B1661,HAMARA!E:E,0))=0,\"\",INDEX(HAMARA!I:I,MATCH(B1661,HAMARA!E:E,0))),\"\")","v":"השקעות אחרות"}]
[1433,"DT733",0,{"$f":"IFERROR(IF(INDEX(HAMARA!I:I,MATCH(B1662,HAMARA!E:E,0))=0,\"\",INDEX(HAMARA!I:I,MATCH(B1662,HAMARA!E:E,0))),\"\")","v":"השקעות אחרות"}]
[1433,"DT734",0,{"$f":"IFERROR(IF(INDEX(HAMARA!I:I,MATCH(B1663,HAMARA!E:E,0))=0,\"\",INDEX(HAMARA!I:I,MATCH(B1663,HAMARA!E:E,0))),\"\")","v":"השקעות אחרות"}]
[1433,"DT735",0,{"$f":"IFERROR(IF(INDEX(HAMARA!I:I,MATCH(B1664,HAMARA!E:E,0))=0,\"\",INDEX(HAMARA!I:I,MATCH(B1664,HAMARA!E:E,0))),\"\")","v":"השקעות אחרות"}]
[1433,"DT736",0,{"$f":"IFERROR(IF(INDEX(HAMARA!I:I,MATCH(B1665,HAMARA!E:E,0))=0,\"\",INDEX(HAMARA!I:I,MATCH(B1665,HAMARA!E:E,0))),\"\")","v":"השקעות אחרות"}]
[1433,"DT737",0,{"$f":"IFERROR(IF(INDEX(HAMARA!I:I,MATCH(B1666,HAMARA!E:E,0))=0,\"\",INDEX(HAMARA!I:I,MATCH(B1666,HAMARA!E:E,0))),\"\")","v":"השקעות אחרות"}]
[1433,"DT738",0,{"$f":"IFERROR(IF(INDEX(HAMARA!I:I,MATCH(B1667,HAMARA!E:E,0))=0,\"\",INDEX(HAMARA!I:I,MATCH(B1667,HAMARA!E:E,0))),\"\")","v":"השקעות אחרות"}]
[1433,"DT739",0,{"$f":"IFERROR(IF(INDEX(HAMARA!I:I,MATCH(B1668,HAMARA!E:E,0))=0,\"\",INDEX(HAMARA!I:I,MATCH(B1668,HAMARA!E:E,0))),\"\")","v":"השקעות אחרות"}]
[1433,"DT740",0,{"$f":"IFERROR(IF(INDEX(HAMARA!I:I,MATCH(B1669,HAMARA!E:E,0))=0,\"\",INDEX(HAMARA!I:I,MATCH(B1669,HAMARA!E:E,0))),\"\")","v":"השקעות אחרות"}]
[1433,"DT741",0,{"$f":"IFERROR(IF(INDEX(HAMARA!I:I,MATCH(B1670,HAMARA!E:E,0))=0,\"\",INDEX(HAMARA!I:I,MATCH(B1670,HAMARA!E:E,0))),\"\")","v":"השקעות אחרות"}]
[1433,"DT742",0,{"$f":"IFERROR(IF(INDEX(HAMARA!I:I,MATCH(B1671,HAMARA!E:E,0))=0,\"\",INDEX(HAMARA!I:I,MATCH(B1671,HAMARA!E:E,0))),\"\")","v":"השקעות אחרות"}]
[1433,"DT743",0,{"$f":"IFERROR(IF(INDEX(HAMARA!I:I,MATCH(B1672,HAMARA!E:E,0))=0,\"\",INDEX(HAMARA!I:I,MATCH(B1672,HAMARA!E:E,0))),\"\")","v":"השקעות אחרות"}]
[1433,"DT744",0,{"$f":"IFERROR(IF(INDEX(HAMARA!I:I,MATCH(B1673,HAMARA!E:E,0))=0,\"\",INDEX(HAMARA!I:I,MATCH(B1673,HAMARA!E:E,0))),\"\")","v":"השקעות אחרות"}]
[1433,"DT745",0,{"$f":"IFERROR(IF(INDEX(HAMARA!I:I,MATCH(B1674,HAMARA!E:E,0))=0,\"\",INDEX(HAMARA!I:I,MATCH(B1674,HAMARA!E:E,0))),\"\")","v":"השקעות אחרות"}]
[1433,"DT746",0,{"$f":"IFERROR(IF(INDEX(HAMARA!I:I,MATCH(B1675,HAMARA!E:E,0))=0,\"\",INDEX(HAMARA!I:I,MATCH(B1675,HAMARA!E:E,0))),\"\")","v":"השקעות אחרות"}]
[1433,"DT747",0,{"$f":"IFERROR(IF(INDEX(HAMARA!I:I,MATCH(B1676,HAMARA!E:E,0))=0,\"\",INDEX(HAMARA!I:I,MATCH(B1676,HAMARA!E:E,0))),\"\")","v":"השקעות אחרות"}]
[1433,"DT748",0,{"$f":"IFERROR(IF(INDEX(HAMARA!I:I,MATCH(B1677,HAMARA!E:E,0))=0,\"\",INDEX(HAMARA!I:I,MATCH(B1677,HAMARA!E:E,0))),\"\")","v":"השקעות אחרות"}]
[1433,"DT662",0,{"$f":"IFERROR(IF(INDEX(HAMARA!I:I,MATCH(B1678,HAMARA!E:E,0))=0,\"\",INDEX(HAMARA!I:I,MATCH(B1678,HAMARA!E:E,0))),\"\")","v":"השקעות אחרות"}]
[1433,"DT663",0,{"$f":"IFERROR(IF(INDEX(HAMARA!I:I,MATCH(B1679,HAMARA!E:E,0))=0,\"\",INDEX(HAMARA!I:I,MATCH(B1679,HAMARA!E:E,0))),\"\")","v":"השקעות אחרות"}]
[1433,"DT664",0,{"$f":"IFERROR(IF(INDEX(HAMARA!I:I,MATCH(B1680,HAMARA!E:E,0))=0,\"\",INDEX(HAMARA!I:I,MATCH(B1680,HAMARA!E:E,0))),\"\")","v":"השקעות אחרות"}]
[1433,"DT665",0,{"$f":"IFERROR(IF(INDEX(HAMARA!I:I,MATCH(B1681,HAMARA!E:E,0))=0,\"\",INDEX(HAMARA!I:I,MATCH(B1681,HAMARA!E:E,0))),\"\")","v":"השקעות אחרות"}]
[1433,"DT666",0,{"$f":"IFERROR(IF(INDEX(HAMARA!I:I,MATCH(B1682,HAMARA!E:E,0))=0,\"\",INDEX(HAMARA!I:I,MATCH(B1682,HAMARA!E:E,0))),\"\")","v":"השקעות אחרות"}]
[1433,"DT667",0,{"$f":"IFERROR(IF(INDEX(HAMARA!I:I,MATCH(B1683,HAMARA!E:E,0))=0,\"\",INDEX(HAMARA!I:I,MATCH(B1683,HAMARA!E:E,0))),\"\")","v":"השקעות אחרות"}]
[1433,"DT668",0,{"$f":"IFERROR(IF(INDEX(HAMARA!I:I,MATCH(B1684,HAMARA!E:E,0))=0,\"\",INDEX(HAMARA!I:I,MATCH(B1684,HAMARA!E:E,0))),\"\")","v":"השקעות אחרות"}]
[1433,"DT669",0,{"$f":"IFERROR(IF(INDEX(HAMARA!I:I,MATCH(B1685,HAMARA!E:E,0))=0,\"\",INDEX(HAMARA!I:I,MATCH(B1685,HAMARA!E:E,0))),\"\")","v":"השקעות אחרות"}]
[1433,"DT670",0,{"$f":"IFERROR(IF(INDEX(HAMARA!I:I,MATCH(B1686,HAMARA!E:E,0))=0,\"\",INDEX(HAMARA!I:I,MATCH(B1686,HAMARA!E:E,0))),\"\")","v":"השקעות אחרות"}]
[1433,"DT671",0,{"$f":"IFERROR(IF(INDEX(HAMARA!I:I,MATCH(B1687,HAMARA!E:E,0))=0,\"\",INDEX(HAMARA!I:I,MATCH(B1687,HAMARA!E:E,0))),\"\")","v":"השקעות אחרות"}]
[1433,"DT672",0,{"$f":"IFERROR(IF(INDEX(HAMARA!I:I,MATCH(B1688,HAMARA!E:E,0))=0,\"\",INDEX(HAMARA!I:I,MATCH(B1688,HAMARA!E:E,0))),\"\")","v":"השקעות אחרות"}]
[1433,"DT673",0,{"$f":"IFERROR(IF(INDEX(HAMARA!I:I,MATCH(B1689,HAMARA!E:E,0))=0,\"\",INDEX(HAMARA!I:I,MATCH(B1689,HAMARA!E:E,0))),\"\")","v":"השקעות אחרות"}]
[1433,"DT684",0,{"$f":"IFERROR(IF(INDEX(HAMARA!I:I,MATCH(B1690,HAMARA!E:E,0))=0,\"\",INDEX(HAMARA!I:I,MATCH(B1690,HAMARA!E:E,0))),\"\")","v":"השקעות אחרות"}]
[1433,"DT685",0,{"$f":"IFERROR(IF(INDEX(HAMARA!I:I,MATCH(B1691,HAMARA!E:E,0))=0,\"\",INDEX(HAMARA!I:I,MATCH(B1691,HAMARA!E:E,0))),\"\")","v":"השקעות אחרות"}]
[1433,"DT686",0,{"$f":"IFERROR(IF(INDEX(HAMARA!I:I,MATCH(B1692,HAMARA!E:E,0))=0,\"\",INDEX(HAMARA!I:I,MATCH(B1692,HAMARA!E:E,0))),\"\")","v":"השקעות אחרות"}]
[1433,"DT687",0,{"$f":"IFERROR(IF(INDEX(HAMARA!I:I,MATCH(B1693,HAMARA!E:E,0))=0,\"\",INDEX(HAMARA!I:I,MATCH(B1693,HAMARA!E:E,0))),\"\")","v":"השקעות אחרות"}]
[1433,"DT688",0,{"$f":"IFERROR(IF(INDEX(HAMARA!I:I,MATCH(B1694,HAMARA!E:E,0))=0,\"\",INDEX(HAMARA!I:I,MATCH(B1694,HAMARA!E:E,0))),\"\")","v":"השקעות אחרות"}]
[1433,"DT689",0,{"$f":"IFERROR(IF(INDEX(HAMARA!I:I,MATCH(B1695,HAMARA!E:E,0))=0,\"\",INDEX(HAMARA!I:I,MATCH(B1695,HAMARA!E:E,0))),\"\")","v":"השקעות אחרות"}]
[1433,"DT674",0,{"$f":"IFERROR(IF(INDEX(HAMARA!I:I,MATCH(B1696,HAMARA!E:E,0))=0,\"\",INDEX(HAMARA!I:I,MATCH(B1696,HAMARA!E:E,0))),\"\")","v":"השקעות אחרות"}]
[1433,"DT675",0,{"$f":"IFERROR(IF(INDEX(HAMARA!I:I,MATCH(B1697,HAMARA!E:E,0))=0,\"\",INDEX(HAMARA!I:I,MATCH(B1697,HAMARA!E:E,0))),\"\")","v":"השקעות אחרות"}]
[1433,"DT676",0,{"$f":"IFERROR(IF(INDEX(HAMARA!I:I,MATCH(B1698,HAMARA!E:E,0))=0,\"\",INDEX(HAMARA!I:I,MATCH(B1698,HAMARA!E:E,0))),\"\")","v":"השקעות אחרות"}]
[1433,"DT677",0,{"$f":"IFERROR(IF(INDEX(HAMARA!I:I,MATCH(B1699,HAMARA!E:E,0))=0,\"\",INDEX(HAMARA!I:I,MATCH(B1699,HAMARA!E:E,0))),\"\")","v":"השקעות אחרות"}]
[1433,"DC1",0,{"$f":"IFERROR(IF(INDEX(HAMARA!I:I,MATCH(B1700,HAMARA!E:E,0))=0,\"\",INDEX(HAMARA!I:I,MATCH(B1700,HAMARA!E:E,0))),\"\")","v":"פקדונות והלוואות"}]
[1433,"DT502",0,{"$f":"IFERROR(IF(INDEX(HAMARA!I:I,MATCH(B1701,HAMARA!E:E,0))=0,\"\",INDEX(HAMARA!I:I,MATCH(B1701,HAMARA!E:E,0))),\"\")","v":"פקדונות והלוואות"}]
[1433,"DT503",0,{"$f":"IFERROR(IF(INDEX(HAMARA!I:I,MATCH(B1702,HAMARA!E:E,0))=0,\"\",INDEX(HAMARA!I:I,MATCH(B1702,HAMARA!E:E,0))),\"\")","v":"פקדונות והלוואות"}]
[1433,"DT450",0,{"$f":"IFERROR(IF(INDEX(HAMARA!I:I,MATCH(B1703,HAMARA!E:E,0))=0,\"\",INDEX(HAMARA!I:I,MATCH(B1703,HAMARA!E:E,0))),\"\")","v":"פקדונות והלוואות"}]
[1433,"DT504",0,{"$f":"IFERROR(IF(INDEX(HAMARA!I:I,MATCH(B1704,HAMARA!E:E,0))=0,\"\",INDEX(HAMARA!I:I,MATCH(B1704,HAMARA!E:E,0))),\"\")","v":"פקדונות והלוואות"}]
[1433,"DT505",0,{"$f":"IFERROR(IF(INDEX(HAMARA!I:I,MATCH(B1705,HAMARA!E:E,0))=0,\"\",INDEX(HAMARA!I:I,MATCH(B1705,HAMARA!E:E,0))),\"\")","v":"פקדונות והלוואות"}]
[1433,"DT451",0,{"$f":"IFERROR(IF(INDEX(HAMARA!I:I,MATCH(B1706,HAMARA!E:E,0))=0,\"\",INDEX(HAMARA!I:I,MATCH(B1706,HAMARA!E:E,0))),\"\")","v":"פקדונות והלוואות"}]
[1433,"DT506",0,{"$f":"IFERROR(IF(INDEX(HAMARA!I:I,MATCH(B1707,HAMARA!E:E,0))=0,\"\",INDEX(HAMARA!I:I,MATCH(B1707,HAMARA!E:E,0))),\"\")","v":"פקדונות והלוואות"}]
[1433,"DT627",0,{"$f":"IFERROR(IF(INDEX(HAMARA!I:I,MATCH(B1708,HAMARA!E:E,0))=0,\"\",INDEX(HAMARA!I:I,MATCH(B1708,HAMARA!E:E,0))),\"\")","v":"פקדונות והלוואות"}]
[1433,"DT507",0,{"$f":"IFERROR(IF(INDEX(HAMARA!I:I,MATCH(B1709,HAMARA!E:E,0))=0,\"\",INDEX(HAMARA!I:I,MATCH(B1709,HAMARA!E:E,0))),\"\")","v":"פקדונות והלוואות"}]
[1433,"DT577",0,{"$f":"IFERROR(IF(INDEX(HAMARA!I:I,MATCH(B1710,HAMARA!E:E,0))=0,\"\",INDEX(HAMARA!I:I,MATCH(B1710,HAMARA!E:E,0))),\"\")","v":"פקדונות והלוואות"}]
[1433,"DT508",0,{"$f":"IFERROR(IF(INDEX(HAMARA!I:I,MATCH(B1711,HAMARA!E:E,0))=0,\"\",INDEX(HAMARA!I:I,MATCH(B1711,HAMARA!E:E,0))),\"\")","v":"פקדונות והלוואות"}]
[1433,"DT509",0,{"$f":"IFERROR(IF(INDEX(HAMARA!I:I,MATCH(B1712,HAMARA!E:E,0))=0,\"\",INDEX(HAMARA!I:I,MATCH(B1712,HAMARA!E:E,0))),\"\")","v":"פקדונות והלוואות"}]
[1433,"DT511",0,{"$f":"IFERROR(IF(INDEX(HAMARA!I:I,MATCH(B1713,HAMARA!E:E,0))=0,\"\",INDEX(HAMARA!I:I,MATCH(B1713,HAMARA!E:E,0))),\"\")","v":"פקדונות והלוואות"}]
[1433,"DT452",0,{"$f":"IFERROR(IF(INDEX(HAMARA!I:I,MATCH(B1714,HAMARA!E:E,0))=0,\"\",INDEX(HAMARA!I:I,MATCH(B1714,HAMARA!E:E,0))),\"\")","v":"פקדונות והלוואות"}]
[1433,"DT512",0,{"$f":"IFERROR(IF(INDEX(HAMARA!I:I,MATCH(B1715,HAMARA!E:E,0))=0,\"\",INDEX(HAMARA!I:I,MATCH(B1715,HAMARA!E:E,0))),\"\")","v":"פקדונות והלוואות"}]
[1433,"DT513",0,{"$f":"IFERROR(IF(INDEX(HAMARA!I:I,MATCH(B1716,HAMARA!E:E,0))=0,\"\",INDEX(HAMARA!I:I,MATCH(B1716,HAMARA!E:E,0))),\"\")","v":"פקדונות והלוואות"}]
[1433,"DT514",0,{"$f":"IFERROR(IF(INDEX(HAMARA!I:I,MATCH(B1717,HAMARA!E:E,0))=0,\"\",INDEX(HAMARA!I:I,MATCH(B1717,HAMARA!E:E,0))),\"\")","v":"פקדונות והלוואות"}]
[1433,"DT515",0,{"$f":"IFERROR(IF(INDEX(HAMARA!I:I,MATCH(B1718,HAMARA!E:E,0))=0,\"\",INDEX(HAMARA!I:I,MATCH(B1718,HAMARA!E:E,0))),\"\")","v":"פקדונות והלוואות"}]
[1433,"DT516",0,{"$f":"IFERROR(IF(INDEX(HAMARA!I:I,MATCH(B1719,HAMARA!E:E,0))=0,\"\",INDEX(HAMARA!I:I,MATCH(B1719,HAMARA!E:E,0))),\"\")","v":"פקדונות והלוואות"}]
[1433,"DT517",0,{"$f":"IFERROR(IF(INDEX(HAMARA!I:I,MATCH(B1720,HAMARA!E:E,0))=0,\"\",INDEX(HAMARA!I:I,MATCH(B1720,HAMARA!E:E,0))),\"\")","v":"פקדונות והלוואות"}]
[1433,"DT518",0,{"$f":"IFERROR(IF(INDEX(HAMARA!I:I,MATCH(B1721,HAMARA!E:E,0))=0,\"\",INDEX(HAMARA!I:I,MATCH(B1721,HAMARA!E:E,0))),\"\")","v":"פקדונות והלוואות"}]
[1433,"DT519",0,{"$f":"IFERROR(IF(INDEX(HAMARA!I:I,MATCH(B1722,HAMARA!E:E,0))=0,\"\",INDEX(HAMARA!I:I,MATCH(B1722,HAMARA!E:E,0))),\"\")","v":"פקדונות והלוואות"}]
[1433,"DT520",0,{"$f":"IFERROR(IF(INDEX(HAMARA!I:I,MATCH(B1723,HAMARA!E:E,0))=0,\"\",INDEX(HAMARA!I:I,MATCH(B1723,HAMARA!E:E,0))),\"\")","v":"פקדונות והלוואות"}]
[1433,"DT521",0,{"$f":"IFERROR(IF(INDEX(HAMARA!I:I,MATCH(B1724,HAMARA!E:E,0))=0,\"\",INDEX(HAMARA!I:I,MATCH(B1724,HAMARA!E:E,0))),\"\")","v":"פקדונות והלוואות"}]
[1433,"DT522",0,{"$f":"IFERROR(IF(INDEX(HAMARA!I:I,MATCH(B1725,HAMARA!E:E,0))=0,\"\",INDEX(HAMARA!I:I,MATCH(B1725,HAMARA!E:E,0))),\"\")","v":"פקדונות והלוואות"}]
[1433,"DT523",0,{"$f":"IFERROR(IF(INDEX(HAMARA!I:I,MATCH(B1726,HAMARA!E:E,0))=0,\"\",INDEX(HAMARA!I:I,MATCH(B1726,HAMARA!E:E,0))),\"\")","v":"פקדונות והלוואות"}]
[1433,"DT524",0,{"$f":"IFERROR(IF(INDEX(HAMARA!I:I,MATCH(B1727,HAMARA!E:E,0))=0,\"\",INDEX(HAMARA!I:I,MATCH(B1727,HAMARA!E:E,0))),\"\")","v":"פקדונות והלוואות"}]
[1433,"DT525",0,{"$f":"IFERROR(IF(INDEX(HAMARA!I:I,MATCH(B1728,HAMARA!E:E,0))=0,\"\",INDEX(HAMARA!I:I,MATCH(B1728,HAMARA!E:E,0))),\"\")","v":"פקדונות והלוואות"}]
[1433,"DT526",0,{"$f":"IFERROR(IF(INDEX(HAMARA!I:I,MATCH(B1729,HAMARA!E:E,0))=0,\"\",INDEX(HAMARA!I:I,MATCH(B1729,HAMARA!E:E,0))),\"\")","v":"פקדונות והלוואות"}]
[1433,"DT527",0,{"$f":"IFERROR(IF(INDEX(HAMARA!I:I,MATCH(B1730,HAMARA!E:E,0))=0,\"\",INDEX(HAMARA!I:I,MATCH(B1730,HAMARA!E:E,0))),\"\")","v":"פקדונות והלוואות"}]
[1433,"DT530",0,{"$f":"IFERROR(IF(INDEX(HAMARA!I:I,MATCH(B1731,HAMARA!E:E,0))=0,\"\",INDEX(HAMARA!I:I,MATCH(B1731,HAMARA!E:E,0))),\"\")","v":"פקדונות והלוואות"}]
[1433,"DT531",0,{"$f":"IFERROR(IF(INDEX(HAMARA!I:I,MATCH(B1732,HAMARA!E:E,0))=0,\"\",INDEX(HAMARA!I:I,MATCH(B1732,HAMARA!E:E,0))),\"\")","v":"פקדונות והלוואות"}]
[1433,"DT532",0,{"$f":"IFERROR(IF(INDEX(HAMARA!I:I,MATCH(B1733,HAMARA!E:E,0))=0,\"\",INDEX(HAMARA!I:I,MATCH(B1733,HAMARA!E:E,0))),\"\")","v":"פקדונות והלוואות"}]
[1433,"DT533",0,{"$f":"IFERROR(IF(INDEX(HAMARA!I:I,MATCH(B1734,HAMARA!E:E,0))=0,\"\",INDEX(HAMARA!I:I,MATCH(B1734,HAMARA!E:E,0))),\"\")","v":"פקדונות והלוואות"}]
[1433,"DT534",0,{"$f":"IFERROR(IF(INDEX(HAMARA!I:I,MATCH(B1735,HAMARA!E:E,0))=0,\"\",INDEX(HAMARA!I:I,MATCH(B1735,HAMARA!E:E,0))),\"\")","v":"פקדונות והלוואות"}]
[1433,"DT535",0,{"$f":"IFERROR(IF(INDEX(HAMARA!I:I,MATCH(B1736,HAMARA!E:E,0))=0,\"\",INDEX(HAMARA!I:I,MATCH(B1736,HAMARA!E:E,0))),\"\")","v":"פקדונות והלוואות"}]
[1433,"DT536",0,{"$f":"IFERROR(IF(INDEX(HAMARA!I:I,MATCH(B1737,HAMARA!E:E,0))=0,\"\",INDEX(HAMARA!I:I,MATCH(B1737,HAMARA!E:E,0))),\"\")","v":"פקדונות והלוואות"}]
[1433,"DT537",0,{"$f":"IFERROR(IF(INDEX(HAMARA!I:I,MATCH(B1738,HAMARA!E:E,0))=0,\"\",INDEX(HAMARA!I:I,MATCH(B1738,HAMARA!E:E,0))),\"\")","v":"פקדונות והלוואות"}]
[1433,"DT628",0,{"$f":"IFERROR(IF(INDEX(HAMARA!I:I,MATCH(B1739,HAMARA!E:E,0))=0,\"\",INDEX(HAMARA!I:I,MATCH(B1739,HAMARA!E:E,0))),\"\")","v":"פקדונות והלוואות"}]
[1433,"DT629",0,{"$f":"IFERROR(IF(INDEX(HAMARA!I:I,MATCH(B1740,HAMARA!E:E,0))=0,\"\",INDEX(HAMARA!I:I,MATCH(B1740,HAMARA!E:E,0))),\"\")","v":"פקדונות והלוואות"}]
[1433,"DT630",0,{"$f":"IFERROR(IF(INDEX(HAMARA!I:I,MATCH(B1741,HAMARA!E:E,0))=0,\"\",INDEX(HAMARA!I:I,MATCH(B1741,HAMARA!E:E,0))),\"\")","v":"פקדונות והלוואות"}]
[1433,"DT631",0,{"$f":"IFERROR(IF(INDEX(HAMARA!I:I,MATCH(B1742,HAMARA!E:E,0))=0,\"\",INDEX(HAMARA!I:I,MATCH(B1742,HAMARA!E:E,0))),\"\")","v":"פקדונות והלוואות"}]
[1433,"DT632",0,{"$f":"IFERROR(IF(INDEX(HAMARA!I:I,MATCH(B1743,HAMARA!E:E,0))=0,\"\",INDEX(HAMARA!I:I,MATCH(B1743,HAMARA!E:E,0))),\"\")","v":"פקדונות והלוואות"}]
[1433,"DT633",0,{"$f":"IFERROR(IF(INDEX(HAMARA!I:I,MATCH(B1744,HAMARA!E:E,0))=0,\"\",INDEX(HAMARA!I:I,MATCH(B1744,HAMARA!E:E,0))),\"\")","v":"פקדונות והלוואות"}]
[1433,"DT111",0,{"$f":"IFERROR(IF(INDEX(HAMARA!I:I,MATCH(B1745,HAMARA!E:E,0))=0,\"\",INDEX(HAMARA!I:I,MATCH(B1745,HAMARA!E:E,0))),\"\")","v":"השקעות אחרות"}]
[1433,"DT112",0,{"$f":"IFERROR(IF(INDEX(HAMARA!I:I,MATCH(B1746,HAMARA!E:E,0))=0,\"\",INDEX(HAMARA!I:I,MATCH(B1746,HAMARA!E:E,0))),\"\")","v":"השקעות אחרות"}]
[1433,"DT113",0,{"$f":"IFERROR(IF(INDEX(HAMARA!I:I,MATCH(B1747,HAMARA!E:E,0))=0,\"\",INDEX(HAMARA!I:I,MATCH(B1747,HAMARA!E:E,0))),\"\")","v":"השקעות אחרות"}]
[1433,"DT114",0,{"$f":"IFERROR(IF(INDEX(HAMARA!I:I,MATCH(B1748,HAMARA!E:E,0))=0,\"\",INDEX(HAMARA!I:I,MATCH(B1748,HAMARA!E:E,0))),\"\")","v":"השקעות אחרות"}]
[1433,"DT116",0,{"$f":"IFERROR(IF(INDEX(HAMARA!I:I,MATCH(B1749,HAMARA!E:E,0))=0,\"\",INDEX(HAMARA!I:I,MATCH(B1749,HAMARA!E:E,0))),\"\")","v":"השקעות אחרות"}]
[1433,"DT29",0,{"$f":"IFERROR(IF(INDEX(HAMARA!I:I,MATCH(B1750,HAMARA!E:E,0))=0,\"\",INDEX(HAMARA!I:I,MATCH(B1750,HAMARA!E:E,0))),\"\")","v":"השקעות אחרות"}]
[1433,"DT31",0,{"$f":"IFERROR(IF(INDEX(HAMARA!I:I,MATCH(B1751,HAMARA!E:E,0))=0,\"\",INDEX(HAMARA!I:I,MATCH(B1751,HAMARA!E:E,0))),\"\")","v":"השקעות אחרות"}]
[1433,"DT117",0,{"$f":"IFERROR(IF(INDEX(HAMARA!I:I,MATCH(B1752,HAMARA!E:E,0))=0,\"\",INDEX(HAMARA!I:I,MATCH(B1752,HAMARA!E:E,0))),\"\")","v":"השקעות אחרות"}]
[1433,"DT115",0,{"$f":"IFERROR(IF(INDEX(HAMARA!I:I,MATCH(B1753,HAMARA!E:E,0))=0,\"\",INDEX(HAMARA!I:I,MATCH(B1753,HAMARA!E:E,0))),\"\")","v":"השקעות אחרות"}]
[1433,"DT62",0,{"$f":"IFERROR(IF(INDEX(HAMARA!I:I,MATCH(B1754,HAMARA!E:E,0))=0,\"\",INDEX(HAMARA!I:I,MATCH(B1754,HAMARA!E:E,0))),\"\")","v":"השקעות אחרות"}]
[1433,"DT54",9.3659999999999997,{"$f":"IFERROR(IF(INDEX(HAMARA!I:I,MATCH(B1755,HAMARA!E:E,0))=0,\"\",INDEX(HAMARA!I:I,MATCH(B1755,HAMARA!E:E,0))),\"\")","v":"השקעות אחרות"}]
[1433,"DT55",-2.9929999999999999,{"$f":"IFERROR(IF(INDEX(HAMARA!I:I,MATCH(B1756,HAMARA!E:E,0))=0,\"\",INDEX(HAMARA!I:I,MATCH(B1756,HAMARA!E:E,0))),\"\")","v":"השקעות אחרות"}]
[1433,"DT92",-2.1000000000000001E-2,{"$f":"IFERROR(IF(INDEX(HAMARA!I:I,MATCH(B1757,HAMARA!E:E,0))=0,\"\",INDEX(HAMARA!I:I,MATCH(B1757,HAMARA!E:E,0))),\"\")","v":"השקעות אחרות"}]
[1433,"DT353",0,{"$f":"IFERROR(IF(INDEX(HAMARA!I:I,MATCH(B1758,HAMARA!E:E,0))=0,\"\",INDEX(HAMARA!I:I,MATCH(B1758,HAMARA!E:E,0))),\"\")","v":"השקעות אחרות"}]
[1433,"DT369",0,{"$f":"IFERROR(IF(INDEX(HAMARA!I:I,MATCH(B1759,HAMARA!E:E,0))=0,\"\",INDEX(HAMARA!I:I,MATCH(B1759,HAMARA!E:E,0))),\"\")","v":"השקעות אחרות"}]
[1433,"AT999",510.678,{"$f":"IFERROR(IF(INDEX(HAMARA!I:I,MATCH(B1760,HAMARA!E:E,0))=0,\"\",INDEX(HAMARA!I:I,MATCH(B1760,HAMARA!E:E,0))),\"\")","v":""}]
[1433,"AT24",0,{"$f":"IFERROR(IF(INDEX(HAMARA!I:I,MATCH(B1761,HAMARA!E:E,0))=0,\"\",INDEX(HAMARA!I:I,MATCH(B1761,HAMARA!E:E,0))),\"\")","v":""}]
[1433,"AT420",0,{"$f":"IFERROR(IF(INDEX(HAMARA!I:I,MATCH(B1762,HAMARA!E:E,0))=0,\"\",INDEX(HAMARA!I:I,MATCH(B1762,HAMARA!E:E,0))),\"\")","v":""}]
[1433,"AT421",0,{"$f":"IFERROR(IF(INDEX(HAMARA!I:I,MATCH(B1763,HAMARA!E:E,0))=0,\"\",INDEX(HAMARA!I:I,MATCH(B1763,HAMARA!E:E,0))),\"\")","v":""}]
[1433,"AT422",0,{"$f":"IFERROR(IF(INDEX(HAMARA!I:I,MATCH(B1764,HAMARA!E:E,0))=0,\"\",INDEX(HAMARA!I:I,MATCH(B1764,HAMARA!E:E,0))),\"\")","v":""}]
[1433,"AT423",0,{"$f":"IFERROR(IF(INDEX(HAMARA!I:I,MATCH(B1765,HAMARA!E:E,0))=0,\"\",INDEX(HAMARA!I:I,MATCH(B1765,HAMARA!E:E,0))),\"\")","v":""}]
[1433,"AT424",0,{"$f":"IFERROR(IF(INDEX(HAMARA!I:I,MATCH(B1766,HAMARA!E:E,0))=0,\"\",INDEX(HAMARA!I:I,MATCH(B1766,HAMARA!E:E,0))),\"\")","v":""}]
[1433,"AT17",0,{"$f":"IFERROR(IF(INDEX(HAMARA!I:I,MATCH(B1767,HAMARA!E:E,0))=0,\"\",INDEX(HAMARA!I:I,MATCH(B1767,HAMARA!E:E,0))),\"\")","v":""}]
[1433,"AT19",0,{"$f":"IFERROR(IF(INDEX(HAMARA!I:I,MATCH(B1768,HAMARA!E:E,0))=0,\"\",INDEX(HAMARA!I:I,MATCH(B1768,HAMARA!E:E,0))),\"\")","v":""}]
[1433,"AT121",0,{"$f":"IFERROR(IF(INDEX(HAMARA!I:I,MATCH(B1769,HAMARA!E:E,0))=0,\"\",INDEX(HAMARA!I:I,MATCH(B1769,HAMARA!E:E,0))),\"\")","v":""}]
[1433,"AT18",0,{"$f":"IFERROR(IF(INDEX(HAMARA!I:I,MATCH(B1770,HAMARA!E:E,0))=0,\"\",INDEX(HAMARA!I:I,MATCH(B1770,HAMARA!E:E,0))),\"\")","v":""}]
[1433,"AT21",495,{"$f":"IFERROR(IF(INDEX(HAMARA!I:I,MATCH(B1771,HAMARA!E:E,0))=0,\"\",INDEX(HAMARA!I:I,MATCH(B1771,HAMARA!E:E,0))),\"\")","v":""}]
[1433,"AT10",0,{"$f":"IFERROR(IF(INDEX(HAMARA!I:I,MATCH(B1772,HAMARA!E:E,0))=0,\"\",INDEX(HAMARA!I:I,MATCH(B1772,HAMARA!E:E,0))),\"\")","v":""}]
[1433,"AT13",0,{"$f":"IFERROR(IF(INDEX(HAMARA!I:I,MATCH(B1773,HAMARA!E:E,0))=0,\"\",INDEX(HAMARA!I:I,MATCH(B1773,HAMARA!E:E,0))),\"\")","v":""}]
[1433,"AT20",0,{"$f":"IFERROR(IF(INDEX(HAMARA!I:I,MATCH(B1774,HAMARA!E:E,0))=0,\"\",INDEX(HAMARA!I:I,MATCH(B1774,HAMARA!E:E,0))),\"\")","v":""}]
[1433,"AT31",0,{"$f":"IFERROR(IF(INDEX(HAMARA!I:I,MATCH(B1775,HAMARA!E:E,0))=0,\"\",INDEX(HAMARA!I:I,MATCH(B1775,HAMARA!E:E,0))),\"\")","v":""}]
[1433,"AT425",0,{"$f":"IFERROR(IF(INDEX(HAMARA!I:I,MATCH(B1776,HAMARA!E:E,0))=0,\"\",INDEX(HAMARA!I:I,MATCH(B1776,HAMARA!E:E,0))),\"\")","v":""}]
[1433,"AT426",0,{"$f":"IFERROR(IF(INDEX(HAMARA!I:I,MATCH(B1777,HAMARA!E:E,0))=0,\"\",INDEX(HAMARA!I:I,MATCH(B1777,HAMARA!E:E,0))),\"\")","v":""}]
[1433,"AT427",0,{"$f":"IFERROR(IF(INDEX(HAMARA!I:I,MATCH(B1778,HAMARA!E:E,0))=0,\"\",INDEX(HAMARA!I:I,MATCH(B1778,HAMARA!E:E,0))),\"\")","v":""}]
[1433,"AT561",0,{"$f":"IFERROR(IF(INDEX(HAMARA!I:I,MATCH(B1779,HAMARA!E:E,0))=0,\"\",INDEX(HAMARA!I:I,MATCH(B1779,HAMARA!E:E,0))),\"\")","v":""}]
[1433,"AT560",0,{"$f":"IFERROR(IF(INDEX(HAMARA!I:I,MATCH(B1780,HAMARA!E:E,0))=0,\"\",INDEX(HAMARA!I:I,MATCH(B1780,HAMARA!E:E,0))),\"\")","v":""}]
[1433,"AT428",0,{"$f":"IFERROR(IF(INDEX(HAMARA!I:I,MATCH(B1781,HAMARA!E:E,0))=0,\"\",INDEX(HAMARA!I:I,MATCH(B1781,HAMARA!E:E,0))),\"\")","v":""}]
[1433,"AT563",0,{"$f":"IFERROR(IF(INDEX(HAMARA!I:I,MATCH(B1782,HAMARA!E:E,0))=0,\"\",INDEX(HAMARA!I:I,MATCH(B1782,HAMARA!E:E,0))),\"\")","v":""}]
[1433,"AT562",0,{"$f":"IFERROR(IF(INDEX(HAMARA!I:I,MATCH(B1783,HAMARA!E:E,0))=0,\"\",INDEX(HAMARA!I:I,MATCH(B1783,HAMARA!E:E,0))),\"\")","v":""}]
[1433,"AT429",0,{"$f":"IFERROR(IF(INDEX(HAMARA!I:I,MATCH(B1784,HAMARA!E:E,0))=0,\"\",INDEX(HAMARA!I:I,MATCH(B1784,HAMARA!E:E,0))),\"\")","v":""}]
[1433,"AT565",0,{"$f":"IFERROR(IF(INDEX(HAMARA!I:I,MATCH(B1785,HAMARA!E:E,0))=0,\"\",INDEX(HAMARA!I:I,MATCH(B1785,HAMARA!E:E,0))),\"\")","v":""}]
[1433,"AT564",0,{"$f":"IFERROR(IF(INDEX(HAMARA!I:I,MATCH(B1786,HAMARA!E:E,0))=0,\"\",INDEX(HAMARA!I:I,MATCH(B1786,HAMARA!E:E,0))),\"\")","v":""}]
[1433,"AT430",0,{"$f":"IFERROR(IF(INDEX(HAMARA!I:I,MATCH(B1787,HAMARA!E:E,0))=0,\"\",INDEX(HAMARA!I:I,MATCH(B1787,HAMARA!E:E,0))),\"\")","v":""}]
[1433,"AT567",0,{"$f":"IFERROR(IF(INDEX(HAMARA!I:I,MATCH(B1788,HAMARA!E:E,0))=0,\"\",INDEX(HAMARA!I:I,MATCH(B1788,HAMARA!E:E,0))),\"\")","v":""}]
[1433,"AT566",0,{"$f":"IFERROR(IF(INDEX(HAMARA!I:I,MATCH(B1789,HAMARA!E:E,0))=0,\"\",INDEX(HAMARA!I:I,MATCH(B1789,HAMARA!E:E,0))),\"\")","v":""}]
[1433,"AT431",0,{"$f":"IFERROR(IF(INDEX(HAMARA!I:I,MATCH(B1790,HAMARA!E:E,0))=0,\"\",INDEX(HAMARA!I:I,MATCH(B1790,HAMARA!E:E,0))),\"\")","v":""}]
[1433,"AT569",0,{"$f":"IFERROR(IF(INDEX(HAMARA!I:I,MATCH(B1791,HAMARA!E:E,0))=0,\"\",INDEX(HAMARA!I:I,MATCH(B1791,HAMARA!E:E,0))),\"\")","v":""}]
[1433,"AT568",0,{"$f":"IFERROR(IF(INDEX(HAMARA!I:I,MATCH(B1792,HAMARA!E:E,0))=0,\"\",INDEX(HAMARA!I:I,MATCH(B1792,HAMARA!E:E,0))),\"\")","v":""}]
[1433,"AT432",0,{"$f":"IFERROR(IF(INDEX(HAMARA!I:I,MATCH(B1793,HAMARA!E:E,0))=0,\"\",INDEX(HAMARA!I:I,MATCH(B1793,HAMARA!E:E,0))),\"\")","v":""}]
[1433,"AT573",0,{"$f":"IFERROR(IF(INDEX(HAMARA!I:I,MATCH(B1794,HAMARA!E:E,0))=0,\"\",INDEX(HAMARA!I:I,MATCH(B1794,HAMARA!E:E,0))),\"\")","v":""}]
[1433,"AT572",0,{"$f":"IFERROR(IF(INDEX(HAMARA!I:I,MATCH(B1795,HAMARA!E:E,0))=0,\"\",INDEX(HAMARA!I:I,MATCH(B1795,HAMARA!E:E,0))),\"\")","v":""}]
[1433,"AT547",0,{"$f":"IFERROR(IF(INDEX(HAMARA!I:I,MATCH(B1796,HAMARA!E:E,0))=0,\"\",INDEX(HAMARA!I:I,MATCH(B1796,HAMARA!E:E,0))),\"\")","v":""}]
[1433,"AT571",0,{"$f":"IFERROR(IF(INDEX(HAMARA!I:I,MATCH(B1797,HAMARA!E:E,0))=0,\"\",INDEX(HAMARA!I:I,MATCH(B1797,HAMARA!E:E,0))),\"\")","v":""}]
[1433,"AT570",0,{"$f":"IFERROR(IF(INDEX(HAMARA!I:I,MATCH(B1798,HAMARA!E:E,0))=0,\"\",INDEX(HAMARA!I:I,MATCH(B1798,HAMARA!E:E,0))),\"\")","v":""}]
[1433,"AT601",0,{"$f":"IFERROR(IF(INDEX(HAMARA!I:I,MATCH(B1799,HAMARA!E:E,0))=0,\"\",INDEX(HAMARA!I:I,MATCH(B1799,HAMARA!E:E,0))),\"\")","v":""}]
[1433,"AT602",0,{"$f":"IFERROR(IF(INDEX(HAMARA!I:I,MATCH(B1800,HAMARA!E:E,0))=0,\"\",INDEX(HAMARA!I:I,MATCH(B1800,HAMARA!E:E,0))),\"\")","v":""}]
[1433,"AT603",0,{"$f":"IFERROR(IF(INDEX(HAMARA!I:I,MATCH(B1801,HAMARA!E:E,0))=0,\"\",INDEX(HAMARA!I:I,MATCH(B1801,HAMARA!E:E,0))),\"\")","v":""}]
[1433,"AT604",0,{"$f":"IFERROR(IF(INDEX(HAMARA!I:I,MATCH(B1802,HAMARA!E:E,0))=0,\"\",INDEX(HAMARA!I:I,MATCH(B1802,HAMARA!E:E,0))),\"\")","v":""}]
[1433,"AT605",0,{"$f":"IFERROR(IF(INDEX(HAMARA!I:I,MATCH(B1803,HAMARA!E:E,0))=0,\"\",INDEX(HAMARA!I:I,MATCH(B1803,HAMARA!E:E,0))),\"\")","v":""}]
[1433,"AT606",0,{"$f":"IFERROR(IF(INDEX(HAMARA!I:I,MATCH(B1804,HAMARA!E:E,0))=0,\"\",INDEX(HAMARA!I:I,MATCH(B1804,HAMARA!E:E,0))),\"\")","v":""}]
[1433,"AT607",0,{"$f":"IFERROR(IF(INDEX(HAMARA!I:I,MATCH(B1805,HAMARA!E:E,0))=0,\"\",INDEX(HAMARA!I:I,MATCH(B1805,HAMARA!E:E,0))),\"\")","v":""}]
[1433,"AT608",0,{"$f":"IFERROR(IF(INDEX(HAMARA!I:I,MATCH(B1806,HAMARA!E:E,0))=0,\"\",INDEX(HAMARA!I:I,MATCH(B1806,HAMARA!E:E,0))),\"\")","v":""}]
[1433,"AT609",0,{"$f":"IFERROR(IF(INDEX(HAMARA!I:I,MATCH(B1807,HAMARA!E:E,0))=0,\"\",INDEX(HAMARA!I:I,MATCH(B1807,HAMARA!E:E,0))),\"\")","v":""}]
[1433,"AT610",0,{"$f":"IFERROR(IF(INDEX(HAMARA!I:I,MATCH(B1808,HAMARA!E:E,0))=0,\"\",INDEX(HAMARA!I:I,MATCH(B1808,HAMARA!E:E,0))),\"\")","v":""}]
[1433,"AT611",0,{"$f":"IFERROR(IF(INDEX(HAMARA!I:I,MATCH(B1809,HAMARA!E:E,0))=0,\"\",INDEX(HAMARA!I:I,MATCH(B1809,HAMARA!E:E,0))),\"\")","v":""}]
[1433,"AT612",0,{"$f":"IFERROR(IF(INDEX(HAMARA!I:I,MATCH(B1810,HAMARA!E:E,0))=0,\"\",INDEX(HAMARA!I:I,MATCH(B1810,HAMARA!E:E,0))),\"\")","v":""}]
[1433,"AT613",0,{"$f":"IFERROR(IF(INDEX(HAMARA!I:I,MATCH(B1811,HAMARA!E:E,0))=0,\"\",INDEX(HAMARA!I:I,MATCH(B1811,HAMARA!E:E,0))),\"\")","v":""}]
[1433,"AT614",0,{"$f":"IFERROR(IF(INDEX(HAMARA!I:I,MATCH(B1812,HAMARA!E:E,0))=0,\"\",INDEX(HAMARA!I:I,MATCH(B1812,HAMARA!E:E,0))),\"\")","v":""}]
[1433,"AT301",4.6959999999999997,{"$f":"IFERROR(IF(INDEX(HAMARA!I:I,MATCH(B1813,HAMARA!E:E,0))=0,\"\",INDEX(HAMARA!I:I,MATCH(B1813,HAMARA!E:E,0))),\"\")","v":""}]
[1433,"AT303",2.431,{"$f":"IFERROR(IF(INDEX(HAMARA!I:I,MATCH(B1814,HAMARA!E:E,0))=0,\"\",INDEX(HAMARA!I:I,MATCH(B1814,HAMARA!E:E,0))),\"\")","v":""}]
[1433,"AT302",0,{"$f":"IFERROR(IF(INDEX(HAMARA!I:I,MATCH(B1815,HAMARA!E:E,0))=0,\"\",INDEX(HAMARA!I:I,MATCH(B1815,HAMARA!E:E,0))),\"\")","v":""}]
[1433,"AT307",0,{"$f":"IFERROR(IF(INDEX(HAMARA!I:I,MATCH(B1816,HAMARA!E:E,0))=0,\"\",INDEX(HAMARA!I:I,MATCH(B1816,HAMARA!E:E,0))),\"\")","v":""}]
[1433,"AT309",6.6550000000000002,{"$f":"IFERROR(IF(INDEX(HAMARA!I:I,MATCH(B1817,HAMARA!E:E,0))=0,\"\",INDEX(HAMARA!I:I,MATCH(B1817,HAMARA!E:E,0))),\"\")","v":""}]
[1433,"AT308",0,{"$f":"IFERROR(IF(INDEX(HAMARA!I:I,MATCH(B1818,HAMARA!E:E,0))=0,\"\",INDEX(HAMARA!I:I,MATCH(B1818,HAMARA!E:E,0))),\"\")","v":""}]
[1433,"AT313",0,{"$f":"IFERROR(IF(INDEX(HAMARA!I:I,MATCH(B1819,HAMARA!E:E,0))=0,\"\",INDEX(HAMARA!I:I,MATCH(B1819,HAMARA!E:E,0))),\"\")","v":""}]
[1433,"AT315",0,{"$f":"IFERROR(IF(INDEX(HAMARA!I:I,MATCH(B1820,HAMARA!E:E,0))=0,\"\",INDEX(HAMARA!I:I,MATCH(B1820,HAMARA!E:E,0))),\"\")","v":""}]
[1433,"AT314",0,{"$f":"IFERROR(IF(INDEX(HAMARA!I:I,MATCH(B1821,HAMARA!E:E,0))=0,\"\",INDEX(HAMARA!I:I,MATCH(B1821,HAMARA!E:E,0))),\"\")","v":""}]
[1433,"AT615",0,{"$f":"IFERROR(IF(INDEX(HAMARA!I:I,MATCH(B1822,HAMARA!E:E,0))=0,\"\",INDEX(HAMARA!I:I,MATCH(B1822,HAMARA!E:E,0))),\"\")","v":""}]
[1433,"AT616",0,{"$f":"IFERROR(IF(INDEX(HAMARA!I:I,MATCH(B1823,HAMARA!E:E,0))=0,\"\",INDEX(HAMARA!I:I,MATCH(B1823,HAMARA!E:E,0))),\"\")","v":""}]
[1433,"AT617",0,{"$f":"IFERROR(IF(INDEX(HAMARA!I:I,MATCH(B1824,HAMARA!E:E,0))=0,\"\",INDEX(HAMARA!I:I,MATCH(B1824,HAMARA!E:E,0))),\"\")","v":""}]
[1433,"AT319",0,{"$f":"IFERROR(IF(INDEX(HAMARA!I:I,MATCH(B1825,HAMARA!E:E,0))=0,\"\",INDEX(HAMARA!I:I,MATCH(B1825,HAMARA!E:E,0))),\"\")","v":""}]
[1433,"AT321",0,{"$f":"IFERROR(IF(INDEX(HAMARA!I:I,MATCH(B1826,HAMARA!E:E,0))=0,\"\",INDEX(HAMARA!I:I,MATCH(B1826,HAMARA!E:E,0))),\"\")","v":""}]
[1433,"AT320",0,{"$f":"IFERROR(IF(INDEX(HAMARA!I:I,MATCH(B1827,HAMARA!E:E,0))=0,\"\",INDEX(HAMARA!I:I,MATCH(B1827,HAMARA!E:E,0))),\"\")","v":""}]
[1433,"AT325",0,{"$f":"IFERROR(IF(INDEX(HAMARA!I:I,MATCH(B1828,HAMARA!E:E,0))=0,\"\",INDEX(HAMARA!I:I,MATCH(B1828,HAMARA!E:E,0))),\"\")","v":""}]
[1433,"AT327",0,{"$f":"IFERROR(IF(INDEX(HAMARA!I:I,MATCH(B1829,HAMARA!E:E,0))=0,\"\",INDEX(HAMARA!I:I,MATCH(B1829,HAMARA!E:E,0))),\"\")","v":""}]
[1433,"AT326",0,{"$f":"IFERROR(IF(INDEX(HAMARA!I:I,MATCH(B1830,HAMARA!E:E,0))=0,\"\",INDEX(HAMARA!I:I,MATCH(B1830,HAMARA!E:E,0))),\"\")","v":""}]
[1433,"AT553",0,{"$f":"IFERROR(IF(INDEX(HAMARA!I:I,MATCH(B1831,HAMARA!E:E,0))=0,\"\",INDEX(HAMARA!I:I,MATCH(B1831,HAMARA!E:E,0))),\"\")","v":""}]
[1433,"AT555",0,{"$f":"IFERROR(IF(INDEX(HAMARA!I:I,MATCH(B1832,HAMARA!E:E,0))=0,\"\",INDEX(HAMARA!I:I,MATCH(B1832,HAMARA!E:E,0))),\"\")","v":""}]
[1433,"AT554",0,{"$f":"IFERROR(IF(INDEX(HAMARA!I:I,MATCH(B1833,HAMARA!E:E,0))=0,\"\",INDEX(HAMARA!I:I,MATCH(B1833,HAMARA!E:E,0))),\"\")","v":""}]
[1433,"AT337",0,{"$f":"IFERROR(IF(INDEX(HAMARA!I:I,MATCH(B1834,HAMARA!E:E,0))=0,\"\",INDEX(HAMARA!I:I,MATCH(B1834,HAMARA!E:E,0))),\"\")","v":""}]
[1433,"AT339",0,{"$f":"IFERROR(IF(INDEX(HAMARA!I:I,MATCH(B1835,HAMARA!E:E,0))=0,\"\",INDEX(HAMARA!I:I,MATCH(B1835,HAMARA!E:E,0))),\"\")","v":""}]
[1433,"AT338",0,{"$f":"IFERROR(IF(INDEX(HAMARA!I:I,MATCH(B1836,HAMARA!E:E,0))=0,\"\",INDEX(HAMARA!I:I,MATCH(B1836,HAMARA!E:E,0))),\"\")","v":""}]
[1433,"AT618",0,{"$f":"IFERROR(IF(INDEX(HAMARA!I:I,MATCH(B1837,HAMARA!E:E,0))=0,\"\",INDEX(HAMARA!I:I,MATCH(B1837,HAMARA!E:E,0))),\"\")","v":""}]
[1433,"AT619",0,{"$f":"IFERROR(IF(INDEX(HAMARA!I:I,MATCH(B1838,HAMARA!E:E,0))=0,\"\",INDEX(HAMARA!I:I,MATCH(B1838,HAMARA!E:E,0))),\"\")","v":""}]
[1433,"AT620",0,{"$f":"IFERROR(IF(INDEX(HAMARA!I:I,MATCH(B1839,HAMARA!E:E,0))=0,\"\",INDEX(HAMARA!I:I,MATCH(B1839,HAMARA!E:E,0))),\"\")","v":""}]
[1433,"AT621",0,{"$f":"IFERROR(IF(INDEX(HAMARA!I:I,MATCH(B1840,HAMARA!E:E,0))=0,\"\",INDEX(HAMARA!I:I,MATCH(B1840,HAMARA!E:E,0))),\"\")","v":""}]
[1433,"AT454",0,{"$f":"IFERROR(IF(INDEX(HAMARA!I:I,MATCH(B1841,HAMARA!E:E,0))=0,\"\",INDEX(HAMARA!I:I,MATCH(B1841,HAMARA!E:E,0))),\"\")","v":""}]
[1433,"AT455",0,{"$f":"IFERROR(IF(INDEX(HAMARA!I:I,MATCH(B1842,HAMARA!E:E,0))=0,\"\",INDEX(HAMARA!I:I,MATCH(B1842,HAMARA!E:E,0))),\"\")","v":""}]
[1433,"AT456",0,{"$f":"IFERROR(IF(INDEX(HAMARA!I:I,MATCH(B1843,HAMARA!E:E,0))=0,\"\",INDEX(HAMARA!I:I,MATCH(B1843,HAMARA!E:E,0))),\"\")","v":""}]
[1433,"AT457",0,{"$f":"IFERROR(IF(INDEX(HAMARA!I:I,MATCH(B1844,HAMARA!E:E,0))=0,\"\",INDEX(HAMARA!I:I,MATCH(B1844,HAMARA!E:E,0))),\"\")","v":""}]
[1433,"AT458",0,{"$f":"IFERROR(IF(INDEX(HAMARA!I:I,MATCH(B1845,HAMARA!E:E,0))=0,\"\",INDEX(HAMARA!I:I,MATCH(B1845,HAMARA!E:E,0))),\"\")","v":""}]
[1433,"AT459",0,{"$f":"IFERROR(IF(INDEX(HAMARA!I:I,MATCH(B1846,HAMARA!E:E,0))=0,\"\",INDEX(HAMARA!I:I,MATCH(B1846,HAMARA!E:E,0))),\"\")","v":""}]
[1433,"AT460",0,{"$f":"IFERROR(IF(INDEX(HAMARA!I:I,MATCH(B1847,HAMARA!E:E,0))=0,\"\",INDEX(HAMARA!I:I,MATCH(B1847,HAMARA!E:E,0))),\"\")","v":""}]
[1433,"AT461",0,{"$f":"IFERROR(IF(INDEX(HAMARA!I:I,MATCH(B1848,HAMARA!E:E,0))=0,\"\",INDEX(HAMARA!I:I,MATCH(B1848,HAMARA!E:E,0))),\"\")","v":""}]
[1433,"AT462",0,{"$f":"IFERROR(IF(INDEX(HAMARA!I:I,MATCH(B1849,HAMARA!E:E,0))=0,\"\",INDEX(HAMARA!I:I,MATCH(B1849,HAMARA!E:E,0))),\"\")","v":""}]
[1433,"AT558",0,{"$f":"IFERROR(IF(INDEX(HAMARA!I:I,MATCH(B1850,HAMARA!E:E,0))=0,\"\",INDEX(HAMARA!I:I,MATCH(B1850,HAMARA!E:E,0))),\"\")","v":""}]
[1433,"AT463",0,{"$f":"IFERROR(IF(INDEX(HAMARA!I:I,MATCH(B1851,HAMARA!E:E,0))=0,\"\",INDEX(HAMARA!I:I,MATCH(B1851,HAMARA!E:E,0))),\"\")","v":""}]
[1433,"AT464",0,{"$f":"IFERROR(IF(INDEX(HAMARA!I:I,MATCH(B1852,HAMARA!E:E,0))=0,\"\",INDEX(HAMARA!I:I,MATCH(B1852,HAMARA!E:E,0))),\"\")","v":""}]
[1433,"AT465",0,{"$f":"IFERROR(IF(INDEX(HAMARA!I:I,MATCH(B1853,HAMARA!E:E,0))=0,\"\",INDEX(HAMARA!I:I,MATCH(B1853,HAMARA!E:E,0))),\"\")","v":""}]
[1433,"AT559",0,{"$f":"IFERROR(IF(INDEX(HAMARA!I:I,MATCH(B1854,HAMARA!E:E,0))=0,\"\",INDEX(HAMARA!I:I,MATCH(B1854,HAMARA!E:E,0))),\"\")","v":""}]
[1433,"AT402",0,{"$f":"IFERROR(IF(INDEX(HAMARA!I:I,MATCH(B1855,HAMARA!E:E,0))=0,\"\",INDEX(HAMARA!I:I,MATCH(B1855,HAMARA!E:E,0))),\"\")","v":""}]
[1433,"AT403",0,{"$f":"IFERROR(IF(INDEX(HAMARA!I:I,MATCH(B1856,HAMARA!E:E,0))=0,\"\",INDEX(HAMARA!I:I,MATCH(B1856,HAMARA!E:E,0))),\"\")","v":""}]
[1433,"AT404",0,{"$f":"IFERROR(IF(INDEX(HAMARA!I:I,MATCH(B1857,HAMARA!E:E,0))=0,\"\",INDEX(HAMARA!I:I,MATCH(B1857,HAMARA!E:E,0))),\"\")","v":""}]
[1433,"AT405",0,{"$f":"IFERROR(IF(INDEX(HAMARA!I:I,MATCH(B1858,HAMARA!E:E,0))=0,\"\",INDEX(HAMARA!I:I,MATCH(B1858,HAMARA!E:E,0))),\"\")","v":""}]
[1433,"AT172",0,{"$f":"IFERROR(IF(INDEX(HAMARA!I:I,MATCH(B1859,HAMARA!E:E,0))=0,\"\",INDEX(HAMARA!I:I,MATCH(B1859,HAMARA!E:E,0))),\"\")","v":""}]
[1433,"AT205",0,{"$f":"IFERROR(IF(INDEX(HAMARA!I:I,MATCH(B1860,HAMARA!E:E,0))=0,\"\",INDEX(HAMARA!I:I,MATCH(B1860,HAMARA!E:E,0))),\"\")","v":""}]
[1433,"AT58",0,{"$f":"IFERROR(IF(INDEX(HAMARA!I:I,MATCH(B1861,HAMARA!E:E,0))=0,\"\",INDEX(HAMARA!I:I,MATCH(B1861,HAMARA!E:E,0))),\"\")","v":""}]
[1433,"AT35",0,{"$f":"IFERROR(IF(INDEX(HAMARA!I:I,MATCH(B1862,HAMARA!E:E,0))=0,\"\",INDEX(HAMARA!I:I,MATCH(B1862,HAMARA!E:E,0))),\"\")","v":""}]
[1433,"AT37",0,{"$f":"IFERROR(IF(INDEX(HAMARA!I:I,MATCH(B1863,HAMARA!E:E,0))=0,\"\",INDEX(HAMARA!I:I,MATCH(B1863,HAMARA!E:E,0))),\"\")","v":""}]
[1433,"AT122",0,{"$f":"IFERROR(IF(INDEX(HAMARA!I:I,MATCH(B1864,HAMARA!E:E,0))=0,\"\",INDEX(HAMARA!I:I,MATCH(B1864,HAMARA!E:E,0))),\"\")","v":""}]
[1433,"AT622",0,{"$f":"IFERROR(IF(INDEX(HAMARA!I:I,MATCH(B1865,HAMARA!E:E,0))=0,\"\",INDEX(HAMARA!I:I,MATCH(B1865,HAMARA!E:E,0))),\"\")","v":""}]
[1433,"AT125",0,{"$f":"IFERROR(IF(INDEX(HAMARA!I:I,MATCH(B1866,HAMARA!E:E,0))=0,\"\",INDEX(HAMARA!I:I,MATCH(B1866,HAMARA!E:E,0))),\"\")","v":""}]
[1433,"AT360",0,{"$f":"IFERROR(IF(INDEX(HAMARA!I:I,MATCH(B1867,HAMARA!E:E,0))=0,\"\",INDEX(HAMARA!I:I,MATCH(B1867,HAMARA!E:E,0))),\"\")","v":""}]
[1433,"AT361",0,{"$f":"IFERROR(IF(INDEX(HAMARA!I:I,MATCH(B1868,HAMARA!E:E,0))=0,\"\",INDEX(HAMARA!I:I,MATCH(B1868,HAMARA!E:E,0))),\"\")","v":""}]
[1433,"AT362",0,{"$f":"IFERROR(IF(INDEX(HAMARA!I:I,MATCH(B1869,HAMARA!E:E,0))=0,\"\",INDEX(HAMARA!I:I,MATCH(B1869,HAMARA!E:E,0))),\"\")","v":""}]
[1433,"AT363",0,{"$f":"IFERROR(IF(INDEX(HAMARA!I:I,MATCH(B1870,HAMARA!E:E,0))=0,\"\",INDEX(HAMARA!I:I,MATCH(B1870,HAMARA!E:E,0))),\"\")","v":""}]
[1433,"AT406",0,{"$f":"IFERROR(IF(INDEX(HAMARA!I:I,MATCH(B1871,HAMARA!E:E,0))=0,\"\",INDEX(HAMARA!I:I,MATCH(B1871,HAMARA!E:E,0))),\"\")","v":""}]
[1433,"AT623",0,{"$f":"IFERROR(IF(INDEX(HAMARA!I:I,MATCH(B1872,HAMARA!E:E,0))=0,\"\",INDEX(HAMARA!I:I,MATCH(B1872,HAMARA!E:E,0))),\"\")","v":""}]
[1433,"AT366",1.536,{"$f":"IFERROR(IF(INDEX(HAMARA!I:I,MATCH(B1873,HAMARA!E:E,0))=0,\"\",INDEX(HAMARA!I:I,MATCH(B1873,HAMARA!E:E,0))),\"\")","v":""}]
[1433,"AT367",0,{"$f":"IFERROR(IF(INDEX(HAMARA!I:I,MATCH(B1874,HAMARA!E:E,0))=0,\"\",INDEX(HAMARA!I:I,MATCH(B1874,HAMARA!E:E,0))),\"\")","v":""}]
[1433,"AT407",0,{"$f":"IFERROR(IF(INDEX(HAMARA!I:I,MATCH(B1875,HAMARA!E:E,0))=0,\"\",INDEX(HAMARA!I:I,MATCH(B1875,HAMARA!E:E,0))),\"\")","v":""}]
[1433,"AT624",0,{"$f":"IFERROR(IF(INDEX(HAMARA!I:I,MATCH(B1876,HAMARA!E:E,0))=0,\"\",INDEX(HAMARA!I:I,MATCH(B1876,HAMARA!E:E,0))),\"\")","v":""}]
[1433,"AT47",0,{"$f":"IFERROR(IF(INDEX(HAMARA!I:I,MATCH(B1877,HAMARA!E:E,0))=0,\"\",INDEX(HAMARA!I:I,MATCH(B1877,HAMARA!E:E,0))),\"\")","v":""}]
[1433,"AT701",0,{"$f":"IFERROR(IF(INDEX(HAMARA!I:I,MATCH(B1878,HAMARA!E:E,0))=0,\"\",INDEX(HAMARA!I:I,MATCH(B1878,HAMARA!E:E,0))),\"\")","v":""}]
[1433,"AT702",0,{"$f":"IFERROR(IF(INDEX(HAMARA!I:I,MATCH(B1879,HAMARA!E:E,0))=0,\"\",INDEX(HAMARA!I:I,MATCH(B1879,HAMARA!E:E,0))),\"\")","v":""}]
[1433,"AT703",0,{"$f":"IFERROR(IF(INDEX(HAMARA!I:I,MATCH(B1880,HAMARA!E:E,0))=0,\"\",INDEX(HAMARA!I:I,MATCH(B1880,HAMARA!E:E,0))),\"\")","v":""}]
[1433,"AT704",0,{"$f":"IFERROR(IF(INDEX(HAMARA!I:I,MATCH(B1881,HAMARA!E:E,0))=0,\"\",INDEX(HAMARA!I:I,MATCH(B1881,HAMARA!E:E,0))),\"\")","v":""}]
[1433,"AT61",0,{"$f":"IFERROR(IF(INDEX(HAMARA!I:I,MATCH(B1882,HAMARA!E:E,0))=0,\"\",INDEX(HAMARA!I:I,MATCH(B1882,HAMARA!E:E,0))),\"\")","v":""}]
[1433,"AT466",0,{"$f":"IFERROR(IF(INDEX(HAMARA!I:I,MATCH(B1883,HAMARA!E:E,0))=0,\"\",INDEX(HAMARA!I:I,MATCH(B1883,HAMARA!E:E,0))),\"\")","v":""}]
[1433,"AT225",0,{"$f":"IFERROR(IF(INDEX(HAMARA!I:I,MATCH(B1884,HAMARA!E:E,0))=0,\"\",INDEX(HAMARA!I:I,MATCH(B1884,HAMARA!E:E,0))),\"\")","v":""}]
[1433,"AT60",0,{"$f":"IFERROR(IF(INDEX(HAMARA!I:I,MATCH(B1885,HAMARA!E:E,0))=0,\"\",INDEX(HAMARA!I:I,MATCH(B1885,HAMARA!E:E,0))),\"\")","v":""}]
[1433,"AT138",0,{"$f":"IFERROR(IF(INDEX(HAMARA!I:I,MATCH(B1886,HAMARA!E:E,0))=0,\"\",INDEX(HAMARA!I:I,MATCH(B1886,HAMARA!E:E,0))),\"\")","v":""}]
[1433,"AT467",0,{"$f":"IFERROR(IF(INDEX(HAMARA!I:I,MATCH(B1887,HAMARA!E:E,0))=0,\"\",INDEX(HAMARA!I:I,MATCH(B1887,HAMARA!E:E,0))),\"\")","v":""}]
[1433,"AT226",0,{"$f":"IFERROR(IF(INDEX(HAMARA!I:I,MATCH(B1888,HAMARA!E:E,0))=0,\"\",INDEX(HAMARA!I:I,MATCH(B1888,HAMARA!E:E,0))),\"\")","v":""}]
[1433,"AT137",0,{"$f":"IFERROR(IF(INDEX(HAMARA!I:I,MATCH(B1889,HAMARA!E:E,0))=0,\"\",INDEX(HAMARA!I:I,MATCH(B1889,HAMARA!E:E,0))),\"\")","v":""}]
[1433,"AT39",0,{"$f":"IFERROR(IF(INDEX(HAMARA!I:I,MATCH(B1890,HAMARA!E:E,0))=0,\"\",INDEX(HAMARA!I:I,MATCH(B1890,HAMARA!E:E,0))),\"\")","v":""}]
[1433,"AT439",0,{"$f":"IFERROR(IF(INDEX(HAMARA!I:I,MATCH(B1891,HAMARA!E:E,0))=0,\"\",INDEX(HAMARA!I:I,MATCH(B1891,HAMARA!E:E,0))),\"\")","v":""}]
[1433,"AT211",0,{"$f":"IFERROR(IF(INDEX(HAMARA!I:I,MATCH(B1892,HAMARA!E:E,0))=0,\"\",INDEX(HAMARA!I:I,MATCH(B1892,HAMARA!E:E,0))),\"\")","v":""}]
[1433,"AT440",0,{"$f":"IFERROR(IF(INDEX(HAMARA!I:I,MATCH(B1893,HAMARA!E:E,0))=0,\"\",INDEX(HAMARA!I:I,MATCH(B1893,HAMARA!E:E,0))),\"\")","v":""}]
[1433,"AT40",0,{"$f":"IFERROR(IF(INDEX(HAMARA!I:I,MATCH(B1894,HAMARA!E:E,0))=0,\"\",INDEX(HAMARA!I:I,MATCH(B1894,HAMARA!E:E,0))),\"\")","v":""}]
[1433,"AT441",0,{"$f":"IFERROR(IF(INDEX(HAMARA!I:I,MATCH(B1895,HAMARA!E:E,0))=0,\"\",INDEX(HAMARA!I:I,MATCH(B1895,HAMARA!E:E,0))),\"\")","v":""}]
[1433,"AT442",0.36099999999999999,{"$f":"IFERROR(IF(INDEX(HAMARA!I:I,MATCH(B1896,HAMARA!E:E,0))=0,\"\",INDEX(HAMARA!I:I,MATCH(B1896,HAMARA!E:E,0))),\"\")","v":""}]
[1433,"AT443",0,{"$f":"IFERROR(IF(INDEX(HAMARA!I:I,MATCH(B1897,HAMARA!E:E,0))=0,\"\",INDEX(HAMARA!I:I,MATCH(B1897,HAMARA!E:E,0))),\"\")","v":""}]
[1433,"AT444",0,{"$f":"IFERROR(IF(INDEX(HAMARA!I:I,MATCH(B1898,HAMARA!E:E,0))=0,\"\",INDEX(HAMARA!I:I,MATCH(B1898,HAMARA!E:E,0))),\"\")","v":""}]
[1433,"AT445",0,{"$f":"IFERROR(IF(INDEX(HAMARA!I:I,MATCH(B1899,HAMARA!E:E,0))=0,\"\",INDEX(HAMARA!I:I,MATCH(B1899,HAMARA!E:E,0))),\"\")","v":""}]
[1433,"AT212",0,{"$f":"IFERROR(IF(INDEX(HAMARA!I:I,MATCH(B1900,HAMARA!E:E,0))=0,\"\",INDEX(HAMARA!I:I,MATCH(B1900,HAMARA!E:E,0))),\"\")","v":""}]
[1433,"AT446",0,{"$f":"IFERROR(IF(INDEX(HAMARA!I:I,MATCH(B1901,HAMARA!E:E,0))=0,\"\",INDEX(HAMARA!I:I,MATCH(B1901,HAMARA!E:E,0))),\"\")","v":""}]
[1433,"AT447",0,{"$f":"IFERROR(IF(INDEX(HAMARA!I:I,MATCH(B1902,HAMARA!E:E,0))=0,\"\",INDEX(HAMARA!I:I,MATCH(B1902,HAMARA!E:E,0))),\"\")","v":""}]
[1433,"AT448",0,{"$f":"IFERROR(IF(INDEX(HAMARA!I:I,MATCH(B1903,HAMARA!E:E,0))=0,\"\",INDEX(HAMARA!I:I,MATCH(B1903,HAMARA!E:E,0))),\"\")","v":""}]
[1433,"AT449",0,{"$f":"IFERROR(IF(INDEX(HAMARA!I:I,MATCH(B1904,HAMARA!E:E,0))=0,\"\",INDEX(HAMARA!I:I,MATCH(B1904,HAMARA!E:E,0))),\"\")","v":""}]
[1433,"AT468",0,{"$f":"IFERROR(IF(INDEX(HAMARA!I:I,MATCH(B1905,HAMARA!E:E,0))=0,\"\",INDEX(HAMARA!I:I,MATCH(B1905,HAMARA!E:E,0))),\"\")","v":""}]
[1433,"AT469",0,{"$f":"IFERROR(IF(INDEX(HAMARA!I:I,MATCH(B1906,HAMARA!E:E,0))=0,\"\",INDEX(HAMARA!I:I,MATCH(B1906,HAMARA!E:E,0))),\"\")","v":""}]
[1433,"AT175",0,{"$f":"IFERROR(IF(INDEX(HAMARA!I:I,MATCH(B1907,HAMARA!E:E,0))=0,\"\",INDEX(HAMARA!I:I,MATCH(B1907,HAMARA!E:E,0))),\"\")","v":""}]
[1433,"AT208",0,{"$f":"IFERROR(IF(INDEX(HAMARA!I:I,MATCH(B1908,HAMARA!E:E,0))=0,\"\",INDEX(HAMARA!I:I,MATCH(B1908,HAMARA!E:E,0))),\"\")","v":""}]
[1433,"AT176",0,{"$f":"IFERROR(IF(INDEX(HAMARA!I:I,MATCH(B1909,HAMARA!E:E,0))=0,\"\",INDEX(HAMARA!I:I,MATCH(B1909,HAMARA!E:E,0))),\"\")","v":""}]
[1433,"AT209",0,{"$f":"IFERROR(IF(INDEX(HAMARA!I:I,MATCH(B1910,HAMARA!E:E,0))=0,\"\",INDEX(HAMARA!I:I,MATCH(B1910,HAMARA!E:E,0))),\"\")","v":""}]
[1433,"AT177",0,{"$f":"IFERROR(IF(INDEX(HAMARA!I:I,MATCH(B1911,HAMARA!E:E,0))=0,\"\",INDEX(HAMARA!I:I,MATCH(B1911,HAMARA!E:E,0))),\"\")","v":""}]
[1433,"AT210",0,{"$f":"IFERROR(IF(INDEX(HAMARA!I:I,MATCH(B1912,HAMARA!E:E,0))=0,\"\",INDEX(HAMARA!I:I,MATCH(B1912,HAMARA!E:E,0))),\"\")","v":""}]
[1433,"AT472",0,{"$f":"IFERROR(IF(INDEX(HAMARA!I:I,MATCH(B1913,HAMARA!E:E,0))=0,\"\",INDEX(HAMARA!I:I,MATCH(B1913,HAMARA!E:E,0))),\"\")","v":""}]
[1433,"AT470",0,{"$f":"IFERROR(IF(INDEX(HAMARA!I:I,MATCH(B1914,HAMARA!E:E,0))=0,\"\",INDEX(HAMARA!I:I,MATCH(B1914,HAMARA!E:E,0))),\"\")","v":""}]
[1433,"AT345",0,{"$f":"IFERROR(IF(INDEX(HAMARA!I:I,MATCH(B1915,HAMARA!E:E,0))=0,\"\",INDEX(HAMARA!I:I,MATCH(B1915,HAMARA!E:E,0))),\"\")","v":""}]
[1433,"AT347",0,{"$f":"IFERROR(IF(INDEX(HAMARA!I:I,MATCH(B1916,HAMARA!E:E,0))=0,\"\",INDEX(HAMARA!I:I,MATCH(B1916,HAMARA!E:E,0))),\"\")","v":""}]
[1433,"AT625",0,{"$f":"IFERROR(IF(INDEX(HAMARA!I:I,MATCH(B1917,HAMARA!E:E,0))=0,\"\",INDEX(HAMARA!I:I,MATCH(B1917,HAMARA!E:E,0))),\"\")","v":""}]
[1433,"AT626",0,{"$f":"IFERROR(IF(INDEX(HAMARA!I:I,MATCH(B1918,HAMARA!E:E,0))=0,\"\",INDEX(HAMARA!I:I,MATCH(B1918,HAMARA!E:E,0))),\"\")","v":""}]
[1433,"AT471",0,{"$f":"IFERROR(IF(INDEX(HAMARA!I:I,MATCH(B1919,HAMARA!E:E,0))=0,\"\",INDEX(HAMARA!I:I,MATCH(B1919,HAMARA!E:E,0))),\"\")","v":""}]
[1433,"AT473",0,{"$f":"IFERROR(IF(INDEX(HAMARA!I:I,MATCH(B1920,HAMARA!E:E,0))=0,\"\",INDEX(HAMARA!I:I,MATCH(B1920,HAMARA!E:E,0))),\"\")","v":""}]
[1433,"AT346",0,{"$f":"IFERROR(IF(INDEX(HAMARA!I:I,MATCH(B1921,HAMARA!E:E,0))=0,\"\",INDEX(HAMARA!I:I,MATCH(B1921,HAMARA!E:E,0))),\"\")","v":""}]
[1433,"AT348",0,{"$f":"IFERROR(IF(INDEX(HAMARA!I:I,MATCH(B1922,HAMARA!E:E,0))=0,\"\",INDEX(HAMARA!I:I,MATCH(B1922,HAMARA!E:E,0))),\"\")","v":""}]
[1433,"AT213",0,{"$f":"IFERROR(IF(INDEX(HAMARA!I:I,MATCH(B1923,HAMARA!E:E,0))=0,\"\",INDEX(HAMARA!I:I,MATCH(B1923,HAMARA!E:E,0))),\"\")","v":""}]
[1433,"AT217",0,{"$f":"IFERROR(IF(INDEX(HAMARA!I:I,MATCH(B1924,HAMARA!E:E,0))=0,\"\",INDEX(HAMARA!I:I,MATCH(B1924,HAMARA!E:E,0))),\"\")","v":""}]
[1433,"AT214",0,{"$f":"IFERROR(IF(INDEX(HAMARA!I:I,MATCH(B1925,HAMARA!E:E,0))=0,\"\",INDEX(HAMARA!I:I,MATCH(B1925,HAMARA!E:E,0))),\"\")","v":""}]
[1433,"AT218",0,{"$f":"IFERROR(IF(INDEX(HAMARA!I:I,MATCH(B1926,HAMARA!E:E,0))=0,\"\",INDEX(HAMARA!I:I,MATCH(B1926,HAMARA!E:E,0))),\"\")","v":""}]
[1433,"AT215",0,{"$f":"IFERROR(IF(INDEX(HAMARA!I:I,MATCH(B1927,HAMARA!E:E,0))=0,\"\",INDEX(HAMARA!I:I,MATCH(B1927,HAMARA!E:E,0))),\"\")","v":""}]
[1433,"AT219",0,{"$f":"IFERROR(IF(INDEX(HAMARA!I:I,MATCH(B1928,HAMARA!E:E,0))=0,\"\",INDEX(HAMARA!I:I,MATCH(B1928,HAMARA!E:E,0))),\"\")","v":""}]
[1433,"AT216",0,{"$f":"IFERROR(IF(INDEX(HAMARA!I:I,MATCH(B1929,HAMARA!E:E,0))=0,\"\",INDEX(HAMARA!I:I,MATCH(B1929,HAMARA!E:E,0))),\"\")","v":""}]
[1433,"AT220",0,{"$f":"IFERROR(IF(INDEX(HAMARA!I:I,MATCH(B1930,HAMARA!E:E,0))=0,\"\",INDEX(HAMARA!I:I,MATCH(B1930,HAMARA!E:E,0))),\"\")","v":""}]
[1433,"AT474",0,{"$f":"IFERROR(IF(INDEX(HAMARA!I:I,MATCH(B1931,HAMARA!E:E,0))=0,\"\",INDEX(HAMARA!I:I,MATCH(B1931,HAMARA!E:E,0))),\"\")","v":""}]
[1433,"AT475",0,{"$f":"IFERROR(IF(INDEX(HAMARA!I:I,MATCH(B1932,HAMARA!E:E,0))=0,\"\",INDEX(HAMARA!I:I,MATCH(B1932,HAMARA!E:E,0))),\"\")","v":""}]
[1433,"AT476",0,{"$f":"IFERROR(IF(INDEX(HAMARA!I:I,MATCH(B1933,HAMARA!E:E,0))=0,\"\",INDEX(HAMARA!I:I,MATCH(B1933,HAMARA!E:E,0))),\"\")","v":""}]
[1433,"AT481",0,{"$f":"IFERROR(IF(INDEX(HAMARA!I:I,MATCH(B1934,HAMARA!E:E,0))=0,\"\",INDEX(HAMARA!I:I,MATCH(B1934,HAMARA!E:E,0))),\"\")","v":""}]
[1433,"AT477",0,{"$f":"IFERROR(IF(INDEX(HAMARA!I:I,MATCH(B1935,HAMARA!E:E,0))=0,\"\",INDEX(HAMARA!I:I,MATCH(B1935,HAMARA!E:E,0))),\"\")","v":""}]
[1433,"AT482",0,{"$f":"IFERROR(IF(INDEX(HAMARA!I:I,MATCH(B1936,HAMARA!E:E,0))=0,\"\",INDEX(HAMARA!I:I,MATCH(B1936,HAMARA!E:E,0))),\"\")","v":""}]
[1433,"AT478",0,{"$f":"IFERROR(IF(INDEX(HAMARA!I:I,MATCH(B1937,HAMARA!E:E,0))=0,\"\",INDEX(HAMARA!I:I,MATCH(B1937,HAMARA!E:E,0))),\"\")","v":""}]
[1433,"AT483",0,{"$f":"IFERROR(IF(INDEX(HAMARA!I:I,MATCH(B1938,HAMARA!E:E,0))=0,\"\",INDEX(HAMARA!I:I,MATCH(B1938,HAMARA!E:E,0))),\"\")","v":""}]
[1433,"AT479",0,{"$f":"IFERROR(IF(INDEX(HAMARA!I:I,MATCH(B1939,HAMARA!E:E,0))=0,\"\",INDEX(HAMARA!I:I,MATCH(B1939,HAMARA!E:E,0))),\"\")","v":""}]
[1433,"AT484",0,{"$f":"IFERROR(IF(INDEX(HAMARA!I:I,MATCH(B1940,HAMARA!E:E,0))=0,\"\",INDEX(HAMARA!I:I,MATCH(B1940,HAMARA!E:E,0))),\"\")","v":""}]
[1433,"AT480",0,{"$f":"IFERROR(IF(INDEX(HAMARA!I:I,MATCH(B1941,HAMARA!E:E,0))=0,\"\",INDEX(HAMARA!I:I,MATCH(B1941,HAMARA!E:E,0))),\"\")","v":""}]
[1433,"AT485",0,{"$f":"IFERROR(IF(INDEX(HAMARA!I:I,MATCH(B1942,HAMARA!E:E,0))=0,\"\",INDEX(HAMARA!I:I,MATCH(B1942,HAMARA!E:E,0))),\"\")","v":""}]
[1433,"AT705",0,{"$f":"IFERROR(IF(INDEX(HAMARA!I:I,MATCH(B1943,HAMARA!E:E,0))=0,\"\",INDEX(HAMARA!I:I,MATCH(B1943,HAMARA!E:E,0))),\"\")","v":""}]
[1433,"AT706",0,{"$f":"IFERROR(IF(INDEX(HAMARA!I:I,MATCH(B1944,HAMARA!E:E,0))=0,\"\",INDEX(HAMARA!I:I,MATCH(B1944,HAMARA!E:E,0))),\"\")","v":""}]
[1433,"AT707",0,{"$f":"IFERROR(IF(INDEX(HAMARA!I:I,MATCH(B1945,HAMARA!E:E,0))=0,\"\",INDEX(HAMARA!I:I,MATCH(B1945,HAMARA!E:E,0))),\"\")","v":""}]
[1433,"AT708",0,{"$f":"IFERROR(IF(INDEX(HAMARA!I:I,MATCH(B1946,HAMARA!E:E,0))=0,\"\",INDEX(HAMARA!I:I,MATCH(B1946,HAMARA!E:E,0))),\"\")","v":""}]
[1433,"AT709",0,{"$f":"IFERROR(IF(INDEX(HAMARA!I:I,MATCH(B1947,HAMARA!E:E,0))=0,\"\",INDEX(HAMARA!I:I,MATCH(B1947,HAMARA!E:E,0))),\"\")","v":""}]
[1433,"AT710",0,{"$f":"IFERROR(IF(INDEX(HAMARA!I:I,MATCH(B1948,HAMARA!E:E,0))=0,\"\",INDEX(HAMARA!I:I,MATCH(B1948,HAMARA!E:E,0))),\"\")","v":""}]
[1433,"AT711",0,{"$f":"IFERROR(IF(INDEX(HAMARA!I:I,MATCH(B1949,HAMARA!E:E,0))=0,\"\",INDEX(HAMARA!I:I,MATCH(B1949,HAMARA!E:E,0))),\"\")","v":""}]
[1433,"AT712",0,{"$f":"IFERROR(IF(INDEX(HAMARA!I:I,MATCH(B1950,HAMARA!E:E,0))=0,\"\",INDEX(HAMARA!I:I,MATCH(B1950,HAMARA!E:E,0))),\"\")","v":""}]
[1433,"AT713",0,{"$f":"IFERROR(IF(INDEX(HAMARA!I:I,MATCH(B1951,HAMARA!E:E,0))=0,\"\",INDEX(HAMARA!I:I,MATCH(B1951,HAMARA!E:E,0))),\"\")","v":""}]
[1433,"AT714",0,{"$f":"IFERROR(IF(INDEX(HAMARA!I:I,MATCH(B1952,HAMARA!E:E,0))=0,\"\",INDEX(HAMARA!I:I,MATCH(B1952,HAMARA!E:E,0))),\"\")","v":""}]
[1433,"AT715",0,{"$f":"IFERROR(IF(INDEX(HAMARA!I:I,MATCH(B1953,HAMARA!E:E,0))=0,\"\",INDEX(HAMARA!I:I,MATCH(B1953,HAMARA!E:E,0))),\"\")","v":""}]
[1433,"AT716",0,{"$f":"IFERROR(IF(INDEX(HAMARA!I:I,MATCH(B1954,HAMARA!E:E,0))=0,\"\",INDEX(HAMARA!I:I,MATCH(B1954,HAMARA!E:E,0))),\"\")","v":""}]
[1433,"AT717",0,{"$f":"IFERROR(IF(INDEX(HAMARA!I:I,MATCH(B1955,HAMARA!E:E,0))=0,\"\",INDEX(HAMARA!I:I,MATCH(B1955,HAMARA!E:E,0))),\"\")","v":""}]
[1433,"AT718",0,{"$f":"IFERROR(IF(INDEX(HAMARA!I:I,MATCH(B1956,HAMARA!E:E,0))=0,\"\",INDEX(HAMARA!I:I,MATCH(B1956,HAMARA!E:E,0))),\"\")","v":""}]
[1433,"AT719",0,{"$f":"IFERROR(IF(INDEX(HAMARA!I:I,MATCH(B1957,HAMARA!E:E,0))=0,\"\",INDEX(HAMARA!I:I,MATCH(B1957,HAMARA!E:E,0))),\"\")","v":""}]
[1433,"AT720",0,{"$f":"IFERROR(IF(INDEX(HAMARA!I:I,MATCH(B1958,HAMARA!E:E,0))=0,\"\",INDEX(HAMARA!I:I,MATCH(B1958,HAMARA!E:E,0))),\"\")","v":""}]
[1433,"AT721",0,{"$f":"IFERROR(IF(INDEX(HAMARA!I:I,MATCH(B1959,HAMARA!E:E,0))=0,\"\",INDEX(HAMARA!I:I,MATCH(B1959,HAMARA!E:E,0))),\"\")","v":""}]
[1433,"AT722",0,{"$f":"IFERROR(IF(INDEX(HAMARA!I:I,MATCH(B1960,HAMARA!E:E,0))=0,\"\",INDEX(HAMARA!I:I,MATCH(B1960,HAMARA!E:E,0))),\"\")","v":""}]
[1433,"AT723",0,{"$f":"IFERROR(IF(INDEX(HAMARA!I:I,MATCH(B1961,HAMARA!E:E,0))=0,\"\",INDEX(HAMARA!I:I,MATCH(B1961,HAMARA!E:E,0))),\"\")","v":""}]
[1433,"AT724",0,{"$f":"IFERROR(IF(INDEX(HAMARA!I:I,MATCH(B1962,HAMARA!E:E,0))=0,\"\",INDEX(HAMARA!I:I,MATCH(B1962,HAMARA!E:E,0))),\"\")","v":""}]
[1433,"AT725",0,{"$f":"IFERROR(IF(INDEX(HAMARA!I:I,MATCH(B1963,HAMARA!E:E,0))=0,\"\",INDEX(HAMARA!I:I,MATCH(B1963,HAMARA!E:E,0))),\"\")","v":""}]
[1433,"AT726",0,{"$f":"IFERROR(IF(INDEX(HAMARA!I:I,MATCH(B1964,HAMARA!E:E,0))=0,\"\",INDEX(HAMARA!I:I,MATCH(B1964,HAMARA!E:E,0))),\"\")","v":""}]
[1433,"AT646",0,{"$f":"IFERROR(IF(INDEX(HAMARA!I:I,MATCH(B1965,HAMARA!E:E,0))=0,\"\",INDEX(HAMARA!I:I,MATCH(B1965,HAMARA!E:E,0))),\"\")","v":""}]
[1433,"AT647",0,{"$f":"IFERROR(IF(INDEX(HAMARA!I:I,MATCH(B1966,HAMARA!E:E,0))=0,\"\",INDEX(HAMARA!I:I,MATCH(B1966,HAMARA!E:E,0))),\"\")","v":""}]
[1433,"AT648",0,{"$f":"IFERROR(IF(INDEX(HAMARA!I:I,MATCH(B1967,HAMARA!E:E,0))=0,\"\",INDEX(HAMARA!I:I,MATCH(B1967,HAMARA!E:E,0))),\"\")","v":""}]
[1433,"AT649",0,{"$f":"IFERROR(IF(INDEX(HAMARA!I:I,MATCH(B1968,HAMARA!E:E,0))=0,\"\",INDEX(HAMARA!I:I,MATCH(B1968,HAMARA!E:E,0))),\"\")","v":""}]
[1433,"AT650",0,{"$f":"IFERROR(IF(INDEX(HAMARA!I:I,MATCH(B1969,HAMARA!E:E,0))=0,\"\",INDEX(HAMARA!I:I,MATCH(B1969,HAMARA!E:E,0))),\"\")","v":""}]
[1433,"AT651",0,{"$f":"IFERROR(IF(INDEX(HAMARA!I:I,MATCH(B1970,HAMARA!E:E,0))=0,\"\",INDEX(HAMARA!I:I,MATCH(B1970,HAMARA!E:E,0))),\"\")","v":""}]
[1433,"AT652",0,{"$f":"IFERROR(IF(INDEX(HAMARA!I:I,MATCH(B1971,HAMARA!E:E,0))=0,\"\",INDEX(HAMARA!I:I,MATCH(B1971,HAMARA!E:E,0))),\"\")","v":""}]
[1433,"AT653",0,{"$f":"IFERROR(IF(INDEX(HAMARA!I:I,MATCH(B1972,HAMARA!E:E,0))=0,\"\",INDEX(HAMARA!I:I,MATCH(B1972,HAMARA!E:E,0))),\"\")","v":""}]
[1433,"AT654",0,{"$f":"IFERROR(IF(INDEX(HAMARA!I:I,MATCH(B1973,HAMARA!E:E,0))=0,\"\",INDEX(HAMARA!I:I,MATCH(B1973,HAMARA!E:E,0))),\"\")","v":""}]
[1433,"AT655",0,{"$f":"IFERROR(IF(INDEX(HAMARA!I:I,MATCH(B1974,HAMARA!E:E,0))=0,\"\",INDEX(HAMARA!I:I,MATCH(B1974,HAMARA!E:E,0))),\"\")","v":""}]
[1433,"AT656",0,{"$f":"IFERROR(IF(INDEX(HAMARA!I:I,MATCH(B1975,HAMARA!E:E,0))=0,\"\",INDEX(HAMARA!I:I,MATCH(B1975,HAMARA!E:E,0))),\"\")","v":""}]
[1433,"AT657",0,{"$f":"IFERROR(IF(INDEX(HAMARA!I:I,MATCH(B1976,HAMARA!E:E,0))=0,\"\",INDEX(HAMARA!I:I,MATCH(B1976,HAMARA!E:E,0))),\"\")","v":""}]
[1433,"AT678",0,{"$f":"IFERROR(IF(INDEX(HAMARA!I:I,MATCH(B1977,HAMARA!E:E,0))=0,\"\",INDEX(HAMARA!I:I,MATCH(B1977,HAMARA!E:E,0))),\"\")","v":""}]
[1433,"AT679",0,{"$f":"IFERROR(IF(INDEX(HAMARA!I:I,MATCH(B1978,HAMARA!E:E,0))=0,\"\",INDEX(HAMARA!I:I,MATCH(B1978,HAMARA!E:E,0))),\"\")","v":""}]
[1433,"AT680",0,{"$f":"IFERROR(IF(INDEX(HAMARA!I:I,MATCH(B1979,HAMARA!E:E,0))=0,\"\",INDEX(HAMARA!I:I,MATCH(B1979,HAMARA!E:E,0))),\"\")","v":""}]
[1433,"AT681",0,{"$f":"IFERROR(IF(INDEX(HAMARA!I:I,MATCH(B1980,HAMARA!E:E,0))=0,\"\",INDEX(HAMARA!I:I,MATCH(B1980,HAMARA!E:E,0))),\"\")","v":""}]
[1433,"AT682",0,{"$f":"IFERROR(IF(INDEX(HAMARA!I:I,MATCH(B1981,HAMARA!E:E,0))=0,\"\",INDEX(HAMARA!I:I,MATCH(B1981,HAMARA!E:E,0))),\"\")","v":""}]
[1433,"AT683",0,{"$f":"IFERROR(IF(INDEX(HAMARA!I:I,MATCH(B1982,HAMARA!E:E,0))=0,\"\",INDEX(HAMARA!I:I,MATCH(B1982,HAMARA!E:E,0))),\"\")","v":""}]
[1433,"AT658",0,{"$f":"IFERROR(IF(INDEX(HAMARA!I:I,MATCH(B1983,HAMARA!E:E,0))=0,\"\",INDEX(HAMARA!I:I,MATCH(B1983,HAMARA!E:E,0))),\"\")","v":""}]
[1433,"AT659",0,{"$f":"IFERROR(IF(INDEX(HAMARA!I:I,MATCH(B1984,HAMARA!E:E,0))=0,\"\",INDEX(HAMARA!I:I,MATCH(B1984,HAMARA!E:E,0))),\"\")","v":""}]
[1433,"AT660",0,{"$f":"IFERROR(IF(INDEX(HAMARA!I:I,MATCH(B1985,HAMARA!E:E,0))=0,\"\",INDEX(HAMARA!I:I,MATCH(B1985,HAMARA!E:E,0))),\"\")","v":""}]
[1433,"AT661",0,{"$f":"IFERROR(IF(INDEX(HAMARA!I:I,MATCH(B1986,HAMARA!E:E,0))=0,\"\",INDEX(HAMARA!I:I,MATCH(B1986,HAMARA!E:E,0))),\"\")","v":""}]
[1433,"AT727",0,{"$f":"IFERROR(IF(INDEX(HAMARA!I:I,MATCH(B1987,HAMARA!E:E,0))=0,\"\",INDEX(HAMARA!I:I,MATCH(B1987,HAMARA!E:E,0))),\"\")","v":""}]
[1433,"AT728",0,{"$f":"IFERROR(IF(INDEX(HAMARA!I:I,MATCH(B1988,HAMARA!E:E,0))=0,\"\",INDEX(HAMARA!I:I,MATCH(B1988,HAMARA!E:E,0))),\"\")","v":""}]
[1433,"AT729",0,{"$f":"IFERROR(IF(INDEX(HAMARA!I:I,MATCH(B1989,HAMARA!E:E,0))=0,\"\",INDEX(HAMARA!I:I,MATCH(B1989,HAMARA!E:E,0))),\"\")","v":""}]
[1433,"AT730",0,{"$f":"IFERROR(IF(INDEX(HAMARA!I:I,MATCH(B1990,HAMARA!E:E,0))=0,\"\",INDEX(HAMARA!I:I,MATCH(B1990,HAMARA!E:E,0))),\"\")","v":""}]
[1433,"AT731",0,{"$f":"IFERROR(IF(INDEX(HAMARA!I:I,MATCH(B1991,HAMARA!E:E,0))=0,\"\",INDEX(HAMARA!I:I,MATCH(B1991,HAMARA!E:E,0))),\"\")","v":""}]
[1433,"AT732",0,{"$f":"IFERROR(IF(INDEX(HAMARA!I:I,MATCH(B1992,HAMARA!E:E,0))=0,\"\",INDEX(HAMARA!I:I,MATCH(B1992,HAMARA!E:E,0))),\"\")","v":""}]
[1433,"AT733",0,{"$f":"IFERROR(IF(INDEX(HAMARA!I:I,MATCH(B1993,HAMARA!E:E,0))=0,\"\",INDEX(HAMARA!I:I,MATCH(B1993,HAMARA!E:E,0))),\"\")","v":""}]
[1433,"AT734",0,{"$f":"IFERROR(IF(INDEX(HAMARA!I:I,MATCH(B1994,HAMARA!E:E,0))=0,\"\",INDEX(HAMARA!I:I,MATCH(B1994,HAMARA!E:E,0))),\"\")","v":""}]
[1433,"AT735",0,{"$f":"IFERROR(IF(INDEX(HAMARA!I:I,MATCH(B1995,HAMARA!E:E,0))=0,\"\",INDEX(HAMARA!I:I,MATCH(B1995,HAMARA!E:E,0))),\"\")","v":""}]
[1433,"AT736",0,{"$f":"IFERROR(IF(INDEX(HAMARA!I:I,MATCH(B1996,HAMARA!E:E,0))=0,\"\",INDEX(HAMARA!I:I,MATCH(B1996,HAMARA!E:E,0))),\"\")","v":""}]
[1433,"AT737",0,{"$f":"IFERROR(IF(INDEX(HAMARA!I:I,MATCH(B1997,HAMARA!E:E,0))=0,\"\",INDEX(HAMARA!I:I,MATCH(B1997,HAMARA!E:E,0))),\"\")","v":""}]
[1433,"AT738",0,{"$f":"IFERROR(IF(INDEX(HAMARA!I:I,MATCH(B1998,HAMARA!E:E,0))=0,\"\",INDEX(HAMARA!I:I,MATCH(B1998,HAMARA!E:E,0))),\"\")","v":""}]
[1433,"AT739",0,{"$f":"IFERROR(IF(INDEX(HAMARA!I:I,MATCH(B1999,HAMARA!E:E,0))=0,\"\",INDEX(HAMARA!I:I,MATCH(B1999,HAMARA!E:E,0))),\"\")","v":""}]
[1433,"AT740",0,{"$f":"IFERROR(IF(INDEX(HAMARA!I:I,MATCH(B2000,HAMARA!E:E,0))=0,\"\",INDEX(HAMARA!I:I,MATCH(B2000,HAMARA!E:E,0))),\"\")","v":""}]
[1433,"AT741",0,{"$f":"IFERROR(IF(INDEX(HAMARA!I:I,MATCH(B2001,HAMARA!E:E,0))=0,\"\",INDEX(HAMARA!I:I,MATCH(B2001,HAMARA!E:E,0))),\"\")","v":""}]
[1433,"AT742",0,{"$f":"IFERROR(IF(INDEX(HAMARA!I:I,MATCH(B2002,HAMARA!E:E,0))=0,\"\",INDEX(HAMARA!I:I,MATCH(B2002,HAMARA!E:E,0))),\"\")","v":""}]
[1433,"AT743",0,{"$f":"IFERROR(IF(INDEX(HAMARA!I:I,MATCH(B2003,HAMARA!E:E,0))=0,\"\",INDEX(HAMARA!I:I,MATCH(B2003,HAMARA!E:E,0))),\"\")","v":""}]
[1433,"AT744",0,{"$f":"IFERROR(IF(INDEX(HAMARA!I:I,MATCH(B2004,HAMARA!E:E,0))=0,\"\",INDEX(HAMARA!I:I,MATCH(B2004,HAMARA!E:E,0))),\"\")","v":""}]
[1433,"AT745",0,{"$f":"IFERROR(IF(INDEX(HAMARA!I:I,MATCH(B2005,HAMARA!E:E,0))=0,\"\",INDEX(HAMARA!I:I,MATCH(B2005,HAMARA!E:E,0))),\"\")","v":""}]
[1433,"AT746",0,{"$f":"IFERROR(IF(INDEX(HAMARA!I:I,MATCH(B2006,HAMARA!E:E,0))=0,\"\",INDEX(HAMARA!I:I,MATCH(B2006,HAMARA!E:E,0))),\"\")","v":""}]
[1433,"AT747",0,{"$f":"IFERROR(IF(INDEX(HAMARA!I:I,MATCH(B2007,HAMARA!E:E,0))=0,\"\",INDEX(HAMARA!I:I,MATCH(B2007,HAMARA!E:E,0))),\"\")","v":""}]
[1433,"AT748",0,{"$f":"IFERROR(IF(INDEX(HAMARA!I:I,MATCH(B2008,HAMARA!E:E,0))=0,\"\",INDEX(HAMARA!I:I,MATCH(B2008,HAMARA!E:E,0))),\"\")","v":""}]
[1433,"AT662",0,{"$f":"IFERROR(IF(INDEX(HAMARA!I:I,MATCH(B2009,HAMARA!E:E,0))=0,\"\",INDEX(HAMARA!I:I,MATCH(B2009,HAMARA!E:E,0))),\"\")","v":""}]
[1433,"AT663",0,{"$f":"IFERROR(IF(INDEX(HAMARA!I:I,MATCH(B2010,HAMARA!E:E,0))=0,\"\",INDEX(HAMARA!I:I,MATCH(B2010,HAMARA!E:E,0))),\"\")","v":""}]
[1433,"AT664",0,{"$f":"IFERROR(IF(INDEX(HAMARA!I:I,MATCH(B2011,HAMARA!E:E,0))=0,\"\",INDEX(HAMARA!I:I,MATCH(B2011,HAMARA!E:E,0))),\"\")","v":""}]
[1433,"AT665",0,{"$f":"IFERROR(IF(INDEX(HAMARA!I:I,MATCH(B2012,HAMARA!E:E,0))=0,\"\",INDEX(HAMARA!I:I,MATCH(B2012,HAMARA!E:E,0))),\"\")","v":""}]
[1433,"AT666",0,{"$f":"IFERROR(IF(INDEX(HAMARA!I:I,MATCH(B2013,HAMARA!E:E,0))=0,\"\",INDEX(HAMARA!I:I,MATCH(B2013,HAMARA!E:E,0))),\"\")","v":""}]
[1433,"AT667",0,{"$f":"IFERROR(IF(INDEX(HAMARA!I:I,MATCH(B2014,HAMARA!E:E,0))=0,\"\",INDEX(HAMARA!I:I,MATCH(B2014,HAMARA!E:E,0))),\"\")","v":""}]
[1433,"AT668",0,{"$f":"IFERROR(IF(INDEX(HAMARA!I:I,MATCH(B2015,HAMARA!E:E,0))=0,\"\",INDEX(HAMARA!I:I,MATCH(B2015,HAMARA!E:E,0))),\"\")","v":""}]
[1433,"AT669",0,{"$f":"IFERROR(IF(INDEX(HAMARA!I:I,MATCH(B2016,HAMARA!E:E,0))=0,\"\",INDEX(HAMARA!I:I,MATCH(B2016,HAMARA!E:E,0))),\"\")","v":""}]
[1433,"AT670",0,{"$f":"IFERROR(IF(INDEX(HAMARA!I:I,MATCH(B2017,HAMARA!E:E,0))=0,\"\",INDEX(HAMARA!I:I,MATCH(B2017,HAMARA!E:E,0))),\"\")","v":""}]
[1433,"AT671",0,{"$f":"IFERROR(IF(INDEX(HAMARA!I:I,MATCH(B2018,HAMARA!E:E,0))=0,\"\",INDEX(HAMARA!I:I,MATCH(B2018,HAMARA!E:E,0))),\"\")","v":""}]
[1433,"AT672",0,{"$f":"IFERROR(IF(INDEX(HAMARA!I:I,MATCH(B2019,HAMARA!E:E,0))=0,\"\",INDEX(HAMARA!I:I,MATCH(B2019,HAMARA!E:E,0))),\"\")","v":""}]
[1433,"AT673",0,{"$f":"IFERROR(IF(INDEX(HAMARA!I:I,MATCH(B2020,HAMARA!E:E,0))=0,\"\",INDEX(HAMARA!I:I,MATCH(B2020,HAMARA!E:E,0))),\"\")","v":""}]
[1433,"AT684",0,{"$f":"IFERROR(IF(INDEX(HAMARA!I:I,MATCH(B2021,HAMARA!E:E,0))=0,\"\",INDEX(HAMARA!I:I,MATCH(B2021,HAMARA!E:E,0))),\"\")","v":""}]
[1433,"AT685",0,{"$f":"IFERROR(IF(INDEX(HAMARA!I:I,MATCH(B2022,HAMARA!E:E,0))=0,\"\",INDEX(HAMARA!I:I,MATCH(B2022,HAMARA!E:E,0))),\"\")","v":""}]
[1433,"AT686",0,{"$f":"IFERROR(IF(INDEX(HAMARA!I:I,MATCH(B2023,HAMARA!E:E,0))=0,\"\",INDEX(HAMARA!I:I,MATCH(B2023,HAMARA!E:E,0))),\"\")","v":""}]
[1433,"AT687",0,{"$f":"IFERROR(IF(INDEX(HAMARA!I:I,MATCH(B2024,HAMARA!E:E,0))=0,\"\",INDEX(HAMARA!I:I,MATCH(B2024,HAMARA!E:E,0))),\"\")","v":""}]
[1433,"AT688",0,{"$f":"IFERROR(IF(INDEX(HAMARA!I:I,MATCH(B2025,HAMARA!E:E,0))=0,\"\",INDEX(HAMARA!I:I,MATCH(B2025,HAMARA!E:E,0))),\"\")","v":""}]
[1433,"AT689",0,{"$f":"IFERROR(IF(INDEX(HAMARA!I:I,MATCH(B2026,HAMARA!E:E,0))=0,\"\",INDEX(HAMARA!I:I,MATCH(B2026,HAMARA!E:E,0))),\"\")","v":""}]
[1433,"AT674",0,{"$f":"IFERROR(IF(INDEX(HAMARA!I:I,MATCH(B2027,HAMARA!E:E,0))=0,\"\",INDEX(HAMARA!I:I,MATCH(B2027,HAMARA!E:E,0))),\"\")","v":""}]
[1433,"AT675",0,{"$f":"IFERROR(IF(INDEX(HAMARA!I:I,MATCH(B2028,HAMARA!E:E,0))=0,\"\",INDEX(HAMARA!I:I,MATCH(B2028,HAMARA!E:E,0))),\"\")","v":""}]
[1433,"AT676",0,{"$f":"IFERROR(IF(INDEX(HAMARA!I:I,MATCH(B2029,HAMARA!E:E,0))=0,\"\",INDEX(HAMARA!I:I,MATCH(B2029,HAMARA!E:E,0))),\"\")","v":""}]
[1433,"AT677",0,{"$f":"IFERROR(IF(INDEX(HAMARA!I:I,MATCH(B2030,HAMARA!E:E,0))=0,\"\",INDEX(HAMARA!I:I,MATCH(B2030,HAMARA!E:E,0))),\"\")","v":""}]
[1433,"AT53",0,{"$f":"IFERROR(IF(INDEX(HAMARA!I:I,MATCH(B2031,HAMARA!E:E,0))=0,\"\",INDEX(HAMARA!I:I,MATCH(B2031,HAMARA!E:E,0))),\"\")","v":""}]
[1433,"AT502",0,{"$f":"IFERROR(IF(INDEX(HAMARA!I:I,MATCH(B2032,HAMARA!E:E,0))=0,\"\",INDEX(HAMARA!I:I,MATCH(B2032,HAMARA!E:E,0))),\"\")","v":""}]
[1433,"AT503",0,{"$f":"IFERROR(IF(INDEX(HAMARA!I:I,MATCH(B2033,HAMARA!E:E,0))=0,\"\",INDEX(HAMARA!I:I,MATCH(B2033,HAMARA!E:E,0))),\"\")","v":""}]
[1433,"AT450",0,{"$f":"IFERROR(IF(INDEX(HAMARA!I:I,MATCH(B2034,HAMARA!E:E,0))=0,\"\",INDEX(HAMARA!I:I,MATCH(B2034,HAMARA!E:E,0))),\"\")","v":""}]
[1433,"AT504",0,{"$f":"IFERROR(IF(INDEX(HAMARA!I:I,MATCH(B2035,HAMARA!E:E,0))=0,\"\",INDEX(HAMARA!I:I,MATCH(B2035,HAMARA!E:E,0))),\"\")","v":""}]
[1433,"AT505",0,{"$f":"IFERROR(IF(INDEX(HAMARA!I:I,MATCH(B2036,HAMARA!E:E,0))=0,\"\",INDEX(HAMARA!I:I,MATCH(B2036,HAMARA!E:E,0))),\"\")","v":""}]
[1433,"AT451",0,{"$f":"IFERROR(IF(INDEX(HAMARA!I:I,MATCH(B2037,HAMARA!E:E,0))=0,\"\",INDEX(HAMARA!I:I,MATCH(B2037,HAMARA!E:E,0))),\"\")","v":""}]
[1433,"AT506",0,{"$f":"IFERROR(IF(INDEX(HAMARA!I:I,MATCH(B2038,HAMARA!E:E,0))=0,\"\",INDEX(HAMARA!I:I,MATCH(B2038,HAMARA!E:E,0))),\"\")","v":""}]
[1433,"AT627",0,{"$f":"IFERROR(IF(INDEX(HAMARA!I:I,MATCH(B2039,HAMARA!E:E,0))=0,\"\",INDEX(HAMARA!I:I,MATCH(B2039,HAMARA!E:E,0))),\"\")","v":""}]
[1433,"AT507",0,{"$f":"IFERROR(IF(INDEX(HAMARA!I:I,MATCH(B2040,HAMARA!E:E,0))=0,\"\",INDEX(HAMARA!I:I,MATCH(B2040,HAMARA!E:E,0))),\"\")","v":""}]
[1433,"AT577",0,{"$f":"IFERROR(IF(INDEX(HAMARA!I:I,MATCH(B2041,HAMARA!E:E,0))=0,\"\",INDEX(HAMARA!I:I,MATCH(B2041,HAMARA!E:E,0))),\"\")","v":""}]
[1433,"AT508",0,{"$f":"IFERROR(IF(INDEX(HAMARA!I:I,MATCH(B2042,HAMARA!E:E,0))=0,\"\",INDEX(HAMARA!I:I,MATCH(B2042,HAMARA!E:E,0))),\"\")","v":""}]
[1433,"AT509",0,{"$f":"IFERROR(IF(INDEX(HAMARA!I:I,MATCH(B2043,HAMARA!E:E,0))=0,\"\",INDEX(HAMARA!I:I,MATCH(B2043,HAMARA!E:E,0))),\"\")","v":""}]
[1433,"AT511",0,{"$f":"IFERROR(IF(INDEX(HAMARA!I:I,MATCH(B2044,HAMARA!E:E,0))=0,\"\",INDEX(HAMARA!I:I,MATCH(B2044,HAMARA!E:E,0))),\"\")","v":""}]
[1433,"AT452",0,{"$f":"IFERROR(IF(INDEX(HAMARA!I:I,MATCH(B2045,HAMARA!E:E,0))=0,\"\",INDEX(HAMARA!I:I,MATCH(B2045,HAMARA!E:E,0))),\"\")","v":""}]
[1433,"AT512",0,{"$f":"IFERROR(IF(INDEX(HAMARA!I:I,MATCH(B2046,HAMARA!E:E,0))=0,\"\",INDEX(HAMARA!I:I,MATCH(B2046,HAMARA!E:E,0))),\"\")","v":""}]
[1433,"AT513",0,{"$f":"IFERROR(IF(INDEX(HAMARA!I:I,MATCH(B2047,HAMARA!E:E,0))=0,\"\",INDEX(HAMARA!I:I,MATCH(B2047,HAMARA!E:E,0))),\"\")","v":""}]
[1433,"AT514",0,{"$f":"IFERROR(IF(INDEX(HAMARA!I:I,MATCH(B2048,HAMARA!E:E,0))=0,\"\",INDEX(HAMARA!I:I,MATCH(B2048,HAMARA!E:E,0))),\"\")","v":""}]
[1433,"AT515",0,{"$f":"IFERROR(IF(INDEX(HAMARA!I:I,MATCH(B2049,HAMARA!E:E,0))=0,\"\",INDEX(HAMARA!I:I,MATCH(B2049,HAMARA!E:E,0))),\"\")","v":""}]
[1433,"AT516",0,{"$f":"IFERROR(IF(INDEX(HAMARA!I:I,MATCH(B2050,HAMARA!E:E,0))=0,\"\",INDEX(HAMARA!I:I,MATCH(B2050,HAMARA!E:E,0))),\"\")","v":""}]
[1433,"AT517",0,{"$f":"IFERROR(IF(INDEX(HAMARA!I:I,MATCH(B2051,HAMARA!E:E,0))=0,\"\",INDEX(HAMARA!I:I,MATCH(B2051,HAMARA!E:E,0))),\"\")","v":""}]
[1433,"AT518",0,{"$f":"IFERROR(IF(INDEX(HAMARA!I:I,MATCH(B2052,HAMARA!E:E,0))=0,\"\",INDEX(HAMARA!I:I,MATCH(B2052,HAMARA!E:E,0))),\"\")","v":""}]
[1433,"AT519",0,{"$f":"IFERROR(IF(INDEX(HAMARA!I:I,MATCH(B2053,HAMARA!E:E,0))=0,\"\",INDEX(HAMARA!I:I,MATCH(B2053,HAMARA!E:E,0))),\"\")","v":""}]
[1433,"AT520",0,{"$f":"IFERROR(IF(INDEX(HAMARA!I:I,MATCH(B2054,HAMARA!E:E,0))=0,\"\",INDEX(HAMARA!I:I,MATCH(B2054,HAMARA!E:E,0))),\"\")","v":""}]
[1433,"AT521",0,{"$f":"IFERROR(IF(INDEX(HAMARA!I:I,MATCH(B2055,HAMARA!E:E,0))=0,\"\",INDEX(HAMARA!I:I,MATCH(B2055,HAMARA!E:E,0))),\"\")","v":""}]
[1433,"AT522",0,{"$f":"IFERROR(IF(INDEX(HAMARA!I:I,MATCH(B2056,HAMARA!E:E,0))=0,\"\",INDEX(HAMARA!I:I,MATCH(B2056,HAMARA!E:E,0))),\"\")","v":""}]
[1433,"AT523",0,{"$f":"IFERROR(IF(INDEX(HAMARA!I:I,MATCH(B2057,HAMARA!E:E,0))=0,\"\",INDEX(HAMARA!I:I,MATCH(B2057,HAMARA!E:E,0))),\"\")","v":""}]
[1433,"AT524",0,{"$f":"IFERROR(IF(INDEX(HAMARA!I:I,MATCH(B2058,HAMARA!E:E,0))=0,\"\",INDEX(HAMARA!I:I,MATCH(B2058,HAMARA!E:E,0))),\"\")","v":""}]
[1433,"AT525",0,{"$f":"IFERROR(IF(INDEX(HAMARA!I:I,MATCH(B2059,HAMARA!E:E,0))=0,\"\",INDEX(HAMARA!I:I,MATCH(B2059,HAMARA!E:E,0))),\"\")","v":""}]
[1433,"AT526",0,{"$f":"IFERROR(IF(INDEX(HAMARA!I:I,MATCH(B2060,HAMARA!E:E,0))=0,\"\",INDEX(HAMARA!I:I,MATCH(B2060,HAMARA!E:E,0))),\"\")","v":""}]
[1433,"AT527",0,{"$f":"IFERROR(IF(INDEX(HAMARA!I:I,MATCH(B2061,HAMARA!E:E,0))=0,\"\",INDEX(HAMARA!I:I,MATCH(B2061,HAMARA!E:E,0))),\"\")","v":""}]
[1433,"AT530",0,{"$f":"IFERROR(IF(INDEX(HAMARA!I:I,MATCH(B2062,HAMARA!E:E,0))=0,\"\",INDEX(HAMARA!I:I,MATCH(B2062,HAMARA!E:E,0))),\"\")","v":""}]
[1433,"AT531",0,{"$f":"IFERROR(IF(INDEX(HAMARA!I:I,MATCH(B2063,HAMARA!E:E,0))=0,\"\",INDEX(HAMARA!I:I,MATCH(B2063,HAMARA!E:E,0))),\"\")","v":""}]
[1433,"AT532",0,{"$f":"IFERROR(IF(INDEX(HAMARA!I:I,MATCH(B2064,HAMARA!E:E,0))=0,\"\",INDEX(HAMARA!I:I,MATCH(B2064,HAMARA!E:E,0))),\"\")","v":""}]
[1433,"AT533",0,{"$f":"IFERROR(IF(INDEX(HAMARA!I:I,MATCH(B2065,HAMARA!E:E,0))=0,\"\",INDEX(HAMARA!I:I,MATCH(B2065,HAMARA!E:E,0))),\"\")","v":""}]
[1433,"AT534",0,{"$f":"IFERROR(IF(INDEX(HAMARA!I:I,MATCH(B2066,HAMARA!E:E,0))=0,\"\",INDEX(HAMARA!I:I,MATCH(B2066,HAMARA!E:E,0))),\"\")","v":""}]
[1433,"AT535",0,{"$f":"IFERROR(IF(INDEX(HAMARA!I:I,MATCH(B2067,HAMARA!E:E,0))=0,\"\",INDEX(HAMARA!I:I,MATCH(B2067,HAMARA!E:E,0))),\"\")","v":""}]
[1433,"AT536",0,{"$f":"IFERROR(IF(INDEX(HAMARA!I:I,MATCH(B2068,HAMARA!E:E,0))=0,\"\",INDEX(HAMARA!I:I,MATCH(B2068,HAMARA!E:E,0))),\"\")","v":""}]
[1433,"AT537",0,{"$f":"IFERROR(IF(INDEX(HAMARA!I:I,MATCH(B2069,HAMARA!E:E,0))=0,\"\",INDEX(HAMARA!I:I,MATCH(B2069,HAMARA!E:E,0))),\"\")","v":""}]
[1433,"AT628",0,{"$f":"IFERROR(IF(INDEX(HAMARA!I:I,MATCH(B2070,HAMARA!E:E,0))=0,\"\",INDEX(HAMARA!I:I,MATCH(B2070,HAMARA!E:E,0))),\"\")","v":""}]
[1433,"AT629",0,{"$f":"IFERROR(IF(INDEX(HAMARA!I:I,MATCH(B2071,HAMARA!E:E,0))=0,\"\",INDEX(HAMARA!I:I,MATCH(B2071,HAMARA!E:E,0))),\"\")","v":""}]
[1433,"AT630",0,{"$f":"IFERROR(IF(INDEX(HAMARA!I:I,MATCH(B2072,HAMARA!E:E,0))=0,\"\",INDEX(HAMARA!I:I,MATCH(B2072,HAMARA!E:E,0))),\"\")","v":""}]
[1433,"AT631",0,{"$f":"IFERROR(IF(INDEX(HAMARA!I:I,MATCH(B2073,HAMARA!E:E,0))=0,\"\",INDEX(HAMARA!I:I,MATCH(B2073,HAMARA!E:E,0))),\"\")","v":""}]
[1433,"AT632",0,{"$f":"IFERROR(IF(INDEX(HAMARA!I:I,MATCH(B2074,HAMARA!E:E,0))=0,\"\",INDEX(HAMARA!I:I,MATCH(B2074,HAMARA!E:E,0))),\"\")","v":""}]
[1433,"AT633",0,{"$f":"IFERROR(IF(INDEX(HAMARA!I:I,MATCH(B2075,HAMARA!E:E,0))=0,\"\",INDEX(HAMARA!I:I,MATCH(B2075,HAMARA!E:E,0))),\"\")","v":""}]
[1433,"AT162",0,{"$f":"IFERROR(IF(INDEX(HAMARA!I:I,MATCH(B2076,HAMARA!E:E,0))=0,\"\",INDEX(HAMARA!I:I,MATCH(B2076,HAMARA!E:E,0))),\"\")","v":""}]
[1433,"AT163",0,{"$f":"IFERROR(IF(INDEX(HAMARA!I:I,MATCH(B2077,HAMARA!E:E,0))=0,\"\",INDEX(HAMARA!I:I,MATCH(B2077,HAMARA!E:E,0))),\"\")","v":""}]
[1433,"AT164",0,{"$f":"IFERROR(IF(INDEX(HAMARA!I:I,MATCH(B2078,HAMARA!E:E,0))=0,\"\",INDEX(HAMARA!I:I,MATCH(B2078,HAMARA!E:E,0))),\"\")","v":""}]
[1433,"AT165",0,{"$f":"IFERROR(IF(INDEX(HAMARA!I:I,MATCH(B2079,HAMARA!E:E,0))=0,\"\",INDEX(HAMARA!I:I,MATCH(B2079,HAMARA!E:E,0))),\"\")","v":""}]
[1433,"AT166",0,{"$f":"IFERROR(IF(INDEX(HAMARA!I:I,MATCH(B2080,HAMARA!E:E,0))=0,\"\",INDEX(HAMARA!I:I,MATCH(B2080,HAMARA!E:E,0))),\"\")","v":""}]
[1433,"AT36",0,{"$f":"IFERROR(IF(INDEX(HAMARA!I:I,MATCH(B2081,HAMARA!E:E,0))=0,\"\",INDEX(HAMARA!I:I,MATCH(B2081,HAMARA!E:E,0))),\"\")","v":""}]
[1433,"AT38",0,{"$f":"IFERROR(IF(INDEX(HAMARA!I:I,MATCH(B2082,HAMARA!E:E,0))=0,\"\",INDEX(HAMARA!I:I,MATCH(B2082,HAMARA!E:E,0))),\"\")","v":""}]
[1433,"AT167",0,{"$f":"IFERROR(IF(INDEX(HAMARA!I:I,MATCH(B2083,HAMARA!E:E,0))=0,\"\",INDEX(HAMARA!I:I,MATCH(B2083,HAMARA!E:E,0))),\"\")","v":""}]
[1433,"AT228",0,{"$f":"IFERROR(IF(INDEX(HAMARA!I:I,MATCH(B2084,HAMARA!E:E,0))=0,\"\",INDEX(HAMARA!I:I,MATCH(B2084,HAMARA!E:E,0))),\"\")","v":""}]
[1433,"AT95",0,{"$f":"IFERROR(IF(INDEX(HAMARA!I:I,MATCH(B2085,HAMARA!E:E,0))=0,\"\",INDEX(HAMARA!I:I,MATCH(B2085,HAMARA!E:E,0))),\"\")","v":""}]
[1433,"AT63",0,{"$f":"IFERROR(IF(INDEX(HAMARA!I:I,MATCH(B2086,HAMARA!E:E,0))=0,\"\",INDEX(HAMARA!I:I,MATCH(B2086,HAMARA!E:E,0))),\"\")","v":""}]
[1433,"AT168",0,{"$f":"IFERROR(IF(INDEX(HAMARA!I:I,MATCH(B2087,HAMARA!E:E,0))=0,\"\",INDEX(HAMARA!I:I,MATCH(B2087,HAMARA!E:E,0))),\"\")","v":""}]
[1433,"AT100",0,{"$f":"IFERROR(IF(INDEX(HAMARA!I:I,MATCH(B2088,HAMARA!E:E,0))=0,\"\",INDEX(HAMARA!I:I,MATCH(B2088,HAMARA!E:E,0))),\"\")","v":""}]
[1433,"AT99",0,{"$f":"IFERROR(IF(INDEX(HAMARA!I:I,MATCH(B2089,HAMARA!E:E,0))=0,\"\",INDEX(HAMARA!I:I,MATCH(B2089,HAMARA!E:E,0))),\"\")","v":""}]
[1433,"AT139",0,{"$f":"IFERROR(IF(INDEX(HAMARA!I:I,MATCH(B2090,HAMARA!E:E,0))=0,\"\",INDEX(HAMARA!I:I,MATCH(B2090,HAMARA!E:E,0))),\"\")","v":""}]
[1433,"AT142",0,{"$f":"IFERROR(IF(INDEX(HAMARA!I:I,MATCH(B2091,HAMARA!E:E,0))=0,\"\",INDEX(HAMARA!I:I,MATCH(B2091,HAMARA!E:E,0))),\"\")","v":""}]
[1433,"BT999",502.31599999999997,{"$f":"IFERROR(IF(INDEX(HAMARA!I:I,MATCH(B2092,HAMARA!E:E,0))=0,\"\",INDEX(HAMARA!I:I,MATCH(B2092,HAMARA!E:E,0))),\"\")","v":""}]
[1433,"BT34",0,{"$f":"IFERROR(IF(INDEX(HAMARA!I:I,MATCH(B2093,HAMARA!E:E,0))=0,\"\",INDEX(HAMARA!I:I,MATCH(B2093,HAMARA!E:E,0))),\"\")","v":""}]
[1433,"BT420",0,{"$f":"IFERROR(IF(INDEX(HAMARA!I:I,MATCH(B2094,HAMARA!E:E,0))=0,\"\",INDEX(HAMARA!I:I,MATCH(B2094,HAMARA!E:E,0))),\"\")","v":""}]
[1433,"BT421",0,{"$f":"IFERROR(IF(INDEX(HAMARA!I:I,MATCH(B2095,HAMARA!E:E,0))=0,\"\",INDEX(HAMARA!I:I,MATCH(B2095,HAMARA!E:E,0))),\"\")","v":""}]
[1433,"BT422",0,{"$f":"IFERROR(IF(INDEX(HAMARA!I:I,MATCH(B2096,HAMARA!E:E,0))=0,\"\",INDEX(HAMARA!I:I,MATCH(B2096,HAMARA!E:E,0))),\"\")","v":""}]
[1433,"BT423",0,{"$f":"IFERROR(IF(INDEX(HAMARA!I:I,MATCH(B2097,HAMARA!E:E,0))=0,\"\",INDEX(HAMARA!I:I,MATCH(B2097,HAMARA!E:E,0))),\"\")","v":""}]
[1433,"BT424",0,{"$f":"IFERROR(IF(INDEX(HAMARA!I:I,MATCH(B2098,HAMARA!E:E,0))=0,\"\",INDEX(HAMARA!I:I,MATCH(B2098,HAMARA!E:E,0))),\"\")","v":""}]
[1433,"BT27",0,{"$f":"IFERROR(IF(INDEX(HAMARA!I:I,MATCH(B2099,HAMARA!E:E,0))=0,\"\",INDEX(HAMARA!I:I,MATCH(B2099,HAMARA!E:E,0))),\"\")","v":""}]
[1433,"BT29",0,{"$f":"IFERROR(IF(INDEX(HAMARA!I:I,MATCH(B2100,HAMARA!E:E,0))=0,\"\",INDEX(HAMARA!I:I,MATCH(B2100,HAMARA!E:E,0))),\"\")","v":""}]
[1433,"BT104",0,{"$f":"IFERROR(IF(INDEX(HAMARA!I:I,MATCH(B2101,HAMARA!E:E,0))=0,\"\",INDEX(HAMARA!I:I,MATCH(B2101,HAMARA!E:E,0))),\"\")","v":""}]
[1433,"BT28",0,{"$f":"IFERROR(IF(INDEX(HAMARA!I:I,MATCH(B2102,HAMARA!E:E,0))=0,\"\",INDEX(HAMARA!I:I,MATCH(B2102,HAMARA!E:E,0))),\"\")","v":""}]
[1433,"BT31",500.084,{"$f":"IFERROR(IF(INDEX(HAMARA!I:I,MATCH(B2103,HAMARA!E:E,0))=0,\"\",INDEX(HAMARA!I:I,MATCH(B2103,HAMARA!E:E,0))),\"\")","v":""}]
[1433,"BT24",0,{"$f":"IFERROR(IF(INDEX(HAMARA!I:I,MATCH(B2104,HAMARA!E:E,0))=0,\"\",INDEX(HAMARA!I:I,MATCH(B2104,HAMARA!E:E,0))),\"\")","v":""}]
[1433,"BT30",0,{"$f":"IFERROR(IF(INDEX(HAMARA!I:I,MATCH(B2105,HAMARA!E:E,0))=0,\"\",INDEX(HAMARA!I:I,MATCH(B2105,HAMARA!E:E,0))),\"\")","v":""}]
[1433,"BT41",0,{"$f":"IFERROR(IF(INDEX(HAMARA!I:I,MATCH(B2106,HAMARA!E:E,0))=0,\"\",INDEX(HAMARA!I:I,MATCH(B2106,HAMARA!E:E,0))),\"\")","v":""}]
[1433,"BT425",0,{"$f":"IFERROR(IF(INDEX(HAMARA!I:I,MATCH(B2107,HAMARA!E:E,0))=0,\"\",INDEX(HAMARA!I:I,MATCH(B2107,HAMARA!E:E,0))),\"\")","v":""}]
[1433,"BT426",0,{"$f":"IFERROR(IF(INDEX(HAMARA!I:I,MATCH(B2108,HAMARA!E:E,0))=0,\"\",INDEX(HAMARA!I:I,MATCH(B2108,HAMARA!E:E,0))),\"\")","v":""}]
[1433,"BT427",0,{"$f":"IFERROR(IF(INDEX(HAMARA!I:I,MATCH(B2109,HAMARA!E:E,0))=0,\"\",INDEX(HAMARA!I:I,MATCH(B2109,HAMARA!E:E,0))),\"\")","v":""}]
[1433,"BT561",0,{"$f":"IFERROR(IF(INDEX(HAMARA!I:I,MATCH(B2110,HAMARA!E:E,0))=0,\"\",INDEX(HAMARA!I:I,MATCH(B2110,HAMARA!E:E,0))),\"\")","v":""}]
[1433,"BT560",0,{"$f":"IFERROR(IF(INDEX(HAMARA!I:I,MATCH(B2111,HAMARA!E:E,0))=0,\"\",INDEX(HAMARA!I:I,MATCH(B2111,HAMARA!E:E,0))),\"\")","v":""}]
[1433,"BT428",0,{"$f":"IFERROR(IF(INDEX(HAMARA!I:I,MATCH(B2112,HAMARA!E:E,0))=0,\"\",INDEX(HAMARA!I:I,MATCH(B2112,HAMARA!E:E,0))),\"\")","v":""}]
[1433,"BT563",0,{"$f":"IFERROR(IF(INDEX(HAMARA!I:I,MATCH(B2113,HAMARA!E:E,0))=0,\"\",INDEX(HAMARA!I:I,MATCH(B2113,HAMARA!E:E,0))),\"\")","v":""}]
[1433,"BT562",0,{"$f":"IFERROR(IF(INDEX(HAMARA!I:I,MATCH(B2114,HAMARA!E:E,0))=0,\"\",INDEX(HAMARA!I:I,MATCH(B2114,HAMARA!E:E,0))),\"\")","v":""}]
[1433,"BT429",0,{"$f":"IFERROR(IF(INDEX(HAMARA!I:I,MATCH(B2115,HAMARA!E:E,0))=0,\"\",INDEX(HAMARA!I:I,MATCH(B2115,HAMARA!E:E,0))),\"\")","v":""}]
[1433,"BT565",0,{"$f":"IFERROR(IF(INDEX(HAMARA!I:I,MATCH(B2116,HAMARA!E:E,0))=0,\"\",INDEX(HAMARA!I:I,MATCH(B2116,HAMARA!E:E,0))),\"\")","v":""}]
[1433,"BT564",0,{"$f":"IFERROR(IF(INDEX(HAMARA!I:I,MATCH(B2117,HAMARA!E:E,0))=0,\"\",INDEX(HAMARA!I:I,MATCH(B2117,HAMARA!E:E,0))),\"\")","v":""}]
[1433,"BT430",0,{"$f":"IFERROR(IF(INDEX(HAMARA!I:I,MATCH(B2118,HAMARA!E:E,0))=0,\"\",INDEX(HAMARA!I:I,MATCH(B2118,HAMARA!E:E,0))),\"\")","v":""}]
[1433,"BT567",0,{"$f":"IFERROR(IF(INDEX(HAMARA!I:I,MATCH(B2119,HAMARA!E:E,0))=0,\"\",INDEX(HAMARA!I:I,MATCH(B2119,HAMARA!E:E,0))),\"\")","v":""}]
[1433,"BT566",0,{"$f":"IFERROR(IF(INDEX(HAMARA!I:I,MATCH(B2120,HAMARA!E:E,0))=0,\"\",INDEX(HAMARA!I:I,MATCH(B2120,HAMARA!E:E,0))),\"\")","v":""}]
[1433,"BT431",0,{"$f":"IFERROR(IF(INDEX(HAMARA!I:I,MATCH(B2121,HAMARA!E:E,0))=0,\"\",INDEX(HAMARA!I:I,MATCH(B2121,HAMARA!E:E,0))),\"\")","v":""}]
[1433,"BT569",0,{"$f":"IFERROR(IF(INDEX(HAMARA!I:I,MATCH(B2122,HAMARA!E:E,0))=0,\"\",INDEX(HAMARA!I:I,MATCH(B2122,HAMARA!E:E,0))),\"\")","v":""}]
[1433,"BT568",0,{"$f":"IFERROR(IF(INDEX(HAMARA!I:I,MATCH(B2123,HAMARA!E:E,0))=0,\"\",INDEX(HAMARA!I:I,MATCH(B2123,HAMARA!E:E,0))),\"\")","v":""}]
[1433,"BT432",0,{"$f":"IFERROR(IF(INDEX(HAMARA!I:I,MATCH(B2124,HAMARA!E:E,0))=0,\"\",INDEX(HAMARA!I:I,MATCH(B2124,HAMARA!E:E,0))),\"\")","v":""}]
[1433,"BT573",0,{"$f":"IFERROR(IF(INDEX(HAMARA!I:I,MATCH(B2125,HAMARA!E:E,0))=0,\"\",INDEX(HAMARA!I:I,MATCH(B2125,HAMARA!E:E,0))),\"\")","v":""}]
[1433,"BT572",0,{"$f":"IFERROR(IF(INDEX(HAMARA!I:I,MATCH(B2126,HAMARA!E:E,0))=0,\"\",INDEX(HAMARA!I:I,MATCH(B2126,HAMARA!E:E,0))),\"\")","v":""}]
[1433,"BT547",0,{"$f":"IFERROR(IF(INDEX(HAMARA!I:I,MATCH(B2127,HAMARA!E:E,0))=0,\"\",INDEX(HAMARA!I:I,MATCH(B2127,HAMARA!E:E,0))),\"\")","v":""}]
[1433,"BT571",0,{"$f":"IFERROR(IF(INDEX(HAMARA!I:I,MATCH(B2128,HAMARA!E:E,0))=0,\"\",INDEX(HAMARA!I:I,MATCH(B2128,HAMARA!E:E,0))),\"\")","v":""}]
[1433,"BT570",0,{"$f":"IFERROR(IF(INDEX(HAMARA!I:I,MATCH(B2129,HAMARA!E:E,0))=0,\"\",INDEX(HAMARA!I:I,MATCH(B2129,HAMARA!E:E,0))),\"\")","v":""}]
[1433,"BT601",0,{"$f":"IFERROR(IF(INDEX(HAMARA!I:I,MATCH(B2130,HAMARA!E:E,0))=0,\"\",INDEX(HAMARA!I:I,MATCH(B2130,HAMARA!E:E,0))),\"\")","v":""}]
[1433,"BT602",0,{"$f":"IFERROR(IF(INDEX(HAMARA!I:I,MATCH(B2131,HAMARA!E:E,0))=0,\"\",INDEX(HAMARA!I:I,MATCH(B2131,HAMARA!E:E,0))),\"\")","v":""}]
[1433,"BT603",0,{"$f":"IFERROR(IF(INDEX(HAMARA!I:I,MATCH(B2132,HAMARA!E:E,0))=0,\"\",INDEX(HAMARA!I:I,MATCH(B2132,HAMARA!E:E,0))),\"\")","v":""}]
[1433,"BT604",0,{"$f":"IFERROR(IF(INDEX(HAMARA!I:I,MATCH(B2133,HAMARA!E:E,0))=0,\"\",INDEX(HAMARA!I:I,MATCH(B2133,HAMARA!E:E,0))),\"\")","v":""}]
[1433,"BT605",0,{"$f":"IFERROR(IF(INDEX(HAMARA!I:I,MATCH(B2134,HAMARA!E:E,0))=0,\"\",INDEX(HAMARA!I:I,MATCH(B2134,HAMARA!E:E,0))),\"\")","v":""}]
[1433,"BT606",0,{"$f":"IFERROR(IF(INDEX(HAMARA!I:I,MATCH(B2135,HAMARA!E:E,0))=0,\"\",INDEX(HAMARA!I:I,MATCH(B2135,HAMARA!E:E,0))),\"\")","v":""}]
[1433,"BT607",0,{"$f":"IFERROR(IF(INDEX(HAMARA!I:I,MATCH(B2136,HAMARA!E:E,0))=0,\"\",INDEX(HAMARA!I:I,MATCH(B2136,HAMARA!E:E,0))),\"\")","v":""}]
[1433,"BT608",0,{"$f":"IFERROR(IF(INDEX(HAMARA!I:I,MATCH(B2137,HAMARA!E:E,0))=0,\"\",INDEX(HAMARA!I:I,MATCH(B2137,HAMARA!E:E,0))),\"\")","v":""}]
[1433,"BT609",0,{"$f":"IFERROR(IF(INDEX(HAMARA!I:I,MATCH(B2138,HAMARA!E:E,0))=0,\"\",INDEX(HAMARA!I:I,MATCH(B2138,HAMARA!E:E,0))),\"\")","v":""}]
[1433,"BT610",0,{"$f":"IFERROR(IF(INDEX(HAMARA!I:I,MATCH(B2139,HAMARA!E:E,0))=0,\"\",INDEX(HAMARA!I:I,MATCH(B2139,HAMARA!E:E,0))),\"\")","v":""}]
[1433,"BT611",0,{"$f":"IFERROR(IF(INDEX(HAMARA!I:I,MATCH(B2140,HAMARA!E:E,0))=0,\"\",INDEX(HAMARA!I:I,MATCH(B2140,HAMARA!E:E,0))),\"\")","v":""}]
[1433,"BT612",0,{"$f":"IFERROR(IF(INDEX(HAMARA!I:I,MATCH(B2141,HAMARA!E:E,0))=0,\"\",INDEX(HAMARA!I:I,MATCH(B2141,HAMARA!E:E,0))),\"\")","v":""}]
[1433,"BT613",0,{"$f":"IFERROR(IF(INDEX(HAMARA!I:I,MATCH(B2142,HAMARA!E:E,0))=0,\"\",INDEX(HAMARA!I:I,MATCH(B2142,HAMARA!E:E,0))),\"\")","v":""}]
[1433,"BT614",0,{"$f":"IFERROR(IF(INDEX(HAMARA!I:I,MATCH(B2143,HAMARA!E:E,0))=0,\"\",INDEX(HAMARA!I:I,MATCH(B2143,HAMARA!E:E,0))),\"\")","v":""}]
[1433,"BT301",0,{"$f":"IFERROR(IF(INDEX(HAMARA!I:I,MATCH(B2144,HAMARA!E:E,0))=0,\"\",INDEX(HAMARA!I:I,MATCH(B2144,HAMARA!E:E,0))),\"\")","v":""}]
[1433,"BT303",0,{"$f":"IFERROR(IF(INDEX(HAMARA!I:I,MATCH(B2145,HAMARA!E:E,0))=0,\"\",INDEX(HAMARA!I:I,MATCH(B2145,HAMARA!E:E,0))),\"\")","v":""}]
[1433,"BT302",0,{"$f":"IFERROR(IF(INDEX(HAMARA!I:I,MATCH(B2146,HAMARA!E:E,0))=0,\"\",INDEX(HAMARA!I:I,MATCH(B2146,HAMARA!E:E,0))),\"\")","v":""}]
[1433,"BT307",0,{"$f":"IFERROR(IF(INDEX(HAMARA!I:I,MATCH(B2147,HAMARA!E:E,0))=0,\"\",INDEX(HAMARA!I:I,MATCH(B2147,HAMARA!E:E,0))),\"\")","v":""}]
[1433,"BT309",0,{"$f":"IFERROR(IF(INDEX(HAMARA!I:I,MATCH(B2148,HAMARA!E:E,0))=0,\"\",INDEX(HAMARA!I:I,MATCH(B2148,HAMARA!E:E,0))),\"\")","v":""}]
[1433,"BT308",0,{"$f":"IFERROR(IF(INDEX(HAMARA!I:I,MATCH(B2149,HAMARA!E:E,0))=0,\"\",INDEX(HAMARA!I:I,MATCH(B2149,HAMARA!E:E,0))),\"\")","v":""}]
[1433,"BT313",0,{"$f":"IFERROR(IF(INDEX(HAMARA!I:I,MATCH(B2150,HAMARA!E:E,0))=0,\"\",INDEX(HAMARA!I:I,MATCH(B2150,HAMARA!E:E,0))),\"\")","v":""}]
[1433,"BT315",0,{"$f":"IFERROR(IF(INDEX(HAMARA!I:I,MATCH(B2151,HAMARA!E:E,0))=0,\"\",INDEX(HAMARA!I:I,MATCH(B2151,HAMARA!E:E,0))),\"\")","v":""}]
[1433,"BT314",0,{"$f":"IFERROR(IF(INDEX(HAMARA!I:I,MATCH(B2152,HAMARA!E:E,0))=0,\"\",INDEX(HAMARA!I:I,MATCH(B2152,HAMARA!E:E,0))),\"\")","v":""}]
[1433,"BT615",0,{"$f":"IFERROR(IF(INDEX(HAMARA!I:I,MATCH(B2153,HAMARA!E:E,0))=0,\"\",INDEX(HAMARA!I:I,MATCH(B2153,HAMARA!E:E,0))),\"\")","v":""}]
[1433,"BT616",0,{"$f":"IFERROR(IF(INDEX(HAMARA!I:I,MATCH(B2154,HAMARA!E:E,0))=0,\"\",INDEX(HAMARA!I:I,MATCH(B2154,HAMARA!E:E,0))),\"\")","v":""}]
[1433,"BT617",0,{"$f":"IFERROR(IF(INDEX(HAMARA!I:I,MATCH(B2155,HAMARA!E:E,0))=0,\"\",INDEX(HAMARA!I:I,MATCH(B2155,HAMARA!E:E,0))),\"\")","v":""}]
[1433,"BT319",0,{"$f":"IFERROR(IF(INDEX(HAMARA!I:I,MATCH(B2156,HAMARA!E:E,0))=0,\"\",INDEX(HAMARA!I:I,MATCH(B2156,HAMARA!E:E,0))),\"\")","v":""}]
[1433,"BT321",0,{"$f":"IFERROR(IF(INDEX(HAMARA!I:I,MATCH(B2157,HAMARA!E:E,0))=0,\"\",INDEX(HAMARA!I:I,MATCH(B2157,HAMARA!E:E,0))),\"\")","v":""}]
[1433,"BT320",0,{"$f":"IFERROR(IF(INDEX(HAMARA!I:I,MATCH(B2158,HAMARA!E:E,0))=0,\"\",INDEX(HAMARA!I:I,MATCH(B2158,HAMARA!E:E,0))),\"\")","v":""}]
[1433,"BT325",0,{"$f":"IFERROR(IF(INDEX(HAMARA!I:I,MATCH(B2159,HAMARA!E:E,0))=0,\"\",INDEX(HAMARA!I:I,MATCH(B2159,HAMARA!E:E,0))),\"\")","v":""}]
[1433,"BT327",0,{"$f":"IFERROR(IF(INDEX(HAMARA!I:I,MATCH(B2160,HAMARA!E:E,0))=0,\"\",INDEX(HAMARA!I:I,MATCH(B2160,HAMARA!E:E,0))),\"\")","v":""}]
[1433,"BT326",0,{"$f":"IFERROR(IF(INDEX(HAMARA!I:I,MATCH(B2161,HAMARA!E:E,0))=0,\"\",INDEX(HAMARA!I:I,MATCH(B2161,HAMARA!E:E,0))),\"\")","v":""}]
[1433,"BT553",0,{"$f":"IFERROR(IF(INDEX(HAMARA!I:I,MATCH(B2162,HAMARA!E:E,0))=0,\"\",INDEX(HAMARA!I:I,MATCH(B2162,HAMARA!E:E,0))),\"\")","v":""}]
[1433,"BT555",0,{"$f":"IFERROR(IF(INDEX(HAMARA!I:I,MATCH(B2163,HAMARA!E:E,0))=0,\"\",INDEX(HAMARA!I:I,MATCH(B2163,HAMARA!E:E,0))),\"\")","v":""}]
[1433,"BT554",0,{"$f":"IFERROR(IF(INDEX(HAMARA!I:I,MATCH(B2164,HAMARA!E:E,0))=0,\"\",INDEX(HAMARA!I:I,MATCH(B2164,HAMARA!E:E,0))),\"\")","v":""}]
[1433,"BT337",0,{"$f":"IFERROR(IF(INDEX(HAMARA!I:I,MATCH(B2165,HAMARA!E:E,0))=0,\"\",INDEX(HAMARA!I:I,MATCH(B2165,HAMARA!E:E,0))),\"\")","v":""}]
[1433,"BT339",0,{"$f":"IFERROR(IF(INDEX(HAMARA!I:I,MATCH(B2166,HAMARA!E:E,0))=0,\"\",INDEX(HAMARA!I:I,MATCH(B2166,HAMARA!E:E,0))),\"\")","v":""}]
[1433,"BT338",0,{"$f":"IFERROR(IF(INDEX(HAMARA!I:I,MATCH(B2167,HAMARA!E:E,0))=0,\"\",INDEX(HAMARA!I:I,MATCH(B2167,HAMARA!E:E,0))),\"\")","v":""}]
[1433,"BT618",0,{"$f":"IFERROR(IF(INDEX(HAMARA!I:I,MATCH(B2168,HAMARA!E:E,0))=0,\"\",INDEX(HAMARA!I:I,MATCH(B2168,HAMARA!E:E,0))),\"\")","v":""}]
[1433,"BT619",0,{"$f":"IFERROR(IF(INDEX(HAMARA!I:I,MATCH(B2169,HAMARA!E:E,0))=0,\"\",INDEX(HAMARA!I:I,MATCH(B2169,HAMARA!E:E,0))),\"\")","v":""}]
[1433,"BT620",0,{"$f":"IFERROR(IF(INDEX(HAMARA!I:I,MATCH(B2170,HAMARA!E:E,0))=0,\"\",INDEX(HAMARA!I:I,MATCH(B2170,HAMARA!E:E,0))),\"\")","v":""}]
[1433,"BT621",0,{"$f":"IFERROR(IF(INDEX(HAMARA!I:I,MATCH(B2171,HAMARA!E:E,0))=0,\"\",INDEX(HAMARA!I:I,MATCH(B2171,HAMARA!E:E,0))),\"\")","v":""}]
[1433,"BT454",0,{"$f":"IFERROR(IF(INDEX(HAMARA!I:I,MATCH(B2172,HAMARA!E:E,0))=0,\"\",INDEX(HAMARA!I:I,MATCH(B2172,HAMARA!E:E,0))),\"\")","v":""}]
[1433,"BT455",0,{"$f":"IFERROR(IF(INDEX(HAMARA!I:I,MATCH(B2173,HAMARA!E:E,0))=0,\"\",INDEX(HAMARA!I:I,MATCH(B2173,HAMARA!E:E,0))),\"\")","v":""}]
[1433,"BT456",0,{"$f":"IFERROR(IF(INDEX(HAMARA!I:I,MATCH(B2174,HAMARA!E:E,0))=0,\"\",INDEX(HAMARA!I:I,MATCH(B2174,HAMARA!E:E,0))),\"\")","v":""}]
[1433,"BT457",0,{"$f":"IFERROR(IF(INDEX(HAMARA!I:I,MATCH(B2175,HAMARA!E:E,0))=0,\"\",INDEX(HAMARA!I:I,MATCH(B2175,HAMARA!E:E,0))),\"\")","v":""}]
[1433,"BT458",0,{"$f":"IFERROR(IF(INDEX(HAMARA!I:I,MATCH(B2176,HAMARA!E:E,0))=0,\"\",INDEX(HAMARA!I:I,MATCH(B2176,HAMARA!E:E,0))),\"\")","v":""}]
[1433,"BT459",0,{"$f":"IFERROR(IF(INDEX(HAMARA!I:I,MATCH(B2177,HAMARA!E:E,0))=0,\"\",INDEX(HAMARA!I:I,MATCH(B2177,HAMARA!E:E,0))),\"\")","v":""}]
[1433,"BT460",0,{"$f":"IFERROR(IF(INDEX(HAMARA!I:I,MATCH(B2178,HAMARA!E:E,0))=0,\"\",INDEX(HAMARA!I:I,MATCH(B2178,HAMARA!E:E,0))),\"\")","v":""}]
[1433,"BT461",0,{"$f":"IFERROR(IF(INDEX(HAMARA!I:I,MATCH(B2179,HAMARA!E:E,0))=0,\"\",INDEX(HAMARA!I:I,MATCH(B2179,HAMARA!E:E,0))),\"\")","v":""}]
[1433,"BT462",0,{"$f":"IFERROR(IF(INDEX(HAMARA!I:I,MATCH(B2180,HAMARA!E:E,0))=0,\"\",INDEX(HAMARA!I:I,MATCH(B2180,HAMARA!E:E,0))),\"\")","v":""}]
[1433,"BT558",0,{"$f":"IFERROR(IF(INDEX(HAMARA!I:I,MATCH(B2181,HAMARA!E:E,0))=0,\"\",INDEX(HAMARA!I:I,MATCH(B2181,HAMARA!E:E,0))),\"\")","v":""}]
[1433,"BT463",0,{"$f":"IFERROR(IF(INDEX(HAMARA!I:I,MATCH(B2182,HAMARA!E:E,0))=0,\"\",INDEX(HAMARA!I:I,MATCH(B2182,HAMARA!E:E,0))),\"\")","v":""}]
[1433,"BT464",0,{"$f":"IFERROR(IF(INDEX(HAMARA!I:I,MATCH(B2183,HAMARA!E:E,0))=0,\"\",INDEX(HAMARA!I:I,MATCH(B2183,HAMARA!E:E,0))),\"\")","v":""}]
[1433,"BT465",0,{"$f":"IFERROR(IF(INDEX(HAMARA!I:I,MATCH(B2184,HAMARA!E:E,0))=0,\"\",INDEX(HAMARA!I:I,MATCH(B2184,HAMARA!E:E,0))),\"\")","v":""}]
[1433,"BT559",0,{"$f":"IFERROR(IF(INDEX(HAMARA!I:I,MATCH(B2185,HAMARA!E:E,0))=0,\"\",INDEX(HAMARA!I:I,MATCH(B2185,HAMARA!E:E,0))),\"\")","v":""}]
[1433,"BT402",0,{"$f":"IFERROR(IF(INDEX(HAMARA!I:I,MATCH(B2186,HAMARA!E:E,0))=0,\"\",INDEX(HAMARA!I:I,MATCH(B2186,HAMARA!E:E,0))),\"\")","v":""}]
[1433,"BT403",0,{"$f":"IFERROR(IF(INDEX(HAMARA!I:I,MATCH(B2187,HAMARA!E:E,0))=0,\"\",INDEX(HAMARA!I:I,MATCH(B2187,HAMARA!E:E,0))),\"\")","v":""}]
[1433,"BT404",0,{"$f":"IFERROR(IF(INDEX(HAMARA!I:I,MATCH(B2188,HAMARA!E:E,0))=0,\"\",INDEX(HAMARA!I:I,MATCH(B2188,HAMARA!E:E,0))),\"\")","v":""}]
[1433,"BT405",0,{"$f":"IFERROR(IF(INDEX(HAMARA!I:I,MATCH(B2189,HAMARA!E:E,0))=0,\"\",INDEX(HAMARA!I:I,MATCH(B2189,HAMARA!E:E,0))),\"\")","v":""}]
[1433,"BT172",0,{"$f":"IFERROR(IF(INDEX(HAMARA!I:I,MATCH(B2190,HAMARA!E:E,0))=0,\"\",INDEX(HAMARA!I:I,MATCH(B2190,HAMARA!E:E,0))),\"\")","v":""}]
[1433,"BT205",0,{"$f":"IFERROR(IF(INDEX(HAMARA!I:I,MATCH(B2191,HAMARA!E:E,0))=0,\"\",INDEX(HAMARA!I:I,MATCH(B2191,HAMARA!E:E,0))),\"\")","v":""}]
[1433,"BT67",0,{"$f":"IFERROR(IF(INDEX(HAMARA!I:I,MATCH(B2192,HAMARA!E:E,0))=0,\"\",INDEX(HAMARA!I:I,MATCH(B2192,HAMARA!E:E,0))),\"\")","v":""}]
[1433,"BT44",0,{"$f":"IFERROR(IF(INDEX(HAMARA!I:I,MATCH(B2193,HAMARA!E:E,0))=0,\"\",INDEX(HAMARA!I:I,MATCH(B2193,HAMARA!E:E,0))),\"\")","v":""}]
[1433,"BT46",0,{"$f":"IFERROR(IF(INDEX(HAMARA!I:I,MATCH(B2194,HAMARA!E:E,0))=0,\"\",INDEX(HAMARA!I:I,MATCH(B2194,HAMARA!E:E,0))),\"\")","v":""}]
[1433,"BT105",0,{"$f":"IFERROR(IF(INDEX(HAMARA!I:I,MATCH(B2195,HAMARA!E:E,0))=0,\"\",INDEX(HAMARA!I:I,MATCH(B2195,HAMARA!E:E,0))),\"\")","v":""}]
[1433,"BT622",0,{"$f":"IFERROR(IF(INDEX(HAMARA!I:I,MATCH(B2196,HAMARA!E:E,0))=0,\"\",INDEX(HAMARA!I:I,MATCH(B2196,HAMARA!E:E,0))),\"\")","v":""}]
[1433,"BT108",0,{"$f":"IFERROR(IF(INDEX(HAMARA!I:I,MATCH(B2197,HAMARA!E:E,0))=0,\"\",INDEX(HAMARA!I:I,MATCH(B2197,HAMARA!E:E,0))),\"\")","v":""}]
[1433,"BT360",0,{"$f":"IFERROR(IF(INDEX(HAMARA!I:I,MATCH(B2198,HAMARA!E:E,0))=0,\"\",INDEX(HAMARA!I:I,MATCH(B2198,HAMARA!E:E,0))),\"\")","v":""}]
[1433,"BT361",0,{"$f":"IFERROR(IF(INDEX(HAMARA!I:I,MATCH(B2199,HAMARA!E:E,0))=0,\"\",INDEX(HAMARA!I:I,MATCH(B2199,HAMARA!E:E,0))),\"\")","v":""}]
[1433,"BT362",0,{"$f":"IFERROR(IF(INDEX(HAMARA!I:I,MATCH(B2200,HAMARA!E:E,0))=0,\"\",INDEX(HAMARA!I:I,MATCH(B2200,HAMARA!E:E,0))),\"\")","v":""}]
[1433,"BT363",0,{"$f":"IFERROR(IF(INDEX(HAMARA!I:I,MATCH(B2201,HAMARA!E:E,0))=0,\"\",INDEX(HAMARA!I:I,MATCH(B2201,HAMARA!E:E,0))),\"\")","v":""}]
[1433,"BT406",0,{"$f":"IFERROR(IF(INDEX(HAMARA!I:I,MATCH(B2202,HAMARA!E:E,0))=0,\"\",INDEX(HAMARA!I:I,MATCH(B2202,HAMARA!E:E,0))),\"\")","v":""}]
[1433,"BT623",0,{"$f":"IFERROR(IF(INDEX(HAMARA!I:I,MATCH(B2203,HAMARA!E:E,0))=0,\"\",INDEX(HAMARA!I:I,MATCH(B2203,HAMARA!E:E,0))),\"\")","v":""}]
[1433,"BT366",0,{"$f":"IFERROR(IF(INDEX(HAMARA!I:I,MATCH(B2204,HAMARA!E:E,0))=0,\"\",INDEX(HAMARA!I:I,MATCH(B2204,HAMARA!E:E,0))),\"\")","v":""}]
[1433,"BT367",0,{"$f":"IFERROR(IF(INDEX(HAMARA!I:I,MATCH(B2205,HAMARA!E:E,0))=0,\"\",INDEX(HAMARA!I:I,MATCH(B2205,HAMARA!E:E,0))),\"\")","v":""}]
[1433,"BT407",0,{"$f":"IFERROR(IF(INDEX(HAMARA!I:I,MATCH(B2206,HAMARA!E:E,0))=0,\"\",INDEX(HAMARA!I:I,MATCH(B2206,HAMARA!E:E,0))),\"\")","v":""}]
[1433,"BT624",0,{"$f":"IFERROR(IF(INDEX(HAMARA!I:I,MATCH(B2207,HAMARA!E:E,0))=0,\"\",INDEX(HAMARA!I:I,MATCH(B2207,HAMARA!E:E,0))),\"\")","v":""}]
[1433,"BT56",0,{"$f":"IFERROR(IF(INDEX(HAMARA!I:I,MATCH(B2208,HAMARA!E:E,0))=0,\"\",INDEX(HAMARA!I:I,MATCH(B2208,HAMARA!E:E,0))),\"\")","v":""}]
[1433,"BT701",0,{"$f":"IFERROR(IF(INDEX(HAMARA!I:I,MATCH(B2209,HAMARA!E:E,0))=0,\"\",INDEX(HAMARA!I:I,MATCH(B2209,HAMARA!E:E,0))),\"\")","v":""}]
[1433,"BT702",0,{"$f":"IFERROR(IF(INDEX(HAMARA!I:I,MATCH(B2210,HAMARA!E:E,0))=0,\"\",INDEX(HAMARA!I:I,MATCH(B2210,HAMARA!E:E,0))),\"\")","v":""}]
[1433,"BT703",0,{"$f":"IFERROR(IF(INDEX(HAMARA!I:I,MATCH(B2211,HAMARA!E:E,0))=0,\"\",INDEX(HAMARA!I:I,MATCH(B2211,HAMARA!E:E,0))),\"\")","v":""}]
[1433,"BT704",0,{"$f":"IFERROR(IF(INDEX(HAMARA!I:I,MATCH(B2212,HAMARA!E:E,0))=0,\"\",INDEX(HAMARA!I:I,MATCH(B2212,HAMARA!E:E,0))),\"\")","v":""}]
[1433,"BT70",0,{"$f":"IFERROR(IF(INDEX(HAMARA!I:I,MATCH(B2213,HAMARA!E:E,0))=0,\"\",INDEX(HAMARA!I:I,MATCH(B2213,HAMARA!E:E,0))),\"\")","v":""}]
[1433,"BT466",0,{"$f":"IFERROR(IF(INDEX(HAMARA!I:I,MATCH(B2214,HAMARA!E:E,0))=0,\"\",INDEX(HAMARA!I:I,MATCH(B2214,HAMARA!E:E,0))),\"\")","v":""}]
[1433,"BT225",0,{"$f":"IFERROR(IF(INDEX(HAMARA!I:I,MATCH(B2215,HAMARA!E:E,0))=0,\"\",INDEX(HAMARA!I:I,MATCH(B2215,HAMARA!E:E,0))),\"\")","v":""}]
[1433,"BT69",0,{"$f":"IFERROR(IF(INDEX(HAMARA!I:I,MATCH(B2216,HAMARA!E:E,0))=0,\"\",INDEX(HAMARA!I:I,MATCH(B2216,HAMARA!E:E,0))),\"\")","v":""}]
[1433,"BT118",0,{"$f":"IFERROR(IF(INDEX(HAMARA!I:I,MATCH(B2217,HAMARA!E:E,0))=0,\"\",INDEX(HAMARA!I:I,MATCH(B2217,HAMARA!E:E,0))),\"\")","v":""}]
[1433,"BT467",0,{"$f":"IFERROR(IF(INDEX(HAMARA!I:I,MATCH(B2218,HAMARA!E:E,0))=0,\"\",INDEX(HAMARA!I:I,MATCH(B2218,HAMARA!E:E,0))),\"\")","v":""}]
[1433,"BT226",0,{"$f":"IFERROR(IF(INDEX(HAMARA!I:I,MATCH(B2219,HAMARA!E:E,0))=0,\"\",INDEX(HAMARA!I:I,MATCH(B2219,HAMARA!E:E,0))),\"\")","v":""}]
[1433,"BT117",0,{"$f":"IFERROR(IF(INDEX(HAMARA!I:I,MATCH(B2220,HAMARA!E:E,0))=0,\"\",INDEX(HAMARA!I:I,MATCH(B2220,HAMARA!E:E,0))),\"\")","v":""}]
[1433,"BT48",0,{"$f":"IFERROR(IF(INDEX(HAMARA!I:I,MATCH(B2221,HAMARA!E:E,0))=0,\"\",INDEX(HAMARA!I:I,MATCH(B2221,HAMARA!E:E,0))),\"\")","v":""}]
[1433,"BT439",0,{"$f":"IFERROR(IF(INDEX(HAMARA!I:I,MATCH(B2222,HAMARA!E:E,0))=0,\"\",INDEX(HAMARA!I:I,MATCH(B2222,HAMARA!E:E,0))),\"\")","v":""}]
[1433,"BT211",0,{"$f":"IFERROR(IF(INDEX(HAMARA!I:I,MATCH(B2223,HAMARA!E:E,0))=0,\"\",INDEX(HAMARA!I:I,MATCH(B2223,HAMARA!E:E,0))),\"\")","v":""}]
[1433,"BT440",0,{"$f":"IFERROR(IF(INDEX(HAMARA!I:I,MATCH(B2224,HAMARA!E:E,0))=0,\"\",INDEX(HAMARA!I:I,MATCH(B2224,HAMARA!E:E,0))),\"\")","v":""}]
[1433,"BT49",0,{"$f":"IFERROR(IF(INDEX(HAMARA!I:I,MATCH(B2225,HAMARA!E:E,0))=0,\"\",INDEX(HAMARA!I:I,MATCH(B2225,HAMARA!E:E,0))),\"\")","v":""}]
[1433,"BT441",0,{"$f":"IFERROR(IF(INDEX(HAMARA!I:I,MATCH(B2226,HAMARA!E:E,0))=0,\"\",INDEX(HAMARA!I:I,MATCH(B2226,HAMARA!E:E,0))),\"\")","v":""}]
[1433,"BT442",0,{"$f":"IFERROR(IF(INDEX(HAMARA!I:I,MATCH(B2227,HAMARA!E:E,0))=0,\"\",INDEX(HAMARA!I:I,MATCH(B2227,HAMARA!E:E,0))),\"\")","v":""}]
[1433,"BT443",0,{"$f":"IFERROR(IF(INDEX(HAMARA!I:I,MATCH(B2228,HAMARA!E:E,0))=0,\"\",INDEX(HAMARA!I:I,MATCH(B2228,HAMARA!E:E,0))),\"\")","v":""}]
[1433,"BT444",0,{"$f":"IFERROR(IF(INDEX(HAMARA!I:I,MATCH(B2229,HAMARA!E:E,0))=0,\"\",INDEX(HAMARA!I:I,MATCH(B2229,HAMARA!E:E,0))),\"\")","v":""}]
[1433,"BT445",0,{"$f":"IFERROR(IF(INDEX(HAMARA!I:I,MATCH(B2230,HAMARA!E:E,0))=0,\"\",INDEX(HAMARA!I:I,MATCH(B2230,HAMARA!E:E,0))),\"\")","v":""}]
[1433,"BT212",0,{"$f":"IFERROR(IF(INDEX(HAMARA!I:I,MATCH(B2231,HAMARA!E:E,0))=0,\"\",INDEX(HAMARA!I:I,MATCH(B2231,HAMARA!E:E,0))),\"\")","v":""}]
[1433,"BT446",0,{"$f":"IFERROR(IF(INDEX(HAMARA!I:I,MATCH(B2232,HAMARA!E:E,0))=0,\"\",INDEX(HAMARA!I:I,MATCH(B2232,HAMARA!E:E,0))),\"\")","v":""}]
[1433,"BT447",0,{"$f":"IFERROR(IF(INDEX(HAMARA!I:I,MATCH(B2233,HAMARA!E:E,0))=0,\"\",INDEX(HAMARA!I:I,MATCH(B2233,HAMARA!E:E,0))),\"\")","v":""}]
[1433,"BT448",0,{"$f":"IFERROR(IF(INDEX(HAMARA!I:I,MATCH(B2234,HAMARA!E:E,0))=0,\"\",INDEX(HAMARA!I:I,MATCH(B2234,HAMARA!E:E,0))),\"\")","v":""}]
[1433,"BT449",0,{"$f":"IFERROR(IF(INDEX(HAMARA!I:I,MATCH(B2235,HAMARA!E:E,0))=0,\"\",INDEX(HAMARA!I:I,MATCH(B2235,HAMARA!E:E,0))),\"\")","v":""}]
[1433,"BT468",0,{"$f":"IFERROR(IF(INDEX(HAMARA!I:I,MATCH(B2236,HAMARA!E:E,0))=0,\"\",INDEX(HAMARA!I:I,MATCH(B2236,HAMARA!E:E,0))),\"\")","v":""}]
[1433,"BT469",0,{"$f":"IFERROR(IF(INDEX(HAMARA!I:I,MATCH(B2237,HAMARA!E:E,0))=0,\"\",INDEX(HAMARA!I:I,MATCH(B2237,HAMARA!E:E,0))),\"\")","v":""}]
[1433,"BT175",0,{"$f":"IFERROR(IF(INDEX(HAMARA!I:I,MATCH(B2238,HAMARA!E:E,0))=0,\"\",INDEX(HAMARA!I:I,MATCH(B2238,HAMARA!E:E,0))),\"\")","v":""}]
[1433,"BT208",0,{"$f":"IFERROR(IF(INDEX(HAMARA!I:I,MATCH(B2239,HAMARA!E:E,0))=0,\"\",INDEX(HAMARA!I:I,MATCH(B2239,HAMARA!E:E,0))),\"\")","v":""}]
[1433,"BT176",0,{"$f":"IFERROR(IF(INDEX(HAMARA!I:I,MATCH(B2240,HAMARA!E:E,0))=0,\"\",INDEX(HAMARA!I:I,MATCH(B2240,HAMARA!E:E,0))),\"\")","v":""}]
[1433,"BT209",0,{"$f":"IFERROR(IF(INDEX(HAMARA!I:I,MATCH(B2241,HAMARA!E:E,0))=0,\"\",INDEX(HAMARA!I:I,MATCH(B2241,HAMARA!E:E,0))),\"\")","v":""}]
[1433,"BT177",0,{"$f":"IFERROR(IF(INDEX(HAMARA!I:I,MATCH(B2242,HAMARA!E:E,0))=0,\"\",INDEX(HAMARA!I:I,MATCH(B2242,HAMARA!E:E,0))),\"\")","v":""}]
[1433,"BT210",0,{"$f":"IFERROR(IF(INDEX(HAMARA!I:I,MATCH(B2243,HAMARA!E:E,0))=0,\"\",INDEX(HAMARA!I:I,MATCH(B2243,HAMARA!E:E,0))),\"\")","v":""}]
[1433,"BT472",0,{"$f":"IFERROR(IF(INDEX(HAMARA!I:I,MATCH(B2244,HAMARA!E:E,0))=0,\"\",INDEX(HAMARA!I:I,MATCH(B2244,HAMARA!E:E,0))),\"\")","v":""}]
[1433,"BT470",0,{"$f":"IFERROR(IF(INDEX(HAMARA!I:I,MATCH(B2245,HAMARA!E:E,0))=0,\"\",INDEX(HAMARA!I:I,MATCH(B2245,HAMARA!E:E,0))),\"\")","v":""}]
[1433,"BT345",0,{"$f":"IFERROR(IF(INDEX(HAMARA!I:I,MATCH(B2246,HAMARA!E:E,0))=0,\"\",INDEX(HAMARA!I:I,MATCH(B2246,HAMARA!E:E,0))),\"\")","v":""}]
[1433,"BT347",0,{"$f":"IFERROR(IF(INDEX(HAMARA!I:I,MATCH(B2247,HAMARA!E:E,0))=0,\"\",INDEX(HAMARA!I:I,MATCH(B2247,HAMARA!E:E,0))),\"\")","v":""}]
[1433,"BT625",0,{"$f":"IFERROR(IF(INDEX(HAMARA!I:I,MATCH(B2248,HAMARA!E:E,0))=0,\"\",INDEX(HAMARA!I:I,MATCH(B2248,HAMARA!E:E,0))),\"\")","v":""}]
[1433,"BT626",0,{"$f":"IFERROR(IF(INDEX(HAMARA!I:I,MATCH(B2249,HAMARA!E:E,0))=0,\"\",INDEX(HAMARA!I:I,MATCH(B2249,HAMARA!E:E,0))),\"\")","v":""}]
[1433,"BT471",0,{"$f":"IFERROR(IF(INDEX(HAMARA!I:I,MATCH(B2250,HAMARA!E:E,0))=0,\"\",INDEX(HAMARA!I:I,MATCH(B2250,HAMARA!E:E,0))),\"\")","v":""}]
[1433,"BT473",0,{"$f":"IFERROR(IF(INDEX(HAMARA!I:I,MATCH(B2251,HAMARA!E:E,0))=0,\"\",INDEX(HAMARA!I:I,MATCH(B2251,HAMARA!E:E,0))),\"\")","v":""}]
[1433,"BT346",0,{"$f":"IFERROR(IF(INDEX(HAMARA!I:I,MATCH(B2252,HAMARA!E:E,0))=0,\"\",INDEX(HAMARA!I:I,MATCH(B2252,HAMARA!E:E,0))),\"\")","v":""}]
[1433,"BT348",0,{"$f":"IFERROR(IF(INDEX(HAMARA!I:I,MATCH(B2253,HAMARA!E:E,0))=0,\"\",INDEX(HAMARA!I:I,MATCH(B2253,HAMARA!E:E,0))),\"\")","v":""}]
[1433,"BT213",0,{"$f":"IFERROR(IF(INDEX(HAMARA!I:I,MATCH(B2254,HAMARA!E:E,0))=0,\"\",INDEX(HAMARA!I:I,MATCH(B2254,HAMARA!E:E,0))),\"\")","v":""}]
[1433,"BT217",0,{"$f":"IFERROR(IF(INDEX(HAMARA!I:I,MATCH(B2255,HAMARA!E:E,0))=0,\"\",INDEX(HAMARA!I:I,MATCH(B2255,HAMARA!E:E,0))),\"\")","v":""}]
[1433,"BT214",0,{"$f":"IFERROR(IF(INDEX(HAMARA!I:I,MATCH(B2256,HAMARA!E:E,0))=0,\"\",INDEX(HAMARA!I:I,MATCH(B2256,HAMARA!E:E,0))),\"\")","v":""}]
[1433,"BT218",0,{"$f":"IFERROR(IF(INDEX(HAMARA!I:I,MATCH(B2257,HAMARA!E:E,0))=0,\"\",INDEX(HAMARA!I:I,MATCH(B2257,HAMARA!E:E,0))),\"\")","v":""}]
[1433,"BT215",0,{"$f":"IFERROR(IF(INDEX(HAMARA!I:I,MATCH(B2258,HAMARA!E:E,0))=0,\"\",INDEX(HAMARA!I:I,MATCH(B2258,HAMARA!E:E,0))),\"\")","v":""}]
[1433,"BT219",0,{"$f":"IFERROR(IF(INDEX(HAMARA!I:I,MATCH(B2259,HAMARA!E:E,0))=0,\"\",INDEX(HAMARA!I:I,MATCH(B2259,HAMARA!E:E,0))),\"\")","v":""}]
[1433,"BT216",0,{"$f":"IFERROR(IF(INDEX(HAMARA!I:I,MATCH(B2260,HAMARA!E:E,0))=0,\"\",INDEX(HAMARA!I:I,MATCH(B2260,HAMARA!E:E,0))),\"\")","v":""}]
[1433,"BT220",0,{"$f":"IFERROR(IF(INDEX(HAMARA!I:I,MATCH(B2261,HAMARA!E:E,0))=0,\"\",INDEX(HAMARA!I:I,MATCH(B2261,HAMARA!E:E,0))),\"\")","v":""}]
[1433,"BT474",0,{"$f":"IFERROR(IF(INDEX(HAMARA!I:I,MATCH(B2262,HAMARA!E:E,0))=0,\"\",INDEX(HAMARA!I:I,MATCH(B2262,HAMARA!E:E,0))),\"\")","v":""}]
[1433,"BT475",0,{"$f":"IFERROR(IF(INDEX(HAMARA!I:I,MATCH(B2263,HAMARA!E:E,0))=0,\"\",INDEX(HAMARA!I:I,MATCH(B2263,HAMARA!E:E,0))),\"\")","v":""}]
[1433,"BT476",0,{"$f":"IFERROR(IF(INDEX(HAMARA!I:I,MATCH(B2264,HAMARA!E:E,0))=0,\"\",INDEX(HAMARA!I:I,MATCH(B2264,HAMARA!E:E,0))),\"\")","v":""}]
[1433,"BT481",0,{"$f":"IFERROR(IF(INDEX(HAMARA!I:I,MATCH(B2265,HAMARA!E:E,0))=0,\"\",INDEX(HAMARA!I:I,MATCH(B2265,HAMARA!E:E,0))),\"\")","v":""}]
[1433,"BT477",0,{"$f":"IFERROR(IF(INDEX(HAMARA!I:I,MATCH(B2266,HAMARA!E:E,0))=0,\"\",INDEX(HAMARA!I:I,MATCH(B2266,HAMARA!E:E,0))),\"\")","v":""}]
[1433,"BT482",0,{"$f":"IFERROR(IF(INDEX(HAMARA!I:I,MATCH(B2267,HAMARA!E:E,0))=0,\"\",INDEX(HAMARA!I:I,MATCH(B2267,HAMARA!E:E,0))),\"\")","v":""}]
[1433,"BT478",0,{"$f":"IFERROR(IF(INDEX(HAMARA!I:I,MATCH(B2268,HAMARA!E:E,0))=0,\"\",INDEX(HAMARA!I:I,MATCH(B2268,HAMARA!E:E,0))),\"\")","v":""}]
[1433,"BT483",0,{"$f":"IFERROR(IF(INDEX(HAMARA!I:I,MATCH(B2269,HAMARA!E:E,0))=0,\"\",INDEX(HAMARA!I:I,MATCH(B2269,HAMARA!E:E,0))),\"\")","v":""}]
[1433,"BT479",0,{"$f":"IFERROR(IF(INDEX(HAMARA!I:I,MATCH(B2270,HAMARA!E:E,0))=0,\"\",INDEX(HAMARA!I:I,MATCH(B2270,HAMARA!E:E,0))),\"\")","v":""}]
[1433,"BT484",0,{"$f":"IFERROR(IF(INDEX(HAMARA!I:I,MATCH(B2271,HAMARA!E:E,0))=0,\"\",INDEX(HAMARA!I:I,MATCH(B2271,HAMARA!E:E,0))),\"\")","v":""}]
[1433,"BT480",0,{"$f":"IFERROR(IF(INDEX(HAMARA!I:I,MATCH(B2272,HAMARA!E:E,0))=0,\"\",INDEX(HAMARA!I:I,MATCH(B2272,HAMARA!E:E,0))),\"\")","v":""}]
[1433,"BT485",0,{"$f":"IFERROR(IF(INDEX(HAMARA!I:I,MATCH(B2273,HAMARA!E:E,0))=0,\"\",INDEX(HAMARA!I:I,MATCH(B2273,HAMARA!E:E,0))),\"\")","v":""}]
[1433,"BT705",0,{"$f":"IFERROR(IF(INDEX(HAMARA!I:I,MATCH(B2274,HAMARA!E:E,0))=0,\"\",INDEX(HAMARA!I:I,MATCH(B2274,HAMARA!E:E,0))),\"\")","v":""}]
[1433,"BT706",0,{"$f":"IFERROR(IF(INDEX(HAMARA!I:I,MATCH(B2275,HAMARA!E:E,0))=0,\"\",INDEX(HAMARA!I:I,MATCH(B2275,HAMARA!E:E,0))),\"\")","v":""}]
[1433,"BT707",0,{"$f":"IFERROR(IF(INDEX(HAMARA!I:I,MATCH(B2276,HAMARA!E:E,0))=0,\"\",INDEX(HAMARA!I:I,MATCH(B2276,HAMARA!E:E,0))),\"\")","v":""}]
[1433,"BT708",0,{"$f":"IFERROR(IF(INDEX(HAMARA!I:I,MATCH(B2277,HAMARA!E:E,0))=0,\"\",INDEX(HAMARA!I:I,MATCH(B2277,HAMARA!E:E,0))),\"\")","v":""}]
[1433,"BT709",0,{"$f":"IFERROR(IF(INDEX(HAMARA!I:I,MATCH(B2278,HAMARA!E:E,0))=0,\"\",INDEX(HAMARA!I:I,MATCH(B2278,HAMARA!E:E,0))),\"\")","v":""}]
[1433,"BT710",0,{"$f":"IFERROR(IF(INDEX(HAMARA!I:I,MATCH(B2279,HAMARA!E:E,0))=0,\"\",INDEX(HAMARA!I:I,MATCH(B2279,HAMARA!E:E,0))),\"\")","v":""}]
[1433,"BT711",0,{"$f":"IFERROR(IF(INDEX(HAMARA!I:I,MATCH(B2280,HAMARA!E:E,0))=0,\"\",INDEX(HAMARA!I:I,MATCH(B2280,HAMARA!E:E,0))),\"\")","v":""}]
[1433,"BT712",0,{"$f":"IFERROR(IF(INDEX(HAMARA!I:I,MATCH(B2281,HAMARA!E:E,0))=0,\"\",INDEX(HAMARA!I:I,MATCH(B2281,HAMARA!E:E,0))),\"\")","v":""}]
[1433,"BT713",0,{"$f":"IFERROR(IF(INDEX(HAMARA!I:I,MATCH(B2282,HAMARA!E:E,0))=0,\"\",INDEX(HAMARA!I:I,MATCH(B2282,HAMARA!E:E,0))),\"\")","v":""}]
[1433,"BT714",0,{"$f":"IFERROR(IF(INDEX(HAMARA!I:I,MATCH(B2283,HAMARA!E:E,0))=0,\"\",INDEX(HAMARA!I:I,MATCH(B2283,HAMARA!E:E,0))),\"\")","v":""}]
[1433,"BT715",0,{"$f":"IFERROR(IF(INDEX(HAMARA!I:I,MATCH(B2284,HAMARA!E:E,0))=0,\"\",INDEX(HAMARA!I:I,MATCH(B2284,HAMARA!E:E,0))),\"\")","v":""}]
[1433,"BT716",0,{"$f":"IFERROR(IF(INDEX(HAMARA!I:I,MATCH(B2285,HAMARA!E:E,0))=0,\"\",INDEX(HAMARA!I:I,MATCH(B2285,HAMARA!E:E,0))),\"\")","v":""}]
[1433,"BT717",0,{"$f":"IFERROR(IF(INDEX(HAMARA!I:I,MATCH(B2286,HAMARA!E:E,0))=0,\"\",INDEX(HAMARA!I:I,MATCH(B2286,HAMARA!E:E,0))),\"\")","v":""}]
[1433,"BT718",0,{"$f":"IFERROR(IF(INDEX(HAMARA!I:I,MATCH(B2287,HAMARA!E:E,0))=0,\"\",INDEX(HAMARA!I:I,MATCH(B2287,HAMARA!E:E,0))),\"\")","v":""}]
[1433,"BT719",0,{"$f":"IFERROR(IF(INDEX(HAMARA!I:I,MATCH(B2288,HAMARA!E:E,0))=0,\"\",INDEX(HAMARA!I:I,MATCH(B2288,HAMARA!E:E,0))),\"\")","v":""}]
[1433,"BT720",0,{"$f":"IFERROR(IF(INDEX(HAMARA!I:I,MATCH(B2289,HAMARA!E:E,0))=0,\"\",INDEX(HAMARA!I:I,MATCH(B2289,HAMARA!E:E,0))),\"\")","v":""}]
[1433,"BT721",0,{"$f":"IFERROR(IF(INDEX(HAMARA!I:I,MATCH(B2290,HAMARA!E:E,0))=0,\"\",INDEX(HAMARA!I:I,MATCH(B2290,HAMARA!E:E,0))),\"\")","v":""}]
[1433,"BT722",0,{"$f":"IFERROR(IF(INDEX(HAMARA!I:I,MATCH(B2291,HAMARA!E:E,0))=0,\"\",INDEX(HAMARA!I:I,MATCH(B2291,HAMARA!E:E,0))),\"\")","v":""}]
[1433,"BT723",0,{"$f":"IFERROR(IF(INDEX(HAMARA!I:I,MATCH(B2292,HAMARA!E:E,0))=0,\"\",INDEX(HAMARA!I:I,MATCH(B2292,HAMARA!E:E,0))),\"\")","v":""}]
[1433,"BT724",0,{"$f":"IFERROR(IF(INDEX(HAMARA!I:I,MATCH(B2293,HAMARA!E:E,0))=0,\"\",INDEX(HAMARA!I:I,MATCH(B2293,HAMARA!E:E,0))),\"\")","v":""}]
[1433,"BT725",0,{"$f":"IFERROR(IF(INDEX(HAMARA!I:I,MATCH(B2294,HAMARA!E:E,0))=0,\"\",INDEX(HAMARA!I:I,MATCH(B2294,HAMARA!E:E,0))),\"\")","v":""}]
[1433,"BT726",0,{"$f":"IFERROR(IF(INDEX(HAMARA!I:I,MATCH(B2295,HAMARA!E:E,0))=0,\"\",INDEX(HAMARA!I:I,MATCH(B2295,HAMARA!E:E,0))),\"\")","v":""}]
[1433,"BT646",0,{"$f":"IFERROR(IF(INDEX(HAMARA!I:I,MATCH(B2296,HAMARA!E:E,0))=0,\"\",INDEX(HAMARA!I:I,MATCH(B2296,HAMARA!E:E,0))),\"\")","v":""}]
[1433,"BT647",0,{"$f":"IFERROR(IF(INDEX(HAMARA!I:I,MATCH(B2297,HAMARA!E:E,0))=0,\"\",INDEX(HAMARA!I:I,MATCH(B2297,HAMARA!E:E,0))),\"\")","v":""}]
[1433,"BT648",0,{"$f":"IFERROR(IF(INDEX(HAMARA!I:I,MATCH(B2298,HAMARA!E:E,0))=0,\"\",INDEX(HAMARA!I:I,MATCH(B2298,HAMARA!E:E,0))),\"\")","v":""}]
[1433,"BT649",0,{"$f":"IFERROR(IF(INDEX(HAMARA!I:I,MATCH(B2299,HAMARA!E:E,0))=0,\"\",INDEX(HAMARA!I:I,MATCH(B2299,HAMARA!E:E,0))),\"\")","v":""}]
[1433,"BT650",0,{"$f":"IFERROR(IF(INDEX(HAMARA!I:I,MATCH(B2300,HAMARA!E:E,0))=0,\"\",INDEX(HAMARA!I:I,MATCH(B2300,HAMARA!E:E,0))),\"\")","v":""}]
[1433,"BT651",0,{"$f":"IFERROR(IF(INDEX(HAMARA!I:I,MATCH(B2301,HAMARA!E:E,0))=0,\"\",INDEX(HAMARA!I:I,MATCH(B2301,HAMARA!E:E,0))),\"\")","v":""}]
[1433,"BT652",0,{"$f":"IFERROR(IF(INDEX(HAMARA!I:I,MATCH(B2302,HAMARA!E:E,0))=0,\"\",INDEX(HAMARA!I:I,MATCH(B2302,HAMARA!E:E,0))),\"\")","v":""}]
[1433,"BT653",0,{"$f":"IFERROR(IF(INDEX(HAMARA!I:I,MATCH(B2303,HAMARA!E:E,0))=0,\"\",INDEX(HAMARA!I:I,MATCH(B2303,HAMARA!E:E,0))),\"\")","v":""}]
[1433,"BT654",0,{"$f":"IFERROR(IF(INDEX(HAMARA!I:I,MATCH(B2304,HAMARA!E:E,0))=0,\"\",INDEX(HAMARA!I:I,MATCH(B2304,HAMARA!E:E,0))),\"\")","v":""}]
[1433,"BT655",0,{"$f":"IFERROR(IF(INDEX(HAMARA!I:I,MATCH(B2305,HAMARA!E:E,0))=0,\"\",INDEX(HAMARA!I:I,MATCH(B2305,HAMARA!E:E,0))),\"\")","v":""}]
[1433,"BT656",0,{"$f":"IFERROR(IF(INDEX(HAMARA!I:I,MATCH(B2306,HAMARA!E:E,0))=0,\"\",INDEX(HAMARA!I:I,MATCH(B2306,HAMARA!E:E,0))),\"\")","v":""}]
[1433,"BT657",0,{"$f":"IFERROR(IF(INDEX(HAMARA!I:I,MATCH(B2307,HAMARA!E:E,0))=0,\"\",INDEX(HAMARA!I:I,MATCH(B2307,HAMARA!E:E,0))),\"\")","v":""}]
[1433,"BT678",0,{"$f":"IFERROR(IF(INDEX(HAMARA!I:I,MATCH(B2308,HAMARA!E:E,0))=0,\"\",INDEX(HAMARA!I:I,MATCH(B2308,HAMARA!E:E,0))),\"\")","v":""}]
[1433,"BT679",0,{"$f":"IFERROR(IF(INDEX(HAMARA!I:I,MATCH(B2309,HAMARA!E:E,0))=0,\"\",INDEX(HAMARA!I:I,MATCH(B2309,HAMARA!E:E,0))),\"\")","v":""}]
[1433,"BT680",0,{"$f":"IFERROR(IF(INDEX(HAMARA!I:I,MATCH(B2310,HAMARA!E:E,0))=0,\"\",INDEX(HAMARA!I:I,MATCH(B2310,HAMARA!E:E,0))),\"\")","v":""}]
[1433,"BT681",0,{"$f":"IFERROR(IF(INDEX(HAMARA!I:I,MATCH(B2311,HAMARA!E:E,0))=0,\"\",INDEX(HAMARA!I:I,MATCH(B2311,HAMARA!E:E,0))),\"\")","v":""}]
[1433,"BT682",0,{"$f":"IFERROR(IF(INDEX(HAMARA!I:I,MATCH(B2312,HAMARA!E:E,0))=0,\"\",INDEX(HAMARA!I:I,MATCH(B2312,HAMARA!E:E,0))),\"\")","v":""}]
[1433,"BT683",0,{"$f":"IFERROR(IF(INDEX(HAMARA!I:I,MATCH(B2313,HAMARA!E:E,0))=0,\"\",INDEX(HAMARA!I:I,MATCH(B2313,HAMARA!E:E,0))),\"\")","v":""}]
[1433,"BT658",0,{"$f":"IFERROR(IF(INDEX(HAMARA!I:I,MATCH(B2314,HAMARA!E:E,0))=0,\"\",INDEX(HAMARA!I:I,MATCH(B2314,HAMARA!E:E,0))),\"\")","v":""}]
[1433,"BT659",0,{"$f":"IFERROR(IF(INDEX(HAMARA!I:I,MATCH(B2315,HAMARA!E:E,0))=0,\"\",INDEX(HAMARA!I:I,MATCH(B2315,HAMARA!E:E,0))),\"\")","v":""}]
[1433,"BT660",0,{"$f":"IFERROR(IF(INDEX(HAMARA!I:I,MATCH(B2316,HAMARA!E:E,0))=0,\"\",INDEX(HAMARA!I:I,MATCH(B2316,HAMARA!E:E,0))),\"\")","v":""}]
[1433,"BT661",0,{"$f":"IFERROR(IF(INDEX(HAMARA!I:I,MATCH(B2317,HAMARA!E:E,0))=0,\"\",INDEX(HAMARA!I:I,MATCH(B2317,HAMARA!E:E,0))),\"\")","v":""}]
[1433,"BT727",0,{"$f":"IFERROR(IF(INDEX(HAMARA!I:I,MATCH(B2318,HAMARA!E:E,0))=0,\"\",INDEX(HAMARA!I:I,MATCH(B2318,HAMARA!E:E,0))),\"\")","v":""}]
[1433,"BT728",0,{"$f":"IFERROR(IF(INDEX(HAMARA!I:I,MATCH(B2319,HAMARA!E:E,0))=0,\"\",INDEX(HAMARA!I:I,MATCH(B2319,HAMARA!E:E,0))),\"\")","v":""}]
[1433,"BT729",0,{"$f":"IFERROR(IF(INDEX(HAMARA!I:I,MATCH(B2320,HAMARA!E:E,0))=0,\"\",INDEX(HAMARA!I:I,MATCH(B2320,HAMARA!E:E,0))),\"\")","v":""}]
[1433,"BT730",0,{"$f":"IFERROR(IF(INDEX(HAMARA!I:I,MATCH(B2321,HAMARA!E:E,0))=0,\"\",INDEX(HAMARA!I:I,MATCH(B2321,HAMARA!E:E,0))),\"\")","v":""}]
[1433,"BT731",0,{"$f":"IFERROR(IF(INDEX(HAMARA!I:I,MATCH(B2322,HAMARA!E:E,0))=0,\"\",INDEX(HAMARA!I:I,MATCH(B2322,HAMARA!E:E,0))),\"\")","v":""}]
[1433,"BT732",0,{"$f":"IFERROR(IF(INDEX(HAMARA!I:I,MATCH(B2323,HAMARA!E:E,0))=0,\"\",INDEX(HAMARA!I:I,MATCH(B2323,HAMARA!E:E,0))),\"\")","v":""}]
[1433,"BT733",0,{"$f":"IFERROR(IF(INDEX(HAMARA!I:I,MATCH(B2324,HAMARA!E:E,0))=0,\"\",INDEX(HAMARA!I:I,MATCH(B2324,HAMARA!E:E,0))),\"\")","v":""}]
[1433,"BT734",0,{"$f":"IFERROR(IF(INDEX(HAMARA!I:I,MATCH(B2325,HAMARA!E:E,0))=0,\"\",INDEX(HAMARA!I:I,MATCH(B2325,HAMARA!E:E,0))),\"\")","v":""}]
[1433,"BT735",0,{"$f":"IFERROR(IF(INDEX(HAMARA!I:I,MATCH(B2326,HAMARA!E:E,0))=0,\"\",INDEX(HAMARA!I:I,MATCH(B2326,HAMARA!E:E,0))),\"\")","v":""}]
[1433,"BT736",0,{"$f":"IFERROR(IF(INDEX(HAMARA!I:I,MATCH(B2327,HAMARA!E:E,0))=0,\"\",INDEX(HAMARA!I:I,MATCH(B2327,HAMARA!E:E,0))),\"\")","v":""}]
[1433,"BT737",0,{"$f":"IFERROR(IF(INDEX(HAMARA!I:I,MATCH(B2328,HAMARA!E:E,0))=0,\"\",INDEX(HAMARA!I:I,MATCH(B2328,HAMARA!E:E,0))),\"\")","v":""}]
[1433,"BT738",0,{"$f":"IFERROR(IF(INDEX(HAMARA!I:I,MATCH(B2329,HAMARA!E:E,0))=0,\"\",INDEX(HAMARA!I:I,MATCH(B2329,HAMARA!E:E,0))),\"\")","v":""}]
[1433,"BT739",0,{"$f":"IFERROR(IF(INDEX(HAMARA!I:I,MATCH(B2330,HAMARA!E:E,0))=0,\"\",INDEX(HAMARA!I:I,MATCH(B2330,HAMARA!E:E,0))),\"\")","v":""}]
[1433,"BT740",0,{"$f":"IFERROR(IF(INDEX(HAMARA!I:I,MATCH(B2331,HAMARA!E:E,0))=0,\"\",INDEX(HAMARA!I:I,MATCH(B2331,HAMARA!E:E,0))),\"\")","v":""}]
[1433,"BT741",0,{"$f":"IFERROR(IF(INDEX(HAMARA!I:I,MATCH(B2332,HAMARA!E:E,0))=0,\"\",INDEX(HAMARA!I:I,MATCH(B2332,HAMARA!E:E,0))),\"\")","v":""}]
[1433,"BT742",0,{"$f":"IFERROR(IF(INDEX(HAMARA!I:I,MATCH(B2333,HAMARA!E:E,0))=0,\"\",INDEX(HAMARA!I:I,MATCH(B2333,HAMARA!E:E,0))),\"\")","v":""}]
[1433,"BT743",0,{"$f":"IFERROR(IF(INDEX(HAMARA!I:I,MATCH(B2334,HAMARA!E:E,0))=0,\"\",INDEX(HAMARA!I:I,MATCH(B2334,HAMARA!E:E,0))),\"\")","v":""}]
[1433,"BT744",0,{"$f":"IFERROR(IF(INDEX(HAMARA!I:I,MATCH(B2335,HAMARA!E:E,0))=0,\"\",INDEX(HAMARA!I:I,MATCH(B2335,HAMARA!E:E,0))),\"\")","v":""}]
[1433,"BT745",0,{"$f":"IFERROR(IF(INDEX(HAMARA!I:I,MATCH(B2336,HAMARA!E:E,0))=0,\"\",INDEX(HAMARA!I:I,MATCH(B2336,HAMARA!E:E,0))),\"\")","v":""}]
[1433,"BT746",0,{"$f":"IFERROR(IF(INDEX(HAMARA!I:I,MATCH(B2337,HAMARA!E:E,0))=0,\"\",INDEX(HAMARA!I:I,MATCH(B2337,HAMARA!E:E,0))),\"\")","v":""}]
[1433,"BT747",0,{"$f":"IFERROR(IF(INDEX(HAMARA!I:I,MATCH(B2338,HAMARA!E:E,0))=0,\"\",INDEX(HAMARA!I:I,MATCH(B2338,HAMARA!E:E,0))),\"\")","v":""}]
[1433,"BT748",0,{"$f":"IFERROR(IF(INDEX(HAMARA!I:I,MATCH(B2339,HAMARA!E:E,0))=0,\"\",INDEX(HAMARA!I:I,MATCH(B2339,HAMARA!E:E,0))),\"\")","v":""}]
[1433,"BT662",0,{"$f":"IFERROR(IF(INDEX(HAMARA!I:I,MATCH(B2340,HAMARA!E:E,0))=0,\"\",INDEX(HAMARA!I:I,MATCH(B2340,HAMARA!E:E,0))),\"\")","v":""}]
[1433,"BT663",0,{"$f":"IFERROR(IF(INDEX(HAMARA!I:I,MATCH(B2341,HAMARA!E:E,0))=0,\"\",INDEX(HAMARA!I:I,MATCH(B2341,HAMARA!E:E,0))),\"\")","v":""}]
[1433,"BT664",0,{"$f":"IFERROR(IF(INDEX(HAMARA!I:I,MATCH(B2342,HAMARA!E:E,0))=0,\"\",INDEX(HAMARA!I:I,MATCH(B2342,HAMARA!E:E,0))),\"\")","v":""}]
[1433,"BT665",0,{"$f":"IFERROR(IF(INDEX(HAMARA!I:I,MATCH(B2343,HAMARA!E:E,0))=0,\"\",INDEX(HAMARA!I:I,MATCH(B2343,HAMARA!E:E,0))),\"\")","v":""}]
[1433,"BT666",0,{"$f":"IFERROR(IF(INDEX(HAMARA!I:I,MATCH(B2344,HAMARA!E:E,0))=0,\"\",INDEX(HAMARA!I:I,MATCH(B2344,HAMARA!E:E,0))),\"\")","v":""}]
[1433,"BT667",0,{"$f":"IFERROR(IF(INDEX(HAMARA!I:I,MATCH(B2345,HAMARA!E:E,0))=0,\"\",INDEX(HAMARA!I:I,MATCH(B2345,HAMARA!E:E,0))),\"\")","v":""}]
[1433,"BT668",0,{"$f":"IFERROR(IF(INDEX(HAMARA!I:I,MATCH(B2346,HAMARA!E:E,0))=0,\"\",INDEX(HAMARA!I:I,MATCH(B2346,HAMARA!E:E,0))),\"\")","v":""}]
[1433,"BT669",0,{"$f":"IFERROR(IF(INDEX(HAMARA!I:I,MATCH(B2347,HAMARA!E:E,0))=0,\"\",INDEX(HAMARA!I:I,MATCH(B2347,HAMARA!E:E,0))),\"\")","v":""}]
[1433,"BT670",0,{"$f":"IFERROR(IF(INDEX(HAMARA!I:I,MATCH(B2348,HAMARA!E:E,0))=0,\"\",INDEX(HAMARA!I:I,MATCH(B2348,HAMARA!E:E,0))),\"\")","v":""}]
[1433,"BT671",0,{"$f":"IFERROR(IF(INDEX(HAMARA!I:I,MATCH(B2349,HAMARA!E:E,0))=0,\"\",INDEX(HAMARA!I:I,MATCH(B2349,HAMARA!E:E,0))),\"\")","v":""}]
[1433,"BT672",0,{"$f":"IFERROR(IF(INDEX(HAMARA!I:I,MATCH(B2350,HAMARA!E:E,0))=0,\"\",INDEX(HAMARA!I:I,MATCH(B2350,HAMARA!E:E,0))),\"\")","v":""}]
[1433,"BT673",0,{"$f":"IFERROR(IF(INDEX(HAMARA!I:I,MATCH(B2351,HAMARA!E:E,0))=0,\"\",INDEX(HAMARA!I:I,MATCH(B2351,HAMARA!E:E,0))),\"\")","v":""}]
[1433,"BT684",0,{"$f":"IFERROR(IF(INDEX(HAMARA!I:I,MATCH(B2352,HAMARA!E:E,0))=0,\"\",INDEX(HAMARA!I:I,MATCH(B2352,HAMARA!E:E,0))),\"\")","v":""}]
[1433,"BT685",0,{"$f":"IFERROR(IF(INDEX(HAMARA!I:I,MATCH(B2353,HAMARA!E:E,0))=0,\"\",INDEX(HAMARA!I:I,MATCH(B2353,HAMARA!E:E,0))),\"\")","v":""}]
[1433,"BT686",0,{"$f":"IFERROR(IF(INDEX(HAMARA!I:I,MATCH(B2354,HAMARA!E:E,0))=0,\"\",INDEX(HAMARA!I:I,MATCH(B2354,HAMARA!E:E,0))),\"\")","v":""}]
[1433,"BT687",0,{"$f":"IFERROR(IF(INDEX(HAMARA!I:I,MATCH(B2355,HAMARA!E:E,0))=0,\"\",INDEX(HAMARA!I:I,MATCH(B2355,HAMARA!E:E,0))),\"\")","v":""}]
[1433,"BT688",0,{"$f":"IFERROR(IF(INDEX(HAMARA!I:I,MATCH(B2356,HAMARA!E:E,0))=0,\"\",INDEX(HAMARA!I:I,MATCH(B2356,HAMARA!E:E,0))),\"\")","v":""}]
[1433,"BT689",0,{"$f":"IFERROR(IF(INDEX(HAMARA!I:I,MATCH(B2357,HAMARA!E:E,0))=0,\"\",INDEX(HAMARA!I:I,MATCH(B2357,HAMARA!E:E,0))),\"\")","v":""}]
[1433,"BT674",0,{"$f":"IFERROR(IF(INDEX(HAMARA!I:I,MATCH(B2358,HAMARA!E:E,0))=0,\"\",INDEX(HAMARA!I:I,MATCH(B2358,HAMARA!E:E,0))),\"\")","v":""}]
[1433,"BT675",0,{"$f":"IFERROR(IF(INDEX(HAMARA!I:I,MATCH(B2359,HAMARA!E:E,0))=0,\"\",INDEX(HAMARA!I:I,MATCH(B2359,HAMARA!E:E,0))),\"\")","v":""}]
[1433,"BT676",0,{"$f":"IFERROR(IF(INDEX(HAMARA!I:I,MATCH(B2360,HAMARA!E:E,0))=0,\"\",INDEX(HAMARA!I:I,MATCH(B2360,HAMARA!E:E,0))),\"\")","v":""}]
[1433,"BT677",0,{"$f":"IFERROR(IF(INDEX(HAMARA!I:I,MATCH(B2361,HAMARA!E:E,0))=0,\"\",INDEX(HAMARA!I:I,MATCH(B2361,HAMARA!E:E,0))),\"\")","v":""}]
[1433,"BT62",0,{"$f":"IFERROR(IF(INDEX(HAMARA!I:I,MATCH(B2362,HAMARA!E:E,0))=0,\"\",INDEX(HAMARA!I:I,MATCH(B2362,HAMARA!E:E,0))),\"\")","v":""}]
[1433,"BT502",0,{"$f":"IFERROR(IF(INDEX(HAMARA!I:I,MATCH(B2363,HAMARA!E:E,0))=0,\"\",INDEX(HAMARA!I:I,MATCH(B2363,HAMARA!E:E,0))),\"\")","v":""}]
[1433,"BT503",0,{"$f":"IFERROR(IF(INDEX(HAMARA!I:I,MATCH(B2364,HAMARA!E:E,0))=0,\"\",INDEX(HAMARA!I:I,MATCH(B2364,HAMARA!E:E,0))),\"\")","v":""}]
[1433,"BT450",0,{"$f":"IFERROR(IF(INDEX(HAMARA!I:I,MATCH(B2365,HAMARA!E:E,0))=0,\"\",INDEX(HAMARA!I:I,MATCH(B2365,HAMARA!E:E,0))),\"\")","v":""}]
[1433,"BT504",0,{"$f":"IFERROR(IF(INDEX(HAMARA!I:I,MATCH(B2366,HAMARA!E:E,0))=0,\"\",INDEX(HAMARA!I:I,MATCH(B2366,HAMARA!E:E,0))),\"\")","v":""}]
[1433,"BT505",0,{"$f":"IFERROR(IF(INDEX(HAMARA!I:I,MATCH(B2367,HAMARA!E:E,0))=0,\"\",INDEX(HAMARA!I:I,MATCH(B2367,HAMARA!E:E,0))),\"\")","v":""}]
[1433,"BT451",0,{"$f":"IFERROR(IF(INDEX(HAMARA!I:I,MATCH(B2368,HAMARA!E:E,0))=0,\"\",INDEX(HAMARA!I:I,MATCH(B2368,HAMARA!E:E,0))),\"\")","v":""}]
[1433,"BT506",0,{"$f":"IFERROR(IF(INDEX(HAMARA!I:I,MATCH(B2369,HAMARA!E:E,0))=0,\"\",INDEX(HAMARA!I:I,MATCH(B2369,HAMARA!E:E,0))),\"\")","v":""}]
[1433,"BT627",0,{"$f":"IFERROR(IF(INDEX(HAMARA!I:I,MATCH(B2370,HAMARA!E:E,0))=0,\"\",INDEX(HAMARA!I:I,MATCH(B2370,HAMARA!E:E,0))),\"\")","v":""}]
[1433,"BT507",0,{"$f":"IFERROR(IF(INDEX(HAMARA!I:I,MATCH(B2371,HAMARA!E:E,0))=0,\"\",INDEX(HAMARA!I:I,MATCH(B2371,HAMARA!E:E,0))),\"\")","v":""}]
[1433,"BT577",0,{"$f":"IFERROR(IF(INDEX(HAMARA!I:I,MATCH(B2372,HAMARA!E:E,0))=0,\"\",INDEX(HAMARA!I:I,MATCH(B2372,HAMARA!E:E,0))),\"\")","v":""}]
[1433,"BT508",0,{"$f":"IFERROR(IF(INDEX(HAMARA!I:I,MATCH(B2373,HAMARA!E:E,0))=0,\"\",INDEX(HAMARA!I:I,MATCH(B2373,HAMARA!E:E,0))),\"\")","v":""}]
[1433,"BT509",0,{"$f":"IFERROR(IF(INDEX(HAMARA!I:I,MATCH(B2374,HAMARA!E:E,0))=0,\"\",INDEX(HAMARA!I:I,MATCH(B2374,HAMARA!E:E,0))),\"\")","v":""}]
[1433,"BT511",0,{"$f":"IFERROR(IF(INDEX(HAMARA!I:I,MATCH(B2375,HAMARA!E:E,0))=0,\"\",INDEX(HAMARA!I:I,MATCH(B2375,HAMARA!E:E,0))),\"\")","v":""}]
[1433,"BT452",0,{"$f":"IFERROR(IF(INDEX(HAMARA!I:I,MATCH(B2376,HAMARA!E:E,0))=0,\"\",INDEX(HAMARA!I:I,MATCH(B2376,HAMARA!E:E,0))),\"\")","v":""}]
[1433,"BT512",0,{"$f":"IFERROR(IF(INDEX(HAMARA!I:I,MATCH(B2377,HAMARA!E:E,0))=0,\"\",INDEX(HAMARA!I:I,MATCH(B2377,HAMARA!E:E,0))),\"\")","v":""}]
[1433,"BT513",0,{"$f":"IFERROR(IF(INDEX(HAMARA!I:I,MATCH(B2378,HAMARA!E:E,0))=0,\"\",INDEX(HAMARA!I:I,MATCH(B2378,HAMARA!E:E,0))),\"\")","v":""}]
[1433,"BT514",0,{"$f":"IFERROR(IF(INDEX(HAMARA!I:I,MATCH(B2379,HAMARA!E:E,0))=0,\"\",INDEX(HAMARA!I:I,MATCH(B2379,HAMARA!E:E,0))),\"\")","v":""}]
[1433,"BT515",0,{"$f":"IFERROR(IF(INDEX(HAMARA!I:I,MATCH(B2380,HAMARA!E:E,0))=0,\"\",INDEX(HAMARA!I:I,MATCH(B2380,HAMARA!E:E,0))),\"\")","v":""}]
[1433,"BT516",0,{"$f":"IFERROR(IF(INDEX(HAMARA!I:I,MATCH(B2381,HAMARA!E:E,0))=0,\"\",INDEX(HAMARA!I:I,MATCH(B2381,HAMARA!E:E,0))),\"\")","v":""}]
[1433,"BT517",0,{"$f":"IFERROR(IF(INDEX(HAMARA!I:I,MATCH(B2382,HAMARA!E:E,0))=0,\"\",INDEX(HAMARA!I:I,MATCH(B2382,HAMARA!E:E,0))),\"\")","v":""}]
[1433,"BT518",0,{"$f":"IFERROR(IF(INDEX(HAMARA!I:I,MATCH(B2383,HAMARA!E:E,0))=0,\"\",INDEX(HAMARA!I:I,MATCH(B2383,HAMARA!E:E,0))),\"\")","v":""}]
[1433,"BT519",0,{"$f":"IFERROR(IF(INDEX(HAMARA!I:I,MATCH(B2384,HAMARA!E:E,0))=0,\"\",INDEX(HAMARA!I:I,MATCH(B2384,HAMARA!E:E,0))),\"\")","v":""}]
[1433,"BT520",0,{"$f":"IFERROR(IF(INDEX(HAMARA!I:I,MATCH(B2385,HAMARA!E:E,0))=0,\"\",INDEX(HAMARA!I:I,MATCH(B2385,HAMARA!E:E,0))),\"\")","v":""}]
[1433,"BT521",0,{"$f":"IFERROR(IF(INDEX(HAMARA!I:I,MATCH(B2386,HAMARA!E:E,0))=0,\"\",INDEX(HAMARA!I:I,MATCH(B2386,HAMARA!E:E,0))),\"\")","v":""}]
[1433,"BT522",0,{"$f":"IFERROR(IF(INDEX(HAMARA!I:I,MATCH(B2387,HAMARA!E:E,0))=0,\"\",INDEX(HAMARA!I:I,MATCH(B2387,HAMARA!E:E,0))),\"\")","v":""}]
[1433,"BT523",0,{"$f":"IFERROR(IF(INDEX(HAMARA!I:I,MATCH(B2388,HAMARA!E:E,0))=0,\"\",INDEX(HAMARA!I:I,MATCH(B2388,HAMARA!E:E,0))),\"\")","v":""}]
[1433,"BT524",0,{"$f":"IFERROR(IF(INDEX(HAMARA!I:I,MATCH(B2389,HAMARA!E:E,0))=0,\"\",INDEX(HAMARA!I:I,MATCH(B2389,HAMARA!E:E,0))),\"\")","v":""}]
[1433,"BT525",0,{"$f":"IFERROR(IF(INDEX(HAMARA!I:I,MATCH(B2390,HAMARA!E:E,0))=0,\"\",INDEX(HAMARA!I:I,MATCH(B2390,HAMARA!E:E,0))),\"\")","v":""}]
[1433,"BT526",0,{"$f":"IFERROR(IF(INDEX(HAMARA!I:I,MATCH(B2391,HAMARA!E:E,0))=0,\"\",INDEX(HAMARA!I:I,MATCH(B2391,HAMARA!E:E,0))),\"\")","v":""}]
[1433,"BT527",0,{"$f":"IFERROR(IF(INDEX(HAMARA!I:I,MATCH(B2392,HAMARA!E:E,0))=0,\"\",INDEX(HAMARA!I:I,MATCH(B2392,HAMARA!E:E,0))),\"\")","v":""}]
[1433,"BT530",0,{"$f":"IFERROR(IF(INDEX(HAMARA!I:I,MATCH(B2393,HAMARA!E:E,0))=0,\"\",INDEX(HAMARA!I:I,MATCH(B2393,HAMARA!E:E,0))),\"\")","v":""}]
[1433,"BT531",0,{"$f":"IFERROR(IF(INDEX(HAMARA!I:I,MATCH(B2394,HAMARA!E:E,0))=0,\"\",INDEX(HAMARA!I:I,MATCH(B2394,HAMARA!E:E,0))),\"\")","v":""}]
[1433,"BT532",0,{"$f":"IFERROR(IF(INDEX(HAMARA!I:I,MATCH(B2395,HAMARA!E:E,0))=0,\"\",INDEX(HAMARA!I:I,MATCH(B2395,HAMARA!E:E,0))),\"\")","v":""}]
[1433,"BT533",0,{"$f":"IFERROR(IF(INDEX(HAMARA!I:I,MATCH(B2396,HAMARA!E:E,0))=0,\"\",INDEX(HAMARA!I:I,MATCH(B2396,HAMARA!E:E,0))),\"\")","v":""}]
[1433,"BT534",0,{"$f":"IFERROR(IF(INDEX(HAMARA!I:I,MATCH(B2397,HAMARA!E:E,0))=0,\"\",INDEX(HAMARA!I:I,MATCH(B2397,HAMARA!E:E,0))),\"\")","v":""}]
[1433,"BT535",0,{"$f":"IFERROR(IF(INDEX(HAMARA!I:I,MATCH(B2398,HAMARA!E:E,0))=0,\"\",INDEX(HAMARA!I:I,MATCH(B2398,HAMARA!E:E,0))),\"\")","v":""}]
[1433,"BT536",0,{"$f":"IFERROR(IF(INDEX(HAMARA!I:I,MATCH(B2399,HAMARA!E:E,0))=0,\"\",INDEX(HAMARA!I:I,MATCH(B2399,HAMARA!E:E,0))),\"\")","v":""}]
[1433,"BT537",0,{"$f":"IFERROR(IF(INDEX(HAMARA!I:I,MATCH(B2400,HAMARA!E:E,0))=0,\"\",INDEX(HAMARA!I:I,MATCH(B2400,HAMARA!E:E,0))),\"\")","v":""}]
[1433,"BT628",0,{"$f":"IFERROR(IF(INDEX(HAMARA!I:I,MATCH(B2401,HAMARA!E:E,0))=0,\"\",INDEX(HAMARA!I:I,MATCH(B2401,HAMARA!E:E,0))),\"\")","v":""}]
[1433,"BT629",0,{"$f":"IFERROR(IF(INDEX(HAMARA!I:I,MATCH(B2402,HAMARA!E:E,0))=0,\"\",INDEX(HAMARA!I:I,MATCH(B2402,HAMARA!E:E,0))),\"\")","v":""}]
[1433,"BT630",0,{"$f":"IFERROR(IF(INDEX(HAMARA!I:I,MATCH(B2403,HAMARA!E:E,0))=0,\"\",INDEX(HAMARA!I:I,MATCH(B2403,HAMARA!E:E,0))),\"\")","v":""}]
[1433,"BT631",0,{"$f":"IFERROR(IF(INDEX(HAMARA!I:I,MATCH(B2404,HAMARA!E:E,0))=0,\"\",INDEX(HAMARA!I:I,MATCH(B2404,HAMARA!E:E,0))),\"\")","v":""}]
[1433,"BT632",0,{"$f":"IFERROR(IF(INDEX(HAMARA!I:I,MATCH(B2405,HAMARA!E:E,0))=0,\"\",INDEX(HAMARA!I:I,MATCH(B2405,HAMARA!E:E,0))),\"\")","v":""}]
[1433,"BT633",0,{"$f":"IFERROR(IF(INDEX(HAMARA!I:I,MATCH(B2406,HAMARA!E:E,0))=0,\"\",INDEX(HAMARA!I:I,MATCH(B2406,HAMARA!E:E,0))),\"\")","v":""}]
[1433,"BT162",0,{"$f":"IFERROR(IF(INDEX(HAMARA!I:I,MATCH(B2407,HAMARA!E:E,0))=0,\"\",INDEX(HAMARA!I:I,MATCH(B2407,HAMARA!E:E,0))),\"\")","v":""}]
[1433,"BT163",0,{"$f":"IFERROR(IF(INDEX(HAMARA!I:I,MATCH(B2408,HAMARA!E:E,0))=0,\"\",INDEX(HAMARA!I:I,MATCH(B2408,HAMARA!E:E,0))),\"\")","v":""}]
[1433,"BT164",0,{"$f":"IFERROR(IF(INDEX(HAMARA!I:I,MATCH(B2409,HAMARA!E:E,0))=0,\"\",INDEX(HAMARA!I:I,MATCH(B2409,HAMARA!E:E,0))),\"\")","v":""}]
[1433,"BT165",0,{"$f":"IFERROR(IF(INDEX(HAMARA!I:I,MATCH(B2410,HAMARA!E:E,0))=0,\"\",INDEX(HAMARA!I:I,MATCH(B2410,HAMARA!E:E,0))),\"\")","v":""}]
[1433,"BT180",0,{"$f":"IFERROR(IF(INDEX(HAMARA!I:I,MATCH(B2411,HAMARA!E:E,0))=0,\"\",INDEX(HAMARA!I:I,MATCH(B2411,HAMARA!E:E,0))),\"\")","v":""}]
[1433,"BT45",0,{"$f":"IFERROR(IF(INDEX(HAMARA!I:I,MATCH(B2412,HAMARA!E:E,0))=0,\"\",INDEX(HAMARA!I:I,MATCH(B2412,HAMARA!E:E,0))),\"\")","v":""}]
[1433,"BT47",0,{"$f":"IFERROR(IF(INDEX(HAMARA!I:I,MATCH(B2413,HAMARA!E:E,0))=0,\"\",INDEX(HAMARA!I:I,MATCH(B2413,HAMARA!E:E,0))),\"\")","v":""}]
[1433,"BT181",0,{"$f":"IFERROR(IF(INDEX(HAMARA!I:I,MATCH(B2414,HAMARA!E:E,0))=0,\"\",INDEX(HAMARA!I:I,MATCH(B2414,HAMARA!E:E,0))),\"\")","v":""}]
[1433,"BT228",0,{"$f":"IFERROR(IF(INDEX(HAMARA!I:I,MATCH(B2415,HAMARA!E:E,0))=0,\"\",INDEX(HAMARA!I:I,MATCH(B2415,HAMARA!E:E,0))),\"\")","v":""}]
[1433,"BT88",0,{"$f":"IFERROR(IF(INDEX(HAMARA!I:I,MATCH(B2416,HAMARA!E:E,0))=0,\"\",INDEX(HAMARA!I:I,MATCH(B2416,HAMARA!E:E,0))),\"\")","v":""}]
[1433,"BT72",1.8480000000000001,{"$f":"IFERROR(IF(INDEX(HAMARA!I:I,MATCH(B2417,HAMARA!E:E,0))=0,\"\",INDEX(HAMARA!I:I,MATCH(B2417,HAMARA!E:E,0))),\"\")","v":""}]
[1433,"BT168",0,{"$f":"IFERROR(IF(INDEX(HAMARA!I:I,MATCH(B2418,HAMARA!E:E,0))=0,\"\",INDEX(HAMARA!I:I,MATCH(B2418,HAMARA!E:E,0))),\"\")","v":""}]
[1433,"BT89",0,{"$f":"IFERROR(IF(INDEX(HAMARA!I:I,MATCH(B2419,HAMARA!E:E,0))=0,\"\",INDEX(HAMARA!I:I,MATCH(B2419,HAMARA!E:E,0))),\"\")","v":""}]
[1433,"BT755",0,{"$f":"IFERROR(IF(INDEX(HAMARA!I:I,MATCH(B2420,HAMARA!E:E,0))=0,\"\",INDEX(HAMARA!I:I,MATCH(B2420,HAMARA!E:E,0))),\"\")","v":""}]
[1433,"BT119",0.38400000000000001,{"$f":"IFERROR(IF(INDEX(HAMARA!I:I,MATCH(B2421,HAMARA!E:E,0))=0,\"\",INDEX(HAMARA!I:I,MATCH(B2421,HAMARA!E:E,0))),\"\")","v":""}]
[1433,"BT120",0,{"$f":"IFERROR(IF(INDEX(HAMARA!I:I,MATCH(B2422,HAMARA!E:E,0))=0,\"\",INDEX(HAMARA!I:I,MATCH(B2422,HAMARA!E:E,0))),\"\")","v":""}]
[1433,"A1",118.93300000000001,{"$f":"IFERROR(IF(INDEX(HAMARA!I:I,MATCH(B2423,HAMARA!E:E,0))=0,\"\",INDEX(HAMARA!I:I,MATCH(B2423,HAMARA!E:E,0))),\"\")","v":""}]
[1433,"AA3",0,{"$f":"IFERROR(IF(INDEX(HAMARA!I:I,MATCH(B2424,HAMARA!E:E,0))=0,\"\",INDEX(HAMARA!I:I,MATCH(B2424,HAMARA!E:E,0))),\"\")","v":""}]
[1433,"AT110",0,{"$f":"IFERROR(IF(INDEX(HAMARA!I:I,MATCH(B2425,HAMARA!E:E,0))=0,\"\",INDEX(HAMARA!I:I,MATCH(B2425,HAMARA!E:E,0))),\"\")","v":""}]
[1433,"AA9",30.16,{"$f":"IFERROR(IF(INDEX(HAMARA!I:I,MATCH(B2426,HAMARA!E:E,0))=0,\"\",INDEX(HAMARA!I:I,MATCH(B2426,HAMARA!E:E,0))),\"\")","v":""}]
[1433,"AT108",0,{"$f":"IFERROR(IF(INDEX(HAMARA!I:I,MATCH(B2427,HAMARA!E:E,0))=0,\"\",INDEX(HAMARA!I:I,MATCH(B2427,HAMARA!E:E,0))),\"\")","v":""}]
[1433,"AT72",0.29099999999999998,{"$f":"IFERROR(IF(INDEX(HAMARA!I:I,MATCH(B2428,HAMARA!E:E,0))=0,\"\",INDEX(HAMARA!I:I,MATCH(B2428,HAMARA!E:E,0))),\"\")","v":""}]
[1433,"AT1",0,{"$f":"IFERROR(IF(INDEX(HAMARA!I:I,MATCH(B2429,HAMARA!E:E,0))=0,\"\",INDEX(HAMARA!I:I,MATCH(B2429,HAMARA!E:E,0))),\"\")","v":""}]
[1433,"AA1",66.31,{"$f":"IFERROR(IF(INDEX(HAMARA!I:I,MATCH(B2430,HAMARA!E:E,0))=0,\"\",INDEX(HAMARA!I:I,MATCH(B2430,HAMARA!E:E,0))),\"\")","v":""}]
[1433,"AA2",22.172000000000001,{"$f":"IFERROR(IF(INDEX(HAMARA!I:I,MATCH(B2431,HAMARA!E:E,0))=0,\"\",INDEX(HAMARA!I:I,MATCH(B2431,HAMARA!E:E,0))),\"\")","v":""}]
[1433,"AT781",0,{"$f":"IFERROR(IF(INDEX(HAMARA!I:I,MATCH(B2432,HAMARA!E:E,0))=0,\"\",INDEX(HAMARA!I:I,MATCH(B2432,HAMARA!E:E,0))),\"\")","v":""}]
[1433,"AT782",0,{"$f":"IFERROR(IF(INDEX(HAMARA!I:I,MATCH(B2433,HAMARA!E:E,0))=0,\"\",INDEX(HAMARA!I:I,MATCH(B2433,HAMARA!E:E,0))),\"\")","v":""}]
[1433,"AT791",0,{"$f":"IFERROR(IF(INDEX(HAMARA!I:I,MATCH(B2434,HAMARA!E:E,0))=0,\"\",INDEX(HAMARA!I:I,MATCH(B2434,HAMARA!E:E,0))),\"\")","v":""}]
[1433,"AT749",0,{"$f":"IFERROR(IF(INDEX(HAMARA!I:I,MATCH(B2435,HAMARA!E:E,0))=0,\"\",INDEX(HAMARA!I:I,MATCH(B2435,HAMARA!E:E,0))),\"\")","v":""}]
[1433,"AT750",0,{"$f":"IFERROR(IF(INDEX(HAMARA!I:I,MATCH(B2436,HAMARA!E:E,0))=0,\"\",INDEX(HAMARA!I:I,MATCH(B2436,HAMARA!E:E,0))),\"\")","v":""}]
[1433,"AT751",0,{"$f":"IFERROR(IF(INDEX(HAMARA!I:I,MATCH(B2437,HAMARA!E:E,0))=0,\"\",INDEX(HAMARA!I:I,MATCH(B2437,HAMARA!E:E,0))),\"\")","v":""}]
[1433,"AT114",0,{"$f":"IFERROR(IF(INDEX(HAMARA!I:I,MATCH(B2438,HAMARA!E:E,0))=0,\"\",INDEX(HAMARA!I:I,MATCH(B2438,HAMARA!E:E,0))),\"\")","v":""}]
[1433,"AT752",0,{"$f":"IFERROR(IF(INDEX(HAMARA!I:I,MATCH(B2439,HAMARA!E:E,0))=0,\"\",INDEX(HAMARA!I:I,MATCH(B2439,HAMARA!E:E,0))),\"\")","v":""}]
[1433,"AT7",0,{"$f":"IFERROR(IF(INDEX(HAMARA!I:I,MATCH(B2440,HAMARA!E:E,0))=0,\"\",INDEX(HAMARA!I:I,MATCH(B2440,HAMARA!E:E,0))),\"\")","v":""}]
[1433,"AT252",0,{"$f":"IFERROR(IF(INDEX(HAMARA!I:I,MATCH(B2441,HAMARA!E:E,0))=0,\"\",INDEX(HAMARA!I:I,MATCH(B2441,HAMARA!E:E,0))),\"\")","v":""}]
[1433,"AT253",0,{"$f":"IFERROR(IF(INDEX(HAMARA!I:I,MATCH(B2442,HAMARA!E:E,0))=0,\"\",INDEX(HAMARA!I:I,MATCH(B2442,HAMARA!E:E,0))),\"\")","v":""}]
[1433,"AT575",0,{"$f":"IFERROR(IF(INDEX(HAMARA!I:I,MATCH(B2443,HAMARA!E:E,0))=0,\"\",INDEX(HAMARA!I:I,MATCH(B2443,HAMARA!E:E,0))),\"\")","v":""}]
[1433,"AT290",0,{"$f":"IFERROR(IF(INDEX(HAMARA!I:I,MATCH(B2444,HAMARA!E:E,0))=0,\"\",INDEX(HAMARA!I:I,MATCH(B2444,HAMARA!E:E,0))),\"\")","v":""}]
[1433,"AT642",0,{"$f":"IFERROR(IF(INDEX(HAMARA!I:I,MATCH(B2445,HAMARA!E:E,0))=0,\"\",INDEX(HAMARA!I:I,MATCH(B2445,HAMARA!E:E,0))),\"\")","v":""}]
[1433,"AT753",0,{"$f":"IFERROR(IF(INDEX(HAMARA!I:I,MATCH(B2446,HAMARA!E:E,0))=0,\"\",INDEX(HAMARA!I:I,MATCH(B2446,HAMARA!E:E,0))),\"\")","v":""}]
[1433,"AT71",0,{"$f":"IFERROR(IF(INDEX(HAMARA!I:I,MATCH(B2447,HAMARA!E:E,0))=0,\"\",INDEX(HAMARA!I:I,MATCH(B2447,HAMARA!E:E,0))),\"\")","v":""}]
[1433,"AT111",0,{"$f":"IFERROR(IF(INDEX(HAMARA!I:I,MATCH(B2448,HAMARA!E:E,0))=0,\"\",INDEX(HAMARA!I:I,MATCH(B2448,HAMARA!E:E,0))),\"\")","v":""}]
[1433,"AT760",0,{"$f":"IFERROR(IF(INDEX(HAMARA!I:I,MATCH(B2449,HAMARA!E:E,0))=0,\"\",INDEX(HAMARA!I:I,MATCH(B2449,HAMARA!E:E,0))),\"\")","v":""}]
[1433,"AT761",0,{"$f":"IFERROR(IF(INDEX(HAMARA!I:I,MATCH(B2450,HAMARA!E:E,0))=0,\"\",INDEX(HAMARA!I:I,MATCH(B2450,HAMARA!E:E,0))),\"\")","v":""}]
[1433,"AT762",0,{"$f":"IFERROR(IF(INDEX(HAMARA!I:I,MATCH(B2451,HAMARA!E:E,0))=0,\"\",INDEX(HAMARA!I:I,MATCH(B2451,HAMARA!E:E,0))),\"\")","v":""}]
[1433,"AT763",0,{"$f":"IFERROR(IF(INDEX(HAMARA!I:I,MATCH(B2452,HAMARA!E:E,0))=0,\"\",INDEX(HAMARA!I:I,MATCH(B2452,HAMARA!E:E,0))),\"\")","v":""}]
[1433,"AT764",0,{"$f":"IFERROR(IF(INDEX(HAMARA!I:I,MATCH(B2453,HAMARA!E:E,0))=0,\"\",INDEX(HAMARA!I:I,MATCH(B2453,HAMARA!E:E,0))),\"\")","v":""}]
[1433,"AT104",0,{"$f":"IFERROR(IF(INDEX(HAMARA!I:I,MATCH(B2454,HAMARA!E:E,0))=0,\"\",INDEX(HAMARA!I:I,MATCH(B2454,HAMARA!E:E,0))),\"\")","v":""}]
[1433,"AT634",0,{"$f":"IFERROR(IF(INDEX(HAMARA!I:I,MATCH(B2455,HAMARA!E:E,0))=0,\"\",INDEX(HAMARA!I:I,MATCH(B2455,HAMARA!E:E,0))),\"\")","v":""}]
[1433,"AA12",0,{"$f":"IFERROR(IF(INDEX(HAMARA!I:I,MATCH(B2456,HAMARA!E:E,0))=0,\"\",INDEX(HAMARA!I:I,MATCH(B2456,HAMARA!E:E,0))),\"\")","v":""}]
[1433,"AT758",0,{"$f":"IFERROR(IF(INDEX(HAMARA!I:I,MATCH(B2457,HAMARA!E:E,0))=0,\"\",INDEX(HAMARA!I:I,MATCH(B2457,HAMARA!E:E,0))),\"\")","v":""}]
[1433,"AT759",0,{"$f":"IFERROR(IF(INDEX(HAMARA!I:I,MATCH(B2458,HAMARA!E:E,0))=0,\"\",INDEX(HAMARA!I:I,MATCH(B2458,HAMARA!E:E,0))),\"\")","v":""}]
[1433,"B1",47.015999999999998,{"$f":"IFERROR(IF(INDEX(HAMARA!I:I,MATCH(B2459,HAMARA!E:E,0))=0,\"\",INDEX(HAMARA!I:I,MATCH(B2459,HAMARA!E:E,0))),\"\")","v":""}]
[1433,"BT3",0,{"$f":"IFERROR(IF(INDEX(HAMARA!I:I,MATCH(B2460,HAMARA!E:E,0))=0,\"\",INDEX(HAMARA!I:I,MATCH(B2460,HAMARA!E:E,0))),\"\")","v":""}]
[1433,"BT95",0,{"$f":"IFERROR(IF(INDEX(HAMARA!I:I,MATCH(B2461,HAMARA!E:E,0))=0,\"\",INDEX(HAMARA!I:I,MATCH(B2461,HAMARA!E:E,0))),\"\")","v":""}]
[1433,"BF4",0,{"$f":"IFERROR(IF(INDEX(HAMARA!I:I,MATCH(B2462,HAMARA!E:E,0))=0,\"\",INDEX(HAMARA!I:I,MATCH(B2462,HAMARA!E:E,0))),\"\")","v":""}]
[1433,"BT1",0,{"$f":"IFERROR(IF(INDEX(HAMARA!I:I,MATCH(B2463,HAMARA!E:E,0))=0,\"\",INDEX(HAMARA!I:I,MATCH(B2463,HAMARA!E:E,0))),\"\")","v":""}]
[1433,"BT2",0,{"$f":"IFERROR(IF(INDEX(HAMARA!I:I,MATCH(B2464,HAMARA!E:E,0))=0,\"\",INDEX(HAMARA!I:I,MATCH(B2464,HAMARA!E:E,0))),\"\")","v":""}]
[1433,"BT125",0,{"$f":"IFERROR(IF(INDEX(HAMARA!I:I,MATCH(B2465,HAMARA!E:E,0))=0,\"\",INDEX(HAMARA!I:I,MATCH(B2465,HAMARA!E:E,0))),\"\")","v":""}]
[1433,"BT126",0,{"$f":"IFERROR(IF(INDEX(HAMARA!I:I,MATCH(B2466,HAMARA!E:E,0))=0,\"\",INDEX(HAMARA!I:I,MATCH(B2466,HAMARA!E:E,0))),\"\")","v":""}]
[1433,"BT4",0,{"$f":"IFERROR(IF(INDEX(HAMARA!I:I,MATCH(B2467,HAMARA!E:E,0))=0,\"\",INDEX(HAMARA!I:I,MATCH(B2467,HAMARA!E:E,0))),\"\")","v":""}]
[1433,"BT5",0,{"$f":"IFERROR(IF(INDEX(HAMARA!I:I,MATCH(B2468,HAMARA!E:E,0))=0,\"\",INDEX(HAMARA!I:I,MATCH(B2468,HAMARA!E:E,0))),\"\")","v":""}]
[1433,"BT749",0,{"$f":"IFERROR(IF(INDEX(HAMARA!I:I,MATCH(B2469,HAMARA!E:E,0))=0,\"\",INDEX(HAMARA!I:I,MATCH(B2469,HAMARA!E:E,0))),\"\")","v":""}]
[1433,"BT750",43.110999999999997,{"$f":"IFERROR(IF(INDEX(HAMARA!I:I,MATCH(B2470,HAMARA!E:E,0))=0,\"\",INDEX(HAMARA!I:I,MATCH(B2470,HAMARA!E:E,0))),\"\")","v":""}]
[1433,"BT751",0,{"$f":"IFERROR(IF(INDEX(HAMARA!I:I,MATCH(B2471,HAMARA!E:E,0))=0,\"\",INDEX(HAMARA!I:I,MATCH(B2471,HAMARA!E:E,0))),\"\")","v":""}]
[1433,"BT97",0,{"$f":"IFERROR(IF(INDEX(HAMARA!I:I,MATCH(B2472,HAMARA!E:E,0))=0,\"\",INDEX(HAMARA!I:I,MATCH(B2472,HAMARA!E:E,0))),\"\")","v":""}]
[1433,"BT752",0,{"$f":"IFERROR(IF(INDEX(HAMARA!I:I,MATCH(B2473,HAMARA!E:E,0))=0,\"\",INDEX(HAMARA!I:I,MATCH(B2473,HAMARA!E:E,0))),\"\")","v":""}]
[1433,"BT19",0,{"$f":"IFERROR(IF(INDEX(HAMARA!I:I,MATCH(B2474,HAMARA!E:E,0))=0,\"\",INDEX(HAMARA!I:I,MATCH(B2474,HAMARA!E:E,0))),\"\")","v":""}]
[1433,"BT641",0,{"$f":"IFERROR(IF(INDEX(HAMARA!I:I,MATCH(B2475,HAMARA!E:E,0))=0,\"\",INDEX(HAMARA!I:I,MATCH(B2475,HAMARA!E:E,0))),\"\")","v":""}]
[1433,"BT642",0,{"$f":"IFERROR(IF(INDEX(HAMARA!I:I,MATCH(B2476,HAMARA!E:E,0))=0,\"\",INDEX(HAMARA!I:I,MATCH(B2476,HAMARA!E:E,0))),\"\")","v":""}]
[1433,"BT575",0,{"$f":"IFERROR(IF(INDEX(HAMARA!I:I,MATCH(B2477,HAMARA!E:E,0))=0,\"\",INDEX(HAMARA!I:I,MATCH(B2477,HAMARA!E:E,0))),\"\")","v":""}]
[1433,"BT643",0,{"$f":"IFERROR(IF(INDEX(HAMARA!I:I,MATCH(B2478,HAMARA!E:E,0))=0,\"\",INDEX(HAMARA!I:I,MATCH(B2478,HAMARA!E:E,0))),\"\")","v":""}]
[1433,"BT644",0,{"$f":"IFERROR(IF(INDEX(HAMARA!I:I,MATCH(B2479,HAMARA!E:E,0))=0,\"\",INDEX(HAMARA!I:I,MATCH(B2479,HAMARA!E:E,0))),\"\")","v":""}]
[1433,"BT754",0,{"$f":"IFERROR(IF(INDEX(HAMARA!I:I,MATCH(B2480,HAMARA!E:E,0))=0,\"\",INDEX(HAMARA!I:I,MATCH(B2480,HAMARA!E:E,0))),\"\")","v":""}]
[1433,"BT76",0,{"$f":"IFERROR(IF(INDEX(HAMARA!I:I,MATCH(B2481,HAMARA!E:E,0))=0,\"\",INDEX(HAMARA!I:I,MATCH(B2481,HAMARA!E:E,0))),\"\")","v":""}]
[1433,"BT81",0,{"$f":"IFERROR(IF(INDEX(HAMARA!I:I,MATCH(B2482,HAMARA!E:E,0))=0,\"\",INDEX(HAMARA!I:I,MATCH(B2482,HAMARA!E:E,0))),\"\")","v":""}]
[1433,"BT760",0,{"$f":"IFERROR(IF(INDEX(HAMARA!I:I,MATCH(B2483,HAMARA!E:E,0))=0,\"\",INDEX(HAMARA!I:I,MATCH(B2483,HAMARA!E:E,0))),\"\")","v":""}]
[1433,"BT761",0,{"$f":"IFERROR(IF(INDEX(HAMARA!I:I,MATCH(B2484,HAMARA!E:E,0))=0,\"\",INDEX(HAMARA!I:I,MATCH(B2484,HAMARA!E:E,0))),\"\")","v":""}]
[1433,"BT762",0,{"$f":"IFERROR(IF(INDEX(HAMARA!I:I,MATCH(B2485,HAMARA!E:E,0))=0,\"\",INDEX(HAMARA!I:I,MATCH(B2485,HAMARA!E:E,0))),\"\")","v":""}]
[1433,"BT763",0,{"$f":"IFERROR(IF(INDEX(HAMARA!I:I,MATCH(B2486,HAMARA!E:E,0))=0,\"\",INDEX(HAMARA!I:I,MATCH(B2486,HAMARA!E:E,0))),\"\")","v":""}]
[1433,"BT764",0,{"$f":"IFERROR(IF(INDEX(HAMARA!I:I,MATCH(B2487,HAMARA!E:E,0))=0,\"\",INDEX(HAMARA!I:I,MATCH(B2487,HAMARA!E:E,0))),\"\")","v":""}]
[1433,"BT83",3.855,{"$f":"IFERROR(IF(INDEX(HAMARA!I:I,MATCH(B2488,HAMARA!E:E,0))=0,\"\",INDEX(HAMARA!I:I,MATCH(B2488,HAMARA!E:E,0))),\"\")","v":""}]
[1433,"BT634",0.05,{"$f":"IFERROR(IF(INDEX(HAMARA!I:I,MATCH(B2489,HAMARA!E:E,0))=0,\"\",INDEX(HAMARA!I:I,MATCH(B2489,HAMARA!E:E,0))),\"\")","v":""}]
[1433,"BT80",0,{"$f":"IFERROR(IF(INDEX(HAMARA!I:I,MATCH(B2490,HAMARA!E:E,0))=0,\"\",INDEX(HAMARA!I:I,MATCH(B2490,HAMARA!E:E,0))),\"\")","v":""}]
[1433,"K2",0,{"$f":"IFERROR(IF(INDEX(HAMARA!I:I,MATCH(B2491,HAMARA!E:E,0))=0,\"\",INDEX(HAMARA!I:I,MATCH(B2491,HAMARA!E:E,0))),\"\")","v":""}]
[1433,"KT712",0,{"$f":"IFERROR(IF(INDEX(HAMARA!I:I,MATCH(B2492,HAMARA!E:E,0))=0,\"\",INDEX(HAMARA!I:I,MATCH(B2492,HAMARA!E:E,0))),\"\")","v":""}]
[1433,"KT1",0,{"$f":"IFERROR(IF(INDEX(HAMARA!I:I,MATCH(B2493,HAMARA!E:E,0))=0,\"\",INDEX(HAMARA!I:I,MATCH(B2493,HAMARA!E:E,0))),\"\")","v":""}]
[1433,"KT713",0,{"$f":"IFERROR(IF(INDEX(HAMARA!I:I,MATCH(B2494,HAMARA!E:E,0))=0,\"\",INDEX(HAMARA!I:I,MATCH(B2494,HAMARA!E:E,0))),\"\")","v":""}]
[1433,"KT307",2201.7809999999999,{"$f":"IFERROR(IF(INDEX(HAMARA!I:I,MATCH(B2495,HAMARA!E:E,0))=0,\"\",INDEX(HAMARA!I:I,MATCH(B2495,HAMARA!E:E,0))),\"\")","v":""}]
[1433,"KT311",6772.62,{"$f":"IFERROR(IF(INDEX(HAMARA!I:I,MATCH(B2496,HAMARA!E:E,0))=0,\"\",INDEX(HAMARA!I:I,MATCH(B2496,HAMARA!E:E,0))),\"\")","v":""}]
[1433,"KT308",0,{"$f":"IFERROR(IF(INDEX(HAMARA!I:I,MATCH(B2497,HAMARA!E:E,0))=0,\"\",INDEX(HAMARA!I:I,MATCH(B2497,HAMARA!E:E,0))),\"\")","v":""}]
[1433,"KT3",0,{"$f":"IFERROR(IF(INDEX(HAMARA!I:I,MATCH(B2498,HAMARA!E:E,0))=0,\"\",INDEX(HAMARA!I:I,MATCH(B2498,HAMARA!E:E,0))),\"\")","v":""}]
[1433,"KT714",0,{"$f":"IFERROR(IF(INDEX(HAMARA!I:I,MATCH(B2499,HAMARA!E:E,0))=0,\"\",INDEX(HAMARA!I:I,MATCH(B2499,HAMARA!E:E,0))),\"\")","v":""}]
[1433,"KT991",0,{"$f":"IFERROR(IF(INDEX(HAMARA!I:I,MATCH(B2500,HAMARA!E:E,0))=0,\"\",INDEX(HAMARA!I:I,MATCH(B2500,HAMARA!E:E,0))),\"\")","v":""}]
[1433,"KT992",0,{"$f":"IFERROR(IF(INDEX(HAMARA!I:I,MATCH(B2501,HAMARA!E:E,0))=0,\"\",INDEX(HAMARA!I:I,MATCH(B2501,HAMARA!E:E,0))),\"\")","v":""}]
[1433,"KT993",0,{"$f":"IFERROR(IF(INDEX(HAMARA!I:I,MATCH(B2502,HAMARA!E:E,0))=0,\"\",INDEX(HAMARA!I:I,MATCH(B2502,HAMARA!E:E,0))),\"\")","v":""}]
[1433,"KT28",0,{"$f":"IFERROR(IF(INDEX(HAMARA!I:I,MATCH(B2503,HAMARA!E:E,0))=0,\"\",INDEX(HAMARA!I:I,MATCH(B2503,HAMARA!E:E,0))),\"\")","v":""}]
[1433,"KT53",0,{"$f":"IFERROR(IF(INDEX(HAMARA!I:I,MATCH(B2504,HAMARA!E:E,0))=0,\"\",INDEX(HAMARA!I:I,MATCH(B2504,HAMARA!E:E,0))),\"\")","v":""}]
[1433,"KT54",0,{"$f":"IFERROR(IF(INDEX(HAMARA!I:I,MATCH(B2505,HAMARA!E:E,0))=0,\"\",INDEX(HAMARA!I:I,MATCH(B2505,HAMARA!E:E,0))),\"\")","v":""}]
[1433,"KT55",0,{"$f":"IFERROR(IF(INDEX(HAMARA!I:I,MATCH(B2506,HAMARA!E:E,0))=0,\"\",INDEX(HAMARA!I:I,MATCH(B2506,HAMARA!E:E,0))),\"\")","v":""}]
[1433,"KT56",0,{"$f":"IFERROR(IF(INDEX(HAMARA!I:I,MATCH(B2507,HAMARA!E:E,0))=0,\"\",INDEX(HAMARA!I:I,MATCH(B2507,HAMARA!E:E,0))),\"\")","v":""}]
[1433,"KT57",0,{"$f":"IFERROR(IF(INDEX(HAMARA!I:I,MATCH(B2508,HAMARA!E:E,0))=0,\"\",INDEX(HAMARA!I:I,MATCH(B2508,HAMARA!E:E,0))),\"\")","v":""}]
[1433,"KT58",6253.7160000000003,{"$f":"IFERROR(IF(INDEX(HAMARA!I:I,MATCH(B2509,HAMARA!E:E,0))=0,\"\",INDEX(HAMARA!I:I,MATCH(B2509,HAMARA!E:E,0))),\"\")","v":""}]
[1433,"KT59",0,{"$f":"IFERROR(IF(INDEX(HAMARA!I:I,MATCH(B2510,HAMARA!E:E,0))=0,\"\",INDEX(HAMARA!I:I,MATCH(B2510,HAMARA!E:E,0))),\"\")","v":""}]
[1433,"KT60",0,{"$f":"IFERROR(IF(INDEX(HAMARA!I:I,MATCH(B2511,HAMARA!E:E,0))=0,\"\",INDEX(HAMARA!I:I,MATCH(B2511,HAMARA!E:E,0))),\"\")","v":""}]
[1433,"KT705",0,{"$f":"IFERROR(IF(INDEX(HAMARA!I:I,MATCH(B2512,HAMARA!E:E,0))=0,\"\",INDEX(HAMARA!I:I,MATCH(B2512,HAMARA!E:E,0))),\"\")","v":""}]
[1433,"KT706",0,{"$f":"IFERROR(IF(INDEX(HAMARA!I:I,MATCH(B2513,HAMARA!E:E,0))=0,\"\",INDEX(HAMARA!I:I,MATCH(B2513,HAMARA!E:E,0))),\"\")","v":""}]
[1433,"KT707",1,{"$f":"IFERROR(IF(INDEX(HAMARA!I:I,MATCH(B2514,HAMARA!E:E,0))=0,\"\",INDEX(HAMARA!I:I,MATCH(B2514,HAMARA!E:E,0))),\"\")","v":""}]
[1433,"KT708",0,{"$f":"IFERROR(IF(INDEX(HAMARA!I:I,MATCH(B2515,HAMARA!E:E,0))=0,\"\",INDEX(HAMARA!I:I,MATCH(B2515,HAMARA!E:E,0))),\"\")","v":""}]
[1433,"KT709",0,{"$f":"IFERROR(IF(INDEX(HAMARA!I:I,MATCH(B2516,HAMARA!E:E,0))=0,\"\",INDEX(HAMARA!I:I,MATCH(B2516,HAMARA!E:E,0))),\"\")","v":""}]
[1433,"KT710",0,{"$f":"IFERROR(IF(INDEX(HAMARA!I:I,MATCH(B2517,HAMARA!E:E,0))=0,\"\",INDEX(HAMARA!I:I,MATCH(B2517,HAMARA!E:E,0))),\"\")","v":""}]
[1433,"KT314",30.16,{"$f":"IFERROR(IF(INDEX(HAMARA!I:I,MATCH(B2518,HAMARA!E:E,0))=0,\"\",INDEX(HAMARA!I:I,MATCH(B2518,HAMARA!E:E,0))),\"\")","v":""}]
[1433,"KT72",69.450999999999993,{"$f":"IFERROR(IF(INDEX(HAMARA!I:I,MATCH(B2519,HAMARA!E:E,0))=0,\"\",INDEX(HAMARA!I:I,MATCH(B2519,HAMARA!E:E,0))),\"\")","v":""}]
[1433,"EA",88.921999999999997,{"$f":"IFERROR(IF(INDEX(HAMARA!I:I,MATCH(B2520,HAMARA!E:E,0))=0,\"\",INDEX(HAMARA!I:I,MATCH(B2520,HAMARA!E:E,0))),\"\")","v":""}]
[1433,"KT10",0,{"$f":"IFERROR(IF(INDEX(HAMARA!I:I,MATCH(B2521,HAMARA!E:E,0))=0,\"\",INDEX(HAMARA!I:I,MATCH(B2521,HAMARA!E:E,0))),\"\")","v":""}]
[1433,"KT37",0,{"$f":"IFERROR(IF(INDEX(HAMARA!I:I,MATCH(B2522,HAMARA!E:E,0))=0,\"\",INDEX(HAMARA!I:I,MATCH(B2522,HAMARA!E:E,0))),\"\")","v":""}]
[1433,"KT22",0.88,{"$f":"IFERROR(IF(INDEX(HAMARA!I:I,MATCH(B2523,HAMARA!E:E,0))=0,\"\",INDEX(HAMARA!I:I,MATCH(B2523,HAMARA!E:E,0))),\"\")","v":""}]
[1433,"KT51",6.7430000000000003,{"$f":"IFERROR(IF(INDEX(HAMARA!I:I,MATCH(B2524,HAMARA!E:E,0))=0,\"\",INDEX(HAMARA!I:I,MATCH(B2524,HAMARA!E:E,0))),\"\")","v":""}]
[1433,"KT502",78.25,{"$f":"IFERROR(IF(INDEX(HAMARA!I:I,MATCH(B2525,HAMARA!E:E,0))=0,\"\",INDEX(HAMARA!I:I,MATCH(B2525,HAMARA!E:E,0))),\"\")","v":""}]
[1433,"KT503",586.85299999999995,{"$f":"IFERROR(IF(INDEX(HAMARA!I:I,MATCH(B2526,HAMARA!E:E,0))=0,\"\",INDEX(HAMARA!I:I,MATCH(B2526,HAMARA!E:E,0))),\"\")","v":""}]
[1433,"KT14",0,{"$f":"IFERROR(IF(INDEX(HAMARA!I:I,MATCH(B2527,HAMARA!E:E,0))=0,\"\",INDEX(HAMARA!I:I,MATCH(B2527,HAMARA!E:E,0))),\"\")","v":""}]
[1433,"KT15",0,{"$f":"IFERROR(IF(INDEX(HAMARA!I:I,MATCH(B2528,HAMARA!E:E,0))=0,\"\",INDEX(HAMARA!I:I,MATCH(B2528,HAMARA!E:E,0))),\"\")","v":""}]
[1433,"KT70",0,{"$f":"IFERROR(IF(INDEX(HAMARA!I:I,MATCH(B2529,HAMARA!E:E,0))=0,\"\",INDEX(HAMARA!I:I,MATCH(B2529,HAMARA!E:E,0))),\"\")","v":""}]
[1433,"KT71",0,{"$f":"IFERROR(IF(INDEX(HAMARA!I:I,MATCH(B2530,HAMARA!E:E,0))=0,\"\",INDEX(HAMARA!I:I,MATCH(B2530,HAMARA!E:E,0))),\"\")","v":""}]
[1433,"KT946",0,{"$f":"IFERROR(IF(INDEX(HAMARA!I:I,MATCH(B2531,HAMARA!E:E,0))=0,\"\",INDEX(HAMARA!I:I,MATCH(B2531,HAMARA!E:E,0))),\"\")","v":""}]
[1433,"KT947",0,{"$f":"IFERROR(IF(INDEX(HAMARA!I:I,MATCH(B2532,HAMARA!E:E,0))=0,\"\",INDEX(HAMARA!I:I,MATCH(B2532,HAMARA!E:E,0))),\"\")","v":""}]
[1433,"KT948",0,{"$f":"IFERROR(IF(INDEX(HAMARA!I:I,MATCH(B2533,HAMARA!E:E,0))=0,\"\",INDEX(HAMARA!I:I,MATCH(B2533,HAMARA!E:E,0))),\"\")","v":""}]
[1433,"KT324",0,{"$f":"IFERROR(IF(INDEX(HAMARA!I:I,MATCH(B2534,HAMARA!E:E,0))=0,\"\",INDEX(HAMARA!I:I,MATCH(B2534,HAMARA!E:E,0))),\"\")","v":""}]
[1433,"KT950",0,{"$f":"IFERROR(IF(INDEX(HAMARA!I:I,MATCH(B2535,HAMARA!E:E,0))=0,\"\",INDEX(HAMARA!I:I,MATCH(B2535,HAMARA!E:E,0))),\"\")","v":""}]
[1433,"KT951",0,{"$f":"IFERROR(IF(INDEX(HAMARA!I:I,MATCH(B2536,HAMARA!E:E,0))=0,\"\",INDEX(HAMARA!I:I,MATCH(B2536,HAMARA!E:E,0))),\"\")","v":""}]
[1433,"KT949",0,{"$f":"IFERROR(IF(INDEX(HAMARA!I:I,MATCH(B2537,HAMARA!E:E,0))=0,\"\",INDEX(HAMARA!I:I,MATCH(B2537,HAMARA!E:E,0))),\"\")","v":""}]
[1433,"KT411",0,{"$f":"IFERROR(IF(INDEX(HAMARA!I:I,MATCH(B2538,HAMARA!E:E,0))=0,\"\",INDEX(HAMARA!I:I,MATCH(B2538,HAMARA!E:E,0))),\"\")","v":""}]
[1433,"KT74",0,{"$f":"IFERROR(IF(INDEX(HAMARA!I:I,MATCH(B2539,HAMARA!E:E,0))=0,\"\",INDEX(HAMARA!I:I,MATCH(B2539,HAMARA!E:E,0))),\"\")","v":""}]
[1433,"KT604",0,{"$f":"IFERROR(IF(INDEX(HAMARA!I:I,MATCH(B2540,HAMARA!E:E,0))=0,\"\",INDEX(HAMARA!I:I,MATCH(B2540,HAMARA!E:E,0))),\"\")","v":""}]
[1433,"KT62",0,{"$f":"IFERROR(IF(INDEX(HAMARA!I:I,MATCH(B2541,HAMARA!E:E,0))=0,\"\",INDEX(HAMARA!I:I,MATCH(B2541,HAMARA!E:E,0))),\"\")","v":""}]
[1433,"KT551",0,{"$f":"IFERROR(IF(INDEX(HAMARA!I:I,MATCH(B2542,HAMARA!E:E,0))=0,\"\",INDEX(HAMARA!I:I,MATCH(B2542,HAMARA!E:E,0))),\"\")","v":""}]
[1433,"KT605",3,{"$f":"IFERROR(IF(INDEX(HAMARA!I:I,MATCH(B2543,HAMARA!E:E,0))=0,\"\",INDEX(HAMARA!I:I,MATCH(B2543,HAMARA!E:E,0))),\"\")","v":""}]
[1433,"KT21",0,{"$f":"IFERROR(IF(INDEX(HAMARA!I:I,MATCH(B2544,HAMARA!E:E,0))=0,\"\",INDEX(HAMARA!I:I,MATCH(B2544,HAMARA!E:E,0))),\"\")","v":""}]
[1433,"KT941",0,{"$f":"IFERROR(IF(INDEX(HAMARA!I:I,MATCH(B2545,HAMARA!E:E,0))=0,\"\",INDEX(HAMARA!I:I,MATCH(B2545,HAMARA!E:E,0))),\"\")","v":""}]
[1433,"KT20",0,{"$f":"IFERROR(IF(INDEX(HAMARA!I:I,MATCH(B2546,HAMARA!E:E,0))=0,\"\",INDEX(HAMARA!I:I,MATCH(B2546,HAMARA!E:E,0))),\"\")","v":""}]
[1433,"KT942",0,{"$f":"IFERROR(IF(INDEX(HAMARA!I:I,MATCH(B2547,HAMARA!E:E,0))=0,\"\",INDEX(HAMARA!I:I,MATCH(B2547,HAMARA!E:E,0))),\"\")","v":""}]
[1433,"KT303",0,{"$f":"IFERROR(IF(INDEX(HAMARA!I:I,MATCH(B2548,HAMARA!E:E,0))=0,\"\",INDEX(HAMARA!I:I,MATCH(B2548,HAMARA!E:E,0))),\"\")","v":""}]
[1433,"KT304",0,{"$f":"IFERROR(IF(INDEX(HAMARA!I:I,MATCH(B2549,HAMARA!E:E,0))=0,\"\",INDEX(HAMARA!I:I,MATCH(B2549,HAMARA!E:E,0))),\"\")","v":""}]
[1433,"KT716",0,{"$f":"IFERROR(IF(INDEX(HAMARA!I:I,MATCH(B2550,HAMARA!E:E,0))=0,\"\",INDEX(HAMARA!I:I,MATCH(B2550,HAMARA!E:E,0))),\"\")","v":""}]
[1433,"KT305",-91.45,{"$f":"IFERROR(IF(INDEX(HAMARA!I:I,MATCH(B2551,HAMARA!E:E,0))=0,\"\",INDEX(HAMARA!I:I,MATCH(B2551,HAMARA!E:E,0))),\"\")","v":""}]
[1433,"KT461",0,{"$f":"IFERROR(IF(INDEX(HAMARA!I:I,MATCH(B2552,HAMARA!E:E,0))=0,\"\",INDEX(HAMARA!I:I,MATCH(B2552,HAMARA!E:E,0))),\"\")","v":""}]
[1433,"KT717",0,{"$f":"IFERROR(IF(INDEX(HAMARA!I:I,MATCH(B2553,HAMARA!E:E,0))=0,\"\",INDEX(HAMARA!I:I,MATCH(B2553,HAMARA!E:E,0))),\"\")","v":""}]
[1433,"KT548",0,{"$f":"IFERROR(IF(INDEX(HAMARA!I:I,MATCH(B2554,HAMARA!E:E,0))=0,\"\",INDEX(HAMARA!I:I,MATCH(B2554,HAMARA!E:E,0))),\"\")","v":""}]
[1433,"KT549",0,{"$f":"IFERROR(IF(INDEX(HAMARA!I:I,MATCH(B2555,HAMARA!E:E,0))=0,\"\",INDEX(HAMARA!I:I,MATCH(B2555,HAMARA!E:E,0))),\"\")","v":""}]
[1433,"KT550",0,{"$f":"IFERROR(IF(INDEX(HAMARA!I:I,MATCH(B2556,HAMARA!E:E,0))=0,\"\",INDEX(HAMARA!I:I,MATCH(B2556,HAMARA!E:E,0))),\"\")","v":""}]
[1433,"KT761",2057.9650000000001,{"$f":"IFERROR(IF(INDEX(HAMARA!I:I,MATCH(B2557,HAMARA!E:E,0))=0,\"\",INDEX(HAMARA!I:I,MATCH(B2557,HAMARA!E:E,0))),\"\")","v":""}]
[1433,"KT762",1495.925,{"$f":"IFERROR(IF(INDEX(HAMARA!I:I,MATCH(B2558,HAMARA!E:E,0))=0,\"\",INDEX(HAMARA!I:I,MATCH(B2558,HAMARA!E:E,0))),\"\")","v":""}]
[1433,"KT763",1493.35,{"$f":"IFERROR(IF(INDEX(HAMARA!I:I,MATCH(B2559,HAMARA!E:E,0))=0,\"\",INDEX(HAMARA!I:I,MATCH(B2559,HAMARA!E:E,0))),\"\")","v":""}]
[1433,"KT943",2057.9650000000001,{"$f":"IFERROR(IF(INDEX(HAMARA!I:I,MATCH(B2560,HAMARA!E:E,0))=0,\"\",INDEX(HAMARA!I:I,MATCH(B2560,HAMARA!E:E,0))),\"\")","v":""}]
[1433,"KT944",1506.626,{"$f":"IFERROR(IF(INDEX(HAMARA!I:I,MATCH(B2561,HAMARA!E:E,0))=0,\"\",INDEX(HAMARA!I:I,MATCH(B2561,HAMARA!E:E,0))),\"\")","v":""}]
[1433,"KT945",1509.2249999999999,{"$f":"IFERROR(IF(INDEX(HAMARA!I:I,MATCH(B2562,HAMARA!E:E,0))=0,\"\",INDEX(HAMARA!I:I,MATCH(B2562,HAMARA!E:E,0))),\"\")","v":""}]
[1433,"KT606",0,{"$f":"IFERROR(IF(INDEX(HAMARA!I:I,MATCH(B2563,HAMARA!E:E,0))=0,\"\",INDEX(HAMARA!I:I,MATCH(B2563,HAMARA!E:E,0))),\"\")","v":""}]
[1433,"KT530",0,{"$f":"IFERROR(IF(INDEX(HAMARA!I:I,MATCH(B2564,HAMARA!E:E,0))=0,\"\",INDEX(HAMARA!I:I,MATCH(B2564,HAMARA!E:E,0))),\"\")","v":""}]
[1433,"KT547",0,{"$f":"IFERROR(IF(INDEX(HAMARA!I:I,MATCH(B2565,HAMARA!E:E,0))=0,\"\",INDEX(HAMARA!I:I,MATCH(B2565,HAMARA!E:E,0))),\"\")","v":""}]
[1433,"KT932",0,{"$f":"IFERROR(IF(INDEX(HAMARA!I:I,MATCH(B2566,HAMARA!E:E,0))=0,\"\",INDEX(HAMARA!I:I,MATCH(B2566,HAMARA!E:E,0))),\"\")","v":""}]
[1433,"KT933",0,{"$f":"IFERROR(IF(INDEX(HAMARA!I:I,MATCH(B2567,HAMARA!E:E,0))=0,\"\",INDEX(HAMARA!I:I,MATCH(B2567,HAMARA!E:E,0))),\"\")","v":""}]
[1433,"KT934",0,{"$f":"IFERROR(IF(INDEX(HAMARA!I:I,MATCH(B2568,HAMARA!E:E,0))=0,\"\",INDEX(HAMARA!I:I,MATCH(B2568,HAMARA!E:E,0))),\"\")","v":""}]
[1433,"KT935",0,{"$f":"IFERROR(IF(INDEX(HAMARA!I:I,MATCH(B2569,HAMARA!E:E,0))=0,\"\",INDEX(HAMARA!I:I,MATCH(B2569,HAMARA!E:E,0))),\"\")","v":""}]
[1433,"KT936",0,{"$f":"IFERROR(IF(INDEX(HAMARA!I:I,MATCH(B2570,HAMARA!E:E,0))=0,\"\",INDEX(HAMARA!I:I,MATCH(B2570,HAMARA!E:E,0))),\"\")","v":""}]
[1433,"KT937",0,{"$f":"IFERROR(IF(INDEX(HAMARA!I:I,MATCH(B2571,HAMARA!E:E,0))=0,\"\",INDEX(HAMARA!I:I,MATCH(B2571,HAMARA!E:E,0))),\"\")","v":""}]
[1433,"KT938",0,{"$f":"IFERROR(IF(INDEX(HAMARA!I:I,MATCH(B2572,HAMARA!E:E,0))=0,\"\",INDEX(HAMARA!I:I,MATCH(B2572,HAMARA!E:E,0))),\"\")","v":""}]
[1433,"KT939",0,{"$f":"IFERROR(IF(INDEX(HAMARA!I:I,MATCH(B2573,HAMARA!E:E,0))=0,\"\",INDEX(HAMARA!I:I,MATCH(B2573,HAMARA!E:E,0))),\"\")","v":""}]
[1433,"KT940",0,{"$f":"IFERROR(IF(INDEX(HAMARA!I:I,MATCH(B2574,HAMARA!E:E,0))=0,\"\",INDEX(HAMARA!I:I,MATCH(B2574,HAMARA!E:E,0))),\"\")","v":""}]
[1433,"KT600",0,{"$f":"IFERROR(IF(INDEX(HAMARA!I:I,MATCH(B2575,HAMARA!E:E,0))=0,\"\",INDEX(HAMARA!I:I,MATCH(B2575,HAMARA!E:E,0))),\"\")","v":""}]
[1433,"ZT101",8857.6360000000004,{"$f":"IFERROR(IF(INDEX(HAMARA!I:I,MATCH(B2576,HAMARA!E:E,0))=0,\"\",INDEX(HAMARA!I:I,MATCH(B2576,HAMARA!E:E,0))),\"\")","v":""}]
[1433,"ZT102",8857.6360000000004,{"$f":"IFERROR(IF(INDEX(HAMARA!I:I,MATCH(B2577,HAMARA!E:E,0))=0,\"\",INDEX(HAMARA!I:I,MATCH(B2577,HAMARA!E:E,0))),\"\")","v":""}]
[1433,"ZT103",8857.6360000000004,{"$f":"IFERROR(IF(INDEX(HAMARA!I:I,MATCH(B2578,HAMARA!E:E,0))=0,\"\",INDEX(HAMARA!I:I,MATCH(B2578,HAMARA!E:E,0))),\"\")","v":""}]
[1433,"ZT104",8857.6360000000004,{"$f":"IFERROR(IF(INDEX(HAMARA!I:I,MATCH(B2579,HAMARA!E:E,0))=0,\"\",INDEX(HAMARA!I:I,MATCH(B2579,HAMARA!E:E,0))),\"\")","v":""}]
[1433,"ZT105",8889.9120000000003,{"$f":"IFERROR(IF(INDEX(HAMARA!I:I,MATCH(B2580,HAMARA!E:E,0))=0,\"\",INDEX(HAMARA!I:I,MATCH(B2580,HAMARA!E:E,0))),\"\")","v":""}]
[1433,"ZT106",8889.9120000000003,{"$f":"IFERROR(IF(INDEX(HAMARA!I:I,MATCH(B2581,HAMARA!E:E,0))=0,\"\",INDEX(HAMARA!I:I,MATCH(B2581,HAMARA!E:E,0))),\"\")","v":""}]
[1433,"ZT107",8889.9120000000003,{"$f":"IFERROR(IF(INDEX(HAMARA!I:I,MATCH(B2582,HAMARA!E:E,0))=0,\"\",INDEX(HAMARA!I:I,MATCH(B2582,HAMARA!E:E,0))),\"\")","v":""}]
[1433,"ZT108",8879.6219999999994,{"$f":"IFERROR(IF(INDEX(HAMARA!I:I,MATCH(B2583,HAMARA!E:E,0))=0,\"\",INDEX(HAMARA!I:I,MATCH(B2583,HAMARA!E:E,0))),\"\")","v":""}]
[1433,"ZT109",8902.3379999999997,{"$f":"IFERROR(IF(INDEX(HAMARA!I:I,MATCH(B2584,HAMARA!E:E,0))=0,\"\",INDEX(HAMARA!I:I,MATCH(B2584,HAMARA!E:E,0))),\"\")","v":""}]
[1433,"ZT110",8902.3379999999997,{"$f":"IFERROR(IF(INDEX(HAMARA!I:I,MATCH(B2585,HAMARA!E:E,0))=0,\"\",INDEX(HAMARA!I:I,MATCH(B2585,HAMARA!E:E,0))),\"\")","v":""}]
[1433,"ZT111",8902.3379999999997,{"$f":"IFERROR(IF(INDEX(HAMARA!I:I,MATCH(B2586,HAMARA!E:E,0))=0,\"\",INDEX(HAMARA!I:I,MATCH(B2586,HAMARA!E:E,0))),\"\")","v":""}]
[1433,"ZT112",8887.3469999999998,{"$f":"IFERROR(IF(INDEX(HAMARA!I:I,MATCH(B2587,HAMARA!E:E,0))=0,\"\",INDEX(HAMARA!I:I,MATCH(B2587,HAMARA!E:E,0))),\"\")","v":""}]
[1433,"ZT113",8887.3469999999998,{"$f":"IFERROR(IF(INDEX(HAMARA!I:I,MATCH(B2588,HAMARA!E:E,0))=0,\"\",INDEX(HAMARA!I:I,MATCH(B2588,HAMARA!E:E,0))),\"\")","v":""}]
[1433,"ZT114",8887.3469999999998,{"$f":"IFERROR(IF(INDEX(HAMARA!I:I,MATCH(B2589,HAMARA!E:E,0))=0,\"\",INDEX(HAMARA!I:I,MATCH(B2589,HAMARA!E:E,0))),\"\")","v":""}]
[1433,"ZT115",8951.9570000000003,{"$f":"IFERROR(IF(INDEX(HAMARA!I:I,MATCH(B2590,HAMARA!E:E,0))=0,\"\",INDEX(HAMARA!I:I,MATCH(B2590,HAMARA!E:E,0))),\"\")","v":""}]
[1433,"ZT116",8969.17,{"$f":"IFERROR(IF(INDEX(HAMARA!I:I,MATCH(B2591,HAMARA!E:E,0))=0,\"\",INDEX(HAMARA!I:I,MATCH(B2591,HAMARA!E:E,0))),\"\")","v":""}]
[1433,"ZT117",8969.17,{"$f":"IFERROR(IF(INDEX(HAMARA!I:I,MATCH(B2592,HAMARA!E:E,0))=0,\"\",INDEX(HAMARA!I:I,MATCH(B2592,HAMARA!E:E,0))),\"\")","v":""}]
[1433,"ZT118",8969.17,{"$f":"IFERROR(IF(INDEX(HAMARA!I:I,MATCH(B2593,HAMARA!E:E,0))=0,\"\",INDEX(HAMARA!I:I,MATCH(B2593,HAMARA!E:E,0))),\"\")","v":""}]
[1433,"ZT119",8972.2199999999993,{"$f":"IFERROR(IF(INDEX(HAMARA!I:I,MATCH(B2594,HAMARA!E:E,0))=0,\"\",INDEX(HAMARA!I:I,MATCH(B2594,HAMARA!E:E,0))),\"\")","v":""}]
[1433,"ZT120",8997.8459999999995,{"$f":"IFERROR(IF(INDEX(HAMARA!I:I,MATCH(B2595,HAMARA!E:E,0))=0,\"\",INDEX(HAMARA!I:I,MATCH(B2595,HAMARA!E:E,0))),\"\")","v":""}]
[1433,"ZT121",8980.6380000000008,{"$f":"IFERROR(IF(INDEX(HAMARA!I:I,MATCH(B2596,HAMARA!E:E,0))=0,\"\",INDEX(HAMARA!I:I,MATCH(B2596,HAMARA!E:E,0))),\"\")","v":""}]
[1433,"ZT122",8988.07,{"$f":"IFERROR(IF(INDEX(HAMARA!I:I,MATCH(B2597,HAMARA!E:E,0))=0,\"\",INDEX(HAMARA!I:I,MATCH(B2597,HAMARA!E:E,0))),\"\")","v":""}]
[1433,"ZT123",9013.26,{"$f":"IFERROR(IF(INDEX(HAMARA!I:I,MATCH(B2598,HAMARA!E:E,0))=0,\"\",INDEX(HAMARA!I:I,MATCH(B2598,HAMARA!E:E,0))),\"\")","v":""}]
[1433,"ZT124",9013.26,{"$f":"IFERROR(IF(INDEX(HAMARA!I:I,MATCH(B2599,HAMARA!E:E,0))=0,\"\",INDEX(HAMARA!I:I,MATCH(B2599,HAMARA!E:E,0))),\"\")","v":""}]
[1433,"ZT125",9013.26,{"$f":"IFERROR(IF(INDEX(HAMARA!I:I,MATCH(B2600,HAMARA!E:E,0))=0,\"\",INDEX(HAMARA!I:I,MATCH(B2600,HAMARA!E:E,0))),\"\")","v":""}]
[1433,"ZT126",9018.6620000000003,{"$f":"IFERROR(IF(INDEX(HAMARA!I:I,MATCH(B2601,HAMARA!E:E,0))=0,\"\",INDEX(HAMARA!I:I,MATCH(B2601,HAMARA!E:E,0))),\"\")","v":""}]
[1433,"ZT127",9018.7139999999999,{"$f":"IFERROR(IF(INDEX(HAMARA!I:I,MATCH(B2602,HAMARA!E:E,0))=0,\"\",INDEX(HAMARA!I:I,MATCH(B2602,HAMARA!E:E,0))),\"\")","v":""}]
[1433,"ZT128",9014.4509999999991,{"$f":"IFERROR(IF(INDEX(HAMARA!I:I,MATCH(B2603,HAMARA!E:E,0))=0,\"\",INDEX(HAMARA!I:I,MATCH(B2603,HAMARA!E:E,0))),\"\")","v":""}]
[1433,"ZT129",9025.9779999999992,{"$f":"IFERROR(IF(INDEX(HAMARA!I:I,MATCH(B2604,HAMARA!E:E,0))=0,\"\",INDEX(HAMARA!I:I,MATCH(B2604,HAMARA!E:E,0))),\"\")","v":""}]
[1433,"ZT130",9007.5409999999993,{"$f":"IFERROR(IF(INDEX(HAMARA!I:I,MATCH(B2605,HAMARA!E:E,0))=0,\"\",INDEX(HAMARA!I:I,MATCH(B2605,HAMARA!E:E,0))),\"\")","v":""}]
[1433,"ZT201",0,{"$f":"IFERROR(IF(INDEX(HAMARA!I:I,MATCH(B2606,HAMARA!E:E,0))=0,\"\",INDEX(HAMARA!I:I,MATCH(B2606,HAMARA!E:E,0))),\"\")","v":""}]
[1433,"ZT202",0,{"$f":"IFERROR(IF(INDEX(HAMARA!I:I,MATCH(B2607,HAMARA!E:E,0))=0,\"\",INDEX(HAMARA!I:I,MATCH(B2607,HAMARA!E:E,0))),\"\")","v":""}]
[1433,"ZT203",0,{"$f":"IFERROR(IF(INDEX(HAMARA!I:I,MATCH(B2608,HAMARA!E:E,0))=0,\"\",INDEX(HAMARA!I:I,MATCH(B2608,HAMARA!E:E,0))),\"\")","v":""}]
[1433,"ZT204",0,{"$f":"IFERROR(IF(INDEX(HAMARA!I:I,MATCH(B2609,HAMARA!E:E,0))=0,\"\",INDEX(HAMARA!I:I,MATCH(B2609,HAMARA!E:E,0))),\"\")","v":""}]
[1433,"ZT205",4.05,{"$f":"IFERROR(IF(INDEX(HAMARA!I:I,MATCH(B2610,HAMARA!E:E,0))=0,\"\",INDEX(HAMARA!I:I,MATCH(B2610,HAMARA!E:E,0))),\"\")","v":""}]
[1433,"ZT206",0,{"$f":"IFERROR(IF(INDEX(HAMARA!I:I,MATCH(B2611,HAMARA!E:E,0))=0,\"\",INDEX(HAMARA!I:I,MATCH(B2611,HAMARA!E:E,0))),\"\")","v":""}]
[1433,"ZT207",0,{"$f":"IFERROR(IF(INDEX(HAMARA!I:I,MATCH(B2612,HAMARA!E:E,0))=0,\"\",INDEX(HAMARA!I:I,MATCH(B2612,HAMARA!E:E,0))),\"\")","v":""}]
[1433,"ZT208",4.8239999999999998,{"$f":"IFERROR(IF(INDEX(HAMARA!I:I,MATCH(B2613,HAMARA!E:E,0))=0,\"\",INDEX(HAMARA!I:I,MATCH(B2613,HAMARA!E:E,0))),\"\")","v":""}]
[1433,"ZT209",4.2889999999999997,{"$f":"IFERROR(IF(INDEX(HAMARA!I:I,MATCH(B2614,HAMARA!E:E,0))=0,\"\",INDEX(HAMARA!I:I,MATCH(B2614,HAMARA!E:E,0))),\"\")","v":""}]
[1433,"ZT210",0,{"$f":"IFERROR(IF(INDEX(HAMARA!I:I,MATCH(B2615,HAMARA!E:E,0))=0,\"\",INDEX(HAMARA!I:I,MATCH(B2615,HAMARA!E:E,0))),\"\")","v":""}]
[1433,"ZT211",0,{"$f":"IFERROR(IF(INDEX(HAMARA!I:I,MATCH(B2616,HAMARA!E:E,0))=0,\"\",INDEX(HAMARA!I:I,MATCH(B2616,HAMARA!E:E,0))),\"\")","v":""}]
[1433,"ZT212",6.8330000000000002,{"$f":"IFERROR(IF(INDEX(HAMARA!I:I,MATCH(B2617,HAMARA!E:E,0))=0,\"\",INDEX(HAMARA!I:I,MATCH(B2617,HAMARA!E:E,0))),\"\")","v":""}]
[1433,"ZT213",0,{"$f":"IFERROR(IF(INDEX(HAMARA!I:I,MATCH(B2618,HAMARA!E:E,0))=0,\"\",INDEX(HAMARA!I:I,MATCH(B2618,HAMARA!E:E,0))),\"\")","v":""}]
[1433,"ZT214",0,{"$f":"IFERROR(IF(INDEX(HAMARA!I:I,MATCH(B2619,HAMARA!E:E,0))=0,\"\",INDEX(HAMARA!I:I,MATCH(B2619,HAMARA!E:E,0))),\"\")","v":""}]
[1433,"ZT215",11.047000000000001,{"$f":"IFERROR(IF(INDEX(HAMARA!I:I,MATCH(B2620,HAMARA!E:E,0))=0,\"\",INDEX(HAMARA!I:I,MATCH(B2620,HAMARA!E:E,0))),\"\")","v":""}]
[1433,"ZT216",36.81,{"$f":"IFERROR(IF(INDEX(HAMARA!I:I,MATCH(B2621,HAMARA!E:E,0))=0,\"\",INDEX(HAMARA!I:I,MATCH(B2621,HAMARA!E:E,0))),\"\")","v":""}]
[1433,"ZT217",0,{"$f":"IFERROR(IF(INDEX(HAMARA!I:I,MATCH(B2622,HAMARA!E:E,0))=0,\"\",INDEX(HAMARA!I:I,MATCH(B2622,HAMARA!E:E,0))),\"\")","v":""}]
[1433,"ZT218",0,{"$f":"IFERROR(IF(INDEX(HAMARA!I:I,MATCH(B2623,HAMARA!E:E,0))=0,\"\",INDEX(HAMARA!I:I,MATCH(B2623,HAMARA!E:E,0))),\"\")","v":""}]
[1433,"ZT219",5.6820000000000004,{"$f":"IFERROR(IF(INDEX(HAMARA!I:I,MATCH(B2624,HAMARA!E:E,0))=0,\"\",INDEX(HAMARA!I:I,MATCH(B2624,HAMARA!E:E,0))),\"\")","v":""}]
[1433,"ZT220",5.6440000000000001,{"$f":"IFERROR(IF(INDEX(HAMARA!I:I,MATCH(B2625,HAMARA!E:E,0))=0,\"\",INDEX(HAMARA!I:I,MATCH(B2625,HAMARA!E:E,0))),\"\")","v":""}]
[1433,"ZT221",1.8089999999999999,{"$f":"IFERROR(IF(INDEX(HAMARA!I:I,MATCH(B2626,HAMARA!E:E,0))=0,\"\",INDEX(HAMARA!I:I,MATCH(B2626,HAMARA!E:E,0))),\"\")","v":""}]
[1433,"ZT222",1.9530000000000001,{"$f":"IFERROR(IF(INDEX(HAMARA!I:I,MATCH(B2627,HAMARA!E:E,0))=0,\"\",INDEX(HAMARA!I:I,MATCH(B2627,HAMARA!E:E,0))),\"\")","v":""}]
[1433,"ZT223",3.8610000000000002,{"$f":"IFERROR(IF(INDEX(HAMARA!I:I,MATCH(B2628,HAMARA!E:E,0))=0,\"\",INDEX(HAMARA!I:I,MATCH(B2628,HAMARA!E:E,0))),\"\")","v":""}]
[1433,"ZT224",0,{"$f":"IFERROR(IF(INDEX(HAMARA!I:I,MATCH(B2629,HAMARA!E:E,0))=0,\"\",INDEX(HAMARA!I:I,MATCH(B2629,HAMARA!E:E,0))),\"\")","v":""}]
[1433,"ZT225",0,{"$f":"IFERROR(IF(INDEX(HAMARA!I:I,MATCH(B2630,HAMARA!E:E,0))=0,\"\",INDEX(HAMARA!I:I,MATCH(B2630,HAMARA!E:E,0))),\"\")","v":""}]
[1433,"ZT226",2.3E-2,{"$f":"IFERROR(IF(INDEX(HAMARA!I:I,MATCH(B2631,HAMARA!E:E,0))=0,\"\",INDEX(HAMARA!I:I,MATCH(B2631,HAMARA!E:E,0))),\"\")","v":""}]
[1433,"ZT227",0,{"$f":"IFERROR(IF(INDEX(HAMARA!I:I,MATCH(B2632,HAMARA!E:E,0))=0,\"\",INDEX(HAMARA!I:I,MATCH(B2632,HAMARA!E:E,0))),\"\")","v":""}]
[1433,"ZT228",0,{"$f":"IFERROR(IF(INDEX(HAMARA!I:I,MATCH(B2633,HAMARA!E:E,0))=0,\"\",INDEX(HAMARA!I:I,MATCH(B2633,HAMARA!E:E,0))),\"\")","v":""}]
[1433,"ZT229",0.65400000000000003,{"$f":"IFERROR(IF(INDEX(HAMARA!I:I,MATCH(B2634,HAMARA!E:E,0))=0,\"\",INDEX(HAMARA!I:I,MATCH(B2634,HAMARA!E:E,0))),\"\")","v":""}]
[1433,"ZT230",31.109000000000002,{"$f":"IFERROR(IF(INDEX(HAMARA!I:I,MATCH(B2635,HAMARA!E:E,0))=0,\"\",INDEX(HAMARA!I:I,MATCH(B2635,HAMARA!E:E,0))),\"\")","v":""}]
[1433,"ZT301",0,{"$f":"IFERROR(IF(INDEX(HAMARA!I:I,MATCH(B2636,HAMARA!E:E,0))=0,\"\",INDEX(HAMARA!I:I,MATCH(B2636,HAMARA!E:E,0))),\"\")","v":""}]
[1433,"ZT302",0,{"$f":"IFERROR(IF(INDEX(HAMARA!I:I,MATCH(B2637,HAMARA!E:E,0))=0,\"\",INDEX(HAMARA!I:I,MATCH(B2637,HAMARA!E:E,0))),\"\")","v":""}]
[1433,"ZT303",0,{"$f":"IFERROR(IF(INDEX(HAMARA!I:I,MATCH(B2638,HAMARA!E:E,0))=0,\"\",INDEX(HAMARA!I:I,MATCH(B2638,HAMARA!E:E,0))),\"\")","v":""}]
[1433,"ZT304",0,{"$f":"IFERROR(IF(INDEX(HAMARA!I:I,MATCH(B2639,HAMARA!E:E,0))=0,\"\",INDEX(HAMARA!I:I,MATCH(B2639,HAMARA!E:E,0))),\"\")","v":""}]
[1433,"ZT305",0,{"$f":"IFERROR(IF(INDEX(HAMARA!I:I,MATCH(B2640,HAMARA!E:E,0))=0,\"\",INDEX(HAMARA!I:I,MATCH(B2640,HAMARA!E:E,0))),\"\")","v":""}]
[1433,"ZT306",0,{"$f":"IFERROR(IF(INDEX(HAMARA!I:I,MATCH(B2641,HAMARA!E:E,0))=0,\"\",INDEX(HAMARA!I:I,MATCH(B2641,HAMARA!E:E,0))),\"\")","v":""}]
[1433,"ZT307",0,{"$f":"IFERROR(IF(INDEX(HAMARA!I:I,MATCH(B2642,HAMARA!E:E,0))=0,\"\",INDEX(HAMARA!I:I,MATCH(B2642,HAMARA!E:E,0))),\"\")","v":""}]
[1433,"ZT308",0,{"$f":"IFERROR(IF(INDEX(HAMARA!I:I,MATCH(B2643,HAMARA!E:E,0))=0,\"\",INDEX(HAMARA!I:I,MATCH(B2643,HAMARA!E:E,0))),\"\")","v":""}]
[1433,"ZT309",0,{"$f":"IFERROR(IF(INDEX(HAMARA!I:I,MATCH(B2644,HAMARA!E:E,0))=0,\"\",INDEX(HAMARA!I:I,MATCH(B2644,HAMARA!E:E,0))),\"\")","v":""}]
[1433,"ZT310",0,{"$f":"IFERROR(IF(INDEX(HAMARA!I:I,MATCH(B2645,HAMARA!E:E,0))=0,\"\",INDEX(HAMARA!I:I,MATCH(B2645,HAMARA!E:E,0))),\"\")","v":""}]
[1433,"ZT311",0,{"$f":"IFERROR(IF(INDEX(HAMARA!I:I,MATCH(B2646,HAMARA!E:E,0))=0,\"\",INDEX(HAMARA!I:I,MATCH(B2646,HAMARA!E:E,0))),\"\")","v":""}]
[1433,"ZT312",0,{"$f":"IFERROR(IF(INDEX(HAMARA!I:I,MATCH(B2647,HAMARA!E:E,0))=0,\"\",INDEX(HAMARA!I:I,MATCH(B2647,HAMARA!E:E,0))),\"\")","v":""}]
[1433,"ZT313",0,{"$f":"IFERROR(IF(INDEX(HAMARA!I:I,MATCH(B2648,HAMARA!E:E,0))=0,\"\",INDEX(HAMARA!I:I,MATCH(B2648,HAMARA!E:E,0))),\"\")","v":""}]
[1433,"ZT314",0,{"$f":"IFERROR(IF(INDEX(HAMARA!I:I,MATCH(B2649,HAMARA!E:E,0))=0,\"\",INDEX(HAMARA!I:I,MATCH(B2649,HAMARA!E:E,0))),\"\")","v":""}]
[1433,"ZT315",0,{"$f":"IFERROR(IF(INDEX(HAMARA!I:I,MATCH(B2650,HAMARA!E:E,0))=0,\"\",INDEX(HAMARA!I:I,MATCH(B2650,HAMARA!E:E,0))),\"\")","v":""}]
[1433,"ZT316",0,{"$f":"IFERROR(IF(INDEX(HAMARA!I:I,MATCH(B2651,HAMARA!E:E,0))=0,\"\",INDEX(HAMARA!I:I,MATCH(B2651,HAMARA!E:E,0))),\"\")","v":""}]
[1433,"ZT317",0,{"$f":"IFERROR(IF(INDEX(HAMARA!I:I,MATCH(B2652,HAMARA!E:E,0))=0,\"\",INDEX(HAMARA!I:I,MATCH(B2652,HAMARA!E:E,0))),\"\")","v":""}]
[1433,"ZT318",0,{"$f":"IFERROR(IF(INDEX(HAMARA!I:I,MATCH(B2653,HAMARA!E:E,0))=0,\"\",INDEX(HAMARA!I:I,MATCH(B2653,HAMARA!E:E,0))),\"\")","v":""}]
[1433,"ZT319",0,{"$f":"IFERROR(IF(INDEX(HAMARA!I:I,MATCH(B2654,HAMARA!E:E,0))=0,\"\",INDEX(HAMARA!I:I,MATCH(B2654,HAMARA!E:E,0))),\"\")","v":""}]
[1433,"ZT320",0,{"$f":"IFERROR(IF(INDEX(HAMARA!I:I,MATCH(B2655,HAMARA!E:E,0))=0,\"\",INDEX(HAMARA!I:I,MATCH(B2655,HAMARA!E:E,0))),\"\")","v":""}]
[1433,"ZT321",0,{"$f":"IFERROR(IF(INDEX(HAMARA!I:I,MATCH(B2656,HAMARA!E:E,0))=0,\"\",INDEX(HAMARA!I:I,MATCH(B2656,HAMARA!E:E,0))),\"\")","v":""}]
[1433,"ZT322",0,{"$f":"IFERROR(IF(INDEX(HAMARA!I:I,MATCH(B2657,HAMARA!E:E,0))=0,\"\",INDEX(HAMARA!I:I,MATCH(B2657,HAMARA!E:E,0))),\"\")","v":""}]
[1433,"ZT323",0,{"$f":"IFERROR(IF(INDEX(HAMARA!I:I,MATCH(B2658,HAMARA!E:E,0))=0,\"\",INDEX(HAMARA!I:I,MATCH(B2658,HAMARA!E:E,0))),\"\")","v":""}]
[1433,"ZT324",0,{"$f":"IFERROR(IF(INDEX(HAMARA!I:I,MATCH(B2659,HAMARA!E:E,0))=0,\"\",INDEX(HAMARA!I:I,MATCH(B2659,HAMARA!E:E,0))),\"\")","v":""}]
[1433,"ZT325",0,{"$f":"IFERROR(IF(INDEX(HAMARA!I:I,MATCH(B2660,HAMARA!E:E,0))=0,\"\",INDEX(HAMARA!I:I,MATCH(B2660,HAMARA!E:E,0))),\"\")","v":""}]
[1433,"ZT326",0,{"$f":"IFERROR(IF(INDEX(HAMARA!I:I,MATCH(B2661,HAMARA!E:E,0))=0,\"\",INDEX(HAMARA!I:I,MATCH(B2661,HAMARA!E:E,0))),\"\")","v":""}]
[1433,"ZT327",0,{"$f":"IFERROR(IF(INDEX(HAMARA!I:I,MATCH(B2662,HAMARA!E:E,0))=0,\"\",INDEX(HAMARA!I:I,MATCH(B2662,HAMARA!E:E,0))),\"\")","v":""}]
[1433,"ZT328",0,{"$f":"IFERROR(IF(INDEX(HAMARA!I:I,MATCH(B2663,HAMARA!E:E,0))=0,\"\",INDEX(HAMARA!I:I,MATCH(B2663,HAMARA!E:E,0))),\"\")","v":""}]
[1433,"ZT329",0,{"$f":"IFERROR(IF(INDEX(HAMARA!I:I,MATCH(B2664,HAMARA!E:E,0))=0,\"\",INDEX(HAMARA!I:I,MATCH(B2664,HAMARA!E:E,0))),\"\")","v":""}]
[1433,"ZT330",43.110999999999997,{"$f":"IFERROR(IF(INDEX(HAMARA!I:I,MATCH(B2665,HAMARA!E:E,0))=0,\"\",INDEX(HAMARA!I:I,MATCH(B2665,HAMARA!E:E,0))),\"\")","v":""}]
[1433,"ZT401",0,{"$f":"IFERROR(IF(INDEX(HAMARA!I:I,MATCH(B2666,HAMARA!E:E,0))=0,\"\",INDEX(HAMARA!I:I,MATCH(B2666,HAMARA!E:E,0))),\"\")","v":""}]
[1433,"ZT402",0,{"$f":"IFERROR(IF(INDEX(HAMARA!I:I,MATCH(B2667,HAMARA!E:E,0))=0,\"\",INDEX(HAMARA!I:I,MATCH(B2667,HAMARA!E:E,0))),\"\")","v":""}]
[1433,"ZT403",0,{"$f":"IFERROR(IF(INDEX(HAMARA!I:I,MATCH(B2668,HAMARA!E:E,0))=0,\"\",INDEX(HAMARA!I:I,MATCH(B2668,HAMARA!E:E,0))),\"\")","v":""}]
[1433,"ZT404",0,{"$f":"IFERROR(IF(INDEX(HAMARA!I:I,MATCH(B2669,HAMARA!E:E,0))=0,\"\",INDEX(HAMARA!I:I,MATCH(B2669,HAMARA!E:E,0))),\"\")","v":""}]
[1433,"ZT405",0,{"$f":"IFERROR(IF(INDEX(HAMARA!I:I,MATCH(B2670,HAMARA!E:E,0))=0,\"\",INDEX(HAMARA!I:I,MATCH(B2670,HAMARA!E:E,0))),\"\")","v":""}]
[1433,"ZT406",0,{"$f":"IFERROR(IF(INDEX(HAMARA!I:I,MATCH(B2671,HAMARA!E:E,0))=0,\"\",INDEX(HAMARA!I:I,MATCH(B2671,HAMARA!E:E,0))),\"\")","v":""}]
[1433,"ZT407",0,{"$f":"IFERROR(IF(INDEX(HAMARA!I:I,MATCH(B2672,HAMARA!E:E,0))=0,\"\",INDEX(HAMARA!I:I,MATCH(B2672,HAMARA!E:E,0))),\"\")","v":""}]
[1433,"ZT408",0,{"$f":"IFERROR(IF(INDEX(HAMARA!I:I,MATCH(B2673,HAMARA!E:E,0))=0,\"\",INDEX(HAMARA!I:I,MATCH(B2673,HAMARA!E:E,0))),\"\")","v":""}]
[1433,"ZT409",3.8109999999999999,{"$f":"IFERROR(IF(INDEX(HAMARA!I:I,MATCH(B2674,HAMARA!E:E,0))=0,\"\",INDEX(HAMARA!I:I,MATCH(B2674,HAMARA!E:E,0))),\"\")","v":""}]
[1433,"ZT410",0,{"$f":"IFERROR(IF(INDEX(HAMARA!I:I,MATCH(B2675,HAMARA!E:E,0))=0,\"\",INDEX(HAMARA!I:I,MATCH(B2675,HAMARA!E:E,0))),\"\")","v":""}]
[1433,"ZT411",0,{"$f":"IFERROR(IF(INDEX(HAMARA!I:I,MATCH(B2676,HAMARA!E:E,0))=0,\"\",INDEX(HAMARA!I:I,MATCH(B2676,HAMARA!E:E,0))),\"\")","v":""}]
[1433,"ZT412",0,{"$f":"IFERROR(IF(INDEX(HAMARA!I:I,MATCH(B2677,HAMARA!E:E,0))=0,\"\",INDEX(HAMARA!I:I,MATCH(B2677,HAMARA!E:E,0))),\"\")","v":""}]
[1433,"ZT413",0,{"$f":"IFERROR(IF(INDEX(HAMARA!I:I,MATCH(B2678,HAMARA!E:E,0))=0,\"\",INDEX(HAMARA!I:I,MATCH(B2678,HAMARA!E:E,0))),\"\")","v":""}]
[1433,"ZT414",0,{"$f":"IFERROR(IF(INDEX(HAMARA!I:I,MATCH(B2679,HAMARA!E:E,0))=0,\"\",INDEX(HAMARA!I:I,MATCH(B2679,HAMARA!E:E,0))),\"\")","v":""}]
[1433,"ZT415",1E-3,{"$f":"IFERROR(IF(INDEX(HAMARA!I:I,MATCH(B2680,HAMARA!E:E,0))=0,\"\",INDEX(HAMARA!I:I,MATCH(B2680,HAMARA!E:E,0))),\"\")","v":""}]
[1433,"ZT416",0,{"$f":"IFERROR(IF(INDEX(HAMARA!I:I,MATCH(B2681,HAMARA!E:E,0))=0,\"\",INDEX(HAMARA!I:I,MATCH(B2681,HAMARA!E:E,0))),\"\")","v":""}]
[1433,"ZT417",0,{"$f":"IFERROR(IF(INDEX(HAMARA!I:I,MATCH(B2682,HAMARA!E:E,0))=0,\"\",INDEX(HAMARA!I:I,MATCH(B2682,HAMARA!E:E,0))),\"\")","v":""}]
[1433,"ZT418",0,{"$f":"IFERROR(IF(INDEX(HAMARA!I:I,MATCH(B2683,HAMARA!E:E,0))=0,\"\",INDEX(HAMARA!I:I,MATCH(B2683,HAMARA!E:E,0))),\"\")","v":""}]
[1433,"ZT419",0,{"$f":"IFERROR(IF(INDEX(HAMARA!I:I,MATCH(B2684,HAMARA!E:E,0))=0,\"\",INDEX(HAMARA!I:I,MATCH(B2684,HAMARA!E:E,0))),\"\")","v":""}]
[1433,"ZT420",0,{"$f":"IFERROR(IF(INDEX(HAMARA!I:I,MATCH(B2685,HAMARA!E:E,0))=0,\"\",INDEX(HAMARA!I:I,MATCH(B2685,HAMARA!E:E,0))),\"\")","v":""}]
[1433,"ZT421",0,{"$f":"IFERROR(IF(INDEX(HAMARA!I:I,MATCH(B2686,HAMARA!E:E,0))=0,\"\",INDEX(HAMARA!I:I,MATCH(B2686,HAMARA!E:E,0))),\"\")","v":""}]
[1433,"ZT422",0,{"$f":"IFERROR(IF(INDEX(HAMARA!I:I,MATCH(B2687,HAMARA!E:E,0))=0,\"\",INDEX(HAMARA!I:I,MATCH(B2687,HAMARA!E:E,0))),\"\")","v":""}]
[1433,"ZT423",0,{"$f":"IFERROR(IF(INDEX(HAMARA!I:I,MATCH(B2688,HAMARA!E:E,0))=0,\"\",INDEX(HAMARA!I:I,MATCH(B2688,HAMARA!E:E,0))),\"\")","v":""}]
[1433,"ZT424",0,{"$f":"IFERROR(IF(INDEX(HAMARA!I:I,MATCH(B2689,HAMARA!E:E,0))=0,\"\",INDEX(HAMARA!I:I,MATCH(B2689,HAMARA!E:E,0))),\"\")","v":""}]
[1433,"ZT425",0,{"$f":"IFERROR(IF(INDEX(HAMARA!I:I,MATCH(B2690,HAMARA!E:E,0))=0,\"\",INDEX(HAMARA!I:I,MATCH(B2690,HAMARA!E:E,0))),\"\")","v":""}]
[1433,"ZT426",0,{"$f":"IFERROR(IF(INDEX(HAMARA!I:I,MATCH(B2691,HAMARA!E:E,0))=0,\"\",INDEX(HAMARA!I:I,MATCH(B2691,HAMARA!E:E,0))),\"\")","v":""}]
[1433,"ZT427",0,{"$f":"IFERROR(IF(INDEX(HAMARA!I:I,MATCH(B2692,HAMARA!E:E,0))=0,\"\",INDEX(HAMARA!I:I,MATCH(B2692,HAMARA!E:E,0))),\"\")","v":""}]
[1433,"ZT428",0,{"$f":"IFERROR(IF(INDEX(HAMARA!I:I,MATCH(B2693,HAMARA!E:E,0))=0,\"\",INDEX(HAMARA!I:I,MATCH(B2693,HAMARA!E:E,0))),\"\")","v":""}]
[1433,"ZT429",0,{"$f":"IFERROR(IF(INDEX(HAMARA!I:I,MATCH(B2694,HAMARA!E:E,0))=0,\"\",INDEX(HAMARA!I:I,MATCH(B2694,HAMARA!E:E,0))),\"\")","v":""}]
[1433,"ZT430",1.2999999999999999E-2,{"$f":"IFERROR(IF(INDEX(HAMARA!I:I,MATCH(B2695,HAMARA!E:E,0))=0,\"\",INDEX(HAMARA!I:I,MATCH(B2695,HAMARA!E:E,0))),\"\")","v":""}]
[1433,"ZT501",0,{"$f":"IFERROR(IF(INDEX(HAMARA!I:I,MATCH(B2696,HAMARA!E:E,0))=0,\"\",INDEX(HAMARA!I:I,MATCH(B2696,HAMARA!E:E,0))),\"\")","v":""}]
[1433,"ZT502",0,{"$f":"IFERROR(IF(INDEX(HAMARA!I:I,MATCH(B2697,HAMARA!E:E,0))=0,\"\",INDEX(HAMARA!I:I,MATCH(B2697,HAMARA!E:E,0))),\"\")","v":""}]
[1433,"ZT503",0,{"$f":"IFERROR(IF(INDEX(HAMARA!I:I,MATCH(B2698,HAMARA!E:E,0))=0,\"\",INDEX(HAMARA!I:I,MATCH(B2698,HAMARA!E:E,0))),\"\")","v":""}]
[1433,"ZT504",0,{"$f":"IFERROR(IF(INDEX(HAMARA!I:I,MATCH(B2699,HAMARA!E:E,0))=0,\"\",INDEX(HAMARA!I:I,MATCH(B2699,HAMARA!E:E,0))),\"\")","v":""}]
[1433,"ZT505",0.31900000000000001,{"$f":"IFERROR(IF(INDEX(HAMARA!I:I,MATCH(B2700,HAMARA!E:E,0))=0,\"\",INDEX(HAMARA!I:I,MATCH(B2700,HAMARA!E:E,0))),\"\")","v":""}]
[1433,"ZT506",0,{"$f":"IFERROR(IF(INDEX(HAMARA!I:I,MATCH(B2701,HAMARA!E:E,0))=0,\"\",INDEX(HAMARA!I:I,MATCH(B2701,HAMARA!E:E,0))),\"\")","v":""}]
[1433,"ZT507",0,{"$f":"IFERROR(IF(INDEX(HAMARA!I:I,MATCH(B2702,HAMARA!E:E,0))=0,\"\",INDEX(HAMARA!I:I,MATCH(B2702,HAMARA!E:E,0))),\"\")","v":""}]
[1433,"ZT508",-0.17,{"$f":"IFERROR(IF(INDEX(HAMARA!I:I,MATCH(B2703,HAMARA!E:E,0))=0,\"\",INDEX(HAMARA!I:I,MATCH(B2703,HAMARA!E:E,0))),\"\")","v":""}]
[1433,"ZT509",0.25,{"$f":"IFERROR(IF(INDEX(HAMARA!I:I,MATCH(B2704,HAMARA!E:E,0))=0,\"\",INDEX(HAMARA!I:I,MATCH(B2704,HAMARA!E:E,0))),\"\")","v":""}]
[1433,"ZT510",0,{"$f":"IFERROR(IF(INDEX(HAMARA!I:I,MATCH(B2705,HAMARA!E:E,0))=0,\"\",INDEX(HAMARA!I:I,MATCH(B2705,HAMARA!E:E,0))),\"\")","v":""}]
[1433,"ZT511",0,{"$f":"IFERROR(IF(INDEX(HAMARA!I:I,MATCH(B2706,HAMARA!E:E,0))=0,\"\",INDEX(HAMARA!I:I,MATCH(B2706,HAMARA!E:E,0))),\"\")","v":""}]
[1433,"ZT512",-0.245,{"$f":"IFERROR(IF(INDEX(HAMARA!I:I,MATCH(B2707,HAMARA!E:E,0))=0,\"\",INDEX(HAMARA!I:I,MATCH(B2707,HAMARA!E:E,0))),\"\")","v":""}]
[1433,"ZT513",0,{"$f":"IFERROR(IF(INDEX(HAMARA!I:I,MATCH(B2708,HAMARA!E:E,0))=0,\"\",INDEX(HAMARA!I:I,MATCH(B2708,HAMARA!E:E,0))),\"\")","v":""}]
[1433,"ZT514",0,{"$f":"IFERROR(IF(INDEX(HAMARA!I:I,MATCH(B2709,HAMARA!E:E,0))=0,\"\",INDEX(HAMARA!I:I,MATCH(B2709,HAMARA!E:E,0))),\"\")","v":""}]
[1433,"ZT515",0.60299999999999998,{"$f":"IFERROR(IF(INDEX(HAMARA!I:I,MATCH(B2710,HAMARA!E:E,0))=0,\"\",INDEX(HAMARA!I:I,MATCH(B2710,HAMARA!E:E,0))),\"\")","v":""}]
[1433,"ZT516",-0.219,{"$f":"IFERROR(IF(INDEX(HAMARA!I:I,MATCH(B2711,HAMARA!E:E,0))=0,\"\",INDEX(HAMARA!I:I,MATCH(B2711,HAMARA!E:E,0))),\"\")","v":""}]
[1433,"ZT517",0,{"$f":"IFERROR(IF(INDEX(HAMARA!I:I,MATCH(B2712,HAMARA!E:E,0))=0,\"\",INDEX(HAMARA!I:I,MATCH(B2712,HAMARA!E:E,0))),\"\")","v":""}]
[1433,"ZT518",0,{"$f":"IFERROR(IF(INDEX(HAMARA!I:I,MATCH(B2713,HAMARA!E:E,0))=0,\"\",INDEX(HAMARA!I:I,MATCH(B2713,HAMARA!E:E,0))),\"\")","v":""}]
[1433,"ZT519",-2.9000000000000001E-2,{"$f":"IFERROR(IF(INDEX(HAMARA!I:I,MATCH(B2714,HAMARA!E:E,0))=0,\"\",INDEX(HAMARA!I:I,MATCH(B2714,HAMARA!E:E,0))),\"\")","v":""}]
[1433,"ZT520",0.223,{"$f":"IFERROR(IF(INDEX(HAMARA!I:I,MATCH(B2715,HAMARA!E:E,0))=0,\"\",INDEX(HAMARA!I:I,MATCH(B2715,HAMARA!E:E,0))),\"\")","v":""}]
[1433,"ZT521",-0.21099999999999999,{"$f":"IFERROR(IF(INDEX(HAMARA!I:I,MATCH(B2716,HAMARA!E:E,0))=0,\"\",INDEX(HAMARA!I:I,MATCH(B2716,HAMARA!E:E,0))),\"\")","v":""}]
[1433,"ZT522",6.0999999999999999E-2,{"$f":"IFERROR(IF(INDEX(HAMARA!I:I,MATCH(B2717,HAMARA!E:E,0))=0,\"\",INDEX(HAMARA!I:I,MATCH(B2717,HAMARA!E:E,0))),\"\")","v":""}]
[1433,"ZT523",0.23699999999999999,{"$f":"IFERROR(IF(INDEX(HAMARA!I:I,MATCH(B2718,HAMARA!E:E,0))=0,\"\",INDEX(HAMARA!I:I,MATCH(B2718,HAMARA!E:E,0))),\"\")","v":""}]
[1433,"ZT524",0,{"$f":"IFERROR(IF(INDEX(HAMARA!I:I,MATCH(B2719,HAMARA!E:E,0))=0,\"\",INDEX(HAMARA!I:I,MATCH(B2719,HAMARA!E:E,0))),\"\")","v":""}]
[1433,"ZT525",0,{"$f":"IFERROR(IF(INDEX(HAMARA!I:I,MATCH(B2720,HAMARA!E:E,0))=0,\"\",INDEX(HAMARA!I:I,MATCH(B2720,HAMARA!E:E,0))),\"\")","v":""}]
[1433,"ZT526",0.06,{"$f":"IFERROR(IF(INDEX(HAMARA!I:I,MATCH(B2721,HAMARA!E:E,0))=0,\"\",INDEX(HAMARA!I:I,MATCH(B2721,HAMARA!E:E,0))),\"\")","v":""}]
[1433,"ZT527",1E-3,{"$f":"IFERROR(IF(INDEX(HAMARA!I:I,MATCH(B2722,HAMARA!E:E,0))=0,\"\",INDEX(HAMARA!I:I,MATCH(B2722,HAMARA!E:E,0))),\"\")","v":""}]
[1433,"ZT528",-4.7E-2,{"$f":"IFERROR(IF(INDEX(HAMARA!I:I,MATCH(B2723,HAMARA!E:E,0))=0,\"\",INDEX(HAMARA!I:I,MATCH(B2723,HAMARA!E:E,0))),\"\")","v":""}]
[1433,"ZT529",0.121,{"$f":"IFERROR(IF(INDEX(HAMARA!I:I,MATCH(B2724,HAMARA!E:E,0))=0,\"\",INDEX(HAMARA!I:I,MATCH(B2724,HAMARA!E:E,0))),\"\")","v":""}]
[1433,"ZT530",-7.0999999999999994E-2,{"$f":"IFERROR(IF(INDEX(HAMARA!I:I,MATCH(B2725,HAMARA!E:E,0))=0,\"\",INDEX(HAMARA!I:I,MATCH(B2725,HAMARA!E:E,0))),\"\")","v":""}]
[1433,"KT650",61234000601,{"$f":"IFERROR(IF(INDEX(HAMARA!I:I,MATCH(B2726,HAMARA!E:E,0))=0,\"\",INDEX(HAMARA!I:I,MATCH(B2726,HAMARA!E:E,0))),\"\")","v":""}]
[1433,"FT650",520018078,{"$f":"IFERROR(IF(INDEX(HAMARA!I:I,MATCH(B2727,HAMARA!E:E,0))=0,\"\",INDEX(HAMARA!I:I,MATCH(B2727,HAMARA!E:E,0))),\"\")","v":""}]
[1433,"KT770",6,{"$f":"IFERROR(IF(INDEX(HAMARA!I:I,MATCH(B2728,HAMARA!E:E,0))=0,\"\",INDEX(HAMARA!I:I,MATCH(B2728,HAMARA!E:E,0))),\"\")","v":""}]
[1433,"KT771",0,{"$f":"IFERROR(IF(INDEX(HAMARA!I:I,MATCH(B2729,HAMARA!E:E,0))=0,\"\",INDEX(HAMARA!I:I,MATCH(B2729,HAMARA!E:E,0))),\"\")","v":""}]
[1433,"KT772",0,{"$f":"IFERROR(IF(INDEX(HAMARA!I:I,MATCH(B2730,HAMARA!E:E,0))=0,\"\",INDEX(HAMARA!I:I,MATCH(B2730,HAMARA!E:E,0))),\"\")","v":""}]
[1433,"KT773",0,{"$f":"IFERROR(IF(INDEX(HAMARA!I:I,MATCH(B2731,HAMARA!E:E,0))=0,\"\",INDEX(HAMARA!I:I,MATCH(B2731,HAMARA!E:E,0))),\"\")","v":""}]
[1433,"KT774",0,{"$f":"IFERROR(IF(INDEX(HAMARA!I:I,MATCH(B2732,HAMARA!E:E,0))=0,\"\",INDEX(HAMARA!I:I,MATCH(B2732,HAMARA!E:E,0))),\"\")","v":""}]
[1433,"KT775",0,{"$f":"IFERROR(IF(INDEX(HAMARA!I:I,MATCH(B2733,HAMARA!E:E,0))=0,\"\",INDEX(HAMARA!I:I,MATCH(B2733,HAMARA!E:E,0))),\"\")","v":""}]
[1433,"KT776",0,{"$f":"IFERROR(IF(INDEX(HAMARA!I:I,MATCH(B2734,HAMARA!E:E,0))=0,\"\",INDEX(HAMARA!I:I,MATCH(B2734,HAMARA!E:E,0))),\"\")","v":""}]
[1433,"KT777",0,{"$f":"IFERROR(IF(INDEX(HAMARA!I:I,MATCH(B2735,HAMARA!E:E,0))=0,\"\",INDEX(HAMARA!I:I,MATCH(B2735,HAMARA!E:E,0))),\"\")","v":""}]
[1433,"KT778",0,{"$f":"IFERROR(IF(INDEX(HAMARA!I:I,MATCH(B2736,HAMARA!E:E,0))=0,\"\",INDEX(HAMARA!I:I,MATCH(B2736,HAMARA!E:E,0))),\"\")","v":""}]
[1433,"KT779",0,{"$f":"IFERROR(IF(INDEX(HAMARA!I:I,MATCH(B2737,HAMARA!E:E,0))=0,\"\",INDEX(HAMARA!I:I,MATCH(B2737,HAMARA!E:E,0))),\"\")","v":""}]
[1433,"KT780",0,{"$f":"IFERROR(IF(INDEX(HAMARA!I:I,MATCH(B2738,HAMARA!E:E,0))=0,\"\",INDEX(HAMARA!I:I,MATCH(B2738,HAMARA!E:E,0))),\"\")","v":""}]
[1433,"KT781",0,{"$f":"IFERROR(IF(INDEX(HAMARA!I:I,MATCH(B2739,HAMARA!E:E,0))=0,\"\",INDEX(HAMARA!I:I,MATCH(B2739,HAMARA!E:E,0))),\"\")","v":""}]
[1433,"KT782",0,{"$f":"IFERROR(IF(INDEX(HAMARA!I:I,MATCH(B2740,HAMARA!E:E,0))=0,\"\",INDEX(HAMARA!I:I,MATCH(B2740,HAMARA!E:E,0))),\"\")","v":""}]
[1433,"KT783",0,{"$f":"IFERROR(IF(INDEX(HAMARA!I:I,MATCH(B2741,HAMARA!E:E,0))=0,\"\",INDEX(HAMARA!I:I,MATCH(B2741,HAMARA!E:E,0))),\"\")","v":""}]
[1433,"KT784",0,{"$f":"IFERROR(IF(INDEX(HAMARA!I:I,MATCH(B2742,HAMARA!E:E,0))=0,\"\",INDEX(HAMARA!I:I,MATCH(B2742,HAMARA!E:E,0))),\"\")","v":""}]
[1433,"KT785",0,{"$f":"IFERROR(IF(INDEX(HAMARA!I:I,MATCH(B2743,HAMARA!E:E,0))=0,\"\",INDEX(HAMARA!I:I,MATCH(B2743,HAMARA!E:E,0))),\"\")","v":""}]
[1433,"KT786",0,{"$f":"IFERROR(IF(INDEX(HAMARA!I:I,MATCH(B2744,HAMARA!E:E,0))=0,\"\",INDEX(HAMARA!I:I,MATCH(B2744,HAMARA!E:E,0))),\"\")","v":""}]
[1433,"KT787",0,{"$f":"IFERROR(IF(INDEX(HAMARA!I:I,MATCH(B2745,HAMARA!E:E,0))=0,\"\",INDEX(HAMARA!I:I,MATCH(B2745,HAMARA!E:E,0))),\"\")","v":""}]
[1433,"KT788",0,{"$f":"IFERROR(IF(INDEX(HAMARA!I:I,MATCH(B2746,HAMARA!E:E,0))=0,\"\",INDEX(HAMARA!I:I,MATCH(B2746,HAMARA!E:E,0))),\"\")","v":""}]
[1433,"KT789",0,{"$f":"IFERROR(IF(INDEX(HAMARA!I:I,MATCH(B2747,HAMARA!E:E,0))=0,\"\",INDEX(HAMARA!I:I,MATCH(B2747,HAMARA!E:E,0))),\"\")","v":""}]
[1433,"KT790",0,{"$f":"IFERROR(IF(INDEX(HAMARA!I:I,MATCH(B2748,HAMARA!E:E,0))=0,\"\",INDEX(HAMARA!I:I,MATCH(B2748,HAMARA!E:E,0))),\"\")","v":""}]
[1433,"KT791",0,{"$f":"IFERROR(IF(INDEX(HAMARA!I:I,MATCH(B2749,HAMARA!E:E,0))=0,\"\",INDEX(HAMARA!I:I,MATCH(B2749,HAMARA!E:E,0))),\"\")","v":""}]
[1433,"KT792",0,{"$f":"IFERROR(IF(INDEX(HAMARA!I:I,MATCH(B2750,HAMARA!E:E,0))=0,\"\",INDEX(HAMARA!I:I,MATCH(B2750,HAMARA!E:E,0))),\"\")","v":""}]
[1433,"KT793",0,{"$f":"IFERROR(IF(INDEX(HAMARA!I:I,MATCH(B2751,HAMARA!E:E,0))=0,\"\",INDEX(HAMARA!I:I,MATCH(B2751,HAMARA!E:E,0))),\"\")","v":""}]
[1433,"KT794",0,{"$f":"IFERROR(IF(INDEX(HAMARA!I:I,MATCH(B2752,HAMARA!E:E,0))=0,\"\",INDEX(HAMARA!I:I,MATCH(B2752,HAMARA!E:E,0))),\"\")","v":""}]
[1433,"KT795",0,{"$f":"IFERROR(IF(INDEX(HAMARA!I:I,MATCH(B2753,HAMARA!E:E,0))=0,\"\",INDEX(HAMARA!I:I,MATCH(B2753,HAMARA!E:E,0))),\"\")","v":""}]
[1433,"KT796",0,{"$f":"IFERROR(IF(INDEX(HAMARA!I:I,MATCH(B2754,HAMARA!E:E,0))=0,\"\",INDEX(HAMARA!I:I,MATCH(B2754,HAMARA!E:E,0))),\"\")","v":""}]
[1433,"KT797",0,{"$f":"IFERROR(IF(INDEX(HAMARA!I:I,MATCH(B2755,HAMARA!E:E,0))=0,\"\",INDEX(HAMARA!I:I,MATCH(B2755,HAMARA!E:E,0))),\"\")","v":""}]
[1433,"KT798",0,{"$f":"IFERROR(IF(INDEX(HAMARA!I:I,MATCH(B2756,HAMARA!E:E,0))=0,\"\",INDEX(HAMARA!I:I,MATCH(B2756,HAMARA!E:E,0))),\"\")","v":""}]
[1433,"KT799",0,{"$f":"IFERROR(IF(INDEX(HAMARA!I:I,MATCH(B2757,HAMARA!E:E,0))=0,\"\",INDEX(HAMARA!I:I,MATCH(B2757,HAMARA!E:E,0))),\"\")","v":""}]
[1433,"KT840",0,{"$f":"IFERROR(IF(INDEX(HAMARA!I:I,MATCH(B2758,HAMARA!E:E,0))=0,\"\",INDEX(HAMARA!I:I,MATCH(B2758,HAMARA!E:E,0))),\"\")","v":""}]
[1433,"KT841",0,{"$f":"IFERROR(IF(INDEX(HAMARA!I:I,MATCH(B2759,HAMARA!E:E,0))=0,\"\",INDEX(HAMARA!I:I,MATCH(B2759,HAMARA!E:E,0))),\"\")","v":""}]
[1433,"KT842",0,{"$f":"IFERROR(IF(INDEX(HAMARA!I:I,MATCH(B2760,HAMARA!E:E,0))=0,\"\",INDEX(HAMARA!I:I,MATCH(B2760,HAMARA!E:E,0))),\"\")","v":""}]
[1433,"KT843",0,{"$f":"IFERROR(IF(INDEX(HAMARA!I:I,MATCH(B2761,HAMARA!E:E,0))=0,\"\",INDEX(HAMARA!I:I,MATCH(B2761,HAMARA!E:E,0))),\"\")","v":""}]
[1433,"KT844",0,{"$f":"IFERROR(IF(INDEX(HAMARA!I:I,MATCH(B2762,HAMARA!E:E,0))=0,\"\",INDEX(HAMARA!I:I,MATCH(B2762,HAMARA!E:E,0))),\"\")","v":""}]
[1433,"KT845",0,{"$f":"IFERROR(IF(INDEX(HAMARA!I:I,MATCH(B2763,HAMARA!E:E,0))=0,\"\",INDEX(HAMARA!I:I,MATCH(B2763,HAMARA!E:E,0))),\"\")","v":""}]
[1433,"KT846",0,{"$f":"IFERROR(IF(INDEX(HAMARA!I:I,MATCH(B2764,HAMARA!E:E,0))=0,\"\",INDEX(HAMARA!I:I,MATCH(B2764,HAMARA!E:E,0))),\"\")","v":""}]
[1433,"KT847",0,{"$f":"IFERROR(IF(INDEX(HAMARA!I:I,MATCH(B2765,HAMARA!E:E,0))=0,\"\",INDEX(HAMARA!I:I,MATCH(B2765,HAMARA!E:E,0))),\"\")","v":""}]
[1433,"KT848",0,{"$f":"IFERROR(IF(INDEX(HAMARA!I:I,MATCH(B2766,HAMARA!E:E,0))=0,\"\",INDEX(HAMARA!I:I,MATCH(B2766,HAMARA!E:E,0))),\"\")","v":""}]
[1433,"KT849",0,{"$f":"IFERROR(IF(INDEX(HAMARA!I:I,MATCH(B2767,HAMARA!E:E,0))=0,\"\",INDEX(HAMARA!I:I,MATCH(B2767,HAMARA!E:E,0))),\"\")","v":""}]
[1433,"KT880",0,{"$f":"IFERROR(IF(INDEX(HAMARA!I:I,MATCH(B2768,HAMARA!E:E,0))=0,\"\",INDEX(HAMARA!I:I,MATCH(B2768,HAMARA!E:E,0))),\"\")","v":""}]
[1433,"KT881",0,{"$f":"IFERROR(IF(INDEX(HAMARA!I:I,MATCH(B2769,HAMARA!E:E,0))=0,\"\",INDEX(HAMARA!I:I,MATCH(B2769,HAMARA!E:E,0))),\"\")","v":""}]
[1433,"KT882",0,{"$f":"IFERROR(IF(INDEX(HAMARA!I:I,MATCH(B2770,HAMARA!E:E,0))=0,\"\",INDEX(HAMARA!I:I,MATCH(B2770,HAMARA!E:E,0))),\"\")","v":""}]
[1433,"KT883",0,{"$f":"IFERROR(IF(INDEX(HAMARA!I:I,MATCH(B2771,HAMARA!E:E,0))=0,\"\",INDEX(HAMARA!I:I,MATCH(B2771,HAMARA!E:E,0))),\"\")","v":""}]
[1433,"KT884",0,{"$f":"IFERROR(IF(INDEX(HAMARA!I:I,MATCH(B2772,HAMARA!E:E,0))=0,\"\",INDEX(HAMARA!I:I,MATCH(B2772,HAMARA!E:E,0))),\"\")","v":""}]
[1433,"KT885",0,{"$f":"IFERROR(IF(INDEX(HAMARA!I:I,MATCH(B2773,HAMARA!E:E,0))=0,\"\",INDEX(HAMARA!I:I,MATCH(B2773,HAMARA!E:E,0))),\"\")","v":""}]
[1433,"KT886",0,{"$f":"IFERROR(IF(INDEX(HAMARA!I:I,MATCH(B2774,HAMARA!E:E,0))=0,\"\",INDEX(HAMARA!I:I,MATCH(B2774,HAMARA!E:E,0))),\"\")","v":""}]
[1433,"KT887",0,{"$f":"IFERROR(IF(INDEX(HAMARA!I:I,MATCH(B2775,HAMARA!E:E,0))=0,\"\",INDEX(HAMARA!I:I,MATCH(B2775,HAMARA!E:E,0))),\"\")","v":""}]
[1433,"KT888",0,{"$f":"IFERROR(IF(INDEX(HAMARA!I:I,MATCH(B2776,HAMARA!E:E,0))=0,\"\",INDEX(HAMARA!I:I,MATCH(B2776,HAMARA!E:E,0))),\"\")","v":""}]
[1433,"KT889",0,{"$f":"IFERROR(IF(INDEX(HAMARA!I:I,MATCH(B2777,HAMARA!E:E,0))=0,\"\",INDEX(HAMARA!I:I,MATCH(B2777,HAMARA!E:E,0))),\"\")","v":""}]
[1433,"KT890",0,{"$f":"IFERROR(IF(INDEX(HAMARA!I:I,MATCH(B2778,HAMARA!E:E,0))=0,\"\",INDEX(HAMARA!I:I,MATCH(B2778,HAMARA!E:E,0))),\"\")","v":""}]
[1433,"KT891",0,{"$f":"IFERROR(IF(INDEX(HAMARA!I:I,MATCH(B2779,HAMARA!E:E,0))=0,\"\",INDEX(HAMARA!I:I,MATCH(B2779,HAMARA!E:E,0))),\"\")","v":""}]
[1433,"KT892",0,{"$f":"IFERROR(IF(INDEX(HAMARA!I:I,MATCH(B2780,HAMARA!E:E,0))=0,\"\",INDEX(HAMARA!I:I,MATCH(B2780,HAMARA!E:E,0))),\"\")","v":""}]
[1433,"KT893",0,{"$f":"IFERROR(IF(INDEX(HAMARA!I:I,MATCH(B2781,HAMARA!E:E,0))=0,\"\",INDEX(HAMARA!I:I,MATCH(B2781,HAMARA!E:E,0))),\"\")","v":""}]
[1433,"KT894",0,{"$f":"IFERROR(IF(INDEX(HAMARA!I:I,MATCH(B2782,HAMARA!E:E,0))=0,\"\",INDEX(HAMARA!I:I,MATCH(B2782,HAMARA!E:E,0))),\"\")","v":""}]
[1433,"KT895",0,{"$f":"IFERROR(IF(INDEX(HAMARA!I:I,MATCH(B2783,HAMARA!E:E,0))=0,\"\",INDEX(HAMARA!I:I,MATCH(B2783,HAMARA!E:E,0))),\"\")","v":""}]
[1433,"KT896",0,{"$f":"IFERROR(IF(INDEX(HAMARA!I:I,MATCH(B2784,HAMARA!E:E,0))=0,\"\",INDEX(HAMARA!I:I,MATCH(B2784,HAMARA!E:E,0))),\"\")","v":""}]
[1433,"KT897",0,{"$f":"IFERROR(IF(INDEX(HAMARA!I:I,MATCH(B2785,HAMARA!E:E,0))=0,\"\",INDEX(HAMARA!I:I,MATCH(B2785,HAMARA!E:E,0))),\"\")","v":""}]
[1433,"KT898",0,{"$f":"IFERROR(IF(INDEX(HAMARA!I:I,MATCH(B2786,HAMARA!E:E,0))=0,\"\",INDEX(HAMARA!I:I,MATCH(B2786,HAMARA!E:E,0))),\"\")","v":""}]
[1433,"KT899",0,{"$f":"IFERROR(IF(INDEX(HAMARA!I:I,MATCH(B2787,HAMARA!E:E,0))=0,\"\",INDEX(HAMARA!I:I,MATCH(B2787,HAMARA!E:E,0))),\"\")","v":""}]
[1433,"KT800",0,{"$f":"IFERROR(IF(INDEX(HAMARA!I:I,MATCH(B2788,HAMARA!E:E,0))=0,\"\",INDEX(HAMARA!I:I,MATCH(B2788,HAMARA!E:E,0))),\"\")","v":""}]
[1433,"KT801",0,{"$f":"IFERROR(IF(INDEX(HAMARA!I:I,MATCH(B2789,HAMARA!E:E,0))=0,\"\",INDEX(HAMARA!I:I,MATCH(B2789,HAMARA!E:E,0))),\"\")","v":""}]
[1433,"KT802",0,{"$f":"IFERROR(IF(INDEX(HAMARA!I:I,MATCH(B2790,HAMARA!E:E,0))=0,\"\",INDEX(HAMARA!I:I,MATCH(B2790,HAMARA!E:E,0))),\"\")","v":""}]
[1433,"KT803",0,{"$f":"IFERROR(IF(INDEX(HAMARA!I:I,MATCH(B2791,HAMARA!E:E,0))=0,\"\",INDEX(HAMARA!I:I,MATCH(B2791,HAMARA!E:E,0))),\"\")","v":""}]
[1433,"KT804",0,{"$f":"IFERROR(IF(INDEX(HAMARA!I:I,MATCH(B2792,HAMARA!E:E,0))=0,\"\",INDEX(HAMARA!I:I,MATCH(B2792,HAMARA!E:E,0))),\"\")","v":""}]
[1433,"KT805",0,{"$f":"IFERROR(IF(INDEX(HAMARA!I:I,MATCH(B2793,HAMARA!E:E,0))=0,\"\",INDEX(HAMARA!I:I,MATCH(B2793,HAMARA!E:E,0))),\"\")","v":""}]
[1433,"KT806",0,{"$f":"IFERROR(IF(INDEX(HAMARA!I:I,MATCH(B2794,HAMARA!E:E,0))=0,\"\",INDEX(HAMARA!I:I,MATCH(B2794,HAMARA!E:E,0))),\"\")","v":""}]
[1433,"KT807",0,{"$f":"IFERROR(IF(INDEX(HAMARA!I:I,MATCH(B2795,HAMARA!E:E,0))=0,\"\",INDEX(HAMARA!I:I,MATCH(B2795,HAMARA!E:E,0))),\"\")","v":""}]
[1433,"KT808",0,{"$f":"IFERROR(IF(INDEX(HAMARA!I:I,MATCH(B2796,HAMARA!E:E,0))=0,\"\",INDEX(HAMARA!I:I,MATCH(B2796,HAMARA!E:E,0))),\"\")","v":""}]
[1433,"KT809",0,{"$f":"IFERROR(IF(INDEX(HAMARA!I:I,MATCH(B2797,HAMARA!E:E,0))=0,\"\",INDEX(HAMARA!I:I,MATCH(B2797,HAMARA!E:E,0))),\"\")","v":""}]
[1433,"KT810",0,{"$f":"IFERROR(IF(INDEX(HAMARA!I:I,MATCH(B2798,HAMARA!E:E,0))=0,\"\",INDEX(HAMARA!I:I,MATCH(B2798,HAMARA!E:E,0))),\"\")","v":""}]
[1433,"KT811",0,{"$f":"IFERROR(IF(INDEX(HAMARA!I:I,MATCH(B2799,HAMARA!E:E,0))=0,\"\",INDEX(HAMARA!I:I,MATCH(B2799,HAMARA!E:E,0))),\"\")","v":""}]
[1433,"KT812",0,{"$f":"IFERROR(IF(INDEX(HAMARA!I:I,MATCH(B2800,HAMARA!E:E,0))=0,\"\",INDEX(HAMARA!I:I,MATCH(B2800,HAMARA!E:E,0))),\"\")","v":""}]
[1433,"KT813",0,{"$f":"IFERROR(IF(INDEX(HAMARA!I:I,MATCH(B2801,HAMARA!E:E,0))=0,\"\",INDEX(HAMARA!I:I,MATCH(B2801,HAMARA!E:E,0))),\"\")","v":""}]
[1433,"KT814",0,{"$f":"IFERROR(IF(INDEX(HAMARA!I:I,MATCH(B2802,HAMARA!E:E,0))=0,\"\",INDEX(HAMARA!I:I,MATCH(B2802,HAMARA!E:E,0))),\"\")","v":""}]
[1433,"KT815",0,{"$f":"IFERROR(IF(INDEX(HAMARA!I:I,MATCH(B2803,HAMARA!E:E,0))=0,\"\",INDEX(HAMARA!I:I,MATCH(B2803,HAMARA!E:E,0))),\"\")","v":""}]
[1433,"KT816",0,{"$f":"IFERROR(IF(INDEX(HAMARA!I:I,MATCH(B2804,HAMARA!E:E,0))=0,\"\",INDEX(HAMARA!I:I,MATCH(B2804,HAMARA!E:E,0))),\"\")","v":""}]
[1433,"KT817",0,{"$f":"IFERROR(IF(INDEX(HAMARA!I:I,MATCH(B2805,HAMARA!E:E,0))=0,\"\",INDEX(HAMARA!I:I,MATCH(B2805,HAMARA!E:E,0))),\"\")","v":""}]
[1433,"KT818",0,{"$f":"IFERROR(IF(INDEX(HAMARA!I:I,MATCH(B2806,HAMARA!E:E,0))=0,\"\",INDEX(HAMARA!I:I,MATCH(B2806,HAMARA!E:E,0))),\"\")","v":""}]
[1433,"KT819",0,{"$f":"IFERROR(IF(INDEX(HAMARA!I:I,MATCH(B2807,HAMARA!E:E,0))=0,\"\",INDEX(HAMARA!I:I,MATCH(B2807,HAMARA!E:E,0))),\"\")","v":""}]
[1433,"KT820",0,{"$f":"IFERROR(IF(INDEX(HAMARA!I:I,MATCH(B2808,HAMARA!E:E,0))=0,\"\",INDEX(HAMARA!I:I,MATCH(B2808,HAMARA!E:E,0))),\"\")","v":""}]
[1433,"KT821",0,{"$f":"IFERROR(IF(INDEX(HAMARA!I:I,MATCH(B2809,HAMARA!E:E,0))=0,\"\",INDEX(HAMARA!I:I,MATCH(B2809,HAMARA!E:E,0))),\"\")","v":""}]
[1433,"KT822",0,{"$f":"IFERROR(IF(INDEX(HAMARA!I:I,MATCH(B2810,HAMARA!E:E,0))=0,\"\",INDEX(HAMARA!I:I,MATCH(B2810,HAMARA!E:E,0))),\"\")","v":""}]
[1433,"KT823",0,{"$f":"IFERROR(IF(INDEX(HAMARA!I:I,MATCH(B2811,HAMARA!E:E,0))=0,\"\",INDEX(HAMARA!I:I,MATCH(B2811,HAMARA!E:E,0))),\"\")","v":""}]
[1433,"KT824",0,{"$f":"IFERROR(IF(INDEX(HAMARA!I:I,MATCH(B2812,HAMARA!E:E,0))=0,\"\",INDEX(HAMARA!I:I,MATCH(B2812,HAMARA!E:E,0))),\"\")","v":""}]
[1433,"KT825",0,{"$f":"IFERROR(IF(INDEX(HAMARA!I:I,MATCH(B2813,HAMARA!E:E,0))=0,\"\",INDEX(HAMARA!I:I,MATCH(B2813,HAMARA!E:E,0))),\"\")","v":""}]
[1433,"KT826",0,{"$f":"IFERROR(IF(INDEX(HAMARA!I:I,MATCH(B2814,HAMARA!E:E,0))=0,\"\",INDEX(HAMARA!I:I,MATCH(B2814,HAMARA!E:E,0))),\"\")","v":""}]
[1433,"KT827",0,{"$f":"IFERROR(IF(INDEX(HAMARA!I:I,MATCH(B2815,HAMARA!E:E,0))=0,\"\",INDEX(HAMARA!I:I,MATCH(B2815,HAMARA!E:E,0))),\"\")","v":""}]
[1433,"KT828",0,{"$f":"IFERROR(IF(INDEX(HAMARA!I:I,MATCH(B2816,HAMARA!E:E,0))=0,\"\",INDEX(HAMARA!I:I,MATCH(B2816,HAMARA!E:E,0))),\"\")","v":""}]
[1433,"KT829",0,{"$f":"IFERROR(IF(INDEX(HAMARA!I:I,MATCH(B2817,HAMARA!E:E,0))=0,\"\",INDEX(HAMARA!I:I,MATCH(B2817,HAMARA!E:E,0))),\"\")","v":""}]
[1433,"KT850",0,{"$f":"IFERROR(IF(INDEX(HAMARA!I:I,MATCH(B2818,HAMARA!E:E,0))=0,\"\",INDEX(HAMARA!I:I,MATCH(B2818,HAMARA!E:E,0))),\"\")","v":""}]
[1433,"KT851",0,{"$f":"IFERROR(IF(INDEX(HAMARA!I:I,MATCH(B2819,HAMARA!E:E,0))=0,\"\",INDEX(HAMARA!I:I,MATCH(B2819,HAMARA!E:E,0))),\"\")","v":""}]
[1433,"KT852",0,{"$f":"IFERROR(IF(INDEX(HAMARA!I:I,MATCH(B2820,HAMARA!E:E,0))=0,\"\",INDEX(HAMARA!I:I,MATCH(B2820,HAMARA!E:E,0))),\"\")","v":""}]
[1433,"KT853",0,{"$f":"IFERROR(IF(INDEX(HAMARA!I:I,MATCH(B2821,HAMARA!E:E,0))=0,\"\",INDEX(HAMARA!I:I,MATCH(B2821,HAMARA!E:E,0))),\"\")","v":""}]
[1433,"KT854",0,{"$f":"IFERROR(IF(INDEX(HAMARA!I:I,MATCH(B2822,HAMARA!E:E,0))=0,\"\",INDEX(HAMARA!I:I,MATCH(B2822,HAMARA!E:E,0))),\"\")","v":""}]
[1433,"KT855",0,{"$f":"IFERROR(IF(INDEX(HAMARA!I:I,MATCH(B2823,HAMARA!E:E,0))=0,\"\",INDEX(HAMARA!I:I,MATCH(B2823,HAMARA!E:E,0))),\"\")","v":""}]
[1433,"KT856",0,{"$f":"IFERROR(IF(INDEX(HAMARA!I:I,MATCH(B2824,HAMARA!E:E,0))=0,\"\",INDEX(HAMARA!I:I,MATCH(B2824,HAMARA!E:E,0))),\"\")","v":""}]
[1433,"KT857",0,{"$f":"IFERROR(IF(INDEX(HAMARA!I:I,MATCH(B2825,HAMARA!E:E,0))=0,\"\",INDEX(HAMARA!I:I,MATCH(B2825,HAMARA!E:E,0))),\"\")","v":""}]
[1433,"KT858",0,{"$f":"IFERROR(IF(INDEX(HAMARA!I:I,MATCH(B2826,HAMARA!E:E,0))=0,\"\",INDEX(HAMARA!I:I,MATCH(B2826,HAMARA!E:E,0))),\"\")","v":""}]
[1433,"KT859",0,{"$f":"IFERROR(IF(INDEX(HAMARA!I:I,MATCH(B2827,HAMARA!E:E,0))=0,\"\",INDEX(HAMARA!I:I,MATCH(B2827,HAMARA!E:E,0))),\"\")","v":""}]
[1433,"KT900",0,{"$f":"IFERROR(IF(INDEX(HAMARA!I:I,MATCH(B2828,HAMARA!E:E,0))=0,\"\",INDEX(HAMARA!I:I,MATCH(B2828,HAMARA!E:E,0))),\"\")","v":""}]
[1433,"KT901",0,{"$f":"IFERROR(IF(INDEX(HAMARA!I:I,MATCH(B2829,HAMARA!E:E,0))=0,\"\",INDEX(HAMARA!I:I,MATCH(B2829,HAMARA!E:E,0))),\"\")","v":""}]
[1433,"KT902",0,{"$f":"IFERROR(IF(INDEX(HAMARA!I:I,MATCH(B2830,HAMARA!E:E,0))=0,\"\",INDEX(HAMARA!I:I,MATCH(B2830,HAMARA!E:E,0))),\"\")","v":""}]
[1433,"KT903",0,{"$f":"IFERROR(IF(INDEX(HAMARA!I:I,MATCH(B2831,HAMARA!E:E,0))=0,\"\",INDEX(HAMARA!I:I,MATCH(B2831,HAMARA!E:E,0))),\"\")","v":""}]
[1433,"KT904",0,{"$f":"IFERROR(IF(INDEX(HAMARA!I:I,MATCH(B2832,HAMARA!E:E,0))=0,\"\",INDEX(HAMARA!I:I,MATCH(B2832,HAMARA!E:E,0))),\"\")","v":""}]
[1433,"KT905",0,{"$f":"IFERROR(IF(INDEX(HAMARA!I:I,MATCH(B2833,HAMARA!E:E,0))=0,\"\",INDEX(HAMARA!I:I,MATCH(B2833,HAMARA!E:E,0))),\"\")","v":""}]
[1433,"KT906",0,{"$f":"IFERROR(IF(INDEX(HAMARA!I:I,MATCH(B2834,HAMARA!E:E,0))=0,\"\",INDEX(HAMARA!I:I,MATCH(B2834,HAMARA!E:E,0))),\"\")","v":""}]
[1433,"KT907",0,{"$f":"IFERROR(IF(INDEX(HAMARA!I:I,MATCH(B2835,HAMARA!E:E,0))=0,\"\",INDEX(HAMARA!I:I,MATCH(B2835,HAMARA!E:E,0))),\"\")","v":""}]
[1433,"KT908",0,{"$f":"IFERROR(IF(INDEX(HAMARA!I:I,MATCH(B2836,HAMARA!E:E,0))=0,\"\",INDEX(HAMARA!I:I,MATCH(B2836,HAMARA!E:E,0))),\"\")","v":""}]
[1433,"KT909",0,{"$f":"IFERROR(IF(INDEX(HAMARA!I:I,MATCH(B2837,HAMARA!E:E,0))=0,\"\",INDEX(HAMARA!I:I,MATCH(B2837,HAMARA!E:E,0))),\"\")","v":""}]
[1433,"KT910",0,{"$f":"IFERROR(IF(INDEX(HAMARA!I:I,MATCH(B2838,HAMARA!E:E,0))=0,\"\",INDEX(HAMARA!I:I,MATCH(B2838,HAMARA!E:E,0))),\"\")","v":""}]
[1433,"KT911",0,{"$f":"IFERROR(IF(INDEX(HAMARA!I:I,MATCH(B2839,HAMARA!E:E,0))=0,\"\",INDEX(HAMARA!I:I,MATCH(B2839,HAMARA!E:E,0))),\"\")","v":""}]
[1433,"KT912",0,{"$f":"IFERROR(IF(INDEX(HAMARA!I:I,MATCH(B2840,HAMARA!E:E,0))=0,\"\",INDEX(HAMARA!I:I,MATCH(B2840,HAMARA!E:E,0))),\"\")","v":""}]
[1433,"KT913",0,{"$f":"IFERROR(IF(INDEX(HAMARA!I:I,MATCH(B2841,HAMARA!E:E,0))=0,\"\",INDEX(HAMARA!I:I,MATCH(B2841,HAMARA!E:E,0))),\"\")","v":""}]
[1433,"KT914",0,{"$f":"IFERROR(IF(INDEX(HAMARA!I:I,MATCH(B2842,HAMARA!E:E,0))=0,\"\",INDEX(HAMARA!I:I,MATCH(B2842,HAMARA!E:E,0))),\"\")","v":""}]
[1433,"KT915",0,{"$f":"IFERROR(IF(INDEX(HAMARA!I:I,MATCH(B2843,HAMARA!E:E,0))=0,\"\",INDEX(HAMARA!I:I,MATCH(B2843,HAMARA!E:E,0))),\"\")","v":""}]
[1433,"KT916",0,{"$f":"IFERROR(IF(INDEX(HAMARA!I:I,MATCH(B2844,HAMARA!E:E,0))=0,\"\",INDEX(HAMARA!I:I,MATCH(B2844,HAMARA!E:E,0))),\"\")","v":""}]
[1433,"KT917",0,{"$f":"IFERROR(IF(INDEX(HAMARA!I:I,MATCH(B2845,HAMARA!E:E,0))=0,\"\",INDEX(HAMARA!I:I,MATCH(B2845,HAMARA!E:E,0))),\"\")","v":""}]
[1433,"KT918",0,{"$f":"IFERROR(IF(INDEX(HAMARA!I:I,MATCH(B2846,HAMARA!E:E,0))=0,\"\",INDEX(HAMARA!I:I,MATCH(B2846,HAMARA!E:E,0))),\"\")","v":""}]
[1433,"KT919",0,{"$f":"IFERROR(IF(INDEX(HAMARA!I:I,MATCH(B2847,HAMARA!E:E,0))=0,\"\",INDEX(HAMARA!I:I,MATCH(B2847,HAMARA!E:E,0))),\"\")","v":""}]
[15482,"DE1",1045.9960000000001,{"$f":"IFERROR(IF(INDEX(HAMARA!I:I,MATCH(B2848,HAMARA!E:E,0))=0,\"\",INDEX(HAMARA!I:I,MATCH(B2848,HAMARA!E:E,0))),\"\")","v":""}]
[15482,"DA12",43.521999999999998,{"$f":"IFERROR(IF(INDEX(HAMARA!I:I,MATCH(B2849,HAMARA!E:E,0))=0,\"\",INDEX(HAMARA!I:I,MATCH(B2849,HAMARA!E:E,0))),\"\")","v":"מזומנים ושווי מזומנים"}]
[15482,"DT11",8.0579999999999998,{"$f":"IFERROR(IF(INDEX(HAMARA!I:I,MATCH(B2850,HAMARA!E:E,0))=0,\"\",INDEX(HAMARA!I:I,MATCH(B2850,HAMARA!E:E,0))),\"\")","v":"מזומנים ושווי מזומנים"}]
[15482,"DA10",0,{"$f":"IFERROR(IF(INDEX(HAMARA!I:I,MATCH(B2851,HAMARA!E:E,0))=0,\"\",INDEX(HAMARA!I:I,MATCH(B2851,HAMARA!E:E,0))),\"\")","v":"מזומנים ושווי מזומנים"}]
[15482,"DT420",0,{"$f":"IFERROR(IF(INDEX(HAMARA!I:I,MATCH(B2852,HAMARA!E:E,0))=0,\"\",INDEX(HAMARA!I:I,MATCH(B2852,HAMARA!E:E,0))),\"\")","v":"מזומנים ושווי מזומנים"}]
[15482,"DT421",0,{"$f":"IFERROR(IF(INDEX(HAMARA!I:I,MATCH(B2853,HAMARA!E:E,0))=0,\"\",INDEX(HAMARA!I:I,MATCH(B2853,HAMARA!E:E,0))),\"\")","v":"מזומנים ושווי מזומנים"}]
[15482,"DT422",0,{"$f":"IFERROR(IF(INDEX(HAMARA!I:I,MATCH(B2854,HAMARA!E:E,0))=0,\"\",INDEX(HAMARA!I:I,MATCH(B2854,HAMARA!E:E,0))),\"\")","v":"מזומנים ושווי מזומנים"}]
[15482,"DT423",0,{"$f":"IFERROR(IF(INDEX(HAMARA!I:I,MATCH(B2855,HAMARA!E:E,0))=0,\"\",INDEX(HAMARA!I:I,MATCH(B2855,HAMARA!E:E,0))),\"\")","v":"מזומנים ושווי מזומנים"}]
[15482,"DT191",0,{"$f":"IFERROR(IF(INDEX(HAMARA!I:I,MATCH(B2856,HAMARA!E:E,0))=0,\"\",INDEX(HAMARA!I:I,MATCH(B2856,HAMARA!E:E,0))),\"\")","v":"מזומנים ושווי מזומנים"}]
[15482,"DT424",0,{"$f":"IFERROR(IF(INDEX(HAMARA!I:I,MATCH(B2857,HAMARA!E:E,0))=0,\"\",INDEX(HAMARA!I:I,MATCH(B2857,HAMARA!E:E,0))),\"\")","v":"מזומנים ושווי מזומנים"}]
[15482,"DT13",0,{"$f":"IFERROR(IF(INDEX(HAMARA!I:I,MATCH(B2858,HAMARA!E:E,0))=0,\"\",INDEX(HAMARA!I:I,MATCH(B2858,HAMARA!E:E,0))),\"\")","v":"אג\"ח ממשלתיות סחירות"}]
[15482,"DT15",0,{"$f":"IFERROR(IF(INDEX(HAMARA!I:I,MATCH(B2859,HAMARA!E:E,0))=0,\"\",INDEX(HAMARA!I:I,MATCH(B2859,HAMARA!E:E,0))),\"\")","v":"אג\"ח ממשלתיות סחירות"}]
[15482,"DT16",0,{"$f":"IFERROR(IF(INDEX(HAMARA!I:I,MATCH(B2860,HAMARA!E:E,0))=0,\"\",INDEX(HAMARA!I:I,MATCH(B2860,HAMARA!E:E,0))),\"\")","v":"אג\"ח ממשלתיות סחירות"}]
[15482,"DT14",0,{"$f":"IFERROR(IF(INDEX(HAMARA!I:I,MATCH(B2861,HAMARA!E:E,0))=0,\"\",INDEX(HAMARA!I:I,MATCH(B2861,HAMARA!E:E,0))),\"\")","v":"אג\"ח ממשלתיות סחירות"}]
[15482,"DA9",0,{"$f":"IFERROR(IF(INDEX(HAMARA!I:I,MATCH(B2862,HAMARA!E:E,0))=0,\"\",INDEX(HAMARA!I:I,MATCH(B2862,HAMARA!E:E,0))),\"\")","v":"אג\"ח ממשלתיות סחירות"}]
[15482,"DT7",0,{"$f":"IFERROR(IF(INDEX(HAMARA!I:I,MATCH(B2863,HAMARA!E:E,0))=0,\"\",INDEX(HAMARA!I:I,MATCH(B2863,HAMARA!E:E,0))),\"\")","v":"השקעות אחרות"}]
[15482,"DA8",0,{"$f":"IFERROR(IF(INDEX(HAMARA!I:I,MATCH(B2864,HAMARA!E:E,0))=0,\"\",INDEX(HAMARA!I:I,MATCH(B2864,HAMARA!E:E,0))),\"\")","v":"השקעות אחרות"}]
[15482,"DT17",0,{"$f":"IFERROR(IF(INDEX(HAMARA!I:I,MATCH(B2865,HAMARA!E:E,0))=0,\"\",INDEX(HAMARA!I:I,MATCH(B2865,HAMARA!E:E,0))),\"\")","v":"אג\"ח ממשלתיות סחירות"}]
[15482,"DT26",0,{"$f":"IFERROR(IF(INDEX(HAMARA!I:I,MATCH(B2866,HAMARA!E:E,0))=0,\"\",INDEX(HAMARA!I:I,MATCH(B2866,HAMARA!E:E,0))),\"\")","v":"אג\"ח ממשלתיות סחירות"}]
[15482,"DT425",0,{"$f":"IFERROR(IF(INDEX(HAMARA!I:I,MATCH(B2867,HAMARA!E:E,0))=0,\"\",INDEX(HAMARA!I:I,MATCH(B2867,HAMARA!E:E,0))),\"\")","v":"השקעות אחרות"}]
[15482,"DT426",0,{"$f":"IFERROR(IF(INDEX(HAMARA!I:I,MATCH(B2868,HAMARA!E:E,0))=0,\"\",INDEX(HAMARA!I:I,MATCH(B2868,HAMARA!E:E,0))),\"\")","v":"השקעות אחרות"}]
[15482,"DT427",0,{"$f":"IFERROR(IF(INDEX(HAMARA!I:I,MATCH(B2869,HAMARA!E:E,0))=0,\"\",INDEX(HAMARA!I:I,MATCH(B2869,HAMARA!E:E,0))),\"\")","v":"אג\"ח קונצרניות סחירות"}]
[15482,"DT561",0,{"$f":"IFERROR(IF(INDEX(HAMARA!I:I,MATCH(B2870,HAMARA!E:E,0))=0,\"\",INDEX(HAMARA!I:I,MATCH(B2870,HAMARA!E:E,0))),\"\")","v":"אג\"ח קונצרניות סחירות"}]
[15482,"DT560",0,{"$f":"IFERROR(IF(INDEX(HAMARA!I:I,MATCH(B2871,HAMARA!E:E,0))=0,\"\",INDEX(HAMARA!I:I,MATCH(B2871,HAMARA!E:E,0))),\"\")","v":"אג\"ח קונצרניות סחירות"}]
[15482,"DT428",0,{"$f":"IFERROR(IF(INDEX(HAMARA!I:I,MATCH(B2872,HAMARA!E:E,0))=0,\"\",INDEX(HAMARA!I:I,MATCH(B2872,HAMARA!E:E,0))),\"\")","v":"אג\"ח קונצרניות סחירות"}]
[15482,"DT563",0,{"$f":"IFERROR(IF(INDEX(HAMARA!I:I,MATCH(B2873,HAMARA!E:E,0))=0,\"\",INDEX(HAMARA!I:I,MATCH(B2873,HAMARA!E:E,0))),\"\")","v":"אג\"ח קונצרניות סחירות"}]
[15482,"DT562",0,{"$f":"IFERROR(IF(INDEX(HAMARA!I:I,MATCH(B2874,HAMARA!E:E,0))=0,\"\",INDEX(HAMARA!I:I,MATCH(B2874,HAMARA!E:E,0))),\"\")","v":"אג\"ח קונצרניות סחירות"}]
[15482,"DT429",0,{"$f":"IFERROR(IF(INDEX(HAMARA!I:I,MATCH(B2875,HAMARA!E:E,0))=0,\"\",INDEX(HAMARA!I:I,MATCH(B2875,HAMARA!E:E,0))),\"\")","v":"אג\"ח קונצרניות סחירות"}]
[15482,"DT565",0,{"$f":"IFERROR(IF(INDEX(HAMARA!I:I,MATCH(B2876,HAMARA!E:E,0))=0,\"\",INDEX(HAMARA!I:I,MATCH(B2876,HAMARA!E:E,0))),\"\")","v":"אג\"ח קונצרניות סחירות"}]
[15482,"DT564",0,{"$f":"IFERROR(IF(INDEX(HAMARA!I:I,MATCH(B2877,HAMARA!E:E,0))=0,\"\",INDEX(HAMARA!I:I,MATCH(B2877,HAMARA!E:E,0))),\"\")","v":"אג\"ח קונצרניות סחירות"}]
[15482,"DT430",0,{"$f":"IFERROR(IF(INDEX(HAMARA!I:I,MATCH(B2878,HAMARA!E:E,0))=0,\"\",INDEX(HAMARA!I:I,MATCH(B2878,HAMARA!E:E,0))),\"\")","v":"השקעות אחרות"}]
[15482,"DT567",0,{"$f":"IFERROR(IF(INDEX(HAMARA!I:I,MATCH(B2879,HAMARA!E:E,0))=0,\"\",INDEX(HAMARA!I:I,MATCH(B2879,HAMARA!E:E,0))),\"\")","v":"השקעות אחרות"}]
[15482,"DT566",0,{"$f":"IFERROR(IF(INDEX(HAMARA!I:I,MATCH(B2880,HAMARA!E:E,0))=0,\"\",INDEX(HAMARA!I:I,MATCH(B2880,HAMARA!E:E,0))),\"\")","v":"השקעות אחרות"}]
[15482,"DT431",0,{"$f":"IFERROR(IF(INDEX(HAMARA!I:I,MATCH(B2881,HAMARA!E:E,0))=0,\"\",INDEX(HAMARA!I:I,MATCH(B2881,HAMARA!E:E,0))),\"\")","v":"השקעות אחרות"}]
[15482,"DT569",0,{"$f":"IFERROR(IF(INDEX(HAMARA!I:I,MATCH(B2882,HAMARA!E:E,0))=0,\"\",INDEX(HAMARA!I:I,MATCH(B2882,HAMARA!E:E,0))),\"\")","v":"השקעות אחרות"}]
[15482,"DT568",0,{"$f":"IFERROR(IF(INDEX(HAMARA!I:I,MATCH(B2883,HAMARA!E:E,0))=0,\"\",INDEX(HAMARA!I:I,MATCH(B2883,HAMARA!E:E,0))),\"\")","v":"השקעות אחרות"}]
[15482,"DT432",0,{"$f":"IFERROR(IF(INDEX(HAMARA!I:I,MATCH(B2884,HAMARA!E:E,0))=0,\"\",INDEX(HAMARA!I:I,MATCH(B2884,HAMARA!E:E,0))),\"\")","v":"השקעות אחרות"}]
[15482,"DT573",0,{"$f":"IFERROR(IF(INDEX(HAMARA!I:I,MATCH(B2885,HAMARA!E:E,0))=0,\"\",INDEX(HAMARA!I:I,MATCH(B2885,HAMARA!E:E,0))),\"\")","v":"השקעות אחרות"}]
[15482,"DT572",0,{"$f":"IFERROR(IF(INDEX(HAMARA!I:I,MATCH(B2886,HAMARA!E:E,0))=0,\"\",INDEX(HAMARA!I:I,MATCH(B2886,HAMARA!E:E,0))),\"\")","v":"השקעות אחרות"}]
[15482,"DT547",0,{"$f":"IFERROR(IF(INDEX(HAMARA!I:I,MATCH(B2887,HAMARA!E:E,0))=0,\"\",INDEX(HAMARA!I:I,MATCH(B2887,HAMARA!E:E,0))),\"\")","v":"השקעות אחרות"}]
[15482,"DT571",0,{"$f":"IFERROR(IF(INDEX(HAMARA!I:I,MATCH(B2888,HAMARA!E:E,0))=0,\"\",INDEX(HAMARA!I:I,MATCH(B2888,HAMARA!E:E,0))),\"\")","v":"השקעות אחרות"}]
[15482,"DT570",0,{"$f":"IFERROR(IF(INDEX(HAMARA!I:I,MATCH(B2889,HAMARA!E:E,0))=0,\"\",INDEX(HAMARA!I:I,MATCH(B2889,HAMARA!E:E,0))),\"\")","v":"השקעות אחרות"}]
[15482,"DT601",0,{"$f":"IFERROR(IF(INDEX(HAMARA!I:I,MATCH(B2890,HAMARA!E:E,0))=0,\"\",INDEX(HAMARA!I:I,MATCH(B2890,HAMARA!E:E,0))),\"\")","v":"אג\"ח קונצרניות סחירות"}]
[15482,"DT602",0,{"$f":"IFERROR(IF(INDEX(HAMARA!I:I,MATCH(B2891,HAMARA!E:E,0))=0,\"\",INDEX(HAMARA!I:I,MATCH(B2891,HAMARA!E:E,0))),\"\")","v":"אג\"ח קונצרניות סחירות"}]
[15482,"DT603",0,{"$f":"IFERROR(IF(INDEX(HAMARA!I:I,MATCH(B2892,HAMARA!E:E,0))=0,\"\",INDEX(HAMARA!I:I,MATCH(B2892,HAMARA!E:E,0))),\"\")","v":"אג\"ח קונצרניות סחירות"}]
[15482,"DT604",0,{"$f":"IFERROR(IF(INDEX(HAMARA!I:I,MATCH(B2893,HAMARA!E:E,0))=0,\"\",INDEX(HAMARA!I:I,MATCH(B2893,HAMARA!E:E,0))),\"\")","v":"אג\"ח קונצרניות סחירות"}]
[15482,"DT605",0,{"$f":"IFERROR(IF(INDEX(HAMARA!I:I,MATCH(B2894,HAMARA!E:E,0))=0,\"\",INDEX(HAMARA!I:I,MATCH(B2894,HAMARA!E:E,0))),\"\")","v":"אג\"ח קונצרניות סחירות"}]
[15482,"DT606",0,{"$f":"IFERROR(IF(INDEX(HAMARA!I:I,MATCH(B2895,HAMARA!E:E,0))=0,\"\",INDEX(HAMARA!I:I,MATCH(B2895,HAMARA!E:E,0))),\"\")","v":"אג\"ח קונצרניות סחירות"}]
[15482,"DT607",0,{"$f":"IFERROR(IF(INDEX(HAMARA!I:I,MATCH(B2896,HAMARA!E:E,0))=0,\"\",INDEX(HAMARA!I:I,MATCH(B2896,HAMARA!E:E,0))),\"\")","v":"השקעות אחרות"}]
[15482,"DT608",0,{"$f":"IFERROR(IF(INDEX(HAMARA!I:I,MATCH(B2897,HAMARA!E:E,0))=0,\"\",INDEX(HAMARA!I:I,MATCH(B2897,HAMARA!E:E,0))),\"\")","v":"השקעות אחרות"}]
[15482,"DT609",0,{"$f":"IFERROR(IF(INDEX(HAMARA!I:I,MATCH(B2898,HAMARA!E:E,0))=0,\"\",INDEX(HAMARA!I:I,MATCH(B2898,HAMARA!E:E,0))),\"\")","v":"השקעות אחרות"}]
[15482,"DT610",0,{"$f":"IFERROR(IF(INDEX(HAMARA!I:I,MATCH(B2899,HAMARA!E:E,0))=0,\"\",INDEX(HAMARA!I:I,MATCH(B2899,HAMARA!E:E,0))),\"\")","v":"השקעות אחרות"}]
[15482,"DT611",0,{"$f":"IFERROR(IF(INDEX(HAMARA!I:I,MATCH(B2900,HAMARA!E:E,0))=0,\"\",INDEX(HAMARA!I:I,MATCH(B2900,HAMARA!E:E,0))),\"\")","v":"השקעות אחרות"}]
[15482,"DT612",0,{"$f":"IFERROR(IF(INDEX(HAMARA!I:I,MATCH(B2901,HAMARA!E:E,0))=0,\"\",INDEX(HAMARA!I:I,MATCH(B2901,HAMARA!E:E,0))),\"\")","v":"השקעות אחרות"}]
[15482,"DT613",0,{"$f":"IFERROR(IF(INDEX(HAMARA!I:I,MATCH(B2902,HAMARA!E:E,0))=0,\"\",INDEX(HAMARA!I:I,MATCH(B2902,HAMARA!E:E,0))),\"\")","v":"השקעות אחרות"}]
[15482,"DT614",0,{"$f":"IFERROR(IF(INDEX(HAMARA!I:I,MATCH(B2903,HAMARA!E:E,0))=0,\"\",INDEX(HAMARA!I:I,MATCH(B2903,HAMARA!E:E,0))),\"\")","v":"השקעות אחרות"}]
[15482,"DT301",0,{"$f":"IFERROR(IF(INDEX(HAMARA!I:I,MATCH(B2904,HAMARA!E:E,0))=0,\"\",INDEX(HAMARA!I:I,MATCH(B2904,HAMARA!E:E,0))),\"\")","v":"אג\"ח קונצרניות סחירות"}]
[15482,"DT303",0,{"$f":"IFERROR(IF(INDEX(HAMARA!I:I,MATCH(B2905,HAMARA!E:E,0))=0,\"\",INDEX(HAMARA!I:I,MATCH(B2905,HAMARA!E:E,0))),\"\")","v":"אג\"ח קונצרניות סחירות"}]
[15482,"DT302",0,{"$f":"IFERROR(IF(INDEX(HAMARA!I:I,MATCH(B2906,HAMARA!E:E,0))=0,\"\",INDEX(HAMARA!I:I,MATCH(B2906,HAMARA!E:E,0))),\"\")","v":"אג\"ח קונצרניות סחירות"}]
[15482,"DT307",0,{"$f":"IFERROR(IF(INDEX(HAMARA!I:I,MATCH(B2907,HAMARA!E:E,0))=0,\"\",INDEX(HAMARA!I:I,MATCH(B2907,HAMARA!E:E,0))),\"\")","v":"אג\"ח קונצרניות סחירות"}]
[15482,"DT309",0,{"$f":"IFERROR(IF(INDEX(HAMARA!I:I,MATCH(B2908,HAMARA!E:E,0))=0,\"\",INDEX(HAMARA!I:I,MATCH(B2908,HAMARA!E:E,0))),\"\")","v":"אג\"ח קונצרניות סחירות"}]
[15482,"DT308",0,{"$f":"IFERROR(IF(INDEX(HAMARA!I:I,MATCH(B2909,HAMARA!E:E,0))=0,\"\",INDEX(HAMARA!I:I,MATCH(B2909,HAMARA!E:E,0))),\"\")","v":"אג\"ח קונצרניות סחירות"}]
[15482,"DT313",0,{"$f":"IFERROR(IF(INDEX(HAMARA!I:I,MATCH(B2910,HAMARA!E:E,0))=0,\"\",INDEX(HAMARA!I:I,MATCH(B2910,HAMARA!E:E,0))),\"\")","v":"אג\"ח קונצרניות סחירות"}]
[15482,"DT315",0,{"$f":"IFERROR(IF(INDEX(HAMARA!I:I,MATCH(B2911,HAMARA!E:E,0))=0,\"\",INDEX(HAMARA!I:I,MATCH(B2911,HAMARA!E:E,0))),\"\")","v":"אג\"ח קונצרניות סחירות"}]
[15482,"DT314",0,{"$f":"IFERROR(IF(INDEX(HAMARA!I:I,MATCH(B2912,HAMARA!E:E,0))=0,\"\",INDEX(HAMARA!I:I,MATCH(B2912,HAMARA!E:E,0))),\"\")","v":"אג\"ח קונצרניות סחירות"}]
[15482,"DT615",0,{"$f":"IFERROR(IF(INDEX(HAMARA!I:I,MATCH(B2913,HAMARA!E:E,0))=0,\"\",INDEX(HAMARA!I:I,MATCH(B2913,HAMARA!E:E,0))),\"\")","v":"אג\"ח קונצרניות סחירות"}]
[15482,"DT616",0,{"$f":"IFERROR(IF(INDEX(HAMARA!I:I,MATCH(B2914,HAMARA!E:E,0))=0,\"\",INDEX(HAMARA!I:I,MATCH(B2914,HAMARA!E:E,0))),\"\")","v":"אג\"ח קונצרניות סחירות"}]
[15482,"DT617",0,{"$f":"IFERROR(IF(INDEX(HAMARA!I:I,MATCH(B2915,HAMARA!E:E,0))=0,\"\",INDEX(HAMARA!I:I,MATCH(B2915,HAMARA!E:E,0))),\"\")","v":"אג\"ח קונצרניות סחירות"}]
[15482,"DT319",0,{"$f":"IFERROR(IF(INDEX(HAMARA!I:I,MATCH(B2916,HAMARA!E:E,0))=0,\"\",INDEX(HAMARA!I:I,MATCH(B2916,HAMARA!E:E,0))),\"\")","v":"השקעות אחרות"}]
[15482,"DT321",0,{"$f":"IFERROR(IF(INDEX(HAMARA!I:I,MATCH(B2917,HAMARA!E:E,0))=0,\"\",INDEX(HAMARA!I:I,MATCH(B2917,HAMARA!E:E,0))),\"\")","v":"השקעות אחרות"}]
[15482,"DT320",0,{"$f":"IFERROR(IF(INDEX(HAMARA!I:I,MATCH(B2918,HAMARA!E:E,0))=0,\"\",INDEX(HAMARA!I:I,MATCH(B2918,HAMARA!E:E,0))),\"\")","v":"השקעות אחרות"}]
[15482,"DT325",0,{"$f":"IFERROR(IF(INDEX(HAMARA!I:I,MATCH(B2919,HAMARA!E:E,0))=0,\"\",INDEX(HAMARA!I:I,MATCH(B2919,HAMARA!E:E,0))),\"\")","v":"השקעות אחרות"}]
[15482,"DT327",0,{"$f":"IFERROR(IF(INDEX(HAMARA!I:I,MATCH(B2920,HAMARA!E:E,0))=0,\"\",INDEX(HAMARA!I:I,MATCH(B2920,HAMARA!E:E,0))),\"\")","v":"השקעות אחרות"}]
[15482,"DT326",0,{"$f":"IFERROR(IF(INDEX(HAMARA!I:I,MATCH(B2921,HAMARA!E:E,0))=0,\"\",INDEX(HAMARA!I:I,MATCH(B2921,HAMARA!E:E,0))),\"\")","v":"השקעות אחרות"}]
[15482,"DT553",0,{"$f":"IFERROR(IF(INDEX(HAMARA!I:I,MATCH(B2922,HAMARA!E:E,0))=0,\"\",INDEX(HAMARA!I:I,MATCH(B2922,HAMARA!E:E,0))),\"\")","v":"השקעות אחרות"}]
[15482,"DT555",0,{"$f":"IFERROR(IF(INDEX(HAMARA!I:I,MATCH(B2923,HAMARA!E:E,0))=0,\"\",INDEX(HAMARA!I:I,MATCH(B2923,HAMARA!E:E,0))),\"\")","v":"השקעות אחרות"}]
[15482,"DT554",0,{"$f":"IFERROR(IF(INDEX(HAMARA!I:I,MATCH(B2924,HAMARA!E:E,0))=0,\"\",INDEX(HAMARA!I:I,MATCH(B2924,HAMARA!E:E,0))),\"\")","v":"השקעות אחרות"}]
[15482,"DT337",0,{"$f":"IFERROR(IF(INDEX(HAMARA!I:I,MATCH(B2925,HAMARA!E:E,0))=0,\"\",INDEX(HAMARA!I:I,MATCH(B2925,HAMARA!E:E,0))),\"\")","v":"השקעות אחרות"}]
[15482,"DT339",0,{"$f":"IFERROR(IF(INDEX(HAMARA!I:I,MATCH(B2926,HAMARA!E:E,0))=0,\"\",INDEX(HAMARA!I:I,MATCH(B2926,HAMARA!E:E,0))),\"\")","v":"השקעות אחרות"}]
[15482,"DT338",0,{"$f":"IFERROR(IF(INDEX(HAMARA!I:I,MATCH(B2927,HAMARA!E:E,0))=0,\"\",INDEX(HAMARA!I:I,MATCH(B2927,HAMARA!E:E,0))),\"\")","v":"השקעות אחרות"}]
[15482,"DT618",0,{"$f":"IFERROR(IF(INDEX(HAMARA!I:I,MATCH(B2928,HAMARA!E:E,0))=0,\"\",INDEX(HAMARA!I:I,MATCH(B2928,HAMARA!E:E,0))),\"\")","v":"השקעות אחרות"}]
[15482,"DT619",0,{"$f":"IFERROR(IF(INDEX(HAMARA!I:I,MATCH(B2929,HAMARA!E:E,0))=0,\"\",INDEX(HAMARA!I:I,MATCH(B2929,HAMARA!E:E,0))),\"\")","v":"השקעות אחרות"}]
[15482,"DT620",0,{"$f":"IFERROR(IF(INDEX(HAMARA!I:I,MATCH(B2930,HAMARA!E:E,0))=0,\"\",INDEX(HAMARA!I:I,MATCH(B2930,HAMARA!E:E,0))),\"\")","v":"השקעות אחרות"}]
[15482,"DT621",0,{"$f":"IFERROR(IF(INDEX(HAMARA!I:I,MATCH(B2931,HAMARA!E:E,0))=0,\"\",INDEX(HAMARA!I:I,MATCH(B2931,HAMARA!E:E,0))),\"\")","v":"השקעות אחרות"}]
[15482,"DT454",0,{"$f":"IFERROR(IF(INDEX(HAMARA!I:I,MATCH(B2932,HAMARA!E:E,0))=0,\"\",INDEX(HAMARA!I:I,MATCH(B2932,HAMARA!E:E,0))),\"\")","v":"השקעות אחרות"}]
[15482,"DT455",0,{"$f":"IFERROR(IF(INDEX(HAMARA!I:I,MATCH(B2933,HAMARA!E:E,0))=0,\"\",INDEX(HAMARA!I:I,MATCH(B2933,HAMARA!E:E,0))),\"\")","v":"השקעות אחרות"}]
[15482,"DT456",0,{"$f":"IFERROR(IF(INDEX(HAMARA!I:I,MATCH(B2934,HAMARA!E:E,0))=0,\"\",INDEX(HAMARA!I:I,MATCH(B2934,HAMARA!E:E,0))),\"\")","v":"אג\"ח קונצרניות סחירות"}]
[15482,"DT457",0,{"$f":"IFERROR(IF(INDEX(HAMARA!I:I,MATCH(B2935,HAMARA!E:E,0))=0,\"\",INDEX(HAMARA!I:I,MATCH(B2935,HAMARA!E:E,0))),\"\")","v":"אג\"ח קונצרניות סחירות"}]
[15482,"DT458",0,{"$f":"IFERROR(IF(INDEX(HAMARA!I:I,MATCH(B2936,HAMARA!E:E,0))=0,\"\",INDEX(HAMARA!I:I,MATCH(B2936,HAMARA!E:E,0))),\"\")","v":"אג\"ח קונצרניות סחירות"}]
[15482,"DT459",0,{"$f":"IFERROR(IF(INDEX(HAMARA!I:I,MATCH(B2937,HAMARA!E:E,0))=0,\"\",INDEX(HAMARA!I:I,MATCH(B2937,HAMARA!E:E,0))),\"\")","v":"אג\"ח קונצרניות סחירות"}]
[15482,"DT460",0,{"$f":"IFERROR(IF(INDEX(HAMARA!I:I,MATCH(B2938,HAMARA!E:E,0))=0,\"\",INDEX(HAMARA!I:I,MATCH(B2938,HAMARA!E:E,0))),\"\")","v":"השקעות אחרות"}]
[15482,"DT461",0,{"$f":"IFERROR(IF(INDEX(HAMARA!I:I,MATCH(B2939,HAMARA!E:E,0))=0,\"\",INDEX(HAMARA!I:I,MATCH(B2939,HAMARA!E:E,0))),\"\")","v":"השקעות אחרות"}]
[15482,"DT462",0,{"$f":"IFERROR(IF(INDEX(HAMARA!I:I,MATCH(B2940,HAMARA!E:E,0))=0,\"\",INDEX(HAMARA!I:I,MATCH(B2940,HAMARA!E:E,0))),\"\")","v":"השקעות אחרות"}]
[15482,"DT558",0,{"$f":"IFERROR(IF(INDEX(HAMARA!I:I,MATCH(B2941,HAMARA!E:E,0))=0,\"\",INDEX(HAMARA!I:I,MATCH(B2941,HAMARA!E:E,0))),\"\")","v":"השקעות אחרות"}]
[15482,"DT463",0,{"$f":"IFERROR(IF(INDEX(HAMARA!I:I,MATCH(B2942,HAMARA!E:E,0))=0,\"\",INDEX(HAMARA!I:I,MATCH(B2942,HAMARA!E:E,0))),\"\")","v":"השקעות אחרות"}]
[15482,"DT464",0,{"$f":"IFERROR(IF(INDEX(HAMARA!I:I,MATCH(B2943,HAMARA!E:E,0))=0,\"\",INDEX(HAMARA!I:I,MATCH(B2943,HAMARA!E:E,0))),\"\")","v":"השקעות אחרות"}]
[15482,"DT465",0,{"$f":"IFERROR(IF(INDEX(HAMARA!I:I,MATCH(B2944,HAMARA!E:E,0))=0,\"\",INDEX(HAMARA!I:I,MATCH(B2944,HAMARA!E:E,0))),\"\")","v":"השקעות אחרות"}]
[15482,"DT559",0,{"$f":"IFERROR(IF(INDEX(HAMARA!I:I,MATCH(B2945,HAMARA!E:E,0))=0,\"\",INDEX(HAMARA!I:I,MATCH(B2945,HAMARA!E:E,0))),\"\")","v":"השקעות אחרות"}]
[15482,"DT402",0,{"$f":"IFERROR(IF(INDEX(HAMARA!I:I,MATCH(B2946,HAMARA!E:E,0))=0,\"\",INDEX(HAMARA!I:I,MATCH(B2946,HAMARA!E:E,0))),\"\")","v":"מניות וני\"ע סחירים אחרים"}]
[15482,"DT403",0,{"$f":"IFERROR(IF(INDEX(HAMARA!I:I,MATCH(B2947,HAMARA!E:E,0))=0,\"\",INDEX(HAMARA!I:I,MATCH(B2947,HAMARA!E:E,0))),\"\")","v":"מניות וני\"ע סחירים אחרים"}]
[15482,"DT404",0,{"$f":"IFERROR(IF(INDEX(HAMARA!I:I,MATCH(B2948,HAMARA!E:E,0))=0,\"\",INDEX(HAMARA!I:I,MATCH(B2948,HAMARA!E:E,0))),\"\")","v":"מניות וני\"ע סחירים אחרים"}]
[15482,"DT405",0,{"$f":"IFERROR(IF(INDEX(HAMARA!I:I,MATCH(B2949,HAMARA!E:E,0))=0,\"\",INDEX(HAMARA!I:I,MATCH(B2949,HAMARA!E:E,0))),\"\")","v":"השקעות אחרות"}]
[15482,"DT172",0,{"$f":"IFERROR(IF(INDEX(HAMARA!I:I,MATCH(B2950,HAMARA!E:E,0))=0,\"\",INDEX(HAMARA!I:I,MATCH(B2950,HAMARA!E:E,0))),\"\")","v":"השקעות אחרות"}]
[15482,"DT205",0,{"$f":"IFERROR(IF(INDEX(HAMARA!I:I,MATCH(B2951,HAMARA!E:E,0))=0,\"\",INDEX(HAMARA!I:I,MATCH(B2951,HAMARA!E:E,0))),\"\")","v":"השקעות אחרות"}]
[15482,"DC9",0,{"$f":"IFERROR(IF(INDEX(HAMARA!I:I,MATCH(B2952,HAMARA!E:E,0))=0,\"\",INDEX(HAMARA!I:I,MATCH(B2952,HAMARA!E:E,0))),\"\")","v":"השקעות אחרות"}]
[15482,"DT28",0,{"$f":"IFERROR(IF(INDEX(HAMARA!I:I,MATCH(B2953,HAMARA!E:E,0))=0,\"\",INDEX(HAMARA!I:I,MATCH(B2953,HAMARA!E:E,0))),\"\")","v":"מניות וני\"ע סחירים אחרים"}]
[15482,"DT30",0,{"$f":"IFERROR(IF(INDEX(HAMARA!I:I,MATCH(B2954,HAMARA!E:E,0))=0,\"\",INDEX(HAMARA!I:I,MATCH(B2954,HAMARA!E:E,0))),\"\")","v":"מניות וני\"ע סחירים אחרים"}]
[15482,"DT81",0,{"$f":"IFERROR(IF(INDEX(HAMARA!I:I,MATCH(B2955,HAMARA!E:E,0))=0,\"\",INDEX(HAMARA!I:I,MATCH(B2955,HAMARA!E:E,0))),\"\")","v":"מניות וני\"ע סחירים אחרים"}]
[15482,"DT622",0,{"$f":"IFERROR(IF(INDEX(HAMARA!I:I,MATCH(B2956,HAMARA!E:E,0))=0,\"\",INDEX(HAMARA!I:I,MATCH(B2956,HAMARA!E:E,0))),\"\")","v":"השקעות אחרות"}]
[15482,"DT83",0,{"$f":"IFERROR(IF(INDEX(HAMARA!I:I,MATCH(B2957,HAMARA!E:E,0))=0,\"\",INDEX(HAMARA!I:I,MATCH(B2957,HAMARA!E:E,0))),\"\")","v":"השקעות אחרות"}]
[15482,"DT360",0,{"$f":"IFERROR(IF(INDEX(HAMARA!I:I,MATCH(B2958,HAMARA!E:E,0))=0,\"\",INDEX(HAMARA!I:I,MATCH(B2958,HAMARA!E:E,0))),\"\")","v":"מניות וני\"ע סחירים אחרים"}]
[15482,"DT361",593.74800000000005,{"$f":"IFERROR(IF(INDEX(HAMARA!I:I,MATCH(B2959,HAMARA!E:E,0))=0,\"\",INDEX(HAMARA!I:I,MATCH(B2959,HAMARA!E:E,0))),\"\")","v":"מניות וני\"ע סחירים אחרים"}]
[15482,"DT362",0,{"$f":"IFERROR(IF(INDEX(HAMARA!I:I,MATCH(B2960,HAMARA!E:E,0))=0,\"\",INDEX(HAMARA!I:I,MATCH(B2960,HAMARA!E:E,0))),\"\")","v":"מניות וני\"ע סחירים אחרים"}]
[15482,"DT363",0,{"$f":"IFERROR(IF(INDEX(HAMARA!I:I,MATCH(B2961,HAMARA!E:E,0))=0,\"\",INDEX(HAMARA!I:I,MATCH(B2961,HAMARA!E:E,0))),\"\")","v":"מניות וני\"ע סחירים אחרים"}]
[15482,"DT406",0,{"$f":"IFERROR(IF(INDEX(HAMARA!I:I,MATCH(B2962,HAMARA!E:E,0))=0,\"\",INDEX(HAMARA!I:I,MATCH(B2962,HAMARA!E:E,0))),\"\")","v":"מניות וני\"ע סחירים אחרים"}]
[15482,"DT623",0,{"$f":"IFERROR(IF(INDEX(HAMARA!I:I,MATCH(B2963,HAMARA!E:E,0))=0,\"\",INDEX(HAMARA!I:I,MATCH(B2963,HAMARA!E:E,0))),\"\")","v":"מניות וני\"ע סחירים אחרים"}]
[15482,"DT366",400.76100000000002,{"$f":"IFERROR(IF(INDEX(HAMARA!I:I,MATCH(B2964,HAMARA!E:E,0))=0,\"\",INDEX(HAMARA!I:I,MATCH(B2964,HAMARA!E:E,0))),\"\")","v":"מניות וני\"ע סחירים אחרים"}]
[15482,"DT367",0,{"$f":"IFERROR(IF(INDEX(HAMARA!I:I,MATCH(B2965,HAMARA!E:E,0))=0,\"\",INDEX(HAMARA!I:I,MATCH(B2965,HAMARA!E:E,0))),\"\")","v":"מניות וני\"ע סחירים אחרים"}]
[15482,"DT407",0,{"$f":"IFERROR(IF(INDEX(HAMARA!I:I,MATCH(B2966,HAMARA!E:E,0))=0,\"\",INDEX(HAMARA!I:I,MATCH(B2966,HAMARA!E:E,0))),\"\")","v":"מניות וני\"ע סחירים אחרים"}]
[15482,"DT624",0,{"$f":"IFERROR(IF(INDEX(HAMARA!I:I,MATCH(B2967,HAMARA!E:E,0))=0,\"\",INDEX(HAMARA!I:I,MATCH(B2967,HAMARA!E:E,0))),\"\")","v":"מניות וני\"ע סחירים אחרים"}]
[15482,"DB10",0,{"$f":"IFERROR(IF(INDEX(HAMARA!I:I,MATCH(B2968,HAMARA!E:E,0))=0,\"\",INDEX(HAMARA!I:I,MATCH(B2968,HAMARA!E:E,0))),\"\")","v":"מניות וני\"ע סחירים אחרים"}]
[15482,"DT701",0,{"$f":"IFERROR(IF(INDEX(HAMARA!I:I,MATCH(B2969,HAMARA!E:E,0))=0,\"\",INDEX(HAMARA!I:I,MATCH(B2969,HAMARA!E:E,0))),\"\")","v":"מניות וני\"ע סחירים אחרים"}]
[15482,"DT702",0,{"$f":"IFERROR(IF(INDEX(HAMARA!I:I,MATCH(B2970,HAMARA!E:E,0))=0,\"\",INDEX(HAMARA!I:I,MATCH(B2970,HAMARA!E:E,0))),\"\")","v":"מניות וני\"ע סחירים אחרים"}]
[15482,"DT703",0,{"$f":"IFERROR(IF(INDEX(HAMARA!I:I,MATCH(B2971,HAMARA!E:E,0))=0,\"\",INDEX(HAMARA!I:I,MATCH(B2971,HAMARA!E:E,0))),\"\")","v":"מניות וני\"ע סחירים אחרים"}]
[15482,"DT704",0,{"$f":"IFERROR(IF(INDEX(HAMARA!I:I,MATCH(B2972,HAMARA!E:E,0))=0,\"\",INDEX(HAMARA!I:I,MATCH(B2972,HAMARA!E:E,0))),\"\")","v":"מניות וני\"ע סחירים אחרים"}]
[15482,"DT53",0,{"$f":"IFERROR(IF(INDEX(HAMARA!I:I,MATCH(B2973,HAMARA!E:E,0))=0,\"\",INDEX(HAMARA!I:I,MATCH(B2973,HAMARA!E:E,0))),\"\")","v":"השקעות אחרות"}]
[15482,"DT466",0,{"$f":"IFERROR(IF(INDEX(HAMARA!I:I,MATCH(B2974,HAMARA!E:E,0))=0,\"\",INDEX(HAMARA!I:I,MATCH(B2974,HAMARA!E:E,0))),\"\")","v":"השקעות אחרות"}]
[15482,"DT225",0,{"$f":"IFERROR(IF(INDEX(HAMARA!I:I,MATCH(B2975,HAMARA!E:E,0))=0,\"\",INDEX(HAMARA!I:I,MATCH(B2975,HAMARA!E:E,0))),\"\")","v":"השקעות אחרות"}]
[15482,"DT52",0,{"$f":"IFERROR(IF(INDEX(HAMARA!I:I,MATCH(B2976,HAMARA!E:E,0))=0,\"\",INDEX(HAMARA!I:I,MATCH(B2976,HAMARA!E:E,0))),\"\")","v":"השקעות אחרות"}]
[15482,"DT89",0,{"$f":"IFERROR(IF(INDEX(HAMARA!I:I,MATCH(B2977,HAMARA!E:E,0))=0,\"\",INDEX(HAMARA!I:I,MATCH(B2977,HAMARA!E:E,0))),\"\")","v":"השקעות אחרות"}]
[15482,"DT467",0,{"$f":"IFERROR(IF(INDEX(HAMARA!I:I,MATCH(B2978,HAMARA!E:E,0))=0,\"\",INDEX(HAMARA!I:I,MATCH(B2978,HAMARA!E:E,0))),\"\")","v":"השקעות אחרות"}]
[15482,"DT226",0,{"$f":"IFERROR(IF(INDEX(HAMARA!I:I,MATCH(B2979,HAMARA!E:E,0))=0,\"\",INDEX(HAMARA!I:I,MATCH(B2979,HAMARA!E:E,0))),\"\")","v":"השקעות אחרות"}]
[15482,"DT88",0,{"$f":"IFERROR(IF(INDEX(HAMARA!I:I,MATCH(B2980,HAMARA!E:E,0))=0,\"\",INDEX(HAMARA!I:I,MATCH(B2980,HAMARA!E:E,0))),\"\")","v":"השקעות אחרות"}]
[15482,"DB5",0,{"$f":"IFERROR(IF(INDEX(HAMARA!I:I,MATCH(B2981,HAMARA!E:E,0))=0,\"\",INDEX(HAMARA!I:I,MATCH(B2981,HAMARA!E:E,0))),\"\")","v":"מניות וני\"ע סחירים אחרים"}]
[15482,"DT439",0,{"$f":"IFERROR(IF(INDEX(HAMARA!I:I,MATCH(B2982,HAMARA!E:E,0))=0,\"\",INDEX(HAMARA!I:I,MATCH(B2982,HAMARA!E:E,0))),\"\")","v":"השקעות אחרות"}]
[15482,"DT211",0,{"$f":"IFERROR(IF(INDEX(HAMARA!I:I,MATCH(B2983,HAMARA!E:E,0))=0,\"\",INDEX(HAMARA!I:I,MATCH(B2983,HAMARA!E:E,0))),\"\")","v":"השקעות אחרות"}]
[15482,"DT440",0,{"$f":"IFERROR(IF(INDEX(HAMARA!I:I,MATCH(B2984,HAMARA!E:E,0))=0,\"\",INDEX(HAMARA!I:I,MATCH(B2984,HAMARA!E:E,0))),\"\")","v":"השקעות אחרות"}]
[15482,"DT749",0,{"$f":"IFERROR(IF(INDEX(HAMARA!I:I,MATCH(B2985,HAMARA!E:E,0))=0,\"\",INDEX(HAMARA!I:I,MATCH(B2985,HAMARA!E:E,0))),\"\")","v":"השקעות אחרות"}]
[15482,"DT441",0,{"$f":"IFERROR(IF(INDEX(HAMARA!I:I,MATCH(B2986,HAMARA!E:E,0))=0,\"\",INDEX(HAMARA!I:I,MATCH(B2986,HAMARA!E:E,0))),\"\")","v":"השקעות אחרות"}]
[15482,"DT442",0,{"$f":"IFERROR(IF(INDEX(HAMARA!I:I,MATCH(B2987,HAMARA!E:E,0))=0,\"\",INDEX(HAMARA!I:I,MATCH(B2987,HAMARA!E:E,0))),\"\")","v":"השקעות אחרות"}]
[15482,"DT443",0,{"$f":"IFERROR(IF(INDEX(HAMARA!I:I,MATCH(B2988,HAMARA!E:E,0))=0,\"\",INDEX(HAMARA!I:I,MATCH(B2988,HAMARA!E:E,0))),\"\")","v":"השקעות אחרות"}]
[15482,"DT444",0,{"$f":"IFERROR(IF(INDEX(HAMARA!I:I,MATCH(B2989,HAMARA!E:E,0))=0,\"\",INDEX(HAMARA!I:I,MATCH(B2989,HAMARA!E:E,0))),\"\")","v":"השקעות אחרות"}]
[15482,"DT445",0,{"$f":"IFERROR(IF(INDEX(HAMARA!I:I,MATCH(B2990,HAMARA!E:E,0))=0,\"\",INDEX(HAMARA!I:I,MATCH(B2990,HAMARA!E:E,0))),\"\")","v":"השקעות אחרות"}]
[15482,"DT212",0,{"$f":"IFERROR(IF(INDEX(HAMARA!I:I,MATCH(B2991,HAMARA!E:E,0))=0,\"\",INDEX(HAMARA!I:I,MATCH(B2991,HAMARA!E:E,0))),\"\")","v":"השקעות אחרות"}]
[15482,"DT446",0,{"$f":"IFERROR(IF(INDEX(HAMARA!I:I,MATCH(B2992,HAMARA!E:E,0))=0,\"\",INDEX(HAMARA!I:I,MATCH(B2992,HAMARA!E:E,0))),\"\")","v":"השקעות אחרות"}]
[15482,"DT447",0,{"$f":"IFERROR(IF(INDEX(HAMARA!I:I,MATCH(B2993,HAMARA!E:E,0))=0,\"\",INDEX(HAMARA!I:I,MATCH(B2993,HAMARA!E:E,0))),\"\")","v":"השקעות אחרות"}]
[15482,"DT448",0,{"$f":"IFERROR(IF(INDEX(HAMARA!I:I,MATCH(B2994,HAMARA!E:E,0))=0,\"\",INDEX(HAMARA!I:I,MATCH(B2994,HAMARA!E:E,0))),\"\")","v":"השקעות אחרות"}]
[15482,"DT449",0,{"$f":"IFERROR(IF(INDEX(HAMARA!I:I,MATCH(B2995,HAMARA!E:E,0))=0,\"\",INDEX(HAMARA!I:I,MATCH(B2995,HAMARA!E:E,0))),\"\")","v":"השקעות אחרות"}]
[15482,"DT468",0,{"$f":"IFERROR(IF(INDEX(HAMARA!I:I,MATCH(B2996,HAMARA!E:E,0))=0,\"\",INDEX(HAMARA!I:I,MATCH(B2996,HAMARA!E:E,0))),\"\")","v":"מניות וני\"ע סחירים אחרים"}]
[15482,"DT469",0,{"$f":"IFERROR(IF(INDEX(HAMARA!I:I,MATCH(B2997,HAMARA!E:E,0))=0,\"\",INDEX(HAMARA!I:I,MATCH(B2997,HAMARA!E:E,0))),\"\")","v":"מניות וני\"ע סחירים אחרים"}]
[15482,"DT175",0,{"$f":"IFERROR(IF(INDEX(HAMARA!I:I,MATCH(B2998,HAMARA!E:E,0))=0,\"\",INDEX(HAMARA!I:I,MATCH(B2998,HAMARA!E:E,0))),\"\")","v":"השקעות אחרות"}]
[15482,"DT208",0,{"$f":"IFERROR(IF(INDEX(HAMARA!I:I,MATCH(B2999,HAMARA!E:E,0))=0,\"\",INDEX(HAMARA!I:I,MATCH(B2999,HAMARA!E:E,0))),\"\")","v":"השקעות אחרות"}]
[15482,"DT176",0,{"$f":"IFERROR(IF(INDEX(HAMARA!I:I,MATCH(B3000,HAMARA!E:E,0))=0,\"\",INDEX(HAMARA!I:I,MATCH(B3000,HAMARA!E:E,0))),\"\")","v":"השקעות אחרות"}]
[15482,"DT209",0,{"$f":"IFERROR(IF(INDEX(HAMARA!I:I,MATCH(B3001,HAMARA!E:E,0))=0,\"\",INDEX(HAMARA!I:I,MATCH(B3001,HAMARA!E:E,0))),\"\")","v":"השקעות אחרות"}]
[15482,"DT177",0,{"$f":"IFERROR(IF(INDEX(HAMARA!I:I,MATCH(B3002,HAMARA!E:E,0))=0,\"\",INDEX(HAMARA!I:I,MATCH(B3002,HAMARA!E:E,0))),\"\")","v":"השקעות אחרות"}]
[15482,"DT210",0,{"$f":"IFERROR(IF(INDEX(HAMARA!I:I,MATCH(B3003,HAMARA!E:E,0))=0,\"\",INDEX(HAMARA!I:I,MATCH(B3003,HAMARA!E:E,0))),\"\")","v":"השקעות אחרות"}]
[15482,"DT472",0,{"$f":"IFERROR(IF(INDEX(HAMARA!I:I,MATCH(B3004,HAMARA!E:E,0))=0,\"\",INDEX(HAMARA!I:I,MATCH(B3004,HAMARA!E:E,0))),\"\")","v":"השקעות אחרות"}]
[15482,"DT470",0,{"$f":"IFERROR(IF(INDEX(HAMARA!I:I,MATCH(B3005,HAMARA!E:E,0))=0,\"\",INDEX(HAMARA!I:I,MATCH(B3005,HAMARA!E:E,0))),\"\")","v":"השקעות אחרות"}]
[15482,"DT345",0,{"$f":"IFERROR(IF(INDEX(HAMARA!I:I,MATCH(B3006,HAMARA!E:E,0))=0,\"\",INDEX(HAMARA!I:I,MATCH(B3006,HAMARA!E:E,0))),\"\")","v":"השקעות אחרות"}]
[15482,"DT347",0,{"$f":"IFERROR(IF(INDEX(HAMARA!I:I,MATCH(B3007,HAMARA!E:E,0))=0,\"\",INDEX(HAMARA!I:I,MATCH(B3007,HAMARA!E:E,0))),\"\")","v":"השקעות אחרות"}]
[15482,"DT625",0,{"$f":"IFERROR(IF(INDEX(HAMARA!I:I,MATCH(B3008,HAMARA!E:E,0))=0,\"\",INDEX(HAMARA!I:I,MATCH(B3008,HAMARA!E:E,0))),\"\")","v":"השקעות אחרות"}]
[15482,"DT626",0,{"$f":"IFERROR(IF(INDEX(HAMARA!I:I,MATCH(B3009,HAMARA!E:E,0))=0,\"\",INDEX(HAMARA!I:I,MATCH(B3009,HAMARA!E:E,0))),\"\")","v":"השקעות אחרות"}]
[15482,"DT471",0,{"$f":"IFERROR(IF(INDEX(HAMARA!I:I,MATCH(B3010,HAMARA!E:E,0))=0,\"\",INDEX(HAMARA!I:I,MATCH(B3010,HAMARA!E:E,0))),\"\")","v":"השקעות אחרות"}]
[15482,"DT473",0,{"$f":"IFERROR(IF(INDEX(HAMARA!I:I,MATCH(B3011,HAMARA!E:E,0))=0,\"\",INDEX(HAMARA!I:I,MATCH(B3011,HAMARA!E:E,0))),\"\")","v":"השקעות אחרות"}]
[15482,"DT346",0,{"$f":"IFERROR(IF(INDEX(HAMARA!I:I,MATCH(B3012,HAMARA!E:E,0))=0,\"\",INDEX(HAMARA!I:I,MATCH(B3012,HAMARA!E:E,0))),\"\")","v":"השקעות אחרות"}]
[15482,"DT348",0,{"$f":"IFERROR(IF(INDEX(HAMARA!I:I,MATCH(B3013,HAMARA!E:E,0))=0,\"\",INDEX(HAMARA!I:I,MATCH(B3013,HAMARA!E:E,0))),\"\")","v":"השקעות אחרות"}]
[15482,"DT213",0,{"$f":"IFERROR(IF(INDEX(HAMARA!I:I,MATCH(B3014,HAMARA!E:E,0))=0,\"\",INDEX(HAMARA!I:I,MATCH(B3014,HAMARA!E:E,0))),\"\")","v":"מניות וני\"ע סחירים אחרים"}]
[15482,"DT217",0,{"$f":"IFERROR(IF(INDEX(HAMARA!I:I,MATCH(B3015,HAMARA!E:E,0))=0,\"\",INDEX(HAMARA!I:I,MATCH(B3015,HAMARA!E:E,0))),\"\")","v":"מניות וני\"ע סחירים אחרים"}]
[15482,"DT214",0,{"$f":"IFERROR(IF(INDEX(HAMARA!I:I,MATCH(B3016,HAMARA!E:E,0))=0,\"\",INDEX(HAMARA!I:I,MATCH(B3016,HAMARA!E:E,0))),\"\")","v":"השקעות אחרות"}]
[15482,"DT218",0,{"$f":"IFERROR(IF(INDEX(HAMARA!I:I,MATCH(B3017,HAMARA!E:E,0))=0,\"\",INDEX(HAMARA!I:I,MATCH(B3017,HAMARA!E:E,0))),\"\")","v":"השקעות אחרות"}]
[15482,"DT215",0,{"$f":"IFERROR(IF(INDEX(HAMARA!I:I,MATCH(B3018,HAMARA!E:E,0))=0,\"\",INDEX(HAMARA!I:I,MATCH(B3018,HAMARA!E:E,0))),\"\")","v":"השקעות אחרות"}]
[15482,"DT219",0,{"$f":"IFERROR(IF(INDEX(HAMARA!I:I,MATCH(B3019,HAMARA!E:E,0))=0,\"\",INDEX(HAMARA!I:I,MATCH(B3019,HAMARA!E:E,0))),\"\")","v":"השקעות אחרות"}]
[15482,"DT216",0,{"$f":"IFERROR(IF(INDEX(HAMARA!I:I,MATCH(B3020,HAMARA!E:E,0))=0,\"\",INDEX(HAMARA!I:I,MATCH(B3020,HAMARA!E:E,0))),\"\")","v":"השקעות אחרות"}]
[15482,"DT220",0,{"$f":"IFERROR(IF(INDEX(HAMARA!I:I,MATCH(B3021,HAMARA!E:E,0))=0,\"\",INDEX(HAMARA!I:I,MATCH(B3021,HAMARA!E:E,0))),\"\")","v":"השקעות אחרות"}]
[15482,"DT474",0,{"$f":"IFERROR(IF(INDEX(HAMARA!I:I,MATCH(B3022,HAMARA!E:E,0))=0,\"\",INDEX(HAMARA!I:I,MATCH(B3022,HAMARA!E:E,0))),\"\")","v":"השקעות אחרות"}]
[15482,"DT475",0,{"$f":"IFERROR(IF(INDEX(HAMARA!I:I,MATCH(B3023,HAMARA!E:E,0))=0,\"\",INDEX(HAMARA!I:I,MATCH(B3023,HAMARA!E:E,0))),\"\")","v":"השקעות אחרות"}]
[15482,"DT476",0,{"$f":"IFERROR(IF(INDEX(HAMARA!I:I,MATCH(B3024,HAMARA!E:E,0))=0,\"\",INDEX(HAMARA!I:I,MATCH(B3024,HAMARA!E:E,0))),\"\")","v":"השקעות אחרות"}]
[15482,"DT481",0,{"$f":"IFERROR(IF(INDEX(HAMARA!I:I,MATCH(B3025,HAMARA!E:E,0))=0,\"\",INDEX(HAMARA!I:I,MATCH(B3025,HAMARA!E:E,0))),\"\")","v":"השקעות אחרות"}]
[15482,"DT477",0,{"$f":"IFERROR(IF(INDEX(HAMARA!I:I,MATCH(B3026,HAMARA!E:E,0))=0,\"\",INDEX(HAMARA!I:I,MATCH(B3026,HAMARA!E:E,0))),\"\")","v":"השקעות אחרות"}]
[15482,"DT482",0,{"$f":"IFERROR(IF(INDEX(HAMARA!I:I,MATCH(B3027,HAMARA!E:E,0))=0,\"\",INDEX(HAMARA!I:I,MATCH(B3027,HAMARA!E:E,0))),\"\")","v":"השקעות אחרות"}]
[15482,"DT478",0,{"$f":"IFERROR(IF(INDEX(HAMARA!I:I,MATCH(B3028,HAMARA!E:E,0))=0,\"\",INDEX(HAMARA!I:I,MATCH(B3028,HAMARA!E:E,0))),\"\")","v":"השקעות אחרות"}]
[15482,"DT483",0,{"$f":"IFERROR(IF(INDEX(HAMARA!I:I,MATCH(B3029,HAMARA!E:E,0))=0,\"\",INDEX(HAMARA!I:I,MATCH(B3029,HAMARA!E:E,0))),\"\")","v":"השקעות אחרות"}]
[15482,"DT479",0,{"$f":"IFERROR(IF(INDEX(HAMARA!I:I,MATCH(B3030,HAMARA!E:E,0))=0,\"\",INDEX(HAMARA!I:I,MATCH(B3030,HAMARA!E:E,0))),\"\")","v":"השקעות אחרות"}]
[15482,"DT484",0,{"$f":"IFERROR(IF(INDEX(HAMARA!I:I,MATCH(B3031,HAMARA!E:E,0))=0,\"\",INDEX(HAMARA!I:I,MATCH(B3031,HAMARA!E:E,0))),\"\")","v":"השקעות אחרות"}]
[15482,"DT480",0,{"$f":"IFERROR(IF(INDEX(HAMARA!I:I,MATCH(B3032,HAMARA!E:E,0))=0,\"\",INDEX(HAMARA!I:I,MATCH(B3032,HAMARA!E:E,0))),\"\")","v":"השקעות אחרות"}]
[15482,"DT485",0,{"$f":"IFERROR(IF(INDEX(HAMARA!I:I,MATCH(B3033,HAMARA!E:E,0))=0,\"\",INDEX(HAMARA!I:I,MATCH(B3033,HAMARA!E:E,0))),\"\")","v":"השקעות אחרות"}]
[15482,"DT705",0,{"$f":"IFERROR(IF(INDEX(HAMARA!I:I,MATCH(B3034,HAMARA!E:E,0))=0,\"\",INDEX(HAMARA!I:I,MATCH(B3034,HAMARA!E:E,0))),\"\")","v":"השקעות אחרות"}]
[15482,"DT706",0,{"$f":"IFERROR(IF(INDEX(HAMARA!I:I,MATCH(B3035,HAMARA!E:E,0))=0,\"\",INDEX(HAMARA!I:I,MATCH(B3035,HAMARA!E:E,0))),\"\")","v":"השקעות אחרות"}]
[15482,"DT707",0,{"$f":"IFERROR(IF(INDEX(HAMARA!I:I,MATCH(B3036,HAMARA!E:E,0))=0,\"\",INDEX(HAMARA!I:I,MATCH(B3036,HAMARA!E:E,0))),\"\")","v":"השקעות אחרות"}]
[15482,"DT708",0,{"$f":"IFERROR(IF(INDEX(HAMARA!I:I,MATCH(B3037,HAMARA!E:E,0))=0,\"\",INDEX(HAMARA!I:I,MATCH(B3037,HAMARA!E:E,0))),\"\")","v":"השקעות אחרות"}]
[15482,"DT709",0,{"$f":"IFERROR(IF(INDEX(HAMARA!I:I,MATCH(B3038,HAMARA!E:E,0))=0,\"\",INDEX(HAMARA!I:I,MATCH(B3038,HAMARA!E:E,0))),\"\")","v":"השקעות אחרות"}]
[15482,"DT710",0,{"$f":"IFERROR(IF(INDEX(HAMARA!I:I,MATCH(B3039,HAMARA!E:E,0))=0,\"\",INDEX(HAMARA!I:I,MATCH(B3039,HAMARA!E:E,0))),\"\")","v":"השקעות אחרות"}]
[15482,"DT711",0,{"$f":"IFERROR(IF(INDEX(HAMARA!I:I,MATCH(B3040,HAMARA!E:E,0))=0,\"\",INDEX(HAMARA!I:I,MATCH(B3040,HAMARA!E:E,0))),\"\")","v":"השקעות אחרות"}]
[15482,"DT712",0,{"$f":"IFERROR(IF(INDEX(HAMARA!I:I,MATCH(B3041,HAMARA!E:E,0))=0,\"\",INDEX(HAMARA!I:I,MATCH(B3041,HAMARA!E:E,0))),\"\")","v":"השקעות אחרות"}]
[15482,"DT713",0,{"$f":"IFERROR(IF(INDEX(HAMARA!I:I,MATCH(B3042,HAMARA!E:E,0))=0,\"\",INDEX(HAMARA!I:I,MATCH(B3042,HAMARA!E:E,0))),\"\")","v":"השקעות אחרות"}]
[15482,"DT714",0,{"$f":"IFERROR(IF(INDEX(HAMARA!I:I,MATCH(B3043,HAMARA!E:E,0))=0,\"\",INDEX(HAMARA!I:I,MATCH(B3043,HAMARA!E:E,0))),\"\")","v":"השקעות אחרות"}]
[15482,"DT715",0,{"$f":"IFERROR(IF(INDEX(HAMARA!I:I,MATCH(B3044,HAMARA!E:E,0))=0,\"\",INDEX(HAMARA!I:I,MATCH(B3044,HAMARA!E:E,0))),\"\")","v":"השקעות אחרות"}]
[15482,"DT716",0,{"$f":"IFERROR(IF(INDEX(HAMARA!I:I,MATCH(B3045,HAMARA!E:E,0))=0,\"\",INDEX(HAMARA!I:I,MATCH(B3045,HAMARA!E:E,0))),\"\")","v":"מניות וני\"ע סחירים אחרים"}]
[15482,"DT717",0,{"$f":"IFERROR(IF(INDEX(HAMARA!I:I,MATCH(B3046,HAMARA!E:E,0))=0,\"\",INDEX(HAMARA!I:I,MATCH(B3046,HAMARA!E:E,0))),\"\")","v":"השקעות אחרות"}]
[15482,"DT718",0,{"$f":"IFERROR(IF(INDEX(HAMARA!I:I,MATCH(B3047,HAMARA!E:E,0))=0,\"\",INDEX(HAMARA!I:I,MATCH(B3047,HAMARA!E:E,0))),\"\")","v":"השקעות אחרות"}]
[15482,"DT719",0,{"$f":"IFERROR(IF(INDEX(HAMARA!I:I,MATCH(B3048,HAMARA!E:E,0))=0,\"\",INDEX(HAMARA!I:I,MATCH(B3048,HAMARA!E:E,0))),\"\")","v":"השקעות אחרות"}]
[15482,"DT720",0,{"$f":"IFERROR(IF(INDEX(HAMARA!I:I,MATCH(B3049,HAMARA!E:E,0))=0,\"\",INDEX(HAMARA!I:I,MATCH(B3049,HAMARA!E:E,0))),\"\")","v":"השקעות אחרות"}]
[15482,"DT721",0,{"$f":"IFERROR(IF(INDEX(HAMARA!I:I,MATCH(B3050,HAMARA!E:E,0))=0,\"\",INDEX(HAMARA!I:I,MATCH(B3050,HAMARA!E:E,0))),\"\")","v":"השקעות אחרות"}]
[15482,"DT722",0,{"$f":"IFERROR(IF(INDEX(HAMARA!I:I,MATCH(B3051,HAMARA!E:E,0))=0,\"\",INDEX(HAMARA!I:I,MATCH(B3051,HAMARA!E:E,0))),\"\")","v":"השקעות אחרות"}]
[15482,"DT723",0,{"$f":"IFERROR(IF(INDEX(HAMARA!I:I,MATCH(B3052,HAMARA!E:E,0))=0,\"\",INDEX(HAMARA!I:I,MATCH(B3052,HAMARA!E:E,0))),\"\")","v":"השקעות אחרות"}]
[15482,"DT724",0,{"$f":"IFERROR(IF(INDEX(HAMARA!I:I,MATCH(B3053,HAMARA!E:E,0))=0,\"\",INDEX(HAMARA!I:I,MATCH(B3053,HAMARA!E:E,0))),\"\")","v":"השקעות אחרות"}]
[15482,"DT725",0,{"$f":"IFERROR(IF(INDEX(HAMARA!I:I,MATCH(B3054,HAMARA!E:E,0))=0,\"\",INDEX(HAMARA!I:I,MATCH(B3054,HAMARA!E:E,0))),\"\")","v":"השקעות אחרות"}]
[15482,"DT726",0,{"$f":"IFERROR(IF(INDEX(HAMARA!I:I,MATCH(B3055,HAMARA!E:E,0))=0,\"\",INDEX(HAMARA!I:I,MATCH(B3055,HAMARA!E:E,0))),\"\")","v":"השקעות אחרות"}]
[15482,"DT646",0,{"$f":"IFERROR(IF(INDEX(HAMARA!I:I,MATCH(B3056,HAMARA!E:E,0))=0,\"\",INDEX(HAMARA!I:I,MATCH(B3056,HAMARA!E:E,0))),\"\")","v":"השקעות אחרות"}]
[15482,"DT647",0,{"$f":"IFERROR(IF(INDEX(HAMARA!I:I,MATCH(B3057,HAMARA!E:E,0))=0,\"\",INDEX(HAMARA!I:I,MATCH(B3057,HAMARA!E:E,0))),\"\")","v":"השקעות אחרות"}]
[15482,"DT648",0,{"$f":"IFERROR(IF(INDEX(HAMARA!I:I,MATCH(B3058,HAMARA!E:E,0))=0,\"\",INDEX(HAMARA!I:I,MATCH(B3058,HAMARA!E:E,0))),\"\")","v":"השקעות אחרות"}]
[15482,"DT649",0,{"$f":"IFERROR(IF(INDEX(HAMARA!I:I,MATCH(B3059,HAMARA!E:E,0))=0,\"\",INDEX(HAMARA!I:I,MATCH(B3059,HAMARA!E:E,0))),\"\")","v":"השקעות אחרות"}]
[15482,"DT650",0,{"$f":"IFERROR(IF(INDEX(HAMARA!I:I,MATCH(B3060,HAMARA!E:E,0))=0,\"\",INDEX(HAMARA!I:I,MATCH(B3060,HAMARA!E:E,0))),\"\")","v":"השקעות אחרות"}]
[15482,"DT651",0,{"$f":"IFERROR(IF(INDEX(HAMARA!I:I,MATCH(B3061,HAMARA!E:E,0))=0,\"\",INDEX(HAMARA!I:I,MATCH(B3061,HAMARA!E:E,0))),\"\")","v":"השקעות אחרות"}]
[15482,"DT652",0,{"$f":"IFERROR(IF(INDEX(HAMARA!I:I,MATCH(B3062,HAMARA!E:E,0))=0,\"\",INDEX(HAMARA!I:I,MATCH(B3062,HAMARA!E:E,0))),\"\")","v":"השקעות אחרות"}]
[15482,"DT653",0,{"$f":"IFERROR(IF(INDEX(HAMARA!I:I,MATCH(B3063,HAMARA!E:E,0))=0,\"\",INDEX(HAMARA!I:I,MATCH(B3063,HAMARA!E:E,0))),\"\")","v":"השקעות אחרות"}]
[15482,"DT654",0,{"$f":"IFERROR(IF(INDEX(HAMARA!I:I,MATCH(B3064,HAMARA!E:E,0))=0,\"\",INDEX(HAMARA!I:I,MATCH(B3064,HAMARA!E:E,0))),\"\")","v":"השקעות אחרות"}]
[15482,"DT655",0,{"$f":"IFERROR(IF(INDEX(HAMARA!I:I,MATCH(B3065,HAMARA!E:E,0))=0,\"\",INDEX(HAMARA!I:I,MATCH(B3065,HAMARA!E:E,0))),\"\")","v":"השקעות אחרות"}]
[15482,"DT656",0,{"$f":"IFERROR(IF(INDEX(HAMARA!I:I,MATCH(B3066,HAMARA!E:E,0))=0,\"\",INDEX(HAMARA!I:I,MATCH(B3066,HAMARA!E:E,0))),\"\")","v":"השקעות אחרות"}]
[15482,"DT657",0,{"$f":"IFERROR(IF(INDEX(HAMARA!I:I,MATCH(B3067,HAMARA!E:E,0))=0,\"\",INDEX(HAMARA!I:I,MATCH(B3067,HAMARA!E:E,0))),\"\")","v":"השקעות אחרות"}]
[15482,"DT678",0,{"$f":"IFERROR(IF(INDEX(HAMARA!I:I,MATCH(B3068,HAMARA!E:E,0))=0,\"\",INDEX(HAMARA!I:I,MATCH(B3068,HAMARA!E:E,0))),\"\")","v":"השקעות אחרות"}]
[15482,"DT679",0,{"$f":"IFERROR(IF(INDEX(HAMARA!I:I,MATCH(B3069,HAMARA!E:E,0))=0,\"\",INDEX(HAMARA!I:I,MATCH(B3069,HAMARA!E:E,0))),\"\")","v":"השקעות אחרות"}]
[15482,"DT680",0,{"$f":"IFERROR(IF(INDEX(HAMARA!I:I,MATCH(B3070,HAMARA!E:E,0))=0,\"\",INDEX(HAMARA!I:I,MATCH(B3070,HAMARA!E:E,0))),\"\")","v":"השקעות אחרות"}]
[15482,"DT681",0,{"$f":"IFERROR(IF(INDEX(HAMARA!I:I,MATCH(B3071,HAMARA!E:E,0))=0,\"\",INDEX(HAMARA!I:I,MATCH(B3071,HAMARA!E:E,0))),\"\")","v":"השקעות אחרות"}]
[15482,"DT682",0,{"$f":"IFERROR(IF(INDEX(HAMARA!I:I,MATCH(B3072,HAMARA!E:E,0))=0,\"\",INDEX(HAMARA!I:I,MATCH(B3072,HAMARA!E:E,0))),\"\")","v":"השקעות אחרות"}]
[15482,"DT683",0,{"$f":"IFERROR(IF(INDEX(HAMARA!I:I,MATCH(B3073,HAMARA!E:E,0))=0,\"\",INDEX(HAMARA!I:I,MATCH(B3073,HAMARA!E:E,0))),\"\")","v":"השקעות אחרות"}]
[15482,"DT658",0,{"$f":"IFERROR(IF(INDEX(HAMARA!I:I,MATCH(B3074,HAMARA!E:E,0))=0,\"\",INDEX(HAMARA!I:I,MATCH(B3074,HAMARA!E:E,0))),\"\")","v":"השקעות אחרות"}]
[15482,"DT659",0,{"$f":"IFERROR(IF(INDEX(HAMARA!I:I,MATCH(B3075,HAMARA!E:E,0))=0,\"\",INDEX(HAMARA!I:I,MATCH(B3075,HAMARA!E:E,0))),\"\")","v":"השקעות אחרות"}]
[15482,"DT660",0,{"$f":"IFERROR(IF(INDEX(HAMARA!I:I,MATCH(B3076,HAMARA!E:E,0))=0,\"\",INDEX(HAMARA!I:I,MATCH(B3076,HAMARA!E:E,0))),\"\")","v":"השקעות אחרות"}]
[15482,"DT661",0,{"$f":"IFERROR(IF(INDEX(HAMARA!I:I,MATCH(B3077,HAMARA!E:E,0))=0,\"\",INDEX(HAMARA!I:I,MATCH(B3077,HAMARA!E:E,0))),\"\")","v":"השקעות אחרות"}]
[15482,"DT727",0,{"$f":"IFERROR(IF(INDEX(HAMARA!I:I,MATCH(B3078,HAMARA!E:E,0))=0,\"\",INDEX(HAMARA!I:I,MATCH(B3078,HAMARA!E:E,0))),\"\")","v":"השקעות אחרות"}]
[15482,"DT728",0,{"$f":"IFERROR(IF(INDEX(HAMARA!I:I,MATCH(B3079,HAMARA!E:E,0))=0,\"\",INDEX(HAMARA!I:I,MATCH(B3079,HAMARA!E:E,0))),\"\")","v":"השקעות אחרות"}]
[15482,"DT729",0,{"$f":"IFERROR(IF(INDEX(HAMARA!I:I,MATCH(B3080,HAMARA!E:E,0))=0,\"\",INDEX(HAMARA!I:I,MATCH(B3080,HAMARA!E:E,0))),\"\")","v":"השקעות אחרות"}]
[15482,"DT730",0,{"$f":"IFERROR(IF(INDEX(HAMARA!I:I,MATCH(B3081,HAMARA!E:E,0))=0,\"\",INDEX(HAMARA!I:I,MATCH(B3081,HAMARA!E:E,0))),\"\")","v":"השקעות אחרות"}]
[15482,"DT731",0,{"$f":"IFERROR(IF(INDEX(HAMARA!I:I,MATCH(B3082,HAMARA!E:E,0))=0,\"\",INDEX(HAMARA!I:I,MATCH(B3082,HAMARA!E:E,0))),\"\")","v":"השקעות אחרות"}]
[15482,"DT732",0,{"$f":"IFERROR(IF(INDEX(HAMARA!I:I,MATCH(B3083,HAMARA!E:E,0))=0,\"\",INDEX(HAMARA!I:I,MATCH(B3083,HAMARA!E:E,0))),\"\")","v":"השקעות אחרות"}]
[15482,"DT733",0,{"$f":"IFERROR(IF(INDEX(HAMARA!I:I,MATCH(B3084,HAMARA!E:E,0))=0,\"\",INDEX(HAMARA!I:I,MATCH(B3084,HAMARA!E:E,0))),\"\")","v":"השקעות אחרות"}]
[15482,"DT734",0,{"$f":"IFERROR(IF(INDEX(HAMARA!I:I,MATCH(B3085,HAMARA!E:E,0))=0,\"\",INDEX(HAMARA!I:I,MATCH(B3085,HAMARA!E:E,0))),\"\")","v":"השקעות אחרות"}]
[15482,"DT735",0,{"$f":"IFERROR(IF(INDEX(HAMARA!I:I,MATCH(B3086,HAMARA!E:E,0))=0,\"\",INDEX(HAMARA!I:I,MATCH(B3086,HAMARA!E:E,0))),\"\")","v":"השקעות אחרות"}]
[15482,"DT736",0,{"$f":"IFERROR(IF(INDEX(HAMARA!I:I,MATCH(B3087,HAMARA!E:E,0))=0,\"\",INDEX(HAMARA!I:I,MATCH(B3087,HAMARA!E:E,0))),\"\")","v":"השקעות אחרות"}]
[15482,"DT737",0,{"$f":"IFERROR(IF(INDEX(HAMARA!I:I,MATCH(B3088,HAMARA!E:E,0))=0,\"\",INDEX(HAMARA!I:I,MATCH(B3088,HAMARA!E:E,0))),\"\")","v":"השקעות אחרות"}]
[15482,"DT738",0,{"$f":"IFERROR(IF(INDEX(HAMARA!I:I,MATCH(B3089,HAMARA!E:E,0))=0,\"\",INDEX(HAMARA!I:I,MATCH(B3089,HAMARA!E:E,0))),\"\")","v":"השקעות אחרות"}]
[15482,"DT739",0,{"$f":"IFERROR(IF(INDEX(HAMARA!I:I,MATCH(B3090,HAMARA!E:E,0))=0,\"\",INDEX(HAMARA!I:I,MATCH(B3090,HAMARA!E:E,0))),\"\")","v":"השקעות אחרות"}]
[15482,"DT740",0,{"$f":"IFERROR(IF(INDEX(HAMARA!I:I,MATCH(B3091,HAMARA!E:E,0))=0,\"\",INDEX(HAMARA!I:I,MATCH(B3091,HAMARA!E:E,0))),\"\")","v":"השקעות אחרות"}]
[15482,"DT741",0,{"$f":"IFERROR(IF(INDEX(HAMARA!I:I,MATCH(B3092,HAMARA!E:E,0))=0,\"\",INDEX(HAMARA!I:I,MATCH(B3092,HAMARA!E:E,0))),\"\")","v":"השקעות אחרות"}]
[15482,"DT742",0,{"$f":"IFERROR(IF(INDEX(HAMARA!I:I,MATCH(B3093,HAMARA!E:E,0))=0,\"\",INDEX(HAMARA!I:I,MATCH(B3093,HAMARA!E:E,0))),\"\")","v":"השקעות אחרות"}]
[15482,"DT743",0,{"$f":"IFERROR(IF(INDEX(HAMARA!I:I,MATCH(B3094,HAMARA!E:E,0))=0,\"\",INDEX(HAMARA!I:I,MATCH(B3094,HAMARA!E:E,0))),\"\")","v":"השקעות אחרות"}]
[15482,"DT744",0,{"$f":"IFERROR(IF(INDEX(HAMARA!I:I,MATCH(B3095,HAMARA!E:E,0))=0,\"\",INDEX(HAMARA!I:I,MATCH(B3095,HAMARA!E:E,0))),\"\")","v":"השקעות אחרות"}]
[15482,"DT745",0,{"$f":"IFERROR(IF(INDEX(HAMARA!I:I,MATCH(B3096,HAMARA!E:E,0))=0,\"\",INDEX(HAMARA!I:I,MATCH(B3096,HAMARA!E:E,0))),\"\")","v":"השקעות אחרות"}]
[15482,"DT746",0,{"$f":"IFERROR(IF(INDEX(HAMARA!I:I,MATCH(B3097,HAMARA!E:E,0))=0,\"\",INDEX(HAMARA!I:I,MATCH(B3097,HAMARA!E:E,0))),\"\")","v":"השקעות אחרות"}]
[15482,"DT747",0,{"$f":"IFERROR(IF(INDEX(HAMARA!I:I,MATCH(B3098,HAMARA!E:E,0))=0,\"\",INDEX(HAMARA!I:I,MATCH(B3098,HAMARA!E:E,0))),\"\")","v":"השקעות אחרות"}]
[15482,"DT748",0,{"$f":"IFERROR(IF(INDEX(HAMARA!I:I,MATCH(B3099,HAMARA!E:E,0))=0,\"\",INDEX(HAMARA!I:I,MATCH(B3099,HAMARA!E:E,0))),\"\")","v":"השקעות אחרות"}]
[15482,"DT662",0,{"$f":"IFERROR(IF(INDEX(HAMARA!I:I,MATCH(B3100,HAMARA!E:E,0))=0,\"\",INDEX(HAMARA!I:I,MATCH(B3100,HAMARA!E:E,0))),\"\")","v":"השקעות אחרות"}]
[15482,"DT663",0,{"$f":"IFERROR(IF(INDEX(HAMARA!I:I,MATCH(B3101,HAMARA!E:E,0))=0,\"\",INDEX(HAMARA!I:I,MATCH(B3101,HAMARA!E:E,0))),\"\")","v":"השקעות אחרות"}]
[15482,"DT664",0,{"$f":"IFERROR(IF(INDEX(HAMARA!I:I,MATCH(B3102,HAMARA!E:E,0))=0,\"\",INDEX(HAMARA!I:I,MATCH(B3102,HAMARA!E:E,0))),\"\")","v":"השקעות אחרות"}]
[15482,"DT665",0,{"$f":"IFERROR(IF(INDEX(HAMARA!I:I,MATCH(B3103,HAMARA!E:E,0))=0,\"\",INDEX(HAMARA!I:I,MATCH(B3103,HAMARA!E:E,0))),\"\")","v":"השקעות אחרות"}]
[15482,"DT666",0,{"$f":"IFERROR(IF(INDEX(HAMARA!I:I,MATCH(B3104,HAMARA!E:E,0))=0,\"\",INDEX(HAMARA!I:I,MATCH(B3104,HAMARA!E:E,0))),\"\")","v":"השקעות אחרות"}]
[15482,"DT667",0,{"$f":"IFERROR(IF(INDEX(HAMARA!I:I,MATCH(B3105,HAMARA!E:E,0))=0,\"\",INDEX(HAMARA!I:I,MATCH(B3105,HAMARA!E:E,0))),\"\")","v":"השקעות אחרות"}]
[15482,"DT668",0,{"$f":"IFERROR(IF(INDEX(HAMARA!I:I,MATCH(B3106,HAMARA!E:E,0))=0,\"\",INDEX(HAMARA!I:I,MATCH(B3106,HAMARA!E:E,0))),\"\")","v":"השקעות אחרות"}]
[15482,"DT669",0,{"$f":"IFERROR(IF(INDEX(HAMARA!I:I,MATCH(B3107,HAMARA!E:E,0))=0,\"\",INDEX(HAMARA!I:I,MATCH(B3107,HAMARA!E:E,0))),\"\")","v":"השקעות אחרות"}]
[15482,"DT670",0,{"$f":"IFERROR(IF(INDEX(HAMARA!I:I,MATCH(B3108,HAMARA!E:E,0))=0,\"\",INDEX(HAMARA!I:I,MATCH(B3108,HAMARA!E:E,0))),\"\")","v":"השקעות אחרות"}]
[15482,"DT671",0,{"$f":"IFERROR(IF(INDEX(HAMARA!I:I,MATCH(B3109,HAMARA!E:E,0))=0,\"\",INDEX(HAMARA!I:I,MATCH(B3109,HAMARA!E:E,0))),\"\")","v":"השקעות אחרות"}]
[15482,"DT672",0,{"$f":"IFERROR(IF(INDEX(HAMARA!I:I,MATCH(B3110,HAMARA!E:E,0))=0,\"\",INDEX(HAMARA!I:I,MATCH(B3110,HAMARA!E:E,0))),\"\")","v":"השקעות אחרות"}]
[15482,"DT673",0,{"$f":"IFERROR(IF(INDEX(HAMARA!I:I,MATCH(B3111,HAMARA!E:E,0))=0,\"\",INDEX(HAMARA!I:I,MATCH(B3111,HAMARA!E:E,0))),\"\")","v":"השקעות אחרות"}]
[15482,"DT684",0,{"$f":"IFERROR(IF(INDEX(HAMARA!I:I,MATCH(B3112,HAMARA!E:E,0))=0,\"\",INDEX(HAMARA!I:I,MATCH(B3112,HAMARA!E:E,0))),\"\")","v":"השקעות אחרות"}]
[15482,"DT685",0,{"$f":"IFERROR(IF(INDEX(HAMARA!I:I,MATCH(B3113,HAMARA!E:E,0))=0,\"\",INDEX(HAMARA!I:I,MATCH(B3113,HAMARA!E:E,0))),\"\")","v":"השקעות אחרות"}]
[15482,"DT686",0,{"$f":"IFERROR(IF(INDEX(HAMARA!I:I,MATCH(B3114,HAMARA!E:E,0))=0,\"\",INDEX(HAMARA!I:I,MATCH(B3114,HAMARA!E:E,0))),\"\")","v":"השקעות אחרות"}]
[15482,"DT687",0,{"$f":"IFERROR(IF(INDEX(HAMARA!I:I,MATCH(B3115,HAMARA!E:E,0))=0,\"\",INDEX(HAMARA!I:I,MATCH(B3115,HAMARA!E:E,0))),\"\")","v":"השקעות אחרות"}]
[15482,"DT688",0,{"$f":"IFERROR(IF(INDEX(HAMARA!I:I,MATCH(B3116,HAMARA!E:E,0))=0,\"\",INDEX(HAMARA!I:I,MATCH(B3116,HAMARA!E:E,0))),\"\")","v":"השקעות אחרות"}]
[15482,"DT689",0,{"$f":"IFERROR(IF(INDEX(HAMARA!I:I,MATCH(B3117,HAMARA!E:E,0))=0,\"\",INDEX(HAMARA!I:I,MATCH(B3117,HAMARA!E:E,0))),\"\")","v":"השקעות אחרות"}]
[15482,"DT674",0,{"$f":"IFERROR(IF(INDEX(HAMARA!I:I,MATCH(B3118,HAMARA!E:E,0))=0,\"\",INDEX(HAMARA!I:I,MATCH(B3118,HAMARA!E:E,0))),\"\")","v":"השקעות אחרות"}]
[15482,"DT675",0,{"$f":"IFERROR(IF(INDEX(HAMARA!I:I,MATCH(B3119,HAMARA!E:E,0))=0,\"\",INDEX(HAMARA!I:I,MATCH(B3119,HAMARA!E:E,0))),\"\")","v":"השקעות אחרות"}]
[15482,"DT676",0,{"$f":"IFERROR(IF(INDEX(HAMARA!I:I,MATCH(B3120,HAMARA!E:E,0))=0,\"\",INDEX(HAMARA!I:I,MATCH(B3120,HAMARA!E:E,0))),\"\")","v":"השקעות אחרות"}]
[15482,"DT677",0,{"$f":"IFERROR(IF(INDEX(HAMARA!I:I,MATCH(B3121,HAMARA!E:E,0))=0,\"\",INDEX(HAMARA!I:I,MATCH(B3121,HAMARA!E:E,0))),\"\")","v":"השקעות אחרות"}]
[15482,"DC1",0,{"$f":"IFERROR(IF(INDEX(HAMARA!I:I,MATCH(B3122,HAMARA!E:E,0))=0,\"\",INDEX(HAMARA!I:I,MATCH(B3122,HAMARA!E:E,0))),\"\")","v":"פקדונות והלוואות"}]
[15482,"DT502",0,{"$f":"IFERROR(IF(INDEX(HAMARA!I:I,MATCH(B3123,HAMARA!E:E,0))=0,\"\",INDEX(HAMARA!I:I,MATCH(B3123,HAMARA!E:E,0))),\"\")","v":"פקדונות והלוואות"}]
[15482,"DT503",0,{"$f":"IFERROR(IF(INDEX(HAMARA!I:I,MATCH(B3124,HAMARA!E:E,0))=0,\"\",INDEX(HAMARA!I:I,MATCH(B3124,HAMARA!E:E,0))),\"\")","v":"פקדונות והלוואות"}]
[15482,"DT450",0,{"$f":"IFERROR(IF(INDEX(HAMARA!I:I,MATCH(B3125,HAMARA!E:E,0))=0,\"\",INDEX(HAMARA!I:I,MATCH(B3125,HAMARA!E:E,0))),\"\")","v":"פקדונות והלוואות"}]
[15482,"DT504",0,{"$f":"IFERROR(IF(INDEX(HAMARA!I:I,MATCH(B3126,HAMARA!E:E,0))=0,\"\",INDEX(HAMARA!I:I,MATCH(B3126,HAMARA!E:E,0))),\"\")","v":"פקדונות והלוואות"}]
[15482,"DT505",0,{"$f":"IFERROR(IF(INDEX(HAMARA!I:I,MATCH(B3127,HAMARA!E:E,0))=0,\"\",INDEX(HAMARA!I:I,MATCH(B3127,HAMARA!E:E,0))),\"\")","v":"פקדונות והלוואות"}]
[15482,"DT451",0,{"$f":"IFERROR(IF(INDEX(HAMARA!I:I,MATCH(B3128,HAMARA!E:E,0))=0,\"\",INDEX(HAMARA!I:I,MATCH(B3128,HAMARA!E:E,0))),\"\")","v":"פקדונות והלוואות"}]
[15482,"DT506",0,{"$f":"IFERROR(IF(INDEX(HAMARA!I:I,MATCH(B3129,HAMARA!E:E,0))=0,\"\",INDEX(HAMARA!I:I,MATCH(B3129,HAMARA!E:E,0))),\"\")","v":"פקדונות והלוואות"}]
[15482,"DT627",0,{"$f":"IFERROR(IF(INDEX(HAMARA!I:I,MATCH(B3130,HAMARA!E:E,0))=0,\"\",INDEX(HAMARA!I:I,MATCH(B3130,HAMARA!E:E,0))),\"\")","v":"פקדונות והלוואות"}]
[15482,"DT507",0,{"$f":"IFERROR(IF(INDEX(HAMARA!I:I,MATCH(B3131,HAMARA!E:E,0))=0,\"\",INDEX(HAMARA!I:I,MATCH(B3131,HAMARA!E:E,0))),\"\")","v":"פקדונות והלוואות"}]
[15482,"DT577",0,{"$f":"IFERROR(IF(INDEX(HAMARA!I:I,MATCH(B3132,HAMARA!E:E,0))=0,\"\",INDEX(HAMARA!I:I,MATCH(B3132,HAMARA!E:E,0))),\"\")","v":"פקדונות והלוואות"}]
[15482,"DT508",0,{"$f":"IFERROR(IF(INDEX(HAMARA!I:I,MATCH(B3133,HAMARA!E:E,0))=0,\"\",INDEX(HAMARA!I:I,MATCH(B3133,HAMARA!E:E,0))),\"\")","v":"פקדונות והלוואות"}]
[15482,"DT509",0,{"$f":"IFERROR(IF(INDEX(HAMARA!I:I,MATCH(B3134,HAMARA!E:E,0))=0,\"\",INDEX(HAMARA!I:I,MATCH(B3134,HAMARA!E:E,0))),\"\")","v":"פקדונות והלוואות"}]
[15482,"DT511",0,{"$f":"IFERROR(IF(INDEX(HAMARA!I:I,MATCH(B3135,HAMARA!E:E,0))=0,\"\",INDEX(HAMARA!I:I,MATCH(B3135,HAMARA!E:E,0))),\"\")","v":"פקדונות והלוואות"}]
[15482,"DT452",0,{"$f":"IFERROR(IF(INDEX(HAMARA!I:I,MATCH(B3136,HAMARA!E:E,0))=0,\"\",INDEX(HAMARA!I:I,MATCH(B3136,HAMARA!E:E,0))),\"\")","v":"פקדונות והלוואות"}]
[15482,"DT512",0,{"$f":"IFERROR(IF(INDEX(HAMARA!I:I,MATCH(B3137,HAMARA!E:E,0))=0,\"\",INDEX(HAMARA!I:I,MATCH(B3137,HAMARA!E:E,0))),\"\")","v":"פקדונות והלוואות"}]
[15482,"DT513",0,{"$f":"IFERROR(IF(INDEX(HAMARA!I:I,MATCH(B3138,HAMARA!E:E,0))=0,\"\",INDEX(HAMARA!I:I,MATCH(B3138,HAMARA!E:E,0))),\"\")","v":"פקדונות והלוואות"}]
[15482,"DT514",0,{"$f":"IFERROR(IF(INDEX(HAMARA!I:I,MATCH(B3139,HAMARA!E:E,0))=0,\"\",INDEX(HAMARA!I:I,MATCH(B3139,HAMARA!E:E,0))),\"\")","v":"פקדונות והלוואות"}]
[15482,"DT515",0,{"$f":"IFERROR(IF(INDEX(HAMARA!I:I,MATCH(B3140,HAMARA!E:E,0))=0,\"\",INDEX(HAMARA!I:I,MATCH(B3140,HAMARA!E:E,0))),\"\")","v":"פקדונות והלוואות"}]
[15482,"DT516",0,{"$f":"IFERROR(IF(INDEX(HAMARA!I:I,MATCH(B3141,HAMARA!E:E,0))=0,\"\",INDEX(HAMARA!I:I,MATCH(B3141,HAMARA!E:E,0))),\"\")","v":"פקדונות והלוואות"}]
[15482,"DT517",0,{"$f":"IFERROR(IF(INDEX(HAMARA!I:I,MATCH(B3142,HAMARA!E:E,0))=0,\"\",INDEX(HAMARA!I:I,MATCH(B3142,HAMARA!E:E,0))),\"\")","v":"פקדונות והלוואות"}]
[15482,"DT518",0,{"$f":"IFERROR(IF(INDEX(HAMARA!I:I,MATCH(B3143,HAMARA!E:E,0))=0,\"\",INDEX(HAMARA!I:I,MATCH(B3143,HAMARA!E:E,0))),\"\")","v":"פקדונות והלוואות"}]
[15482,"DT519",0,{"$f":"IFERROR(IF(INDEX(HAMARA!I:I,MATCH(B3144,HAMARA!E:E,0))=0,\"\",INDEX(HAMARA!I:I,MATCH(B3144,HAMARA!E:E,0))),\"\")","v":"פקדונות והלוואות"}]
[15482,"DT520",0,{"$f":"IFERROR(IF(INDEX(HAMARA!I:I,MATCH(B3145,HAMARA!E:E,0))=0,\"\",INDEX(HAMARA!I:I,MATCH(B3145,HAMARA!E:E,0))),\"\")","v":"פקדונות והלוואות"}]
[15482,"DT521",0,{"$f":"IFERROR(IF(INDEX(HAMARA!I:I,MATCH(B3146,HAMARA!E:E,0))=0,\"\",INDEX(HAMARA!I:I,MATCH(B3146,HAMARA!E:E,0))),\"\")","v":"פקדונות והלוואות"}]
[15482,"DT522",0,{"$f":"IFERROR(IF(INDEX(HAMARA!I:I,MATCH(B3147,HAMARA!E:E,0))=0,\"\",INDEX(HAMARA!I:I,MATCH(B3147,HAMARA!E:E,0))),\"\")","v":"פקדונות והלוואות"}]
[15482,"DT523",0,{"$f":"IFERROR(IF(INDEX(HAMARA!I:I,MATCH(B3148,HAMARA!E:E,0))=0,\"\",INDEX(HAMARA!I:I,MATCH(B3148,HAMARA!E:E,0))),\"\")","v":"פקדונות והלוואות"}]
[15482,"DT524",0,{"$f":"IFERROR(IF(INDEX(HAMARA!I:I,MATCH(B3149,HAMARA!E:E,0))=0,\"\",INDEX(HAMARA!I:I,MATCH(B3149,HAMARA!E:E,0))),\"\")","v":"פקדונות והלוואות"}]
[15482,"DT525",0,{"$f":"IFERROR(IF(INDEX(HAMARA!I:I,MATCH(B3150,HAMARA!E:E,0))=0,\"\",INDEX(HAMARA!I:I,MATCH(B3150,HAMARA!E:E,0))),\"\")","v":"פקדונות והלוואות"}]
[15482,"DT526",0,{"$f":"IFERROR(IF(INDEX(HAMARA!I:I,MATCH(B3151,HAMARA!E:E,0))=0,\"\",INDEX(HAMARA!I:I,MATCH(B3151,HAMARA!E:E,0))),\"\")","v":"פקדונות והלוואות"}]
[15482,"DT527",0,{"$f":"IFERROR(IF(INDEX(HAMARA!I:I,MATCH(B3152,HAMARA!E:E,0))=0,\"\",INDEX(HAMARA!I:I,MATCH(B3152,HAMARA!E:E,0))),\"\")","v":"פקדונות והלוואות"}]
[15482,"DT530",0,{"$f":"IFERROR(IF(INDEX(HAMARA!I:I,MATCH(B3153,HAMARA!E:E,0))=0,\"\",INDEX(HAMARA!I:I,MATCH(B3153,HAMARA!E:E,0))),\"\")","v":"פקדונות והלוואות"}]
[15482,"DT531",0,{"$f":"IFERROR(IF(INDEX(HAMARA!I:I,MATCH(B3154,HAMARA!E:E,0))=0,\"\",INDEX(HAMARA!I:I,MATCH(B3154,HAMARA!E:E,0))),\"\")","v":"פקדונות והלוואות"}]
[15482,"DT532",0,{"$f":"IFERROR(IF(INDEX(HAMARA!I:I,MATCH(B3155,HAMARA!E:E,0))=0,\"\",INDEX(HAMARA!I:I,MATCH(B3155,HAMARA!E:E,0))),\"\")","v":"פקדונות והלוואות"}]
[15482,"DT533",0,{"$f":"IFERROR(IF(INDEX(HAMARA!I:I,MATCH(B3156,HAMARA!E:E,0))=0,\"\",INDEX(HAMARA!I:I,MATCH(B3156,HAMARA!E:E,0))),\"\")","v":"פקדונות והלוואות"}]
[15482,"DT534",0,{"$f":"IFERROR(IF(INDEX(HAMARA!I:I,MATCH(B3157,HAMARA!E:E,0))=0,\"\",INDEX(HAMARA!I:I,MATCH(B3157,HAMARA!E:E,0))),\"\")","v":"פקדונות והלוואות"}]
[15482,"DT535",0,{"$f":"IFERROR(IF(INDEX(HAMARA!I:I,MATCH(B3158,HAMARA!E:E,0))=0,\"\",INDEX(HAMARA!I:I,MATCH(B3158,HAMARA!E:E,0))),\"\")","v":"פקדונות והלוואות"}]
[15482,"DT536",0,{"$f":"IFERROR(IF(INDEX(HAMARA!I:I,MATCH(B3159,HAMARA!E:E,0))=0,\"\",INDEX(HAMARA!I:I,MATCH(B3159,HAMARA!E:E,0))),\"\")","v":"פקדונות והלוואות"}]
[15482,"DT537",0,{"$f":"IFERROR(IF(INDEX(HAMARA!I:I,MATCH(B3160,HAMARA!E:E,0))=0,\"\",INDEX(HAMARA!I:I,MATCH(B3160,HAMARA!E:E,0))),\"\")","v":"פקדונות והלוואות"}]
[15482,"DT628",0,{"$f":"IFERROR(IF(INDEX(HAMARA!I:I,MATCH(B3161,HAMARA!E:E,0))=0,\"\",INDEX(HAMARA!I:I,MATCH(B3161,HAMARA!E:E,0))),\"\")","v":"פקדונות והלוואות"}]
[15482,"DT629",0,{"$f":"IFERROR(IF(INDEX(HAMARA!I:I,MATCH(B3162,HAMARA!E:E,0))=0,\"\",INDEX(HAMARA!I:I,MATCH(B3162,HAMARA!E:E,0))),\"\")","v":"פקדונות והלוואות"}]
[15482,"DT630",0,{"$f":"IFERROR(IF(INDEX(HAMARA!I:I,MATCH(B3163,HAMARA!E:E,0))=0,\"\",INDEX(HAMARA!I:I,MATCH(B3163,HAMARA!E:E,0))),\"\")","v":"פקדונות והלוואות"}]
[15482,"DT631",0,{"$f":"IFERROR(IF(INDEX(HAMARA!I:I,MATCH(B3164,HAMARA!E:E,0))=0,\"\",INDEX(HAMARA!I:I,MATCH(B3164,HAMARA!E:E,0))),\"\")","v":"פקדונות והלוואות"}]
[15482,"DT632",0,{"$f":"IFERROR(IF(INDEX(HAMARA!I:I,MATCH(B3165,HAMARA!E:E,0))=0,\"\",INDEX(HAMARA!I:I,MATCH(B3165,HAMARA!E:E,0))),\"\")","v":"פקדונות והלוואות"}]
[15482,"DT633",0,{"$f":"IFERROR(IF(INDEX(HAMARA!I:I,MATCH(B3166,HAMARA!E:E,0))=0,\"\",INDEX(HAMARA!I:I,MATCH(B3166,HAMARA!E:E,0))),\"\")","v":"פקדונות והלוואות"}]
[15482,"DT111",0,{"$f":"IFERROR(IF(INDEX(HAMARA!I:I,MATCH(B3167,HAMARA!E:E,0))=0,\"\",INDEX(HAMARA!I:I,MATCH(B3167,HAMARA!E:E,0))),\"\")","v":"השקעות אחרות"}]
[15482,"DT112",0,{"$f":"IFERROR(IF(INDEX(HAMARA!I:I,MATCH(B3168,HAMARA!E:E,0))=0,\"\",INDEX(HAMARA!I:I,MATCH(B3168,HAMARA!E:E,0))),\"\")","v":"השקעות אחרות"}]
[15482,"DT113",0,{"$f":"IFERROR(IF(INDEX(HAMARA!I:I,MATCH(B3169,HAMARA!E:E,0))=0,\"\",INDEX(HAMARA!I:I,MATCH(B3169,HAMARA!E:E,0))),\"\")","v":"השקעות אחרות"}]
[15482,"DT114",0,{"$f":"IFERROR(IF(INDEX(HAMARA!I:I,MATCH(B3170,HAMARA!E:E,0))=0,\"\",INDEX(HAMARA!I:I,MATCH(B3170,HAMARA!E:E,0))),\"\")","v":"השקעות אחרות"}]
[15482,"DT116",0,{"$f":"IFERROR(IF(INDEX(HAMARA!I:I,MATCH(B3171,HAMARA!E:E,0))=0,\"\",INDEX(HAMARA!I:I,MATCH(B3171,HAMARA!E:E,0))),\"\")","v":"השקעות אחרות"}]
[15482,"DT29",0,{"$f":"IFERROR(IF(INDEX(HAMARA!I:I,MATCH(B3172,HAMARA!E:E,0))=0,\"\",INDEX(HAMARA!I:I,MATCH(B3172,HAMARA!E:E,0))),\"\")","v":"השקעות אחרות"}]
[15482,"DT31",0,{"$f":"IFERROR(IF(INDEX(HAMARA!I:I,MATCH(B3173,HAMARA!E:E,0))=0,\"\",INDEX(HAMARA!I:I,MATCH(B3173,HAMARA!E:E,0))),\"\")","v":"השקעות אחרות"}]
[15482,"DT117",0,{"$f":"IFERROR(IF(INDEX(HAMARA!I:I,MATCH(B3174,HAMARA!E:E,0))=0,\"\",INDEX(HAMARA!I:I,MATCH(B3174,HAMARA!E:E,0))),\"\")","v":"השקעות אחרות"}]
[15482,"DT115",0,{"$f":"IFERROR(IF(INDEX(HAMARA!I:I,MATCH(B3175,HAMARA!E:E,0))=0,\"\",INDEX(HAMARA!I:I,MATCH(B3175,HAMARA!E:E,0))),\"\")","v":"השקעות אחרות"}]
[15482,"DT62",0,{"$f":"IFERROR(IF(INDEX(HAMARA!I:I,MATCH(B3176,HAMARA!E:E,0))=0,\"\",INDEX(HAMARA!I:I,MATCH(B3176,HAMARA!E:E,0))),\"\")","v":"השקעות אחרות"}]
[15482,"DT54",0.253,{"$f":"IFERROR(IF(INDEX(HAMARA!I:I,MATCH(B3177,HAMARA!E:E,0))=0,\"\",INDEX(HAMARA!I:I,MATCH(B3177,HAMARA!E:E,0))),\"\")","v":"השקעות אחרות"}]
[15482,"DT55",-0.34499999999999997,{"$f":"IFERROR(IF(INDEX(HAMARA!I:I,MATCH(B3178,HAMARA!E:E,0))=0,\"\",INDEX(HAMARA!I:I,MATCH(B3178,HAMARA!E:E,0))),\"\")","v":"השקעות אחרות"}]
[15482,"DT92",0,{"$f":"IFERROR(IF(INDEX(HAMARA!I:I,MATCH(B3179,HAMARA!E:E,0))=0,\"\",INDEX(HAMARA!I:I,MATCH(B3179,HAMARA!E:E,0))),\"\")","v":"השקעות אחרות"}]
[15482,"DT353",0,{"$f":"IFERROR(IF(INDEX(HAMARA!I:I,MATCH(B3180,HAMARA!E:E,0))=0,\"\",INDEX(HAMARA!I:I,MATCH(B3180,HAMARA!E:E,0))),\"\")","v":"השקעות אחרות"}]
[15482,"DT369",0,{"$f":"IFERROR(IF(INDEX(HAMARA!I:I,MATCH(B3181,HAMARA!E:E,0))=0,\"\",INDEX(HAMARA!I:I,MATCH(B3181,HAMARA!E:E,0))),\"\")","v":"השקעות אחרות"}]
[15482,"AT999",0.224,{"$f":"IFERROR(IF(INDEX(HAMARA!I:I,MATCH(B3182,HAMARA!E:E,0))=0,\"\",INDEX(HAMARA!I:I,MATCH(B3182,HAMARA!E:E,0))),\"\")","v":""}]
[15482,"AT24",0,{"$f":"IFERROR(IF(INDEX(HAMARA!I:I,MATCH(B3183,HAMARA!E:E,0))=0,\"\",INDEX(HAMARA!I:I,MATCH(B3183,HAMARA!E:E,0))),\"\")","v":""}]
[15482,"AT420",0,{"$f":"IFERROR(IF(INDEX(HAMARA!I:I,MATCH(B3184,HAMARA!E:E,0))=0,\"\",INDEX(HAMARA!I:I,MATCH(B3184,HAMARA!E:E,0))),\"\")","v":""}]
[15482,"AT421",0,{"$f":"IFERROR(IF(INDEX(HAMARA!I:I,MATCH(B3185,HAMARA!E:E,0))=0,\"\",INDEX(HAMARA!I:I,MATCH(B3185,HAMARA!E:E,0))),\"\")","v":""}]
[15482,"AT422",0,{"$f":"IFERROR(IF(INDEX(HAMARA!I:I,MATCH(B3186,HAMARA!E:E,0))=0,\"\",INDEX(HAMARA!I:I,MATCH(B3186,HAMARA!E:E,0))),\"\")","v":""}]
[15482,"AT423",0,{"$f":"IFERROR(IF(INDEX(HAMARA!I:I,MATCH(B3187,HAMARA!E:E,0))=0,\"\",INDEX(HAMARA!I:I,MATCH(B3187,HAMARA!E:E,0))),\"\")","v":""}]
[15482,"AT424",0,{"$f":"IFERROR(IF(INDEX(HAMARA!I:I,MATCH(B3188,HAMARA!E:E,0))=0,\"\",INDEX(HAMARA!I:I,MATCH(B3188,HAMARA!E:E,0))),\"\")","v":""}]
[15482,"AT17",0,{"$f":"IFERROR(IF(INDEX(HAMARA!I:I,MATCH(B3189,HAMARA!E:E,0))=0,\"\",INDEX(HAMARA!I:I,MATCH(B3189,HAMARA!E:E,0))),\"\")","v":""}]
[15482,"AT19",0,{"$f":"IFERROR(IF(INDEX(HAMARA!I:I,MATCH(B3190,HAMARA!E:E,0))=0,\"\",INDEX(HAMARA!I:I,MATCH(B3190,HAMARA!E:E,0))),\"\")","v":""}]
[15482,"AT121",0,{"$f":"IFERROR(IF(INDEX(HAMARA!I:I,MATCH(B3191,HAMARA!E:E,0))=0,\"\",INDEX(HAMARA!I:I,MATCH(B3191,HAMARA!E:E,0))),\"\")","v":""}]
[15482,"AT18",0,{"$f":"IFERROR(IF(INDEX(HAMARA!I:I,MATCH(B3192,HAMARA!E:E,0))=0,\"\",INDEX(HAMARA!I:I,MATCH(B3192,HAMARA!E:E,0))),\"\")","v":""}]
[15482,"AT21",0,{"$f":"IFERROR(IF(INDEX(HAMARA!I:I,MATCH(B3193,HAMARA!E:E,0))=0,\"\",INDEX(HAMARA!I:I,MATCH(B3193,HAMARA!E:E,0))),\"\")","v":""}]
[15482,"AT10",0,{"$f":"IFERROR(IF(INDEX(HAMARA!I:I,MATCH(B3194,HAMARA!E:E,0))=0,\"\",INDEX(HAMARA!I:I,MATCH(B3194,HAMARA!E:E,0))),\"\")","v":""}]
[15482,"AT13",0,{"$f":"IFERROR(IF(INDEX(HAMARA!I:I,MATCH(B3195,HAMARA!E:E,0))=0,\"\",INDEX(HAMARA!I:I,MATCH(B3195,HAMARA!E:E,0))),\"\")","v":""}]
[15482,"AT20",0,{"$f":"IFERROR(IF(INDEX(HAMARA!I:I,MATCH(B3196,HAMARA!E:E,0))=0,\"\",INDEX(HAMARA!I:I,MATCH(B3196,HAMARA!E:E,0))),\"\")","v":""}]
[15482,"AT31",0,{"$f":"IFERROR(IF(INDEX(HAMARA!I:I,MATCH(B3197,HAMARA!E:E,0))=0,\"\",INDEX(HAMARA!I:I,MATCH(B3197,HAMARA!E:E,0))),\"\")","v":""}]
[15482,"AT425",0,{"$f":"IFERROR(IF(INDEX(HAMARA!I:I,MATCH(B3198,HAMARA!E:E,0))=0,\"\",INDEX(HAMARA!I:I,MATCH(B3198,HAMARA!E:E,0))),\"\")","v":""}]
[15482,"AT426",0,{"$f":"IFERROR(IF(INDEX(HAMARA!I:I,MATCH(B3199,HAMARA!E:E,0))=0,\"\",INDEX(HAMARA!I:I,MATCH(B3199,HAMARA!E:E,0))),\"\")","v":""}]
[15482,"AT427",0,{"$f":"IFERROR(IF(INDEX(HAMARA!I:I,MATCH(B3200,HAMARA!E:E,0))=0,\"\",INDEX(HAMARA!I:I,MATCH(B3200,HAMARA!E:E,0))),\"\")","v":""}]
[15482,"AT561",0,{"$f":"IFERROR(IF(INDEX(HAMARA!I:I,MATCH(B3201,HAMARA!E:E,0))=0,\"\",INDEX(HAMARA!I:I,MATCH(B3201,HAMARA!E:E,0))),\"\")","v":""}]
[15482,"AT560",0,{"$f":"IFERROR(IF(INDEX(HAMARA!I:I,MATCH(B3202,HAMARA!E:E,0))=0,\"\",INDEX(HAMARA!I:I,MATCH(B3202,HAMARA!E:E,0))),\"\")","v":""}]
[15482,"AT428",0,{"$f":"IFERROR(IF(INDEX(HAMARA!I:I,MATCH(B3203,HAMARA!E:E,0))=0,\"\",INDEX(HAMARA!I:I,MATCH(B3203,HAMARA!E:E,0))),\"\")","v":""}]
[15482,"AT563",0,{"$f":"IFERROR(IF(INDEX(HAMARA!I:I,MATCH(B3204,HAMARA!E:E,0))=0,\"\",INDEX(HAMARA!I:I,MATCH(B3204,HAMARA!E:E,0))),\"\")","v":""}]
[15482,"AT562",0,{"$f":"IFERROR(IF(INDEX(HAMARA!I:I,MATCH(B3205,HAMARA!E:E,0))=0,\"\",INDEX(HAMARA!I:I,MATCH(B3205,HAMARA!E:E,0))),\"\")","v":""}]
[15482,"AT429",0,{"$f":"IFERROR(IF(INDEX(HAMARA!I:I,MATCH(B3206,HAMARA!E:E,0))=0,\"\",INDEX(HAMARA!I:I,MATCH(B3206,HAMARA!E:E,0))),\"\")","v":""}]
[15482,"AT565",0,{"$f":"IFERROR(IF(INDEX(HAMARA!I:I,MATCH(B3207,HAMARA!E:E,0))=0,\"\",INDEX(HAMARA!I:I,MATCH(B3207,HAMARA!E:E,0))),\"\")","v":""}]
[15482,"AT564",0,{"$f":"IFERROR(IF(INDEX(HAMARA!I:I,MATCH(B3208,HAMARA!E:E,0))=0,\"\",INDEX(HAMARA!I:I,MATCH(B3208,HAMARA!E:E,0))),\"\")","v":""}]
[15482,"AT430",0,{"$f":"IFERROR(IF(INDEX(HAMARA!I:I,MATCH(B3209,HAMARA!E:E,0))=0,\"\",INDEX(HAMARA!I:I,MATCH(B3209,HAMARA!E:E,0))),\"\")","v":""}]
[15482,"AT567",0,{"$f":"IFERROR(IF(INDEX(HAMARA!I:I,MATCH(B3210,HAMARA!E:E,0))=0,\"\",INDEX(HAMARA!I:I,MATCH(B3210,HAMARA!E:E,0))),\"\")","v":""}]
[15482,"AT566",0,{"$f":"IFERROR(IF(INDEX(HAMARA!I:I,MATCH(B3211,HAMARA!E:E,0))=0,\"\",INDEX(HAMARA!I:I,MATCH(B3211,HAMARA!E:E,0))),\"\")","v":""}]
[15482,"AT431",0,{"$f":"IFERROR(IF(INDEX(HAMARA!I:I,MATCH(B3212,HAMARA!E:E,0))=0,\"\",INDEX(HAMARA!I:I,MATCH(B3212,HAMARA!E:E,0))),\"\")","v":""}]
[15482,"AT569",0,{"$f":"IFERROR(IF(INDEX(HAMARA!I:I,MATCH(B3213,HAMARA!E:E,0))=0,\"\",INDEX(HAMARA!I:I,MATCH(B3213,HAMARA!E:E,0))),\"\")","v":""}]
[15482,"AT568",0,{"$f":"IFERROR(IF(INDEX(HAMARA!I:I,MATCH(B3214,HAMARA!E:E,0))=0,\"\",INDEX(HAMARA!I:I,MATCH(B3214,HAMARA!E:E,0))),\"\")","v":""}]
[15482,"AT432",0,{"$f":"IFERROR(IF(INDEX(HAMARA!I:I,MATCH(B3215,HAMARA!E:E,0))=0,\"\",INDEX(HAMARA!I:I,MATCH(B3215,HAMARA!E:E,0))),\"\")","v":""}]
[15482,"AT573",0,{"$f":"IFERROR(IF(INDEX(HAMARA!I:I,MATCH(B3216,HAMARA!E:E,0))=0,\"\",INDEX(HAMARA!I:I,MATCH(B3216,HAMARA!E:E,0))),\"\")","v":""}]
[15482,"AT572",0,{"$f":"IFERROR(IF(INDEX(HAMARA!I:I,MATCH(B3217,HAMARA!E:E,0))=0,\"\",INDEX(HAMARA!I:I,MATCH(B3217,HAMARA!E:E,0))),\"\")","v":""}]
[15482,"AT547",0,{"$f":"IFERROR(IF(INDEX(HAMARA!I:I,MATCH(B3218,HAMARA!E:E,0))=0,\"\",INDEX(HAMARA!I:I,MATCH(B3218,HAMARA!E:E,0))),\"\")","v":""}]
[15482,"AT571",0,{"$f":"IFERROR(IF(INDEX(HAMARA!I:I,MATCH(B3219,HAMARA!E:E,0))=0,\"\",INDEX(HAMARA!I:I,MATCH(B3219,HAMARA!E:E,0))),\"\")","v":""}]
[15482,"AT570",0,{"$f":"IFERROR(IF(INDEX(HAMARA!I:I,MATCH(B3220,HAMARA!E:E,0))=0,\"\",INDEX(HAMARA!I:I,MATCH(B3220,HAMARA!E:E,0))),\"\")","v":""}]
[15482,"AT601",0,{"$f":"IFERROR(IF(INDEX(HAMARA!I:I,MATCH(B3221,HAMARA!E:E,0))=0,\"\",INDEX(HAMARA!I:I,MATCH(B3221,HAMARA!E:E,0))),\"\")","v":""}]
[15482,"AT602",0,{"$f":"IFERROR(IF(INDEX(HAMARA!I:I,MATCH(B3222,HAMARA!E:E,0))=0,\"\",INDEX(HAMARA!I:I,MATCH(B3222,HAMARA!E:E,0))),\"\")","v":""}]
[15482,"AT603",0,{"$f":"IFERROR(IF(INDEX(HAMARA!I:I,MATCH(B3223,HAMARA!E:E,0))=0,\"\",INDEX(HAMARA!I:I,MATCH(B3223,HAMARA!E:E,0))),\"\")","v":""}]
[15482,"AT604",0,{"$f":"IFERROR(IF(INDEX(HAMARA!I:I,MATCH(B3224,HAMARA!E:E,0))=0,\"\",INDEX(HAMARA!I:I,MATCH(B3224,HAMARA!E:E,0))),\"\")","v":""}]
[15482,"AT605",0,{"$f":"IFERROR(IF(INDEX(HAMARA!I:I,MATCH(B3225,HAMARA!E:E,0))=0,\"\",INDEX(HAMARA!I:I,MATCH(B3225,HAMARA!E:E,0))),\"\")","v":""}]
[15482,"AT606",0,{"$f":"IFERROR(IF(INDEX(HAMARA!I:I,MATCH(B3226,HAMARA!E:E,0))=0,\"\",INDEX(HAMARA!I:I,MATCH(B3226,HAMARA!E:E,0))),\"\")","v":""}]
[15482,"AT607",0,{"$f":"IFERROR(IF(INDEX(HAMARA!I:I,MATCH(B3227,HAMARA!E:E,0))=0,\"\",INDEX(HAMARA!I:I,MATCH(B3227,HAMARA!E:E,0))),\"\")","v":""}]
[15482,"AT608",0,{"$f":"IFERROR(IF(INDEX(HAMARA!I:I,MATCH(B3228,HAMARA!E:E,0))=0,\"\",INDEX(HAMARA!I:I,MATCH(B3228,HAMARA!E:E,0))),\"\")","v":""}]
[15482,"AT609",0,{"$f":"IFERROR(IF(INDEX(HAMARA!I:I,MATCH(B3229,HAMARA!E:E,0))=0,\"\",INDEX(HAMARA!I:I,MATCH(B3229,HAMARA!E:E,0))),\"\")","v":""}]
[15482,"AT610",0,{"$f":"IFERROR(IF(INDEX(HAMARA!I:I,MATCH(B3230,HAMARA!E:E,0))=0,\"\",INDEX(HAMARA!I:I,MATCH(B3230,HAMARA!E:E,0))),\"\")","v":""}]
[15482,"AT611",0,{"$f":"IFERROR(IF(INDEX(HAMARA!I:I,MATCH(B3231,HAMARA!E:E,0))=0,\"\",INDEX(HAMARA!I:I,MATCH(B3231,HAMARA!E:E,0))),\"\")","v":""}]
[15482,"AT612",0,{"$f":"IFERROR(IF(INDEX(HAMARA!I:I,MATCH(B3232,HAMARA!E:E,0))=0,\"\",INDEX(HAMARA!I:I,MATCH(B3232,HAMARA!E:E,0))),\"\")","v":""}]
[15482,"AT613",0,{"$f":"IFERROR(IF(INDEX(HAMARA!I:I,MATCH(B3233,HAMARA!E:E,0))=0,\"\",INDEX(HAMARA!I:I,MATCH(B3233,HAMARA!E:E,0))),\"\")","v":""}]
[15482,"AT614",0,{"$f":"IFERROR(IF(INDEX(HAMARA!I:I,MATCH(B3234,HAMARA!E:E,0))=0,\"\",INDEX(HAMARA!I:I,MATCH(B3234,HAMARA!E:E,0))),\"\")","v":""}]
[15482,"AT301",0,{"$f":"IFERROR(IF(INDEX(HAMARA!I:I,MATCH(B3235,HAMARA!E:E,0))=0,\"\",INDEX(HAMARA!I:I,MATCH(B3235,HAMARA!E:E,0))),\"\")","v":""}]
[15482,"AT303",0,{"$f":"IFERROR(IF(INDEX(HAMARA!I:I,MATCH(B3236,HAMARA!E:E,0))=0,\"\",INDEX(HAMARA!I:I,MATCH(B3236,HAMARA!E:E,0))),\"\")","v":""}]
[15482,"AT302",0,{"$f":"IFERROR(IF(INDEX(HAMARA!I:I,MATCH(B3237,HAMARA!E:E,0))=0,\"\",INDEX(HAMARA!I:I,MATCH(B3237,HAMARA!E:E,0))),\"\")","v":""}]
[15482,"AT307",0,{"$f":"IFERROR(IF(INDEX(HAMARA!I:I,MATCH(B3238,HAMARA!E:E,0))=0,\"\",INDEX(HAMARA!I:I,MATCH(B3238,HAMARA!E:E,0))),\"\")","v":""}]
[15482,"AT309",0,{"$f":"IFERROR(IF(INDEX(HAMARA!I:I,MATCH(B3239,HAMARA!E:E,0))=0,\"\",INDEX(HAMARA!I:I,MATCH(B3239,HAMARA!E:E,0))),\"\")","v":""}]
[15482,"AT308",0,{"$f":"IFERROR(IF(INDEX(HAMARA!I:I,MATCH(B3240,HAMARA!E:E,0))=0,\"\",INDEX(HAMARA!I:I,MATCH(B3240,HAMARA!E:E,0))),\"\")","v":""}]
[15482,"AT313",0,{"$f":"IFERROR(IF(INDEX(HAMARA!I:I,MATCH(B3241,HAMARA!E:E,0))=0,\"\",INDEX(HAMARA!I:I,MATCH(B3241,HAMARA!E:E,0))),\"\")","v":""}]
[15482,"AT315",0,{"$f":"IFERROR(IF(INDEX(HAMARA!I:I,MATCH(B3242,HAMARA!E:E,0))=0,\"\",INDEX(HAMARA!I:I,MATCH(B3242,HAMARA!E:E,0))),\"\")","v":""}]
[15482,"AT314",0,{"$f":"IFERROR(IF(INDEX(HAMARA!I:I,MATCH(B3243,HAMARA!E:E,0))=0,\"\",INDEX(HAMARA!I:I,MATCH(B3243,HAMARA!E:E,0))),\"\")","v":""}]
[15482,"AT615",0,{"$f":"IFERROR(IF(INDEX(HAMARA!I:I,MATCH(B3244,HAMARA!E:E,0))=0,\"\",INDEX(HAMARA!I:I,MATCH(B3244,HAMARA!E:E,0))),\"\")","v":""}]
[15482,"AT616",0,{"$f":"IFERROR(IF(INDEX(HAMARA!I:I,MATCH(B3245,HAMARA!E:E,0))=0,\"\",INDEX(HAMARA!I:I,MATCH(B3245,HAMARA!E:E,0))),\"\")","v":""}]
[15482,"AT617",0,{"$f":"IFERROR(IF(INDEX(HAMARA!I:I,MATCH(B3246,HAMARA!E:E,0))=0,\"\",INDEX(HAMARA!I:I,MATCH(B3246,HAMARA!E:E,0))),\"\")","v":""}]
[15482,"AT319",0,{"$f":"IFERROR(IF(INDEX(HAMARA!I:I,MATCH(B3247,HAMARA!E:E,0))=0,\"\",INDEX(HAMARA!I:I,MATCH(B3247,HAMARA!E:E,0))),\"\")","v":""}]
[15482,"AT321",0,{"$f":"IFERROR(IF(INDEX(HAMARA!I:I,MATCH(B3248,HAMARA!E:E,0))=0,\"\",INDEX(HAMARA!I:I,MATCH(B3248,HAMARA!E:E,0))),\"\")","v":""}]
[15482,"AT320",0,{"$f":"IFERROR(IF(INDEX(HAMARA!I:I,MATCH(B3249,HAMARA!E:E,0))=0,\"\",INDEX(HAMARA!I:I,MATCH(B3249,HAMARA!E:E,0))),\"\")","v":""}]
[15482,"AT325",0,{"$f":"IFERROR(IF(INDEX(HAMARA!I:I,MATCH(B3250,HAMARA!E:E,0))=0,\"\",INDEX(HAMARA!I:I,MATCH(B3250,HAMARA!E:E,0))),\"\")","v":""}]
[15482,"AT327",0,{"$f":"IFERROR(IF(INDEX(HAMARA!I:I,MATCH(B3251,HAMARA!E:E,0))=0,\"\",INDEX(HAMARA!I:I,MATCH(B3251,HAMARA!E:E,0))),\"\")","v":""}]
[15482,"AT326",0,{"$f":"IFERROR(IF(INDEX(HAMARA!I:I,MATCH(B3252,HAMARA!E:E,0))=0,\"\",INDEX(HAMARA!I:I,MATCH(B3252,HAMARA!E:E,0))),\"\")","v":""}]
[15482,"AT553",0,{"$f":"IFERROR(IF(INDEX(HAMARA!I:I,MATCH(B3253,HAMARA!E:E,0))=0,\"\",INDEX(HAMARA!I:I,MATCH(B3253,HAMARA!E:E,0))),\"\")","v":""}]
[15482,"AT555",0,{"$f":"IFERROR(IF(INDEX(HAMARA!I:I,MATCH(B3254,HAMARA!E:E,0))=0,\"\",INDEX(HAMARA!I:I,MATCH(B3254,HAMARA!E:E,0))),\"\")","v":""}]
[15482,"AT554",0,{"$f":"IFERROR(IF(INDEX(HAMARA!I:I,MATCH(B3255,HAMARA!E:E,0))=0,\"\",INDEX(HAMARA!I:I,MATCH(B3255,HAMARA!E:E,0))),\"\")","v":""}]
[15482,"AT337",0,{"$f":"IFERROR(IF(INDEX(HAMARA!I:I,MATCH(B3256,HAMARA!E:E,0))=0,\"\",INDEX(HAMARA!I:I,MATCH(B3256,HAMARA!E:E,0))),\"\")","v":""}]
[15482,"AT339",0,{"$f":"IFERROR(IF(INDEX(HAMARA!I:I,MATCH(B3257,HAMARA!E:E,0))=0,\"\",INDEX(HAMARA!I:I,MATCH(B3257,HAMARA!E:E,0))),\"\")","v":""}]
[15482,"AT338",0,{"$f":"IFERROR(IF(INDEX(HAMARA!I:I,MATCH(B3258,HAMARA!E:E,0))=0,\"\",INDEX(HAMARA!I:I,MATCH(B3258,HAMARA!E:E,0))),\"\")","v":""}]
[15482,"AT618",0,{"$f":"IFERROR(IF(INDEX(HAMARA!I:I,MATCH(B3259,HAMARA!E:E,0))=0,\"\",INDEX(HAMARA!I:I,MATCH(B3259,HAMARA!E:E,0))),\"\")","v":""}]
[15482,"AT619",0,{"$f":"IFERROR(IF(INDEX(HAMARA!I:I,MATCH(B3260,HAMARA!E:E,0))=0,\"\",INDEX(HAMARA!I:I,MATCH(B3260,HAMARA!E:E,0))),\"\")","v":""}]
[15482,"AT620",0,{"$f":"IFERROR(IF(INDEX(HAMARA!I:I,MATCH(B3261,HAMARA!E:E,0))=0,\"\",INDEX(HAMARA!I:I,MATCH(B3261,HAMARA!E:E,0))),\"\")","v":""}]
[15482,"AT621",0,{"$f":"IFERROR(IF(INDEX(HAMARA!I:I,MATCH(B3262,HAMARA!E:E,0))=0,\"\",INDEX(HAMARA!I:I,MATCH(B3262,HAMARA!E:E,0))),\"\")","v":""}]
[15482,"AT454",0,{"$f":"IFERROR(IF(INDEX(HAMARA!I:I,MATCH(B3263,HAMARA!E:E,0))=0,\"\",INDEX(HAMARA!I:I,MATCH(B3263,HAMARA!E:E,0))),\"\")","v":""}]
[15482,"AT455",0,{"$f":"IFERROR(IF(INDEX(HAMARA!I:I,MATCH(B3264,HAMARA!E:E,0))=0,\"\",INDEX(HAMARA!I:I,MATCH(B3264,HAMARA!E:E,0))),\"\")","v":""}]
[15482,"AT456",0,{"$f":"IFERROR(IF(INDEX(HAMARA!I:I,MATCH(B3265,HAMARA!E:E,0))=0,\"\",INDEX(HAMARA!I:I,MATCH(B3265,HAMARA!E:E,0))),\"\")","v":""}]
[15482,"AT457",0,{"$f":"IFERROR(IF(INDEX(HAMARA!I:I,MATCH(B3266,HAMARA!E:E,0))=0,\"\",INDEX(HAMARA!I:I,MATCH(B3266,HAMARA!E:E,0))),\"\")","v":""}]
[15482,"AT458",0,{"$f":"IFERROR(IF(INDEX(HAMARA!I:I,MATCH(B3267,HAMARA!E:E,0))=0,\"\",INDEX(HAMARA!I:I,MATCH(B3267,HAMARA!E:E,0))),\"\")","v":""}]
[15482,"AT459",0,{"$f":"IFERROR(IF(INDEX(HAMARA!I:I,MATCH(B3268,HAMARA!E:E,0))=0,\"\",INDEX(HAMARA!I:I,MATCH(B3268,HAMARA!E:E,0))),\"\")","v":""}]
[15482,"AT460",0,{"$f":"IFERROR(IF(INDEX(HAMARA!I:I,MATCH(B3269,HAMARA!E:E,0))=0,\"\",INDEX(HAMARA!I:I,MATCH(B3269,HAMARA!E:E,0))),\"\")","v":""}]
[15482,"AT461",0,{"$f":"IFERROR(IF(INDEX(HAMARA!I:I,MATCH(B3270,HAMARA!E:E,0))=0,\"\",INDEX(HAMARA!I:I,MATCH(B3270,HAMARA!E:E,0))),\"\")","v":""}]
[15482,"AT462",0,{"$f":"IFERROR(IF(INDEX(HAMARA!I:I,MATCH(B3271,HAMARA!E:E,0))=0,\"\",INDEX(HAMARA!I:I,MATCH(B3271,HAMARA!E:E,0))),\"\")","v":""}]
[15482,"AT558",0,{"$f":"IFERROR(IF(INDEX(HAMARA!I:I,MATCH(B3272,HAMARA!E:E,0))=0,\"\",INDEX(HAMARA!I:I,MATCH(B3272,HAMARA!E:E,0))),\"\")","v":""}]
[15482,"AT463",0,{"$f":"IFERROR(IF(INDEX(HAMARA!I:I,MATCH(B3273,HAMARA!E:E,0))=0,\"\",INDEX(HAMARA!I:I,MATCH(B3273,HAMARA!E:E,0))),\"\")","v":""}]
[15482,"AT464",0,{"$f":"IFERROR(IF(INDEX(HAMARA!I:I,MATCH(B3274,HAMARA!E:E,0))=0,\"\",INDEX(HAMARA!I:I,MATCH(B3274,HAMARA!E:E,0))),\"\")","v":""}]
[15482,"AT465",0,{"$f":"IFERROR(IF(INDEX(HAMARA!I:I,MATCH(B3275,HAMARA!E:E,0))=0,\"\",INDEX(HAMARA!I:I,MATCH(B3275,HAMARA!E:E,0))),\"\")","v":""}]
[15482,"AT559",0,{"$f":"IFERROR(IF(INDEX(HAMARA!I:I,MATCH(B3276,HAMARA!E:E,0))=0,\"\",INDEX(HAMARA!I:I,MATCH(B3276,HAMARA!E:E,0))),\"\")","v":""}]
[15482,"AT402",0,{"$f":"IFERROR(IF(INDEX(HAMARA!I:I,MATCH(B3277,HAMARA!E:E,0))=0,\"\",INDEX(HAMARA!I:I,MATCH(B3277,HAMARA!E:E,0))),\"\")","v":""}]
[15482,"AT403",0,{"$f":"IFERROR(IF(INDEX(HAMARA!I:I,MATCH(B3278,HAMARA!E:E,0))=0,\"\",INDEX(HAMARA!I:I,MATCH(B3278,HAMARA!E:E,0))),\"\")","v":""}]
[15482,"AT404",0,{"$f":"IFERROR(IF(INDEX(HAMARA!I:I,MATCH(B3279,HAMARA!E:E,0))=0,\"\",INDEX(HAMARA!I:I,MATCH(B3279,HAMARA!E:E,0))),\"\")","v":""}]
[15482,"AT405",0,{"$f":"IFERROR(IF(INDEX(HAMARA!I:I,MATCH(B3280,HAMARA!E:E,0))=0,\"\",INDEX(HAMARA!I:I,MATCH(B3280,HAMARA!E:E,0))),\"\")","v":""}]
[15482,"AT172",0,{"$f":"IFERROR(IF(INDEX(HAMARA!I:I,MATCH(B3281,HAMARA!E:E,0))=0,\"\",INDEX(HAMARA!I:I,MATCH(B3281,HAMARA!E:E,0))),\"\")","v":""}]
[15482,"AT205",0,{"$f":"IFERROR(IF(INDEX(HAMARA!I:I,MATCH(B3282,HAMARA!E:E,0))=0,\"\",INDEX(HAMARA!I:I,MATCH(B3282,HAMARA!E:E,0))),\"\")","v":""}]
[15482,"AT58",0,{"$f":"IFERROR(IF(INDEX(HAMARA!I:I,MATCH(B3283,HAMARA!E:E,0))=0,\"\",INDEX(HAMARA!I:I,MATCH(B3283,HAMARA!E:E,0))),\"\")","v":""}]
[15482,"AT35",0,{"$f":"IFERROR(IF(INDEX(HAMARA!I:I,MATCH(B3284,HAMARA!E:E,0))=0,\"\",INDEX(HAMARA!I:I,MATCH(B3284,HAMARA!E:E,0))),\"\")","v":""}]
[15482,"AT37",0,{"$f":"IFERROR(IF(INDEX(HAMARA!I:I,MATCH(B3285,HAMARA!E:E,0))=0,\"\",INDEX(HAMARA!I:I,MATCH(B3285,HAMARA!E:E,0))),\"\")","v":""}]
[15482,"AT122",0,{"$f":"IFERROR(IF(INDEX(HAMARA!I:I,MATCH(B3286,HAMARA!E:E,0))=0,\"\",INDEX(HAMARA!I:I,MATCH(B3286,HAMARA!E:E,0))),\"\")","v":""}]
[15482,"AT622",0,{"$f":"IFERROR(IF(INDEX(HAMARA!I:I,MATCH(B3287,HAMARA!E:E,0))=0,\"\",INDEX(HAMARA!I:I,MATCH(B3287,HAMARA!E:E,0))),\"\")","v":""}]
[15482,"AT125",0,{"$f":"IFERROR(IF(INDEX(HAMARA!I:I,MATCH(B3288,HAMARA!E:E,0))=0,\"\",INDEX(HAMARA!I:I,MATCH(B3288,HAMARA!E:E,0))),\"\")","v":""}]
[15482,"AT360",0,{"$f":"IFERROR(IF(INDEX(HAMARA!I:I,MATCH(B3289,HAMARA!E:E,0))=0,\"\",INDEX(HAMARA!I:I,MATCH(B3289,HAMARA!E:E,0))),\"\")","v":""}]
[15482,"AT361",0,{"$f":"IFERROR(IF(INDEX(HAMARA!I:I,MATCH(B3290,HAMARA!E:E,0))=0,\"\",INDEX(HAMARA!I:I,MATCH(B3290,HAMARA!E:E,0))),\"\")","v":""}]
[15482,"AT362",0,{"$f":"IFERROR(IF(INDEX(HAMARA!I:I,MATCH(B3291,HAMARA!E:E,0))=0,\"\",INDEX(HAMARA!I:I,MATCH(B3291,HAMARA!E:E,0))),\"\")","v":""}]
[15482,"AT363",0,{"$f":"IFERROR(IF(INDEX(HAMARA!I:I,MATCH(B3292,HAMARA!E:E,0))=0,\"\",INDEX(HAMARA!I:I,MATCH(B3292,HAMARA!E:E,0))),\"\")","v":""}]
[15482,"AT406",0,{"$f":"IFERROR(IF(INDEX(HAMARA!I:I,MATCH(B3293,HAMARA!E:E,0))=0,\"\",INDEX(HAMARA!I:I,MATCH(B3293,HAMARA!E:E,0))),\"\")","v":""}]
[15482,"AT623",0,{"$f":"IFERROR(IF(INDEX(HAMARA!I:I,MATCH(B3294,HAMARA!E:E,0))=0,\"\",INDEX(HAMARA!I:I,MATCH(B3294,HAMARA!E:E,0))),\"\")","v":""}]
[15482,"AT366",0.224,{"$f":"IFERROR(IF(INDEX(HAMARA!I:I,MATCH(B3295,HAMARA!E:E,0))=0,\"\",INDEX(HAMARA!I:I,MATCH(B3295,HAMARA!E:E,0))),\"\")","v":""}]
[15482,"AT367",0,{"$f":"IFERROR(IF(INDEX(HAMARA!I:I,MATCH(B3296,HAMARA!E:E,0))=0,\"\",INDEX(HAMARA!I:I,MATCH(B3296,HAMARA!E:E,0))),\"\")","v":""}]
[15482,"AT407",0,{"$f":"IFERROR(IF(INDEX(HAMARA!I:I,MATCH(B3297,HAMARA!E:E,0))=0,\"\",INDEX(HAMARA!I:I,MATCH(B3297,HAMARA!E:E,0))),\"\")","v":""}]
[15482,"AT624",0,{"$f":"IFERROR(IF(INDEX(HAMARA!I:I,MATCH(B3298,HAMARA!E:E,0))=0,\"\",INDEX(HAMARA!I:I,MATCH(B3298,HAMARA!E:E,0))),\"\")","v":""}]
[15482,"AT47",0,{"$f":"IFERROR(IF(INDEX(HAMARA!I:I,MATCH(B3299,HAMARA!E:E,0))=0,\"\",INDEX(HAMARA!I:I,MATCH(B3299,HAMARA!E:E,0))),\"\")","v":""}]
[15482,"AT701",0,{"$f":"IFERROR(IF(INDEX(HAMARA!I:I,MATCH(B3300,HAMARA!E:E,0))=0,\"\",INDEX(HAMARA!I:I,MATCH(B3300,HAMARA!E:E,0))),\"\")","v":""}]
[15482,"AT702",0,{"$f":"IFERROR(IF(INDEX(HAMARA!I:I,MATCH(B3301,HAMARA!E:E,0))=0,\"\",INDEX(HAMARA!I:I,MATCH(B3301,HAMARA!E:E,0))),\"\")","v":""}]
[15482,"AT703",0,{"$f":"IFERROR(IF(INDEX(HAMARA!I:I,MATCH(B3302,HAMARA!E:E,0))=0,\"\",INDEX(HAMARA!I:I,MATCH(B3302,HAMARA!E:E,0))),\"\")","v":""}]
[15482,"AT704",0,{"$f":"IFERROR(IF(INDEX(HAMARA!I:I,MATCH(B3303,HAMARA!E:E,0))=0,\"\",INDEX(HAMARA!I:I,MATCH(B3303,HAMARA!E:E,0))),\"\")","v":""}]
[15482,"AT61",0,{"$f":"IFERROR(IF(INDEX(HAMARA!I:I,MATCH(B3304,HAMARA!E:E,0))=0,\"\",INDEX(HAMARA!I:I,MATCH(B3304,HAMARA!E:E,0))),\"\")","v":""}]
[15482,"AT466",0,{"$f":"IFERROR(IF(INDEX(HAMARA!I:I,MATCH(B3305,HAMARA!E:E,0))=0,\"\",INDEX(HAMARA!I:I,MATCH(B3305,HAMARA!E:E,0))),\"\")","v":""}]
[15482,"AT225",0,{"$f":"IFERROR(IF(INDEX(HAMARA!I:I,MATCH(B3306,HAMARA!E:E,0))=0,\"\",INDEX(HAMARA!I:I,MATCH(B3306,HAMARA!E:E,0))),\"\")","v":""}]
[15482,"AT60",0,{"$f":"IFERROR(IF(INDEX(HAMARA!I:I,MATCH(B3307,HAMARA!E:E,0))=0,\"\",INDEX(HAMARA!I:I,MATCH(B3307,HAMARA!E:E,0))),\"\")","v":""}]
[15482,"AT138",0,{"$f":"IFERROR(IF(INDEX(HAMARA!I:I,MATCH(B3308,HAMARA!E:E,0))=0,\"\",INDEX(HAMARA!I:I,MATCH(B3308,HAMARA!E:E,0))),\"\")","v":""}]
[15482,"AT467",0,{"$f":"IFERROR(IF(INDEX(HAMARA!I:I,MATCH(B3309,HAMARA!E:E,0))=0,\"\",INDEX(HAMARA!I:I,MATCH(B3309,HAMARA!E:E,0))),\"\")","v":""}]
[15482,"AT226",0,{"$f":"IFERROR(IF(INDEX(HAMARA!I:I,MATCH(B3310,HAMARA!E:E,0))=0,\"\",INDEX(HAMARA!I:I,MATCH(B3310,HAMARA!E:E,0))),\"\")","v":""}]
[15482,"AT137",0,{"$f":"IFERROR(IF(INDEX(HAMARA!I:I,MATCH(B3311,HAMARA!E:E,0))=0,\"\",INDEX(HAMARA!I:I,MATCH(B3311,HAMARA!E:E,0))),\"\")","v":""}]
[15482,"AT39",0,{"$f":"IFERROR(IF(INDEX(HAMARA!I:I,MATCH(B3312,HAMARA!E:E,0))=0,\"\",INDEX(HAMARA!I:I,MATCH(B3312,HAMARA!E:E,0))),\"\")","v":""}]
[15482,"AT439",0,{"$f":"IFERROR(IF(INDEX(HAMARA!I:I,MATCH(B3313,HAMARA!E:E,0))=0,\"\",INDEX(HAMARA!I:I,MATCH(B3313,HAMARA!E:E,0))),\"\")","v":""}]
[15482,"AT211",0,{"$f":"IFERROR(IF(INDEX(HAMARA!I:I,MATCH(B3314,HAMARA!E:E,0))=0,\"\",INDEX(HAMARA!I:I,MATCH(B3314,HAMARA!E:E,0))),\"\")","v":""}]
[15482,"AT440",0,{"$f":"IFERROR(IF(INDEX(HAMARA!I:I,MATCH(B3315,HAMARA!E:E,0))=0,\"\",INDEX(HAMARA!I:I,MATCH(B3315,HAMARA!E:E,0))),\"\")","v":""}]
[15482,"AT40",0,{"$f":"IFERROR(IF(INDEX(HAMARA!I:I,MATCH(B3316,HAMARA!E:E,0))=0,\"\",INDEX(HAMARA!I:I,MATCH(B3316,HAMARA!E:E,0))),\"\")","v":""}]
[15482,"AT441",0,{"$f":"IFERROR(IF(INDEX(HAMARA!I:I,MATCH(B3317,HAMARA!E:E,0))=0,\"\",INDEX(HAMARA!I:I,MATCH(B3317,HAMARA!E:E,0))),\"\")","v":""}]
[15482,"AT442",0,{"$f":"IFERROR(IF(INDEX(HAMARA!I:I,MATCH(B3318,HAMARA!E:E,0))=0,\"\",INDEX(HAMARA!I:I,MATCH(B3318,HAMARA!E:E,0))),\"\")","v":""}]
[15482,"AT443",0,{"$f":"IFERROR(IF(INDEX(HAMARA!I:I,MATCH(B3319,HAMARA!E:E,0))=0,\"\",INDEX(HAMARA!I:I,MATCH(B3319,HAMARA!E:E,0))),\"\")","v":""}]
[15482,"AT444",0,{"$f":"IFERROR(IF(INDEX(HAMARA!I:I,MATCH(B3320,HAMARA!E:E,0))=0,\"\",INDEX(HAMARA!I:I,MATCH(B3320,HAMARA!E:E,0))),\"\")","v":""}]
[15482,"AT445",0,{"$f":"IFERROR(IF(INDEX(HAMARA!I:I,MATCH(B3321,HAMARA!E:E,0))=0,\"\",INDEX(HAMARA!I:I,MATCH(B3321,HAMARA!E:E,0))),\"\")","v":""}]
[15482,"AT212",0,{"$f":"IFERROR(IF(INDEX(HAMARA!I:I,MATCH(B3322,HAMARA!E:E,0))=0,\"\",INDEX(HAMARA!I:I,MATCH(B3322,HAMARA!E:E,0))),\"\")","v":""}]
[15482,"AT446",0,{"$f":"IFERROR(IF(INDEX(HAMARA!I:I,MATCH(B3323,HAMARA!E:E,0))=0,\"\",INDEX(HAMARA!I:I,MATCH(B3323,HAMARA!E:E,0))),\"\")","v":""}]
[15482,"AT447",0,{"$f":"IFERROR(IF(INDEX(HAMARA!I:I,MATCH(B3324,HAMARA!E:E,0))=0,\"\",INDEX(HAMARA!I:I,MATCH(B3324,HAMARA!E:E,0))),\"\")","v":""}]
[15482,"AT448",0,{"$f":"IFERROR(IF(INDEX(HAMARA!I:I,MATCH(B3325,HAMARA!E:E,0))=0,\"\",INDEX(HAMARA!I:I,MATCH(B3325,HAMARA!E:E,0))),\"\")","v":""}]
[15482,"AT449",0,{"$f":"IFERROR(IF(INDEX(HAMARA!I:I,MATCH(B3326,HAMARA!E:E,0))=0,\"\",INDEX(HAMARA!I:I,MATCH(B3326,HAMARA!E:E,0))),\"\")","v":""}]
[15482,"AT468",0,{"$f":"IFERROR(IF(INDEX(HAMARA!I:I,MATCH(B3327,HAMARA!E:E,0))=0,\"\",INDEX(HAMARA!I:I,MATCH(B3327,HAMARA!E:E,0))),\"\")","v":""}]
[15482,"AT469",0,{"$f":"IFERROR(IF(INDEX(HAMARA!I:I,MATCH(B3328,HAMARA!E:E,0))=0,\"\",INDEX(HAMARA!I:I,MATCH(B3328,HAMARA!E:E,0))),\"\")","v":""}]
[15482,"AT175",0,{"$f":"IFERROR(IF(INDEX(HAMARA!I:I,MATCH(B3329,HAMARA!E:E,0))=0,\"\",INDEX(HAMARA!I:I,MATCH(B3329,HAMARA!E:E,0))),\"\")","v":""}]
[15482,"AT208",0,{"$f":"IFERROR(IF(INDEX(HAMARA!I:I,MATCH(B3330,HAMARA!E:E,0))=0,\"\",INDEX(HAMARA!I:I,MATCH(B3330,HAMARA!E:E,0))),\"\")","v":""}]
[15482,"AT176",0,{"$f":"IFERROR(IF(INDEX(HAMARA!I:I,MATCH(B3331,HAMARA!E:E,0))=0,\"\",INDEX(HAMARA!I:I,MATCH(B3331,HAMARA!E:E,0))),\"\")","v":""}]
[15482,"AT209",0,{"$f":"IFERROR(IF(INDEX(HAMARA!I:I,MATCH(B3332,HAMARA!E:E,0))=0,\"\",INDEX(HAMARA!I:I,MATCH(B3332,HAMARA!E:E,0))),\"\")","v":""}]
[15482,"AT177",0,{"$f":"IFERROR(IF(INDEX(HAMARA!I:I,MATCH(B3333,HAMARA!E:E,0))=0,\"\",INDEX(HAMARA!I:I,MATCH(B3333,HAMARA!E:E,0))),\"\")","v":""}]
[15482,"AT210",0,{"$f":"IFERROR(IF(INDEX(HAMARA!I:I,MATCH(B3334,HAMARA!E:E,0))=0,\"\",INDEX(HAMARA!I:I,MATCH(B3334,HAMARA!E:E,0))),\"\")","v":""}]
[15482,"AT472",0,{"$f":"IFERROR(IF(INDEX(HAMARA!I:I,MATCH(B3335,HAMARA!E:E,0))=0,\"\",INDEX(HAMARA!I:I,MATCH(B3335,HAMARA!E:E,0))),\"\")","v":""}]
[15482,"AT470",0,{"$f":"IFERROR(IF(INDEX(HAMARA!I:I,MATCH(B3336,HAMARA!E:E,0))=0,\"\",INDEX(HAMARA!I:I,MATCH(B3336,HAMARA!E:E,0))),\"\")","v":""}]
[15482,"AT345",0,{"$f":"IFERROR(IF(INDEX(HAMARA!I:I,MATCH(B3337,HAMARA!E:E,0))=0,\"\",INDEX(HAMARA!I:I,MATCH(B3337,HAMARA!E:E,0))),\"\")","v":""}]
[15482,"AT347",0,{"$f":"IFERROR(IF(INDEX(HAMARA!I:I,MATCH(B3338,HAMARA!E:E,0))=0,\"\",INDEX(HAMARA!I:I,MATCH(B3338,HAMARA!E:E,0))),\"\")","v":""}]
[15482,"AT625",0,{"$f":"IFERROR(IF(INDEX(HAMARA!I:I,MATCH(B3339,HAMARA!E:E,0))=0,\"\",INDEX(HAMARA!I:I,MATCH(B3339,HAMARA!E:E,0))),\"\")","v":""}]
[15482,"AT626",0,{"$f":"IFERROR(IF(INDEX(HAMARA!I:I,MATCH(B3340,HAMARA!E:E,0))=0,\"\",INDEX(HAMARA!I:I,MATCH(B3340,HAMARA!E:E,0))),\"\")","v":""}]
[15482,"AT471",0,{"$f":"IFERROR(IF(INDEX(HAMARA!I:I,MATCH(B3341,HAMARA!E:E,0))=0,\"\",INDEX(HAMARA!I:I,MATCH(B3341,HAMARA!E:E,0))),\"\")","v":""}]
[15482,"AT473",0,{"$f":"IFERROR(IF(INDEX(HAMARA!I:I,MATCH(B3342,HAMARA!E:E,0))=0,\"\",INDEX(HAMARA!I:I,MATCH(B3342,HAMARA!E:E,0))),\"\")","v":""}]
[15482,"AT346",0,{"$f":"IFERROR(IF(INDEX(HAMARA!I:I,MATCH(B3343,HAMARA!E:E,0))=0,\"\",INDEX(HAMARA!I:I,MATCH(B3343,HAMARA!E:E,0))),\"\")","v":""}]
[15482,"AT348",0,{"$f":"IFERROR(IF(INDEX(HAMARA!I:I,MATCH(B3344,HAMARA!E:E,0))=0,\"\",INDEX(HAMARA!I:I,MATCH(B3344,HAMARA!E:E,0))),\"\")","v":""}]
[15482,"AT213",0,{"$f":"IFERROR(IF(INDEX(HAMARA!I:I,MATCH(B3345,HAMARA!E:E,0))=0,\"\",INDEX(HAMARA!I:I,MATCH(B3345,HAMARA!E:E,0))),\"\")","v":""}]
[15482,"AT217",0,{"$f":"IFERROR(IF(INDEX(HAMARA!I:I,MATCH(B3346,HAMARA!E:E,0))=0,\"\",INDEX(HAMARA!I:I,MATCH(B3346,HAMARA!E:E,0))),\"\")","v":""}]
[15482,"AT214",0,{"$f":"IFERROR(IF(INDEX(HAMARA!I:I,MATCH(B3347,HAMARA!E:E,0))=0,\"\",INDEX(HAMARA!I:I,MATCH(B3347,HAMARA!E:E,0))),\"\")","v":""}]
[15482,"AT218",0,{"$f":"IFERROR(IF(INDEX(HAMARA!I:I,MATCH(B3348,HAMARA!E:E,0))=0,\"\",INDEX(HAMARA!I:I,MATCH(B3348,HAMARA!E:E,0))),\"\")","v":""}]
[15482,"AT215",0,{"$f":"IFERROR(IF(INDEX(HAMARA!I:I,MATCH(B3349,HAMARA!E:E,0))=0,\"\",INDEX(HAMARA!I:I,MATCH(B3349,HAMARA!E:E,0))),\"\")","v":""}]
[15482,"AT219",0,{"$f":"IFERROR(IF(INDEX(HAMARA!I:I,MATCH(B3350,HAMARA!E:E,0))=0,\"\",INDEX(HAMARA!I:I,MATCH(B3350,HAMARA!E:E,0))),\"\")","v":""}]
[15482,"AT216",0,{"$f":"IFERROR(IF(INDEX(HAMARA!I:I,MATCH(B3351,HAMARA!E:E,0))=0,\"\",INDEX(HAMARA!I:I,MATCH(B3351,HAMARA!E:E,0))),\"\")","v":""}]
[15482,"AT220",0,{"$f":"IFERROR(IF(INDEX(HAMARA!I:I,MATCH(B3352,HAMARA!E:E,0))=0,\"\",INDEX(HAMARA!I:I,MATCH(B3352,HAMARA!E:E,0))),\"\")","v":""}]
[15482,"AT474",0,{"$f":"IFERROR(IF(INDEX(HAMARA!I:I,MATCH(B3353,HAMARA!E:E,0))=0,\"\",INDEX(HAMARA!I:I,MATCH(B3353,HAMARA!E:E,0))),\"\")","v":""}]
[15482,"AT475",0,{"$f":"IFERROR(IF(INDEX(HAMARA!I:I,MATCH(B3354,HAMARA!E:E,0))=0,\"\",INDEX(HAMARA!I:I,MATCH(B3354,HAMARA!E:E,0))),\"\")","v":""}]
[15482,"AT476",0,{"$f":"IFERROR(IF(INDEX(HAMARA!I:I,MATCH(B3355,HAMARA!E:E,0))=0,\"\",INDEX(HAMARA!I:I,MATCH(B3355,HAMARA!E:E,0))),\"\")","v":""}]
[15482,"AT481",0,{"$f":"IFERROR(IF(INDEX(HAMARA!I:I,MATCH(B3356,HAMARA!E:E,0))=0,\"\",INDEX(HAMARA!I:I,MATCH(B3356,HAMARA!E:E,0))),\"\")","v":""}]
[15482,"AT477",0,{"$f":"IFERROR(IF(INDEX(HAMARA!I:I,MATCH(B3357,HAMARA!E:E,0))=0,\"\",INDEX(HAMARA!I:I,MATCH(B3357,HAMARA!E:E,0))),\"\")","v":""}]
[15482,"AT482",0,{"$f":"IFERROR(IF(INDEX(HAMARA!I:I,MATCH(B3358,HAMARA!E:E,0))=0,\"\",INDEX(HAMARA!I:I,MATCH(B3358,HAMARA!E:E,0))),\"\")","v":""}]
[15482,"AT478",0,{"$f":"IFERROR(IF(INDEX(HAMARA!I:I,MATCH(B3359,HAMARA!E:E,0))=0,\"\",INDEX(HAMARA!I:I,MATCH(B3359,HAMARA!E:E,0))),\"\")","v":""}]
[15482,"AT483",0,{"$f":"IFERROR(IF(INDEX(HAMARA!I:I,MATCH(B3360,HAMARA!E:E,0))=0,\"\",INDEX(HAMARA!I:I,MATCH(B3360,HAMARA!E:E,0))),\"\")","v":""}]
[15482,"AT479",0,{"$f":"IFERROR(IF(INDEX(HAMARA!I:I,MATCH(B3361,HAMARA!E:E,0))=0,\"\",INDEX(HAMARA!I:I,MATCH(B3361,HAMARA!E:E,0))),\"\")","v":""}]
[15482,"AT484",0,{"$f":"IFERROR(IF(INDEX(HAMARA!I:I,MATCH(B3362,HAMARA!E:E,0))=0,\"\",INDEX(HAMARA!I:I,MATCH(B3362,HAMARA!E:E,0))),\"\")","v":""}]
[15482,"AT480",0,{"$f":"IFERROR(IF(INDEX(HAMARA!I:I,MATCH(B3363,HAMARA!E:E,0))=0,\"\",INDEX(HAMARA!I:I,MATCH(B3363,HAMARA!E:E,0))),\"\")","v":""}]
[15482,"AT485",0,{"$f":"IFERROR(IF(INDEX(HAMARA!I:I,MATCH(B3364,HAMARA!E:E,0))=0,\"\",INDEX(HAMARA!I:I,MATCH(B3364,HAMARA!E:E,0))),\"\")","v":""}]
[15482,"AT705",0,{"$f":"IFERROR(IF(INDEX(HAMARA!I:I,MATCH(B3365,HAMARA!E:E,0))=0,\"\",INDEX(HAMARA!I:I,MATCH(B3365,HAMARA!E:E,0))),\"\")","v":""}]
[15482,"AT706",0,{"$f":"IFERROR(IF(INDEX(HAMARA!I:I,MATCH(B3366,HAMARA!E:E,0))=0,\"\",INDEX(HAMARA!I:I,MATCH(B3366,HAMARA!E:E,0))),\"\")","v":""}]
[15482,"AT707",0,{"$f":"IFERROR(IF(INDEX(HAMARA!I:I,MATCH(B3367,HAMARA!E:E,0))=0,\"\",INDEX(HAMARA!I:I,MATCH(B3367,HAMARA!E:E,0))),\"\")","v":""}]
[15482,"AT708",0,{"$f":"IFERROR(IF(INDEX(HAMARA!I:I,MATCH(B3368,HAMARA!E:E,0))=0,\"\",INDEX(HAMARA!I:I,MATCH(B3368,HAMARA!E:E,0))),\"\")","v":""}]
[15482,"AT709",0,{"$f":"IFERROR(IF(INDEX(HAMARA!I:I,MATCH(B3369,HAMARA!E:E,0))=0,\"\",INDEX(HAMARA!I:I,MATCH(B3369,HAMARA!E:E,0))),\"\")","v":""}]
[15482,"AT710",0,{"$f":"IFERROR(IF(INDEX(HAMARA!I:I,MATCH(B3370,HAMARA!E:E,0))=0,\"\",INDEX(HAMARA!I:I,MATCH(B3370,HAMARA!E:E,0))),\"\")","v":""}]
[15482,"AT711",0,{"$f":"IFERROR(IF(INDEX(HAMARA!I:I,MATCH(B3371,HAMARA!E:E,0))=0,\"\",INDEX(HAMARA!I:I,MATCH(B3371,HAMARA!E:E,0))),\"\")","v":""}]
[15482,"AT712",0,{"$f":"IFERROR(IF(INDEX(HAMARA!I:I,MATCH(B3372,HAMARA!E:E,0))=0,\"\",INDEX(HAMARA!I:I,MATCH(B3372,HAMARA!E:E,0))),\"\")","v":""}]
[15482,"AT713",0,{"$f":"IFERROR(IF(INDEX(HAMARA!I:I,MATCH(B3373,HAMARA!E:E,0))=0,\"\",INDEX(HAMARA!I:I,MATCH(B3373,HAMARA!E:E,0))),\"\")","v":""}]
[15482,"AT714",0,{"$f":"IFERROR(IF(INDEX(HAMARA!I:I,MATCH(B3374,HAMARA!E:E,0))=0,\"\",INDEX(HAMARA!I:I,MATCH(B3374,HAMARA!E:E,0))),\"\")","v":""}]
[15482,"AT715",0,{"$f":"IFERROR(IF(INDEX(HAMARA!I:I,MATCH(B3375,HAMARA!E:E,0))=0,\"\",INDEX(HAMARA!I:I,MATCH(B3375,HAMARA!E:E,0))),\"\")","v":""}]
[15482,"AT716",0,{"$f":"IFERROR(IF(INDEX(HAMARA!I:I,MATCH(B3376,HAMARA!E:E,0))=0,\"\",INDEX(HAMARA!I:I,MATCH(B3376,HAMARA!E:E,0))),\"\")","v":""}]
[15482,"AT717",0,{"$f":"IFERROR(IF(INDEX(HAMARA!I:I,MATCH(B3377,HAMARA!E:E,0))=0,\"\",INDEX(HAMARA!I:I,MATCH(B3377,HAMARA!E:E,0))),\"\")","v":""}]
[15482,"AT718",0,{"$f":"IFERROR(IF(INDEX(HAMARA!I:I,MATCH(B3378,HAMARA!E:E,0))=0,\"\",INDEX(HAMARA!I:I,MATCH(B3378,HAMARA!E:E,0))),\"\")","v":""}]
[15482,"AT719",0,{"$f":"IFERROR(IF(INDEX(HAMARA!I:I,MATCH(B3379,HAMARA!E:E,0))=0,\"\",INDEX(HAMARA!I:I,MATCH(B3379,HAMARA!E:E,0))),\"\")","v":""}]
[15482,"AT720",0,{"$f":"IFERROR(IF(INDEX(HAMARA!I:I,MATCH(B3380,HAMARA!E:E,0))=0,\"\",INDEX(HAMARA!I:I,MATCH(B3380,HAMARA!E:E,0))),\"\")","v":""}]
[15482,"AT721",0,{"$f":"IFERROR(IF(INDEX(HAMARA!I:I,MATCH(B3381,HAMARA!E:E,0))=0,\"\",INDEX(HAMARA!I:I,MATCH(B3381,HAMARA!E:E,0))),\"\")","v":""}]
[15482,"AT722",0,{"$f":"IFERROR(IF(INDEX(HAMARA!I:I,MATCH(B3382,HAMARA!E:E,0))=0,\"\",INDEX(HAMARA!I:I,MATCH(B3382,HAMARA!E:E,0))),\"\")","v":""}]
[15482,"AT723",0,{"$f":"IFERROR(IF(INDEX(HAMARA!I:I,MATCH(B3383,HAMARA!E:E,0))=0,\"\",INDEX(HAMARA!I:I,MATCH(B3383,HAMARA!E:E,0))),\"\")","v":""}]
[15482,"AT724",0,{"$f":"IFERROR(IF(INDEX(HAMARA!I:I,MATCH(B3384,HAMARA!E:E,0))=0,\"\",INDEX(HAMARA!I:I,MATCH(B3384,HAMARA!E:E,0))),\"\")","v":""}]
[15482,"AT725",0,{"$f":"IFERROR(IF(INDEX(HAMARA!I:I,MATCH(B3385,HAMARA!E:E,0))=0,\"\",INDEX(HAMARA!I:I,MATCH(B3385,HAMARA!E:E,0))),\"\")","v":""}]
[15482,"AT726",0,{"$f":"IFERROR(IF(INDEX(HAMARA!I:I,MATCH(B3386,HAMARA!E:E,0))=0,\"\",INDEX(HAMARA!I:I,MATCH(B3386,HAMARA!E:E,0))),\"\")","v":""}]
[15482,"AT646",0,{"$f":"IFERROR(IF(INDEX(HAMARA!I:I,MATCH(B3387,HAMARA!E:E,0))=0,\"\",INDEX(HAMARA!I:I,MATCH(B3387,HAMARA!E:E,0))),\"\")","v":""}]
[15482,"AT647",0,{"$f":"IFERROR(IF(INDEX(HAMARA!I:I,MATCH(B3388,HAMARA!E:E,0))=0,\"\",INDEX(HAMARA!I:I,MATCH(B3388,HAMARA!E:E,0))),\"\")","v":""}]
[15482,"AT648",0,{"$f":"IFERROR(IF(INDEX(HAMARA!I:I,MATCH(B3389,HAMARA!E:E,0))=0,\"\",INDEX(HAMARA!I:I,MATCH(B3389,HAMARA!E:E,0))),\"\")","v":""}]
[15482,"AT649",0,{"$f":"IFERROR(IF(INDEX(HAMARA!I:I,MATCH(B3390,HAMARA!E:E,0))=0,\"\",INDEX(HAMARA!I:I,MATCH(B3390,HAMARA!E:E,0))),\"\")","v":""}]
[15482,"AT650",0,{"$f":"IFERROR(IF(INDEX(HAMARA!I:I,MATCH(B3391,HAMARA!E:E,0))=0,\"\",INDEX(HAMARA!I:I,MATCH(B3391,HAMARA!E:E,0))),\"\")","v":""}]
[15482,"AT651",0,{"$f":"IFERROR(IF(INDEX(HAMARA!I:I,MATCH(B3392,HAMARA!E:E,0))=0,\"\",INDEX(HAMARA!I:I,MATCH(B3392,HAMARA!E:E,0))),\"\")","v":""}]
[15482,"AT652",0,{"$f":"IFERROR(IF(INDEX(HAMARA!I:I,MATCH(B3393,HAMARA!E:E,0))=0,\"\",INDEX(HAMARA!I:I,MATCH(B3393,HAMARA!E:E,0))),\"\")","v":""}]
[15482,"AT653",0,{"$f":"IFERROR(IF(INDEX(HAMARA!I:I,MATCH(B3394,HAMARA!E:E,0))=0,\"\",INDEX(HAMARA!I:I,MATCH(B3394,HAMARA!E:E,0))),\"\")","v":""}]
[15482,"AT654",0,{"$f":"IFERROR(IF(INDEX(HAMARA!I:I,MATCH(B3395,HAMARA!E:E,0))=0,\"\",INDEX(HAMARA!I:I,MATCH(B3395,HAMARA!E:E,0))),\"\")","v":""}]
[15482,"AT655",0,{"$f":"IFERROR(IF(INDEX(HAMARA!I:I,MATCH(B3396,HAMARA!E:E,0))=0,\"\",INDEX(HAMARA!I:I,MATCH(B3396,HAMARA!E:E,0))),\"\")","v":""}]
[15482,"AT656",0,{"$f":"IFERROR(IF(INDEX(HAMARA!I:I,MATCH(B3397,HAMARA!E:E,0))=0,\"\",INDEX(HAMARA!I:I,MATCH(B3397,HAMARA!E:E,0))),\"\")","v":""}]
[15482,"AT657",0,{"$f":"IFERROR(IF(INDEX(HAMARA!I:I,MATCH(B3398,HAMARA!E:E,0))=0,\"\",INDEX(HAMARA!I:I,MATCH(B3398,HAMARA!E:E,0))),\"\")","v":""}]
[15482,"AT678",0,{"$f":"IFERROR(IF(INDEX(HAMARA!I:I,MATCH(B3399,HAMARA!E:E,0))=0,\"\",INDEX(HAMARA!I:I,MATCH(B3399,HAMARA!E:E,0))),\"\")","v":""}]
[15482,"AT679",0,{"$f":"IFERROR(IF(INDEX(HAMARA!I:I,MATCH(B3400,HAMARA!E:E,0))=0,\"\",INDEX(HAMARA!I:I,MATCH(B3400,HAMARA!E:E,0))),\"\")","v":""}]
[15482,"AT680",0,{"$f":"IFERROR(IF(INDEX(HAMARA!I:I,MATCH(B3401,HAMARA!E:E,0))=0,\"\",INDEX(HAMARA!I:I,MATCH(B3401,HAMARA!E:E,0))),\"\")","v":""}]
[15482,"AT681",0,{"$f":"IFERROR(IF(INDEX(HAMARA!I:I,MATCH(B3402,HAMARA!E:E,0))=0,\"\",INDEX(HAMARA!I:I,MATCH(B3402,HAMARA!E:E,0))),\"\")","v":""}]
[15482,"AT682",0,{"$f":"IFERROR(IF(INDEX(HAMARA!I:I,MATCH(B3403,HAMARA!E:E,0))=0,\"\",INDEX(HAMARA!I:I,MATCH(B3403,HAMARA!E:E,0))),\"\")","v":""}]
[15482,"AT683",0,{"$f":"IFERROR(IF(INDEX(HAMARA!I:I,MATCH(B3404,HAMARA!E:E,0))=0,\"\",INDEX(HAMARA!I:I,MATCH(B3404,HAMARA!E:E,0))),\"\")","v":""}]
[15482,"AT658",0,{"$f":"IFERROR(IF(INDEX(HAMARA!I:I,MATCH(B3405,HAMARA!E:E,0))=0,\"\",INDEX(HAMARA!I:I,MATCH(B3405,HAMARA!E:E,0))),\"\")","v":""}]
[15482,"AT659",0,{"$f":"IFERROR(IF(INDEX(HAMARA!I:I,MATCH(B3406,HAMARA!E:E,0))=0,\"\",INDEX(HAMARA!I:I,MATCH(B3406,HAMARA!E:E,0))),\"\")","v":""}]
[15482,"AT660",0,{"$f":"IFERROR(IF(INDEX(HAMARA!I:I,MATCH(B3407,HAMARA!E:E,0))=0,\"\",INDEX(HAMARA!I:I,MATCH(B3407,HAMARA!E:E,0))),\"\")","v":""}]
[15482,"AT661",0,{"$f":"IFERROR(IF(INDEX(HAMARA!I:I,MATCH(B3408,HAMARA!E:E,0))=0,\"\",INDEX(HAMARA!I:I,MATCH(B3408,HAMARA!E:E,0))),\"\")","v":""}]
[15482,"AT727",0,{"$f":"IFERROR(IF(INDEX(HAMARA!I:I,MATCH(B3409,HAMARA!E:E,0))=0,\"\",INDEX(HAMARA!I:I,MATCH(B3409,HAMARA!E:E,0))),\"\")","v":""}]
[15482,"AT728",0,{"$f":"IFERROR(IF(INDEX(HAMARA!I:I,MATCH(B3410,HAMARA!E:E,0))=0,\"\",INDEX(HAMARA!I:I,MATCH(B3410,HAMARA!E:E,0))),\"\")","v":""}]
[15482,"AT729",0,{"$f":"IFERROR(IF(INDEX(HAMARA!I:I,MATCH(B3411,HAMARA!E:E,0))=0,\"\",INDEX(HAMARA!I:I,MATCH(B3411,HAMARA!E:E,0))),\"\")","v":""}]
[15482,"AT730",0,{"$f":"IFERROR(IF(INDEX(HAMARA!I:I,MATCH(B3412,HAMARA!E:E,0))=0,\"\",INDEX(HAMARA!I:I,MATCH(B3412,HAMARA!E:E,0))),\"\")","v":""}]
[15482,"AT731",0,{"$f":"IFERROR(IF(INDEX(HAMARA!I:I,MATCH(B3413,HAMARA!E:E,0))=0,\"\",INDEX(HAMARA!I:I,MATCH(B3413,HAMARA!E:E,0))),\"\")","v":""}]
[15482,"AT732",0,{"$f":"IFERROR(IF(INDEX(HAMARA!I:I,MATCH(B3414,HAMARA!E:E,0))=0,\"\",INDEX(HAMARA!I:I,MATCH(B3414,HAMARA!E:E,0))),\"\")","v":""}]
[15482,"AT733",0,{"$f":"IFERROR(IF(INDEX(HAMARA!I:I,MATCH(B3415,HAMARA!E:E,0))=0,\"\",INDEX(HAMARA!I:I,MATCH(B3415,HAMARA!E:E,0))),\"\")","v":""}]
[15482,"AT734",0,{"$f":"IFERROR(IF(INDEX(HAMARA!I:I,MATCH(B3416,HAMARA!E:E,0))=0,\"\",INDEX(HAMARA!I:I,MATCH(B3416,HAMARA!E:E,0))),\"\")","v":""}]
[15482,"AT735",0,{"$f":"IFERROR(IF(INDEX(HAMARA!I:I,MATCH(B3417,HAMARA!E:E,0))=0,\"\",INDEX(HAMARA!I:I,MATCH(B3417,HAMARA!E:E,0))),\"\")","v":""}]
[15482,"AT736",0,{"$f":"IFERROR(IF(INDEX(HAMARA!I:I,MATCH(B3418,HAMARA!E:E,0))=0,\"\",INDEX(HAMARA!I:I,MATCH(B3418,HAMARA!E:E,0))),\"\")","v":""}]
[15482,"AT737",0,{"$f":"IFERROR(IF(INDEX(HAMARA!I:I,MATCH(B3419,HAMARA!E:E,0))=0,\"\",INDEX(HAMARA!I:I,MATCH(B3419,HAMARA!E:E,0))),\"\")","v":""}]
[15482,"AT738",0,{"$f":"IFERROR(IF(INDEX(HAMARA!I:I,MATCH(B3420,HAMARA!E:E,0))=0,\"\",INDEX(HAMARA!I:I,MATCH(B3420,HAMARA!E:E,0))),\"\")","v":""}]
[15482,"AT739",0,{"$f":"IFERROR(IF(INDEX(HAMARA!I:I,MATCH(B3421,HAMARA!E:E,0))=0,\"\",INDEX(HAMARA!I:I,MATCH(B3421,HAMARA!E:E,0))),\"\")","v":""}]
[15482,"AT740",0,{"$f":"IFERROR(IF(INDEX(HAMARA!I:I,MATCH(B3422,HAMARA!E:E,0))=0,\"\",INDEX(HAMARA!I:I,MATCH(B3422,HAMARA!E:E,0))),\"\")","v":""}]
[15482,"AT741",0,{"$f":"IFERROR(IF(INDEX(HAMARA!I:I,MATCH(B3423,HAMARA!E:E,0))=0,\"\",INDEX(HAMARA!I:I,MATCH(B3423,HAMARA!E:E,0))),\"\")","v":""}]
[15482,"AT742",0,{"$f":"IFERROR(IF(INDEX(HAMARA!I:I,MATCH(B3424,HAMARA!E:E,0))=0,\"\",INDEX(HAMARA!I:I,MATCH(B3424,HAMARA!E:E,0))),\"\")","v":""}]
[15482,"AT743",0,{"$f":"IFERROR(IF(INDEX(HAMARA!I:I,MATCH(B3425,HAMARA!E:E,0))=0,\"\",INDEX(HAMARA!I:I,MATCH(B3425,HAMARA!E:E,0))),\"\")","v":""}]
[15482,"AT744",0,{"$f":"IFERROR(IF(INDEX(HAMARA!I:I,MATCH(B3426,HAMARA!E:E,0))=0,\"\",INDEX(HAMARA!I:I,MATCH(B3426,HAMARA!E:E,0))),\"\")","v":""}]
[15482,"AT745",0,{"$f":"IFERROR(IF(INDEX(HAMARA!I:I,MATCH(B3427,HAMARA!E:E,0))=0,\"\",INDEX(HAMARA!I:I,MATCH(B3427,HAMARA!E:E,0))),\"\")","v":""}]
[15482,"AT746",0,{"$f":"IFERROR(IF(INDEX(HAMARA!I:I,MATCH(B3428,HAMARA!E:E,0))=0,\"\",INDEX(HAMARA!I:I,MATCH(B3428,HAMARA!E:E,0))),\"\")","v":""}]
[15482,"AT747",0,{"$f":"IFERROR(IF(INDEX(HAMARA!I:I,MATCH(B3429,HAMARA!E:E,0))=0,\"\",INDEX(HAMARA!I:I,MATCH(B3429,HAMARA!E:E,0))),\"\")","v":""}]
[15482,"AT748",0,{"$f":"IFERROR(IF(INDEX(HAMARA!I:I,MATCH(B3430,HAMARA!E:E,0))=0,\"\",INDEX(HAMARA!I:I,MATCH(B3430,HAMARA!E:E,0))),\"\")","v":""}]
[15482,"AT662",0,{"$f":"IFERROR(IF(INDEX(HAMARA!I:I,MATCH(B3431,HAMARA!E:E,0))=0,\"\",INDEX(HAMARA!I:I,MATCH(B3431,HAMARA!E:E,0))),\"\")","v":""}]
[15482,"AT663",0,{"$f":"IFERROR(IF(INDEX(HAMARA!I:I,MATCH(B3432,HAMARA!E:E,0))=0,\"\",INDEX(HAMARA!I:I,MATCH(B3432,HAMARA!E:E,0))),\"\")","v":""}]
[15482,"AT664",0,{"$f":"IFERROR(IF(INDEX(HAMARA!I:I,MATCH(B3433,HAMARA!E:E,0))=0,\"\",INDEX(HAMARA!I:I,MATCH(B3433,HAMARA!E:E,0))),\"\")","v":""}]
[15482,"AT665",0,{"$f":"IFERROR(IF(INDEX(HAMARA!I:I,MATCH(B3434,HAMARA!E:E,0))=0,\"\",INDEX(HAMARA!I:I,MATCH(B3434,HAMARA!E:E,0))),\"\")","v":""}]
[15482,"AT666",0,{"$f":"IFERROR(IF(INDEX(HAMARA!I:I,MATCH(B3435,HAMARA!E:E,0))=0,\"\",INDEX(HAMARA!I:I,MATCH(B3435,HAMARA!E:E,0))),\"\")","v":""}]
[15482,"AT667",0,{"$f":"IFERROR(IF(INDEX(HAMARA!I:I,MATCH(B3436,HAMARA!E:E,0))=0,\"\",INDEX(HAMARA!I:I,MATCH(B3436,HAMARA!E:E,0))),\"\")","v":""}]
[15482,"AT668",0,{"$f":"IFERROR(IF(INDEX(HAMARA!I:I,MATCH(B3437,HAMARA!E:E,0))=0,\"\",INDEX(HAMARA!I:I,MATCH(B3437,HAMARA!E:E,0))),\"\")","v":""}]
[15482,"AT669",0,{"$f":"IFERROR(IF(INDEX(HAMARA!I:I,MATCH(B3438,HAMARA!E:E,0))=0,\"\",INDEX(HAMARA!I:I,MATCH(B3438,HAMARA!E:E,0))),\"\")","v":""}]
[15482,"AT670",0,{"$f":"IFERROR(IF(INDEX(HAMARA!I:I,MATCH(B3439,HAMARA!E:E,0))=0,\"\",INDEX(HAMARA!I:I,MATCH(B3439,HAMARA!E:E,0))),\"\")","v":""}]
[15482,"AT671",0,{"$f":"IFERROR(IF(INDEX(HAMARA!I:I,MATCH(B3440,HAMARA!E:E,0))=0,\"\",INDEX(HAMARA!I:I,MATCH(B3440,HAMARA!E:E,0))),\"\")","v":""}]
[15482,"AT672",0,{"$f":"IFERROR(IF(INDEX(HAMARA!I:I,MATCH(B3441,HAMARA!E:E,0))=0,\"\",INDEX(HAMARA!I:I,MATCH(B3441,HAMARA!E:E,0))),\"\")","v":""}]
[15482,"AT673",0,{"$f":"IFERROR(IF(INDEX(HAMARA!I:I,MATCH(B3442,HAMARA!E:E,0))=0,\"\",INDEX(HAMARA!I:I,MATCH(B3442,HAMARA!E:E,0))),\"\")","v":""}]
[15482,"AT684",0,{"$f":"IFERROR(IF(INDEX(HAMARA!I:I,MATCH(B3443,HAMARA!E:E,0))=0,\"\",INDEX(HAMARA!I:I,MATCH(B3443,HAMARA!E:E,0))),\"\")","v":""}]
[15482,"AT685",0,{"$f":"IFERROR(IF(INDEX(HAMARA!I:I,MATCH(B3444,HAMARA!E:E,0))=0,\"\",INDEX(HAMARA!I:I,MATCH(B3444,HAMARA!E:E,0))),\"\")","v":""}]
[15482,"AT686",0,{"$f":"IFERROR(IF(INDEX(HAMARA!I:I,MATCH(B3445,HAMARA!E:E,0))=0,\"\",INDEX(HAMARA!I:I,MATCH(B3445,HAMARA!E:E,0))),\"\")","v":""}]
[15482,"AT687",0,{"$f":"IFERROR(IF(INDEX(HAMARA!I:I,MATCH(B3446,HAMARA!E:E,0))=0,\"\",INDEX(HAMARA!I:I,MATCH(B3446,HAMARA!E:E,0))),\"\")","v":""}]
[15482,"AT688",0,{"$f":"IFERROR(IF(INDEX(HAMARA!I:I,MATCH(B3447,HAMARA!E:E,0))=0,\"\",INDEX(HAMARA!I:I,MATCH(B3447,HAMARA!E:E,0))),\"\")","v":""}]
[15482,"AT689",0,{"$f":"IFERROR(IF(INDEX(HAMARA!I:I,MATCH(B3448,HAMARA!E:E,0))=0,\"\",INDEX(HAMARA!I:I,MATCH(B3448,HAMARA!E:E,0))),\"\")","v":""}]
[15482,"AT674",0,{"$f":"IFERROR(IF(INDEX(HAMARA!I:I,MATCH(B3449,HAMARA!E:E,0))=0,\"\",INDEX(HAMARA!I:I,MATCH(B3449,HAMARA!E:E,0))),\"\")","v":""}]
[15482,"AT675",0,{"$f":"IFERROR(IF(INDEX(HAMARA!I:I,MATCH(B3450,HAMARA!E:E,0))=0,\"\",INDEX(HAMARA!I:I,MATCH(B3450,HAMARA!E:E,0))),\"\")","v":""}]
[15482,"AT676",0,{"$f":"IFERROR(IF(INDEX(HAMARA!I:I,MATCH(B3451,HAMARA!E:E,0))=0,\"\",INDEX(HAMARA!I:I,MATCH(B3451,HAMARA!E:E,0))),\"\")","v":""}]
[15482,"AT677",0,{"$f":"IFERROR(IF(INDEX(HAMARA!I:I,MATCH(B3452,HAMARA!E:E,0))=0,\"\",INDEX(HAMARA!I:I,MATCH(B3452,HAMARA!E:E,0))),\"\")","v":""}]
[15482,"AT53",0,{"$f":"IFERROR(IF(INDEX(HAMARA!I:I,MATCH(B3453,HAMARA!E:E,0))=0,\"\",INDEX(HAMARA!I:I,MATCH(B3453,HAMARA!E:E,0))),\"\")","v":""}]
[15482,"AT502",0,{"$f":"IFERROR(IF(INDEX(HAMARA!I:I,MATCH(B3454,HAMARA!E:E,0))=0,\"\",INDEX(HAMARA!I:I,MATCH(B3454,HAMARA!E:E,0))),\"\")","v":""}]
[15482,"AT503",0,{"$f":"IFERROR(IF(INDEX(HAMARA!I:I,MATCH(B3455,HAMARA!E:E,0))=0,\"\",INDEX(HAMARA!I:I,MATCH(B3455,HAMARA!E:E,0))),\"\")","v":""}]
[15482,"AT450",0,{"$f":"IFERROR(IF(INDEX(HAMARA!I:I,MATCH(B3456,HAMARA!E:E,0))=0,\"\",INDEX(HAMARA!I:I,MATCH(B3456,HAMARA!E:E,0))),\"\")","v":""}]
[15482,"AT504",0,{"$f":"IFERROR(IF(INDEX(HAMARA!I:I,MATCH(B3457,HAMARA!E:E,0))=0,\"\",INDEX(HAMARA!I:I,MATCH(B3457,HAMARA!E:E,0))),\"\")","v":""}]
[15482,"AT505",0,{"$f":"IFERROR(IF(INDEX(HAMARA!I:I,MATCH(B3458,HAMARA!E:E,0))=0,\"\",INDEX(HAMARA!I:I,MATCH(B3458,HAMARA!E:E,0))),\"\")","v":""}]
[15482,"AT451",0,{"$f":"IFERROR(IF(INDEX(HAMARA!I:I,MATCH(B3459,HAMARA!E:E,0))=0,\"\",INDEX(HAMARA!I:I,MATCH(B3459,HAMARA!E:E,0))),\"\")","v":""}]
[15482,"AT506",0,{"$f":"IFERROR(IF(INDEX(HAMARA!I:I,MATCH(B3460,HAMARA!E:E,0))=0,\"\",INDEX(HAMARA!I:I,MATCH(B3460,HAMARA!E:E,0))),\"\")","v":""}]
[15482,"AT627",0,{"$f":"IFERROR(IF(INDEX(HAMARA!I:I,MATCH(B3461,HAMARA!E:E,0))=0,\"\",INDEX(HAMARA!I:I,MATCH(B3461,HAMARA!E:E,0))),\"\")","v":""}]
[15482,"AT507",0,{"$f":"IFERROR(IF(INDEX(HAMARA!I:I,MATCH(B3462,HAMARA!E:E,0))=0,\"\",INDEX(HAMARA!I:I,MATCH(B3462,HAMARA!E:E,0))),\"\")","v":""}]
[15482,"AT577",0,{"$f":"IFERROR(IF(INDEX(HAMARA!I:I,MATCH(B3463,HAMARA!E:E,0))=0,\"\",INDEX(HAMARA!I:I,MATCH(B3463,HAMARA!E:E,0))),\"\")","v":""}]
[15482,"AT508",0,{"$f":"IFERROR(IF(INDEX(HAMARA!I:I,MATCH(B3464,HAMARA!E:E,0))=0,\"\",INDEX(HAMARA!I:I,MATCH(B3464,HAMARA!E:E,0))),\"\")","v":""}]
[15482,"AT509",0,{"$f":"IFERROR(IF(INDEX(HAMARA!I:I,MATCH(B3465,HAMARA!E:E,0))=0,\"\",INDEX(HAMARA!I:I,MATCH(B3465,HAMARA!E:E,0))),\"\")","v":""}]
[15482,"AT511",0,{"$f":"IFERROR(IF(INDEX(HAMARA!I:I,MATCH(B3466,HAMARA!E:E,0))=0,\"\",INDEX(HAMARA!I:I,MATCH(B3466,HAMARA!E:E,0))),\"\")","v":""}]
[15482,"AT452",0,{"$f":"IFERROR(IF(INDEX(HAMARA!I:I,MATCH(B3467,HAMARA!E:E,0))=0,\"\",INDEX(HAMARA!I:I,MATCH(B3467,HAMARA!E:E,0))),\"\")","v":""}]
[15482,"AT512",0,{"$f":"IFERROR(IF(INDEX(HAMARA!I:I,MATCH(B3468,HAMARA!E:E,0))=0,\"\",INDEX(HAMARA!I:I,MATCH(B3468,HAMARA!E:E,0))),\"\")","v":""}]
[15482,"AT513",0,{"$f":"IFERROR(IF(INDEX(HAMARA!I:I,MATCH(B3469,HAMARA!E:E,0))=0,\"\",INDEX(HAMARA!I:I,MATCH(B3469,HAMARA!E:E,0))),\"\")","v":""}]
[15482,"AT514",0,{"$f":"IFERROR(IF(INDEX(HAMARA!I:I,MATCH(B3470,HAMARA!E:E,0))=0,\"\",INDEX(HAMARA!I:I,MATCH(B3470,HAMARA!E:E,0))),\"\")","v":""}]
[15482,"AT515",0,{"$f":"IFERROR(IF(INDEX(HAMARA!I:I,MATCH(B3471,HAMARA!E:E,0))=0,\"\",INDEX(HAMARA!I:I,MATCH(B3471,HAMARA!E:E,0))),\"\")","v":""}]
[15482,"AT516",0,{"$f":"IFERROR(IF(INDEX(HAMARA!I:I,MATCH(B3472,HAMARA!E:E,0))=0,\"\",INDEX(HAMARA!I:I,MATCH(B3472,HAMARA!E:E,0))),\"\")","v":""}]
[15482,"AT517",0,{"$f":"IFERROR(IF(INDEX(HAMARA!I:I,MATCH(B3473,HAMARA!E:E,0))=0,\"\",INDEX(HAMARA!I:I,MATCH(B3473,HAMARA!E:E,0))),\"\")","v":""}]
[15482,"AT518",0,{"$f":"IFERROR(IF(INDEX(HAMARA!I:I,MATCH(B3474,HAMARA!E:E,0))=0,\"\",INDEX(HAMARA!I:I,MATCH(B3474,HAMARA!E:E,0))),\"\")","v":""}]
[15482,"AT519",0,{"$f":"IFERROR(IF(INDEX(HAMARA!I:I,MATCH(B3475,HAMARA!E:E,0))=0,\"\",INDEX(HAMARA!I:I,MATCH(B3475,HAMARA!E:E,0))),\"\")","v":""}]
[15482,"AT520",0,{"$f":"IFERROR(IF(INDEX(HAMARA!I:I,MATCH(B3476,HAMARA!E:E,0))=0,\"\",INDEX(HAMARA!I:I,MATCH(B3476,HAMARA!E:E,0))),\"\")","v":""}]
[15482,"AT521",0,{"$f":"IFERROR(IF(INDEX(HAMARA!I:I,MATCH(B3477,HAMARA!E:E,0))=0,\"\",INDEX(HAMARA!I:I,MATCH(B3477,HAMARA!E:E,0))),\"\")","v":""}]
[15482,"AT522",0,{"$f":"IFERROR(IF(INDEX(HAMARA!I:I,MATCH(B3478,HAMARA!E:E,0))=0,\"\",INDEX(HAMARA!I:I,MATCH(B3478,HAMARA!E:E,0))),\"\")","v":""}]
[15482,"AT523",0,{"$f":"IFERROR(IF(INDEX(HAMARA!I:I,MATCH(B3479,HAMARA!E:E,0))=0,\"\",INDEX(HAMARA!I:I,MATCH(B3479,HAMARA!E:E,0))),\"\")","v":""}]
[15482,"AT524",0,{"$f":"IFERROR(IF(INDEX(HAMARA!I:I,MATCH(B3480,HAMARA!E:E,0))=0,\"\",INDEX(HAMARA!I:I,MATCH(B3480,HAMARA!E:E,0))),\"\")","v":""}]
[15482,"AT525",0,{"$f":"IFERROR(IF(INDEX(HAMARA!I:I,MATCH(B3481,HAMARA!E:E,0))=0,\"\",INDEX(HAMARA!I:I,MATCH(B3481,HAMARA!E:E,0))),\"\")","v":""}]
[15482,"AT526",0,{"$f":"IFERROR(IF(INDEX(HAMARA!I:I,MATCH(B3482,HAMARA!E:E,0))=0,\"\",INDEX(HAMARA!I:I,MATCH(B3482,HAMARA!E:E,0))),\"\")","v":""}]
[15482,"AT527",0,{"$f":"IFERROR(IF(INDEX(HAMARA!I:I,MATCH(B3483,HAMARA!E:E,0))=0,\"\",INDEX(HAMARA!I:I,MATCH(B3483,HAMARA!E:E,0))),\"\")","v":""}]
[15482,"AT530",0,{"$f":"IFERROR(IF(INDEX(HAMARA!I:I,MATCH(B3484,HAMARA!E:E,0))=0,\"\",INDEX(HAMARA!I:I,MATCH(B3484,HAMARA!E:E,0))),\"\")","v":""}]
[15482,"AT531",0,{"$f":"IFERROR(IF(INDEX(HAMARA!I:I,MATCH(B3485,HAMARA!E:E,0))=0,\"\",INDEX(HAMARA!I:I,MATCH(B3485,HAMARA!E:E,0))),\"\")","v":""}]
[15482,"AT532",0,{"$f":"IFERROR(IF(INDEX(HAMARA!I:I,MATCH(B3486,HAMARA!E:E,0))=0,\"\",INDEX(HAMARA!I:I,MATCH(B3486,HAMARA!E:E,0))),\"\")","v":""}]
[15482,"AT533",0,{"$f":"IFERROR(IF(INDEX(HAMARA!I:I,MATCH(B3487,HAMARA!E:E,0))=0,\"\",INDEX(HAMARA!I:I,MATCH(B3487,HAMARA!E:E,0))),\"\")","v":""}]
[15482,"AT534",0,{"$f":"IFERROR(IF(INDEX(HAMARA!I:I,MATCH(B3488,HAMARA!E:E,0))=0,\"\",INDEX(HAMARA!I:I,MATCH(B3488,HAMARA!E:E,0))),\"\")","v":""}]
[15482,"AT535",0,{"$f":"IFERROR(IF(INDEX(HAMARA!I:I,MATCH(B3489,HAMARA!E:E,0))=0,\"\",INDEX(HAMARA!I:I,MATCH(B3489,HAMARA!E:E,0))),\"\")","v":""}]
[15482,"AT536",0,{"$f":"IFERROR(IF(INDEX(HAMARA!I:I,MATCH(B3490,HAMARA!E:E,0))=0,\"\",INDEX(HAMARA!I:I,MATCH(B3490,HAMARA!E:E,0))),\"\")","v":""}]
[15482,"AT537",0,{"$f":"IFERROR(IF(INDEX(HAMARA!I:I,MATCH(B3491,HAMARA!E:E,0))=0,\"\",INDEX(HAMARA!I:I,MATCH(B3491,HAMARA!E:E,0))),\"\")","v":""}]
[15482,"AT628",0,{"$f":"IFERROR(IF(INDEX(HAMARA!I:I,MATCH(B3492,HAMARA!E:E,0))=0,\"\",INDEX(HAMARA!I:I,MATCH(B3492,HAMARA!E:E,0))),\"\")","v":""}]
[15482,"AT629",0,{"$f":"IFERROR(IF(INDEX(HAMARA!I:I,MATCH(B3493,HAMARA!E:E,0))=0,\"\",INDEX(HAMARA!I:I,MATCH(B3493,HAMARA!E:E,0))),\"\")","v":""}]
[15482,"AT630",0,{"$f":"IFERROR(IF(INDEX(HAMARA!I:I,MATCH(B3494,HAMARA!E:E,0))=0,\"\",INDEX(HAMARA!I:I,MATCH(B3494,HAMARA!E:E,0))),\"\")","v":""}]
[15482,"AT631",0,{"$f":"IFERROR(IF(INDEX(HAMARA!I:I,MATCH(B3495,HAMARA!E:E,0))=0,\"\",INDEX(HAMARA!I:I,MATCH(B3495,HAMARA!E:E,0))),\"\")","v":""}]
[15482,"AT632",0,{"$f":"IFERROR(IF(INDEX(HAMARA!I:I,MATCH(B3496,HAMARA!E:E,0))=0,\"\",INDEX(HAMARA!I:I,MATCH(B3496,HAMARA!E:E,0))),\"\")","v":""}]
[15482,"AT633",0,{"$f":"IFERROR(IF(INDEX(HAMARA!I:I,MATCH(B3497,HAMARA!E:E,0))=0,\"\",INDEX(HAMARA!I:I,MATCH(B3497,HAMARA!E:E,0))),\"\")","v":""}]
[15482,"AT162",0,{"$f":"IFERROR(IF(INDEX(HAMARA!I:I,MATCH(B3498,HAMARA!E:E,0))=0,\"\",INDEX(HAMARA!I:I,MATCH(B3498,HAMARA!E:E,0))),\"\")","v":""}]
[15482,"AT163",0,{"$f":"IFERROR(IF(INDEX(HAMARA!I:I,MATCH(B3499,HAMARA!E:E,0))=0,\"\",INDEX(HAMARA!I:I,MATCH(B3499,HAMARA!E:E,0))),\"\")","v":""}]
[15482,"AT164",0,{"$f":"IFERROR(IF(INDEX(HAMARA!I:I,MATCH(B3500,HAMARA!E:E,0))=0,\"\",INDEX(HAMARA!I:I,MATCH(B3500,HAMARA!E:E,0))),\"\")","v":""}]
[15482,"AT165",0,{"$f":"IFERROR(IF(INDEX(HAMARA!I:I,MATCH(B3501,HAMARA!E:E,0))=0,\"\",INDEX(HAMARA!I:I,MATCH(B3501,HAMARA!E:E,0))),\"\")","v":""}]
[15482,"AT166",0,{"$f":"IFERROR(IF(INDEX(HAMARA!I:I,MATCH(B3502,HAMARA!E:E,0))=0,\"\",INDEX(HAMARA!I:I,MATCH(B3502,HAMARA!E:E,0))),\"\")","v":""}]
[15482,"AT36",0,{"$f":"IFERROR(IF(INDEX(HAMARA!I:I,MATCH(B3503,HAMARA!E:E,0))=0,\"\",INDEX(HAMARA!I:I,MATCH(B3503,HAMARA!E:E,0))),\"\")","v":""}]
[15482,"AT38",0,{"$f":"IFERROR(IF(INDEX(HAMARA!I:I,MATCH(B3504,HAMARA!E:E,0))=0,\"\",INDEX(HAMARA!I:I,MATCH(B3504,HAMARA!E:E,0))),\"\")","v":""}]
[15482,"AT167",0,{"$f":"IFERROR(IF(INDEX(HAMARA!I:I,MATCH(B3505,HAMARA!E:E,0))=0,\"\",INDEX(HAMARA!I:I,MATCH(B3505,HAMARA!E:E,0))),\"\")","v":""}]
[15482,"AT228",0,{"$f":"IFERROR(IF(INDEX(HAMARA!I:I,MATCH(B3506,HAMARA!E:E,0))=0,\"\",INDEX(HAMARA!I:I,MATCH(B3506,HAMARA!E:E,0))),\"\")","v":""}]
[15482,"AT95",0,{"$f":"IFERROR(IF(INDEX(HAMARA!I:I,MATCH(B3507,HAMARA!E:E,0))=0,\"\",INDEX(HAMARA!I:I,MATCH(B3507,HAMARA!E:E,0))),\"\")","v":""}]
[15482,"AT63",0,{"$f":"IFERROR(IF(INDEX(HAMARA!I:I,MATCH(B3508,HAMARA!E:E,0))=0,\"\",INDEX(HAMARA!I:I,MATCH(B3508,HAMARA!E:E,0))),\"\")","v":""}]
[15482,"AT168",0,{"$f":"IFERROR(IF(INDEX(HAMARA!I:I,MATCH(B3509,HAMARA!E:E,0))=0,\"\",INDEX(HAMARA!I:I,MATCH(B3509,HAMARA!E:E,0))),\"\")","v":""}]
[15482,"AT100",0,{"$f":"IFERROR(IF(INDEX(HAMARA!I:I,MATCH(B3510,HAMARA!E:E,0))=0,\"\",INDEX(HAMARA!I:I,MATCH(B3510,HAMARA!E:E,0))),\"\")","v":""}]
[15482,"AT99",0,{"$f":"IFERROR(IF(INDEX(HAMARA!I:I,MATCH(B3511,HAMARA!E:E,0))=0,\"\",INDEX(HAMARA!I:I,MATCH(B3511,HAMARA!E:E,0))),\"\")","v":""}]
[15482,"AT139",0,{"$f":"IFERROR(IF(INDEX(HAMARA!I:I,MATCH(B3512,HAMARA!E:E,0))=0,\"\",INDEX(HAMARA!I:I,MATCH(B3512,HAMARA!E:E,0))),\"\")","v":""}]
[15482,"AT142",0,{"$f":"IFERROR(IF(INDEX(HAMARA!I:I,MATCH(B3513,HAMARA!E:E,0))=0,\"\",INDEX(HAMARA!I:I,MATCH(B3513,HAMARA!E:E,0))),\"\")","v":""}]
[15482,"BT999",0.17699999999999999,{"$f":"IFERROR(IF(INDEX(HAMARA!I:I,MATCH(B3514,HAMARA!E:E,0))=0,\"\",INDEX(HAMARA!I:I,MATCH(B3514,HAMARA!E:E,0))),\"\")","v":""}]
[15482,"BT34",0,{"$f":"IFERROR(IF(INDEX(HAMARA!I:I,MATCH(B3515,HAMARA!E:E,0))=0,\"\",INDEX(HAMARA!I:I,MATCH(B3515,HAMARA!E:E,0))),\"\")","v":""}]
[15482,"BT420",0,{"$f":"IFERROR(IF(INDEX(HAMARA!I:I,MATCH(B3516,HAMARA!E:E,0))=0,\"\",INDEX(HAMARA!I:I,MATCH(B3516,HAMARA!E:E,0))),\"\")","v":""}]
[15482,"BT421",0,{"$f":"IFERROR(IF(INDEX(HAMARA!I:I,MATCH(B3517,HAMARA!E:E,0))=0,\"\",INDEX(HAMARA!I:I,MATCH(B3517,HAMARA!E:E,0))),\"\")","v":""}]
[15482,"BT422",0,{"$f":"IFERROR(IF(INDEX(HAMARA!I:I,MATCH(B3518,HAMARA!E:E,0))=0,\"\",INDEX(HAMARA!I:I,MATCH(B3518,HAMARA!E:E,0))),\"\")","v":""}]
[15482,"BT423",0,{"$f":"IFERROR(IF(INDEX(HAMARA!I:I,MATCH(B3519,HAMARA!E:E,0))=0,\"\",INDEX(HAMARA!I:I,MATCH(B3519,HAMARA!E:E,0))),\"\")","v":""}]
[15482,"BT424",0,{"$f":"IFERROR(IF(INDEX(HAMARA!I:I,MATCH(B3520,HAMARA!E:E,0))=0,\"\",INDEX(HAMARA!I:I,MATCH(B3520,HAMARA!E:E,0))),\"\")","v":""}]
[15482,"BT27",0,{"$f":"IFERROR(IF(INDEX(HAMARA!I:I,MATCH(B3521,HAMARA!E:E,0))=0,\"\",INDEX(HAMARA!I:I,MATCH(B3521,HAMARA!E:E,0))),\"\")","v":""}]
[15482,"BT29",0,{"$f":"IFERROR(IF(INDEX(HAMARA!I:I,MATCH(B3522,HAMARA!E:E,0))=0,\"\",INDEX(HAMARA!I:I,MATCH(B3522,HAMARA!E:E,0))),\"\")","v":""}]
[15482,"BT104",0,{"$f":"IFERROR(IF(INDEX(HAMARA!I:I,MATCH(B3523,HAMARA!E:E,0))=0,\"\",INDEX(HAMARA!I:I,MATCH(B3523,HAMARA!E:E,0))),\"\")","v":""}]
[15482,"BT28",0,{"$f":"IFERROR(IF(INDEX(HAMARA!I:I,MATCH(B3524,HAMARA!E:E,0))=0,\"\",INDEX(HAMARA!I:I,MATCH(B3524,HAMARA!E:E,0))),\"\")","v":""}]
[15482,"BT31",0,{"$f":"IFERROR(IF(INDEX(HAMARA!I:I,MATCH(B3525,HAMARA!E:E,0))=0,\"\",INDEX(HAMARA!I:I,MATCH(B3525,HAMARA!E:E,0))),\"\")","v":""}]
[15482,"BT24",0,{"$f":"IFERROR(IF(INDEX(HAMARA!I:I,MATCH(B3526,HAMARA!E:E,0))=0,\"\",INDEX(HAMARA!I:I,MATCH(B3526,HAMARA!E:E,0))),\"\")","v":""}]
[15482,"BT30",0,{"$f":"IFERROR(IF(INDEX(HAMARA!I:I,MATCH(B3527,HAMARA!E:E,0))=0,\"\",INDEX(HAMARA!I:I,MATCH(B3527,HAMARA!E:E,0))),\"\")","v":""}]
[15482,"BT41",0,{"$f":"IFERROR(IF(INDEX(HAMARA!I:I,MATCH(B3528,HAMARA!E:E,0))=0,\"\",INDEX(HAMARA!I:I,MATCH(B3528,HAMARA!E:E,0))),\"\")","v":""}]
[15482,"BT425",0,{"$f":"IFERROR(IF(INDEX(HAMARA!I:I,MATCH(B3529,HAMARA!E:E,0))=0,\"\",INDEX(HAMARA!I:I,MATCH(B3529,HAMARA!E:E,0))),\"\")","v":""}]
[15482,"BT426",0,{"$f":"IFERROR(IF(INDEX(HAMARA!I:I,MATCH(B3530,HAMARA!E:E,0))=0,\"\",INDEX(HAMARA!I:I,MATCH(B3530,HAMARA!E:E,0))),\"\")","v":""}]
[15482,"BT427",0,{"$f":"IFERROR(IF(INDEX(HAMARA!I:I,MATCH(B3531,HAMARA!E:E,0))=0,\"\",INDEX(HAMARA!I:I,MATCH(B3531,HAMARA!E:E,0))),\"\")","v":""}]
[15482,"BT561",0,{"$f":"IFERROR(IF(INDEX(HAMARA!I:I,MATCH(B3532,HAMARA!E:E,0))=0,\"\",INDEX(HAMARA!I:I,MATCH(B3532,HAMARA!E:E,0))),\"\")","v":""}]
[15482,"BT560",0,{"$f":"IFERROR(IF(INDEX(HAMARA!I:I,MATCH(B3533,HAMARA!E:E,0))=0,\"\",INDEX(HAMARA!I:I,MATCH(B3533,HAMARA!E:E,0))),\"\")","v":""}]
[15482,"BT428",0,{"$f":"IFERROR(IF(INDEX(HAMARA!I:I,MATCH(B3534,HAMARA!E:E,0))=0,\"\",INDEX(HAMARA!I:I,MATCH(B3534,HAMARA!E:E,0))),\"\")","v":""}]
[15482,"BT563",0,{"$f":"IFERROR(IF(INDEX(HAMARA!I:I,MATCH(B3535,HAMARA!E:E,0))=0,\"\",INDEX(HAMARA!I:I,MATCH(B3535,HAMARA!E:E,0))),\"\")","v":""}]
[15482,"BT562",0,{"$f":"IFERROR(IF(INDEX(HAMARA!I:I,MATCH(B3536,HAMARA!E:E,0))=0,\"\",INDEX(HAMARA!I:I,MATCH(B3536,HAMARA!E:E,0))),\"\")","v":""}]
[15482,"BT429",0,{"$f":"IFERROR(IF(INDEX(HAMARA!I:I,MATCH(B3537,HAMARA!E:E,0))=0,\"\",INDEX(HAMARA!I:I,MATCH(B3537,HAMARA!E:E,0))),\"\")","v":""}]
[15482,"BT565",0,{"$f":"IFERROR(IF(INDEX(HAMARA!I:I,MATCH(B3538,HAMARA!E:E,0))=0,\"\",INDEX(HAMARA!I:I,MATCH(B3538,HAMARA!E:E,0))),\"\")","v":""}]
[15482,"BT564",0,{"$f":"IFERROR(IF(INDEX(HAMARA!I:I,MATCH(B3539,HAMARA!E:E,0))=0,\"\",INDEX(HAMARA!I:I,MATCH(B3539,HAMARA!E:E,0))),\"\")","v":""}]
[15482,"BT430",0,{"$f":"IFERROR(IF(INDEX(HAMARA!I:I,MATCH(B3540,HAMARA!E:E,0))=0,\"\",INDEX(HAMARA!I:I,MATCH(B3540,HAMARA!E:E,0))),\"\")","v":""}]
[15482,"BT567",0,{"$f":"IFERROR(IF(INDEX(HAMARA!I:I,MATCH(B3541,HAMARA!E:E,0))=0,\"\",INDEX(HAMARA!I:I,MATCH(B3541,HAMARA!E:E,0))),\"\")","v":""}]
[15482,"BT566",0,{"$f":"IFERROR(IF(INDEX(HAMARA!I:I,MATCH(B3542,HAMARA!E:E,0))=0,\"\",INDEX(HAMARA!I:I,MATCH(B3542,HAMARA!E:E,0))),\"\")","v":""}]
[15482,"BT431",0,{"$f":"IFERROR(IF(INDEX(HAMARA!I:I,MATCH(B3543,HAMARA!E:E,0))=0,\"\",INDEX(HAMARA!I:I,MATCH(B3543,HAMARA!E:E,0))),\"\")","v":""}]
[15482,"BT569",0,{"$f":"IFERROR(IF(INDEX(HAMARA!I:I,MATCH(B3544,HAMARA!E:E,0))=0,\"\",INDEX(HAMARA!I:I,MATCH(B3544,HAMARA!E:E,0))),\"\")","v":""}]
[15482,"BT568",0,{"$f":"IFERROR(IF(INDEX(HAMARA!I:I,MATCH(B3545,HAMARA!E:E,0))=0,\"\",INDEX(HAMARA!I:I,MATCH(B3545,HAMARA!E:E,0))),\"\")","v":""}]
[15482,"BT432",0,{"$f":"IFERROR(IF(INDEX(HAMARA!I:I,MATCH(B3546,HAMARA!E:E,0))=0,\"\",INDEX(HAMARA!I:I,MATCH(B3546,HAMARA!E:E,0))),\"\")","v":""}]
[15482,"BT573",0,{"$f":"IFERROR(IF(INDEX(HAMARA!I:I,MATCH(B3547,HAMARA!E:E,0))=0,\"\",INDEX(HAMARA!I:I,MATCH(B3547,HAMARA!E:E,0))),\"\")","v":""}]
[15482,"BT572",0,{"$f":"IFERROR(IF(INDEX(HAMARA!I:I,MATCH(B3548,HAMARA!E:E,0))=0,\"\",INDEX(HAMARA!I:I,MATCH(B3548,HAMARA!E:E,0))),\"\")","v":""}]
[15482,"BT547",0,{"$f":"IFERROR(IF(INDEX(HAMARA!I:I,MATCH(B3549,HAMARA!E:E,0))=0,\"\",INDEX(HAMARA!I:I,MATCH(B3549,HAMARA!E:E,0))),\"\")","v":""}]
[15482,"BT571",0,{"$f":"IFERROR(IF(INDEX(HAMARA!I:I,MATCH(B3550,HAMARA!E:E,0))=0,\"\",INDEX(HAMARA!I:I,MATCH(B3550,HAMARA!E:E,0))),\"\")","v":""}]
[15482,"BT570",0,{"$f":"IFERROR(IF(INDEX(HAMARA!I:I,MATCH(B3551,HAMARA!E:E,0))=0,\"\",INDEX(HAMARA!I:I,MATCH(B3551,HAMARA!E:E,0))),\"\")","v":""}]
[15482,"BT601",0,{"$f":"IFERROR(IF(INDEX(HAMARA!I:I,MATCH(B3552,HAMARA!E:E,0))=0,\"\",INDEX(HAMARA!I:I,MATCH(B3552,HAMARA!E:E,0))),\"\")","v":""}]
[15482,"BT602",0,{"$f":"IFERROR(IF(INDEX(HAMARA!I:I,MATCH(B3553,HAMARA!E:E,0))=0,\"\",INDEX(HAMARA!I:I,MATCH(B3553,HAMARA!E:E,0))),\"\")","v":""}]
[15482,"BT603",0,{"$f":"IFERROR(IF(INDEX(HAMARA!I:I,MATCH(B3554,HAMARA!E:E,0))=0,\"\",INDEX(HAMARA!I:I,MATCH(B3554,HAMARA!E:E,0))),\"\")","v":""}]
[15482,"BT604",0,{"$f":"IFERROR(IF(INDEX(HAMARA!I:I,MATCH(B3555,HAMARA!E:E,0))=0,\"\",INDEX(HAMARA!I:I,MATCH(B3555,HAMARA!E:E,0))),\"\")","v":""}]
[15482,"BT605",0,{"$f":"IFERROR(IF(INDEX(HAMARA!I:I,MATCH(B3556,HAMARA!E:E,0))=0,\"\",INDEX(HAMARA!I:I,MATCH(B3556,HAMARA!E:E,0))),\"\")","v":""}]
[15482,"BT606",0,{"$f":"IFERROR(IF(INDEX(HAMARA!I:I,MATCH(B3557,HAMARA!E:E,0))=0,\"\",INDEX(HAMARA!I:I,MATCH(B3557,HAMARA!E:E,0))),\"\")","v":""}]
[15482,"BT607",0,{"$f":"IFERROR(IF(INDEX(HAMARA!I:I,MATCH(B3558,HAMARA!E:E,0))=0,\"\",INDEX(HAMARA!I:I,MATCH(B3558,HAMARA!E:E,0))),\"\")","v":""}]
[15482,"BT608",0,{"$f":"IFERROR(IF(INDEX(HAMARA!I:I,MATCH(B3559,HAMARA!E:E,0))=0,\"\",INDEX(HAMARA!I:I,MATCH(B3559,HAMARA!E:E,0))),\"\")","v":""}]
[15482,"BT609",0,{"$f":"IFERROR(IF(INDEX(HAMARA!I:I,MATCH(B3560,HAMARA!E:E,0))=0,\"\",INDEX(HAMARA!I:I,MATCH(B3560,HAMARA!E:E,0))),\"\")","v":""}]
[15482,"BT610",0,{"$f":"IFERROR(IF(INDEX(HAMARA!I:I,MATCH(B3561,HAMARA!E:E,0))=0,\"\",INDEX(HAMARA!I:I,MATCH(B3561,HAMARA!E:E,0))),\"\")","v":""}]
[15482,"BT611",0,{"$f":"IFERROR(IF(INDEX(HAMARA!I:I,MATCH(B3562,HAMARA!E:E,0))=0,\"\",INDEX(HAMARA!I:I,MATCH(B3562,HAMARA!E:E,0))),\"\")","v":""}]
[15482,"BT612",0,{"$f":"IFERROR(IF(INDEX(HAMARA!I:I,MATCH(B3563,HAMARA!E:E,0))=0,\"\",INDEX(HAMARA!I:I,MATCH(B3563,HAMARA!E:E,0))),\"\")","v":""}]
[15482,"BT613",0,{"$f":"IFERROR(IF(INDEX(HAMARA!I:I,MATCH(B3564,HAMARA!E:E,0))=0,\"\",INDEX(HAMARA!I:I,MATCH(B3564,HAMARA!E:E,0))),\"\")","v":""}]
[15482,"BT614",0,{"$f":"IFERROR(IF(INDEX(HAMARA!I:I,MATCH(B3565,HAMARA!E:E,0))=0,\"\",INDEX(HAMARA!I:I,MATCH(B3565,HAMARA!E:E,0))),\"\")","v":""}]
[15482,"BT301",0,{"$f":"IFERROR(IF(INDEX(HAMARA!I:I,MATCH(B3566,HAMARA!E:E,0))=0,\"\",INDEX(HAMARA!I:I,MATCH(B3566,HAMARA!E:E,0))),\"\")","v":""}]
[15482,"BT303",0,{"$f":"IFERROR(IF(INDEX(HAMARA!I:I,MATCH(B3567,HAMARA!E:E,0))=0,\"\",INDEX(HAMARA!I:I,MATCH(B3567,HAMARA!E:E,0))),\"\")","v":""}]
[15482,"BT302",0,{"$f":"IFERROR(IF(INDEX(HAMARA!I:I,MATCH(B3568,HAMARA!E:E,0))=0,\"\",INDEX(HAMARA!I:I,MATCH(B3568,HAMARA!E:E,0))),\"\")","v":""}]
[15482,"BT307",0,{"$f":"IFERROR(IF(INDEX(HAMARA!I:I,MATCH(B3569,HAMARA!E:E,0))=0,\"\",INDEX(HAMARA!I:I,MATCH(B3569,HAMARA!E:E,0))),\"\")","v":""}]
[15482,"BT309",0,{"$f":"IFERROR(IF(INDEX(HAMARA!I:I,MATCH(B3570,HAMARA!E:E,0))=0,\"\",INDEX(HAMARA!I:I,MATCH(B3570,HAMARA!E:E,0))),\"\")","v":""}]
[15482,"BT308",0,{"$f":"IFERROR(IF(INDEX(HAMARA!I:I,MATCH(B3571,HAMARA!E:E,0))=0,\"\",INDEX(HAMARA!I:I,MATCH(B3571,HAMARA!E:E,0))),\"\")","v":""}]
[15482,"BT313",0,{"$f":"IFERROR(IF(INDEX(HAMARA!I:I,MATCH(B3572,HAMARA!E:E,0))=0,\"\",INDEX(HAMARA!I:I,MATCH(B3572,HAMARA!E:E,0))),\"\")","v":""}]
[15482,"BT315",0,{"$f":"IFERROR(IF(INDEX(HAMARA!I:I,MATCH(B3573,HAMARA!E:E,0))=0,\"\",INDEX(HAMARA!I:I,MATCH(B3573,HAMARA!E:E,0))),\"\")","v":""}]
[15482,"BT314",0,{"$f":"IFERROR(IF(INDEX(HAMARA!I:I,MATCH(B3574,HAMARA!E:E,0))=0,\"\",INDEX(HAMARA!I:I,MATCH(B3574,HAMARA!E:E,0))),\"\")","v":""}]
[15482,"BT615",0,{"$f":"IFERROR(IF(INDEX(HAMARA!I:I,MATCH(B3575,HAMARA!E:E,0))=0,\"\",INDEX(HAMARA!I:I,MATCH(B3575,HAMARA!E:E,0))),\"\")","v":""}]
[15482,"BT616",0,{"$f":"IFERROR(IF(INDEX(HAMARA!I:I,MATCH(B3576,HAMARA!E:E,0))=0,\"\",INDEX(HAMARA!I:I,MATCH(B3576,HAMARA!E:E,0))),\"\")","v":""}]
[15482,"BT617",0,{"$f":"IFERROR(IF(INDEX(HAMARA!I:I,MATCH(B3577,HAMARA!E:E,0))=0,\"\",INDEX(HAMARA!I:I,MATCH(B3577,HAMARA!E:E,0))),\"\")","v":""}]
[15482,"BT319",0,{"$f":"IFERROR(IF(INDEX(HAMARA!I:I,MATCH(B3578,HAMARA!E:E,0))=0,\"\",INDEX(HAMARA!I:I,MATCH(B3578,HAMARA!E:E,0))),\"\")","v":""}]
[15482,"BT321",0,{"$f":"IFERROR(IF(INDEX(HAMARA!I:I,MATCH(B3579,HAMARA!E:E,0))=0,\"\",INDEX(HAMARA!I:I,MATCH(B3579,HAMARA!E:E,0))),\"\")","v":""}]
[15482,"BT320",0,{"$f":"IFERROR(IF(INDEX(HAMARA!I:I,MATCH(B3580,HAMARA!E:E,0))=0,\"\",INDEX(HAMARA!I:I,MATCH(B3580,HAMARA!E:E,0))),\"\")","v":""}]
[15482,"BT325",0,{"$f":"IFERROR(IF(INDEX(HAMARA!I:I,MATCH(B3581,HAMARA!E:E,0))=0,\"\",INDEX(HAMARA!I:I,MATCH(B3581,HAMARA!E:E,0))),\"\")","v":""}]
[15482,"BT327",0,{"$f":"IFERROR(IF(INDEX(HAMARA!I:I,MATCH(B3582,HAMARA!E:E,0))=0,\"\",INDEX(HAMARA!I:I,MATCH(B3582,HAMARA!E:E,0))),\"\")","v":""}]
[15482,"BT326",0,{"$f":"IFERROR(IF(INDEX(HAMARA!I:I,MATCH(B3583,HAMARA!E:E,0))=0,\"\",INDEX(HAMARA!I:I,MATCH(B3583,HAMARA!E:E,0))),\"\")","v":""}]
[15482,"BT553",0,{"$f":"IFERROR(IF(INDEX(HAMARA!I:I,MATCH(B3584,HAMARA!E:E,0))=0,\"\",INDEX(HAMARA!I:I,MATCH(B3584,HAMARA!E:E,0))),\"\")","v":""}]
[15482,"BT555",0,{"$f":"IFERROR(IF(INDEX(HAMARA!I:I,MATCH(B3585,HAMARA!E:E,0))=0,\"\",INDEX(HAMARA!I:I,MATCH(B3585,HAMARA!E:E,0))),\"\")","v":""}]
[15482,"BT554",0,{"$f":"IFERROR(IF(INDEX(HAMARA!I:I,MATCH(B3586,HAMARA!E:E,0))=0,\"\",INDEX(HAMARA!I:I,MATCH(B3586,HAMARA!E:E,0))),\"\")","v":""}]
[15482,"BT337",0,{"$f":"IFERROR(IF(INDEX(HAMARA!I:I,MATCH(B3587,HAMARA!E:E,0))=0,\"\",INDEX(HAMARA!I:I,MATCH(B3587,HAMARA!E:E,0))),\"\")","v":""}]
[15482,"BT339",0,{"$f":"IFERROR(IF(INDEX(HAMARA!I:I,MATCH(B3588,HAMARA!E:E,0))=0,\"\",INDEX(HAMARA!I:I,MATCH(B3588,HAMARA!E:E,0))),\"\")","v":""}]
[15482,"BT338",0,{"$f":"IFERROR(IF(INDEX(HAMARA!I:I,MATCH(B3589,HAMARA!E:E,0))=0,\"\",INDEX(HAMARA!I:I,MATCH(B3589,HAMARA!E:E,0))),\"\")","v":""}]
[15482,"BT618",0,{"$f":"IFERROR(IF(INDEX(HAMARA!I:I,MATCH(B3590,HAMARA!E:E,0))=0,\"\",INDEX(HAMARA!I:I,MATCH(B3590,HAMARA!E:E,0))),\"\")","v":""}]
[15482,"BT619",0,{"$f":"IFERROR(IF(INDEX(HAMARA!I:I,MATCH(B3591,HAMARA!E:E,0))=0,\"\",INDEX(HAMARA!I:I,MATCH(B3591,HAMARA!E:E,0))),\"\")","v":""}]
[15482,"BT620",0,{"$f":"IFERROR(IF(INDEX(HAMARA!I:I,MATCH(B3592,HAMARA!E:E,0))=0,\"\",INDEX(HAMARA!I:I,MATCH(B3592,HAMARA!E:E,0))),\"\")","v":""}]
[15482,"BT621",0,{"$f":"IFERROR(IF(INDEX(HAMARA!I:I,MATCH(B3593,HAMARA!E:E,0))=0,\"\",INDEX(HAMARA!I:I,MATCH(B3593,HAMARA!E:E,0))),\"\")","v":""}]
[15482,"BT454",0,{"$f":"IFERROR(IF(INDEX(HAMARA!I:I,MATCH(B3594,HAMARA!E:E,0))=0,\"\",INDEX(HAMARA!I:I,MATCH(B3594,HAMARA!E:E,0))),\"\")","v":""}]
[15482,"BT455",0,{"$f":"IFERROR(IF(INDEX(HAMARA!I:I,MATCH(B3595,HAMARA!E:E,0))=0,\"\",INDEX(HAMARA!I:I,MATCH(B3595,HAMARA!E:E,0))),\"\")","v":""}]
[15482,"BT456",0,{"$f":"IFERROR(IF(INDEX(HAMARA!I:I,MATCH(B3596,HAMARA!E:E,0))=0,\"\",INDEX(HAMARA!I:I,MATCH(B3596,HAMARA!E:E,0))),\"\")","v":""}]
[15482,"BT457",0,{"$f":"IFERROR(IF(INDEX(HAMARA!I:I,MATCH(B3597,HAMARA!E:E,0))=0,\"\",INDEX(HAMARA!I:I,MATCH(B3597,HAMARA!E:E,0))),\"\")","v":""}]
[15482,"BT458",0,{"$f":"IFERROR(IF(INDEX(HAMARA!I:I,MATCH(B3598,HAMARA!E:E,0))=0,\"\",INDEX(HAMARA!I:I,MATCH(B3598,HAMARA!E:E,0))),\"\")","v":""}]
[15482,"BT459",0,{"$f":"IFERROR(IF(INDEX(HAMARA!I:I,MATCH(B3599,HAMARA!E:E,0))=0,\"\",INDEX(HAMARA!I:I,MATCH(B3599,HAMARA!E:E,0))),\"\")","v":""}]
[15482,"BT460",0,{"$f":"IFERROR(IF(INDEX(HAMARA!I:I,MATCH(B3600,HAMARA!E:E,0))=0,\"\",INDEX(HAMARA!I:I,MATCH(B3600,HAMARA!E:E,0))),\"\")","v":""}]
[15482,"BT461",0,{"$f":"IFERROR(IF(INDEX(HAMARA!I:I,MATCH(B3601,HAMARA!E:E,0))=0,\"\",INDEX(HAMARA!I:I,MATCH(B3601,HAMARA!E:E,0))),\"\")","v":""}]
[15482,"BT462",0,{"$f":"IFERROR(IF(INDEX(HAMARA!I:I,MATCH(B3602,HAMARA!E:E,0))=0,\"\",INDEX(HAMARA!I:I,MATCH(B3602,HAMARA!E:E,0))),\"\")","v":""}]
[15482,"BT558",0,{"$f":"IFERROR(IF(INDEX(HAMARA!I:I,MATCH(B3603,HAMARA!E:E,0))=0,\"\",INDEX(HAMARA!I:I,MATCH(B3603,HAMARA!E:E,0))),\"\")","v":""}]
[15482,"BT463",0,{"$f":"IFERROR(IF(INDEX(HAMARA!I:I,MATCH(B3604,HAMARA!E:E,0))=0,\"\",INDEX(HAMARA!I:I,MATCH(B3604,HAMARA!E:E,0))),\"\")","v":""}]
[15482,"BT464",0,{"$f":"IFERROR(IF(INDEX(HAMARA!I:I,MATCH(B3605,HAMARA!E:E,0))=0,\"\",INDEX(HAMARA!I:I,MATCH(B3605,HAMARA!E:E,0))),\"\")","v":""}]
[15482,"BT465",0,{"$f":"IFERROR(IF(INDEX(HAMARA!I:I,MATCH(B3606,HAMARA!E:E,0))=0,\"\",INDEX(HAMARA!I:I,MATCH(B3606,HAMARA!E:E,0))),\"\")","v":""}]
[15482,"BT559",0,{"$f":"IFERROR(IF(INDEX(HAMARA!I:I,MATCH(B3607,HAMARA!E:E,0))=0,\"\",INDEX(HAMARA!I:I,MATCH(B3607,HAMARA!E:E,0))),\"\")","v":""}]
[15482,"BT402",0,{"$f":"IFERROR(IF(INDEX(HAMARA!I:I,MATCH(B3608,HAMARA!E:E,0))=0,\"\",INDEX(HAMARA!I:I,MATCH(B3608,HAMARA!E:E,0))),\"\")","v":""}]
[15482,"BT403",0,{"$f":"IFERROR(IF(INDEX(HAMARA!I:I,MATCH(B3609,HAMARA!E:E,0))=0,\"\",INDEX(HAMARA!I:I,MATCH(B3609,HAMARA!E:E,0))),\"\")","v":""}]
[15482,"BT404",0,{"$f":"IFERROR(IF(INDEX(HAMARA!I:I,MATCH(B3610,HAMARA!E:E,0))=0,\"\",INDEX(HAMARA!I:I,MATCH(B3610,HAMARA!E:E,0))),\"\")","v":""}]
[15482,"BT405",0,{"$f":"IFERROR(IF(INDEX(HAMARA!I:I,MATCH(B3611,HAMARA!E:E,0))=0,\"\",INDEX(HAMARA!I:I,MATCH(B3611,HAMARA!E:E,0))),\"\")","v":""}]
[15482,"BT172",0,{"$f":"IFERROR(IF(INDEX(HAMARA!I:I,MATCH(B3612,HAMARA!E:E,0))=0,\"\",INDEX(HAMARA!I:I,MATCH(B3612,HAMARA!E:E,0))),\"\")","v":""}]
[15482,"BT205",0,{"$f":"IFERROR(IF(INDEX(HAMARA!I:I,MATCH(B3613,HAMARA!E:E,0))=0,\"\",INDEX(HAMARA!I:I,MATCH(B3613,HAMARA!E:E,0))),\"\")","v":""}]
[15482,"BT67",0,{"$f":"IFERROR(IF(INDEX(HAMARA!I:I,MATCH(B3614,HAMARA!E:E,0))=0,\"\",INDEX(HAMARA!I:I,MATCH(B3614,HAMARA!E:E,0))),\"\")","v":""}]
[15482,"BT44",0,{"$f":"IFERROR(IF(INDEX(HAMARA!I:I,MATCH(B3615,HAMARA!E:E,0))=0,\"\",INDEX(HAMARA!I:I,MATCH(B3615,HAMARA!E:E,0))),\"\")","v":""}]
[15482,"BT46",0,{"$f":"IFERROR(IF(INDEX(HAMARA!I:I,MATCH(B3616,HAMARA!E:E,0))=0,\"\",INDEX(HAMARA!I:I,MATCH(B3616,HAMARA!E:E,0))),\"\")","v":""}]
[15482,"BT105",0,{"$f":"IFERROR(IF(INDEX(HAMARA!I:I,MATCH(B3617,HAMARA!E:E,0))=0,\"\",INDEX(HAMARA!I:I,MATCH(B3617,HAMARA!E:E,0))),\"\")","v":""}]
[15482,"BT622",0,{"$f":"IFERROR(IF(INDEX(HAMARA!I:I,MATCH(B3618,HAMARA!E:E,0))=0,\"\",INDEX(HAMARA!I:I,MATCH(B3618,HAMARA!E:E,0))),\"\")","v":""}]
[15482,"BT108",0,{"$f":"IFERROR(IF(INDEX(HAMARA!I:I,MATCH(B3619,HAMARA!E:E,0))=0,\"\",INDEX(HAMARA!I:I,MATCH(B3619,HAMARA!E:E,0))),\"\")","v":""}]
[15482,"BT360",0,{"$f":"IFERROR(IF(INDEX(HAMARA!I:I,MATCH(B3620,HAMARA!E:E,0))=0,\"\",INDEX(HAMARA!I:I,MATCH(B3620,HAMARA!E:E,0))),\"\")","v":""}]
[15482,"BT361",0,{"$f":"IFERROR(IF(INDEX(HAMARA!I:I,MATCH(B3621,HAMARA!E:E,0))=0,\"\",INDEX(HAMARA!I:I,MATCH(B3621,HAMARA!E:E,0))),\"\")","v":""}]
[15482,"BT362",0,{"$f":"IFERROR(IF(INDEX(HAMARA!I:I,MATCH(B3622,HAMARA!E:E,0))=0,\"\",INDEX(HAMARA!I:I,MATCH(B3622,HAMARA!E:E,0))),\"\")","v":""}]
[15482,"BT363",0,{"$f":"IFERROR(IF(INDEX(HAMARA!I:I,MATCH(B3623,HAMARA!E:E,0))=0,\"\",INDEX(HAMARA!I:I,MATCH(B3623,HAMARA!E:E,0))),\"\")","v":""}]
[15482,"BT406",0,{"$f":"IFERROR(IF(INDEX(HAMARA!I:I,MATCH(B3624,HAMARA!E:E,0))=0,\"\",INDEX(HAMARA!I:I,MATCH(B3624,HAMARA!E:E,0))),\"\")","v":""}]
[15482,"BT623",0,{"$f":"IFERROR(IF(INDEX(HAMARA!I:I,MATCH(B3625,HAMARA!E:E,0))=0,\"\",INDEX(HAMARA!I:I,MATCH(B3625,HAMARA!E:E,0))),\"\")","v":""}]
[15482,"BT366",0,{"$f":"IFERROR(IF(INDEX(HAMARA!I:I,MATCH(B3626,HAMARA!E:E,0))=0,\"\",INDEX(HAMARA!I:I,MATCH(B3626,HAMARA!E:E,0))),\"\")","v":""}]
[15482,"BT367",0,{"$f":"IFERROR(IF(INDEX(HAMARA!I:I,MATCH(B3627,HAMARA!E:E,0))=0,\"\",INDEX(HAMARA!I:I,MATCH(B3627,HAMARA!E:E,0))),\"\")","v":""}]
[15482,"BT407",0,{"$f":"IFERROR(IF(INDEX(HAMARA!I:I,MATCH(B3628,HAMARA!E:E,0))=0,\"\",INDEX(HAMARA!I:I,MATCH(B3628,HAMARA!E:E,0))),\"\")","v":""}]
[15482,"BT624",0,{"$f":"IFERROR(IF(INDEX(HAMARA!I:I,MATCH(B3629,HAMARA!E:E,0))=0,\"\",INDEX(HAMARA!I:I,MATCH(B3629,HAMARA!E:E,0))),\"\")","v":""}]
[15482,"BT56",0,{"$f":"IFERROR(IF(INDEX(HAMARA!I:I,MATCH(B3630,HAMARA!E:E,0))=0,\"\",INDEX(HAMARA!I:I,MATCH(B3630,HAMARA!E:E,0))),\"\")","v":""}]
[15482,"BT701",0,{"$f":"IFERROR(IF(INDEX(HAMARA!I:I,MATCH(B3631,HAMARA!E:E,0))=0,\"\",INDEX(HAMARA!I:I,MATCH(B3631,HAMARA!E:E,0))),\"\")","v":""}]
[15482,"BT702",0,{"$f":"IFERROR(IF(INDEX(HAMARA!I:I,MATCH(B3632,HAMARA!E:E,0))=0,\"\",INDEX(HAMARA!I:I,MATCH(B3632,HAMARA!E:E,0))),\"\")","v":""}]
[15482,"BT703",0,{"$f":"IFERROR(IF(INDEX(HAMARA!I:I,MATCH(B3633,HAMARA!E:E,0))=0,\"\",INDEX(HAMARA!I:I,MATCH(B3633,HAMARA!E:E,0))),\"\")","v":""}]
[15482,"BT704",0,{"$f":"IFERROR(IF(INDEX(HAMARA!I:I,MATCH(B3634,HAMARA!E:E,0))=0,\"\",INDEX(HAMARA!I:I,MATCH(B3634,HAMARA!E:E,0))),\"\")","v":""}]
[15482,"BT70",0,{"$f":"IFERROR(IF(INDEX(HAMARA!I:I,MATCH(B3635,HAMARA!E:E,0))=0,\"\",INDEX(HAMARA!I:I,MATCH(B3635,HAMARA!E:E,0))),\"\")","v":""}]
[15482,"BT466",0,{"$f":"IFERROR(IF(INDEX(HAMARA!I:I,MATCH(B3636,HAMARA!E:E,0))=0,\"\",INDEX(HAMARA!I:I,MATCH(B3636,HAMARA!E:E,0))),\"\")","v":""}]
[15482,"BT225",0,{"$f":"IFERROR(IF(INDEX(HAMARA!I:I,MATCH(B3637,HAMARA!E:E,0))=0,\"\",INDEX(HAMARA!I:I,MATCH(B3637,HAMARA!E:E,0))),\"\")","v":""}]
[15482,"BT69",0,{"$f":"IFERROR(IF(INDEX(HAMARA!I:I,MATCH(B3638,HAMARA!E:E,0))=0,\"\",INDEX(HAMARA!I:I,MATCH(B3638,HAMARA!E:E,0))),\"\")","v":""}]
[15482,"BT118",0,{"$f":"IFERROR(IF(INDEX(HAMARA!I:I,MATCH(B3639,HAMARA!E:E,0))=0,\"\",INDEX(HAMARA!I:I,MATCH(B3639,HAMARA!E:E,0))),\"\")","v":""}]
[15482,"BT467",0,{"$f":"IFERROR(IF(INDEX(HAMARA!I:I,MATCH(B3640,HAMARA!E:E,0))=0,\"\",INDEX(HAMARA!I:I,MATCH(B3640,HAMARA!E:E,0))),\"\")","v":""}]
[15482,"BT226",0,{"$f":"IFERROR(IF(INDEX(HAMARA!I:I,MATCH(B3641,HAMARA!E:E,0))=0,\"\",INDEX(HAMARA!I:I,MATCH(B3641,HAMARA!E:E,0))),\"\")","v":""}]
[15482,"BT117",0,{"$f":"IFERROR(IF(INDEX(HAMARA!I:I,MATCH(B3642,HAMARA!E:E,0))=0,\"\",INDEX(HAMARA!I:I,MATCH(B3642,HAMARA!E:E,0))),\"\")","v":""}]
[15482,"BT48",0,{"$f":"IFERROR(IF(INDEX(HAMARA!I:I,MATCH(B3643,HAMARA!E:E,0))=0,\"\",INDEX(HAMARA!I:I,MATCH(B3643,HAMARA!E:E,0))),\"\")","v":""}]
[15482,"BT439",0,{"$f":"IFERROR(IF(INDEX(HAMARA!I:I,MATCH(B3644,HAMARA!E:E,0))=0,\"\",INDEX(HAMARA!I:I,MATCH(B3644,HAMARA!E:E,0))),\"\")","v":""}]
[15482,"BT211",0,{"$f":"IFERROR(IF(INDEX(HAMARA!I:I,MATCH(B3645,HAMARA!E:E,0))=0,\"\",INDEX(HAMARA!I:I,MATCH(B3645,HAMARA!E:E,0))),\"\")","v":""}]
[15482,"BT440",0,{"$f":"IFERROR(IF(INDEX(HAMARA!I:I,MATCH(B3646,HAMARA!E:E,0))=0,\"\",INDEX(HAMARA!I:I,MATCH(B3646,HAMARA!E:E,0))),\"\")","v":""}]
[15482,"BT49",0,{"$f":"IFERROR(IF(INDEX(HAMARA!I:I,MATCH(B3647,HAMARA!E:E,0))=0,\"\",INDEX(HAMARA!I:I,MATCH(B3647,HAMARA!E:E,0))),\"\")","v":""}]
[15482,"BT441",0,{"$f":"IFERROR(IF(INDEX(HAMARA!I:I,MATCH(B3648,HAMARA!E:E,0))=0,\"\",INDEX(HAMARA!I:I,MATCH(B3648,HAMARA!E:E,0))),\"\")","v":""}]
[15482,"BT442",0,{"$f":"IFERROR(IF(INDEX(HAMARA!I:I,MATCH(B3649,HAMARA!E:E,0))=0,\"\",INDEX(HAMARA!I:I,MATCH(B3649,HAMARA!E:E,0))),\"\")","v":""}]
[15482,"BT443",0,{"$f":"IFERROR(IF(INDEX(HAMARA!I:I,MATCH(B3650,HAMARA!E:E,0))=0,\"\",INDEX(HAMARA!I:I,MATCH(B3650,HAMARA!E:E,0))),\"\")","v":""}]
[15482,"BT444",0,{"$f":"IFERROR(IF(INDEX(HAMARA!I:I,MATCH(B3651,HAMARA!E:E,0))=0,\"\",INDEX(HAMARA!I:I,MATCH(B3651,HAMARA!E:E,0))),\"\")","v":""}]
[15482,"BT445",0,{"$f":"IFERROR(IF(INDEX(HAMARA!I:I,MATCH(B3652,HAMARA!E:E,0))=0,\"\",INDEX(HAMARA!I:I,MATCH(B3652,HAMARA!E:E,0))),\"\")","v":""}]
[15482,"BT212",0,{"$f":"IFERROR(IF(INDEX(HAMARA!I:I,MATCH(B3653,HAMARA!E:E,0))=0,\"\",INDEX(HAMARA!I:I,MATCH(B3653,HAMARA!E:E,0))),\"\")","v":""}]
[15482,"BT446",0,{"$f":"IFERROR(IF(INDEX(HAMARA!I:I,MATCH(B3654,HAMARA!E:E,0))=0,\"\",INDEX(HAMARA!I:I,MATCH(B3654,HAMARA!E:E,0))),\"\")","v":""}]
[15482,"BT447",0,{"$f":"IFERROR(IF(INDEX(HAMARA!I:I,MATCH(B3655,HAMARA!E:E,0))=0,\"\",INDEX(HAMARA!I:I,MATCH(B3655,HAMARA!E:E,0))),\"\")","v":""}]
[15482,"BT448",0,{"$f":"IFERROR(IF(INDEX(HAMARA!I:I,MATCH(B3656,HAMARA!E:E,0))=0,\"\",INDEX(HAMARA!I:I,MATCH(B3656,HAMARA!E:E,0))),\"\")","v":""}]
[15482,"BT449",0,{"$f":"IFERROR(IF(INDEX(HAMARA!I:I,MATCH(B3657,HAMARA!E:E,0))=0,\"\",INDEX(HAMARA!I:I,MATCH(B3657,HAMARA!E:E,0))),\"\")","v":""}]
[15482,"BT468",0,{"$f":"IFERROR(IF(INDEX(HAMARA!I:I,MATCH(B3658,HAMARA!E:E,0))=0,\"\",INDEX(HAMARA!I:I,MATCH(B3658,HAMARA!E:E,0))),\"\")","v":""}]
[15482,"BT469",0,{"$f":"IFERROR(IF(INDEX(HAMARA!I:I,MATCH(B3659,HAMARA!E:E,0))=0,\"\",INDEX(HAMARA!I:I,MATCH(B3659,HAMARA!E:E,0))),\"\")","v":""}]
[15482,"BT175",0,{"$f":"IFERROR(IF(INDEX(HAMARA!I:I,MATCH(B3660,HAMARA!E:E,0))=0,\"\",INDEX(HAMARA!I:I,MATCH(B3660,HAMARA!E:E,0))),\"\")","v":""}]
[15482,"BT208",0,{"$f":"IFERROR(IF(INDEX(HAMARA!I:I,MATCH(B3661,HAMARA!E:E,0))=0,\"\",INDEX(HAMARA!I:I,MATCH(B3661,HAMARA!E:E,0))),\"\")","v":""}]
[15482,"BT176",0,{"$f":"IFERROR(IF(INDEX(HAMARA!I:I,MATCH(B3662,HAMARA!E:E,0))=0,\"\",INDEX(HAMARA!I:I,MATCH(B3662,HAMARA!E:E,0))),\"\")","v":""}]
[15482,"BT209",0,{"$f":"IFERROR(IF(INDEX(HAMARA!I:I,MATCH(B3663,HAMARA!E:E,0))=0,\"\",INDEX(HAMARA!I:I,MATCH(B3663,HAMARA!E:E,0))),\"\")","v":""}]
[15482,"BT177",0,{"$f":"IFERROR(IF(INDEX(HAMARA!I:I,MATCH(B3664,HAMARA!E:E,0))=0,\"\",INDEX(HAMARA!I:I,MATCH(B3664,HAMARA!E:E,0))),\"\")","v":""}]
[15482,"BT210",0,{"$f":"IFERROR(IF(INDEX(HAMARA!I:I,MATCH(B3665,HAMARA!E:E,0))=0,\"\",INDEX(HAMARA!I:I,MATCH(B3665,HAMARA!E:E,0))),\"\")","v":""}]
[15482,"BT472",0,{"$f":"IFERROR(IF(INDEX(HAMARA!I:I,MATCH(B3666,HAMARA!E:E,0))=0,\"\",INDEX(HAMARA!I:I,MATCH(B3666,HAMARA!E:E,0))),\"\")","v":""}]
[15482,"BT470",0,{"$f":"IFERROR(IF(INDEX(HAMARA!I:I,MATCH(B3667,HAMARA!E:E,0))=0,\"\",INDEX(HAMARA!I:I,MATCH(B3667,HAMARA!E:E,0))),\"\")","v":""}]
[15482,"BT345",0,{"$f":"IFERROR(IF(INDEX(HAMARA!I:I,MATCH(B3668,HAMARA!E:E,0))=0,\"\",INDEX(HAMARA!I:I,MATCH(B3668,HAMARA!E:E,0))),\"\")","v":""}]
[15482,"BT347",0,{"$f":"IFERROR(IF(INDEX(HAMARA!I:I,MATCH(B3669,HAMARA!E:E,0))=0,\"\",INDEX(HAMARA!I:I,MATCH(B3669,HAMARA!E:E,0))),\"\")","v":""}]
[15482,"BT625",0,{"$f":"IFERROR(IF(INDEX(HAMARA!I:I,MATCH(B3670,HAMARA!E:E,0))=0,\"\",INDEX(HAMARA!I:I,MATCH(B3670,HAMARA!E:E,0))),\"\")","v":""}]
[15482,"BT626",0,{"$f":"IFERROR(IF(INDEX(HAMARA!I:I,MATCH(B3671,HAMARA!E:E,0))=0,\"\",INDEX(HAMARA!I:I,MATCH(B3671,HAMARA!E:E,0))),\"\")","v":""}]
[15482,"BT471",0,{"$f":"IFERROR(IF(INDEX(HAMARA!I:I,MATCH(B3672,HAMARA!E:E,0))=0,\"\",INDEX(HAMARA!I:I,MATCH(B3672,HAMARA!E:E,0))),\"\")","v":""}]
[15482,"BT473",0,{"$f":"IFERROR(IF(INDEX(HAMARA!I:I,MATCH(B3673,HAMARA!E:E,0))=0,\"\",INDEX(HAMARA!I:I,MATCH(B3673,HAMARA!E:E,0))),\"\")","v":""}]
[15482,"BT346",0,{"$f":"IFERROR(IF(INDEX(HAMARA!I:I,MATCH(B3674,HAMARA!E:E,0))=0,\"\",INDEX(HAMARA!I:I,MATCH(B3674,HAMARA!E:E,0))),\"\")","v":""}]
[15482,"BT348",0,{"$f":"IFERROR(IF(INDEX(HAMARA!I:I,MATCH(B3675,HAMARA!E:E,0))=0,\"\",INDEX(HAMARA!I:I,MATCH(B3675,HAMARA!E:E,0))),\"\")","v":""}]
[15482,"BT213",0,{"$f":"IFERROR(IF(INDEX(HAMARA!I:I,MATCH(B3676,HAMARA!E:E,0))=0,\"\",INDEX(HAMARA!I:I,MATCH(B3676,HAMARA!E:E,0))),\"\")","v":""}]
[15482,"BT217",0,{"$f":"IFERROR(IF(INDEX(HAMARA!I:I,MATCH(B3677,HAMARA!E:E,0))=0,\"\",INDEX(HAMARA!I:I,MATCH(B3677,HAMARA!E:E,0))),\"\")","v":""}]
[15482,"BT214",0,{"$f":"IFERROR(IF(INDEX(HAMARA!I:I,MATCH(B3678,HAMARA!E:E,0))=0,\"\",INDEX(HAMARA!I:I,MATCH(B3678,HAMARA!E:E,0))),\"\")","v":""}]
[15482,"BT218",0,{"$f":"IFERROR(IF(INDEX(HAMARA!I:I,MATCH(B3679,HAMARA!E:E,0))=0,\"\",INDEX(HAMARA!I:I,MATCH(B3679,HAMARA!E:E,0))),\"\")","v":""}]
[15482,"BT215",0,{"$f":"IFERROR(IF(INDEX(HAMARA!I:I,MATCH(B3680,HAMARA!E:E,0))=0,\"\",INDEX(HAMARA!I:I,MATCH(B3680,HAMARA!E:E,0))),\"\")","v":""}]
[15482,"BT219",0,{"$f":"IFERROR(IF(INDEX(HAMARA!I:I,MATCH(B3681,HAMARA!E:E,0))=0,\"\",INDEX(HAMARA!I:I,MATCH(B3681,HAMARA!E:E,0))),\"\")","v":""}]
[15482,"BT216",0,{"$f":"IFERROR(IF(INDEX(HAMARA!I:I,MATCH(B3682,HAMARA!E:E,0))=0,\"\",INDEX(HAMARA!I:I,MATCH(B3682,HAMARA!E:E,0))),\"\")","v":""}]
[15482,"BT220",0,{"$f":"IFERROR(IF(INDEX(HAMARA!I:I,MATCH(B3683,HAMARA!E:E,0))=0,\"\",INDEX(HAMARA!I:I,MATCH(B3683,HAMARA!E:E,0))),\"\")","v":""}]
[15482,"BT474",0,{"$f":"IFERROR(IF(INDEX(HAMARA!I:I,MATCH(B3684,HAMARA!E:E,0))=0,\"\",INDEX(HAMARA!I:I,MATCH(B3684,HAMARA!E:E,0))),\"\")","v":""}]
[15482,"BT475",0,{"$f":"IFERROR(IF(INDEX(HAMARA!I:I,MATCH(B3685,HAMARA!E:E,0))=0,\"\",INDEX(HAMARA!I:I,MATCH(B3685,HAMARA!E:E,0))),\"\")","v":""}]
[15482,"BT476",0,{"$f":"IFERROR(IF(INDEX(HAMARA!I:I,MATCH(B3686,HAMARA!E:E,0))=0,\"\",INDEX(HAMARA!I:I,MATCH(B3686,HAMARA!E:E,0))),\"\")","v":""}]
[15482,"BT481",0,{"$f":"IFERROR(IF(INDEX(HAMARA!I:I,MATCH(B3687,HAMARA!E:E,0))=0,\"\",INDEX(HAMARA!I:I,MATCH(B3687,HAMARA!E:E,0))),\"\")","v":""}]
[15482,"BT477",0,{"$f":"IFERROR(IF(INDEX(HAMARA!I:I,MATCH(B3688,HAMARA!E:E,0))=0,\"\",INDEX(HAMARA!I:I,MATCH(B3688,HAMARA!E:E,0))),\"\")","v":""}]
[15482,"BT482",0,{"$f":"IFERROR(IF(INDEX(HAMARA!I:I,MATCH(B3689,HAMARA!E:E,0))=0,\"\",INDEX(HAMARA!I:I,MATCH(B3689,HAMARA!E:E,0))),\"\")","v":""}]
[15482,"BT478",0,{"$f":"IFERROR(IF(INDEX(HAMARA!I:I,MATCH(B3690,HAMARA!E:E,0))=0,\"\",INDEX(HAMARA!I:I,MATCH(B3690,HAMARA!E:E,0))),\"\")","v":""}]
[15482,"BT483",0,{"$f":"IFERROR(IF(INDEX(HAMARA!I:I,MATCH(B3691,HAMARA!E:E,0))=0,\"\",INDEX(HAMARA!I:I,MATCH(B3691,HAMARA!E:E,0))),\"\")","v":""}]
[15482,"BT479",0,{"$f":"IFERROR(IF(INDEX(HAMARA!I:I,MATCH(B3692,HAMARA!E:E,0))=0,\"\",INDEX(HAMARA!I:I,MATCH(B3692,HAMARA!E:E,0))),\"\")","v":""}]
[15482,"BT484",0,{"$f":"IFERROR(IF(INDEX(HAMARA!I:I,MATCH(B3693,HAMARA!E:E,0))=0,\"\",INDEX(HAMARA!I:I,MATCH(B3693,HAMARA!E:E,0))),\"\")","v":""}]
[15482,"BT480",0,{"$f":"IFERROR(IF(INDEX(HAMARA!I:I,MATCH(B3694,HAMARA!E:E,0))=0,\"\",INDEX(HAMARA!I:I,MATCH(B3694,HAMARA!E:E,0))),\"\")","v":""}]
[15482,"BT485",0,{"$f":"IFERROR(IF(INDEX(HAMARA!I:I,MATCH(B3695,HAMARA!E:E,0))=0,\"\",INDEX(HAMARA!I:I,MATCH(B3695,HAMARA!E:E,0))),\"\")","v":""}]
[15482,"BT705",0,{"$f":"IFERROR(IF(INDEX(HAMARA!I:I,MATCH(B3696,HAMARA!E:E,0))=0,\"\",INDEX(HAMARA!I:I,MATCH(B3696,HAMARA!E:E,0))),\"\")","v":""}]
[15482,"BT706",0,{"$f":"IFERROR(IF(INDEX(HAMARA!I:I,MATCH(B3697,HAMARA!E:E,0))=0,\"\",INDEX(HAMARA!I:I,MATCH(B3697,HAMARA!E:E,0))),\"\")","v":""}]
[15482,"BT707",0,{"$f":"IFERROR(IF(INDEX(HAMARA!I:I,MATCH(B3698,HAMARA!E:E,0))=0,\"\",INDEX(HAMARA!I:I,MATCH(B3698,HAMARA!E:E,0))),\"\")","v":""}]
[15482,"BT708",0,{"$f":"IFERROR(IF(INDEX(HAMARA!I:I,MATCH(B3699,HAMARA!E:E,0))=0,\"\",INDEX(HAMARA!I:I,MATCH(B3699,HAMARA!E:E,0))),\"\")","v":""}]
[15482,"BT709",0,{"$f":"IFERROR(IF(INDEX(HAMARA!I:I,MATCH(B3700,HAMARA!E:E,0))=0,\"\",INDEX(HAMARA!I:I,MATCH(B3700,HAMARA!E:E,0))),\"\")","v":""}]
[15482,"BT710",0,{"$f":"IFERROR(IF(INDEX(HAMARA!I:I,MATCH(B3701,HAMARA!E:E,0))=0,\"\",INDEX(HAMARA!I:I,MATCH(B3701,HAMARA!E:E,0))),\"\")","v":""}]
[15482,"BT711",0,{"$f":"IFERROR(IF(INDEX(HAMARA!I:I,MATCH(B3702,HAMARA!E:E,0))=0,\"\",INDEX(HAMARA!I:I,MATCH(B3702,HAMARA!E:E,0))),\"\")","v":""}]
[15482,"BT712",0,{"$f":"IFERROR(IF(INDEX(HAMARA!I:I,MATCH(B3703,HAMARA!E:E,0))=0,\"\",INDEX(HAMARA!I:I,MATCH(B3703,HAMARA!E:E,0))),\"\")","v":""}]
[15482,"BT713",0,{"$f":"IFERROR(IF(INDEX(HAMARA!I:I,MATCH(B3704,HAMARA!E:E,0))=0,\"\",INDEX(HAMARA!I:I,MATCH(B3704,HAMARA!E:E,0))),\"\")","v":""}]
[15482,"BT714",0,{"$f":"IFERROR(IF(INDEX(HAMARA!I:I,MATCH(B3705,HAMARA!E:E,0))=0,\"\",INDEX(HAMARA!I:I,MATCH(B3705,HAMARA!E:E,0))),\"\")","v":""}]
[15482,"BT715",0,{"$f":"IFERROR(IF(INDEX(HAMARA!I:I,MATCH(B3706,HAMARA!E:E,0))=0,\"\",INDEX(HAMARA!I:I,MATCH(B3706,HAMARA!E:E,0))),\"\")","v":""}]
[15482,"BT716",0,{"$f":"IFERROR(IF(INDEX(HAMARA!I:I,MATCH(B3707,HAMARA!E:E,0))=0,\"\",INDEX(HAMARA!I:I,MATCH(B3707,HAMARA!E:E,0))),\"\")","v":""}]
[15482,"BT717",0,{"$f":"IFERROR(IF(INDEX(HAMARA!I:I,MATCH(B3708,HAMARA!E:E,0))=0,\"\",INDEX(HAMARA!I:I,MATCH(B3708,HAMARA!E:E,0))),\"\")","v":""}]
[15482,"BT718",0,{"$f":"IFERROR(IF(INDEX(HAMARA!I:I,MATCH(B3709,HAMARA!E:E,0))=0,\"\",INDEX(HAMARA!I:I,MATCH(B3709,HAMARA!E:E,0))),\"\")","v":""}]
[15482,"BT719",0,{"$f":"IFERROR(IF(INDEX(HAMARA!I:I,MATCH(B3710,HAMARA!E:E,0))=0,\"\",INDEX(HAMARA!I:I,MATCH(B3710,HAMARA!E:E,0))),\"\")","v":""}]
[15482,"BT720",0,{"$f":"IFERROR(IF(INDEX(HAMARA!I:I,MATCH(B3711,HAMARA!E:E,0))=0,\"\",INDEX(HAMARA!I:I,MATCH(B3711,HAMARA!E:E,0))),\"\")","v":""}]
[15482,"BT721",0,{"$f":"IFERROR(IF(INDEX(HAMARA!I:I,MATCH(B3712,HAMARA!E:E,0))=0,\"\",INDEX(HAMARA!I:I,MATCH(B3712,HAMARA!E:E,0))),\"\")","v":""}]
[15482,"BT722",0,{"$f":"IFERROR(IF(INDEX(HAMARA!I:I,MATCH(B3713,HAMARA!E:E,0))=0,\"\",INDEX(HAMARA!I:I,MATCH(B3713,HAMARA!E:E,0))),\"\")","v":""}]
[15482,"BT723",0,{"$f":"IFERROR(IF(INDEX(HAMARA!I:I,MATCH(B3714,HAMARA!E:E,0))=0,\"\",INDEX(HAMARA!I:I,MATCH(B3714,HAMARA!E:E,0))),\"\")","v":""}]
[15482,"BT724",0,{"$f":"IFERROR(IF(INDEX(HAMARA!I:I,MATCH(B3715,HAMARA!E:E,0))=0,\"\",INDEX(HAMARA!I:I,MATCH(B3715,HAMARA!E:E,0))),\"\")","v":""}]
[15482,"BT725",0,{"$f":"IFERROR(IF(INDEX(HAMARA!I:I,MATCH(B3716,HAMARA!E:E,0))=0,\"\",INDEX(HAMARA!I:I,MATCH(B3716,HAMARA!E:E,0))),\"\")","v":""}]
[15482,"BT726",0,{"$f":"IFERROR(IF(INDEX(HAMARA!I:I,MATCH(B3717,HAMARA!E:E,0))=0,\"\",INDEX(HAMARA!I:I,MATCH(B3717,HAMARA!E:E,0))),\"\")","v":""}]
[15482,"BT646",0,{"$f":"IFERROR(IF(INDEX(HAMARA!I:I,MATCH(B3718,HAMARA!E:E,0))=0,\"\",INDEX(HAMARA!I:I,MATCH(B3718,HAMARA!E:E,0))),\"\")","v":""}]
[15482,"BT647",0,{"$f":"IFERROR(IF(INDEX(HAMARA!I:I,MATCH(B3719,HAMARA!E:E,0))=0,\"\",INDEX(HAMARA!I:I,MATCH(B3719,HAMARA!E:E,0))),\"\")","v":""}]
[15482,"BT648",0,{"$f":"IFERROR(IF(INDEX(HAMARA!I:I,MATCH(B3720,HAMARA!E:E,0))=0,\"\",INDEX(HAMARA!I:I,MATCH(B3720,HAMARA!E:E,0))),\"\")","v":""}]
[15482,"BT649",0,{"$f":"IFERROR(IF(INDEX(HAMARA!I:I,MATCH(B3721,HAMARA!E:E,0))=0,\"\",INDEX(HAMARA!I:I,MATCH(B3721,HAMARA!E:E,0))),\"\")","v":""}]
[15482,"BT650",0,{"$f":"IFERROR(IF(INDEX(HAMARA!I:I,MATCH(B3722,HAMARA!E:E,0))=0,\"\",INDEX(HAMARA!I:I,MATCH(B3722,HAMARA!E:E,0))),\"\")","v":""}]
[15482,"BT651",0,{"$f":"IFERROR(IF(INDEX(HAMARA!I:I,MATCH(B3723,HAMARA!E:E,0))=0,\"\",INDEX(HAMARA!I:I,MATCH(B3723,HAMARA!E:E,0))),\"\")","v":""}]
[15482,"BT652",0,{"$f":"IFERROR(IF(INDEX(HAMARA!I:I,MATCH(B3724,HAMARA!E:E,0))=0,\"\",INDEX(HAMARA!I:I,MATCH(B3724,HAMARA!E:E,0))),\"\")","v":""}]
[15482,"BT653",0,{"$f":"IFERROR(IF(INDEX(HAMARA!I:I,MATCH(B3725,HAMARA!E:E,0))=0,\"\",INDEX(HAMARA!I:I,MATCH(B3725,HAMARA!E:E,0))),\"\")","v":""}]
[15482,"BT654",0,{"$f":"IFERROR(IF(INDEX(HAMARA!I:I,MATCH(B3726,HAMARA!E:E,0))=0,\"\",INDEX(HAMARA!I:I,MATCH(B3726,HAMARA!E:E,0))),\"\")","v":""}]
[15482,"BT655",0,{"$f":"IFERROR(IF(INDEX(HAMARA!I:I,MATCH(B3727,HAMARA!E:E,0))=0,\"\",INDEX(HAMARA!I:I,MATCH(B3727,HAMARA!E:E,0))),\"\")","v":""}]
[15482,"BT656",0,{"$f":"IFERROR(IF(INDEX(HAMARA!I:I,MATCH(B3728,HAMARA!E:E,0))=0,\"\",INDEX(HAMARA!I:I,MATCH(B3728,HAMARA!E:E,0))),\"\")","v":""}]
[15482,"BT657",0,{"$f":"IFERROR(IF(INDEX(HAMARA!I:I,MATCH(B3729,HAMARA!E:E,0))=0,\"\",INDEX(HAMARA!I:I,MATCH(B3729,HAMARA!E:E,0))),\"\")","v":""}]
[15482,"BT678",0,{"$f":"IFERROR(IF(INDEX(HAMARA!I:I,MATCH(B3730,HAMARA!E:E,0))=0,\"\",INDEX(HAMARA!I:I,MATCH(B3730,HAMARA!E:E,0))),\"\")","v":""}]
[15482,"BT679",0,{"$f":"IFERROR(IF(INDEX(HAMARA!I:I,MATCH(B3731,HAMARA!E:E,0))=0,\"\",INDEX(HAMARA!I:I,MATCH(B3731,HAMARA!E:E,0))),\"\")","v":""}]
[15482,"BT680",0,{"$f":"IFERROR(IF(INDEX(HAMARA!I:I,MATCH(B3732,HAMARA!E:E,0))=0,\"\",INDEX(HAMARA!I:I,MATCH(B3732,HAMARA!E:E,0))),\"\")","v":""}]
[15482,"BT681",0,{"$f":"IFERROR(IF(INDEX(HAMARA!I:I,MATCH(B3733,HAMARA!E:E,0))=0,\"\",INDEX(HAMARA!I:I,MATCH(B3733,HAMARA!E:E,0))),\"\")","v":""}]
[15482,"BT682",0,{"$f":"IFERROR(IF(INDEX(HAMARA!I:I,MATCH(B3734,HAMARA!E:E,0))=0,\"\",INDEX(HAMARA!I:I,MATCH(B3734,HAMARA!E:E,0))),\"\")","v":""}]
[15482,"BT683",0,{"$f":"IFERROR(IF(INDEX(HAMARA!I:I,MATCH(B3735,HAMARA!E:E,0))=0,\"\",INDEX(HAMARA!I:I,MATCH(B3735,HAMARA!E:E,0))),\"\")","v":""}]
[15482,"BT658",0,{"$f":"IFERROR(IF(INDEX(HAMARA!I:I,MATCH(B3736,HAMARA!E:E,0))=0,\"\",INDEX(HAMARA!I:I,MATCH(B3736,HAMARA!E:E,0))),\"\")","v":""}]
[15482,"BT659",0,{"$f":"IFERROR(IF(INDEX(HAMARA!I:I,MATCH(B3737,HAMARA!E:E,0))=0,\"\",INDEX(HAMARA!I:I,MATCH(B3737,HAMARA!E:E,0))),\"\")","v":""}]
[15482,"BT660",0,{"$f":"IFERROR(IF(INDEX(HAMARA!I:I,MATCH(B3738,HAMARA!E:E,0))=0,\"\",INDEX(HAMARA!I:I,MATCH(B3738,HAMARA!E:E,0))),\"\")","v":""}]
[15482,"BT661",0,{"$f":"IFERROR(IF(INDEX(HAMARA!I:I,MATCH(B3739,HAMARA!E:E,0))=0,\"\",INDEX(HAMARA!I:I,MATCH(B3739,HAMARA!E:E,0))),\"\")","v":""}]
[15482,"BT727",0,{"$f":"IFERROR(IF(INDEX(HAMARA!I:I,MATCH(B3740,HAMARA!E:E,0))=0,\"\",INDEX(HAMARA!I:I,MATCH(B3740,HAMARA!E:E,0))),\"\")","v":""}]
[15482,"BT728",0,{"$f":"IFERROR(IF(INDEX(HAMARA!I:I,MATCH(B3741,HAMARA!E:E,0))=0,\"\",INDEX(HAMARA!I:I,MATCH(B3741,HAMARA!E:E,0))),\"\")","v":""}]
[15482,"BT729",0,{"$f":"IFERROR(IF(INDEX(HAMARA!I:I,MATCH(B3742,HAMARA!E:E,0))=0,\"\",INDEX(HAMARA!I:I,MATCH(B3742,HAMARA!E:E,0))),\"\")","v":""}]
[15482,"BT730",0,{"$f":"IFERROR(IF(INDEX(HAMARA!I:I,MATCH(B3743,HAMARA!E:E,0))=0,\"\",INDEX(HAMARA!I:I,MATCH(B3743,HAMARA!E:E,0))),\"\")","v":""}]
[15482,"BT731",0,{"$f":"IFERROR(IF(INDEX(HAMARA!I:I,MATCH(B3744,HAMARA!E:E,0))=0,\"\",INDEX(HAMARA!I:I,MATCH(B3744,HAMARA!E:E,0))),\"\")","v":""}]
[15482,"BT732",0,{"$f":"IFERROR(IF(INDEX(HAMARA!I:I,MATCH(B3745,HAMARA!E:E,0))=0,\"\",INDEX(HAMARA!I:I,MATCH(B3745,HAMARA!E:E,0))),\"\")","v":""}]
[15482,"BT733",0,{"$f":"IFERROR(IF(INDEX(HAMARA!I:I,MATCH(B3746,HAMARA!E:E,0))=0,\"\",INDEX(HAMARA!I:I,MATCH(B3746,HAMARA!E:E,0))),\"\")","v":""}]
[15482,"BT734",0,{"$f":"IFERROR(IF(INDEX(HAMARA!I:I,MATCH(B3747,HAMARA!E:E,0))=0,\"\",INDEX(HAMARA!I:I,MATCH(B3747,HAMARA!E:E,0))),\"\")","v":""}]
[15482,"BT735",0,{"$f":"IFERROR(IF(INDEX(HAMARA!I:I,MATCH(B3748,HAMARA!E:E,0))=0,\"\",INDEX(HAMARA!I:I,MATCH(B3748,HAMARA!E:E,0))),\"\")","v":""}]
[15482,"BT736",0,{"$f":"IFERROR(IF(INDEX(HAMARA!I:I,MATCH(B3749,HAMARA!E:E,0))=0,\"\",INDEX(HAMARA!I:I,MATCH(B3749,HAMARA!E:E,0))),\"\")","v":""}]
[15482,"BT737",0,{"$f":"IFERROR(IF(INDEX(HAMARA!I:I,MATCH(B3750,HAMARA!E:E,0))=0,\"\",INDEX(HAMARA!I:I,MATCH(B3750,HAMARA!E:E,0))),\"\")","v":""}]
[15482,"BT738",0,{"$f":"IFERROR(IF(INDEX(HAMARA!I:I,MATCH(B3751,HAMARA!E:E,0))=0,\"\",INDEX(HAMARA!I:I,MATCH(B3751,HAMARA!E:E,0))),\"\")","v":""}]
[15482,"BT739",0,{"$f":"IFERROR(IF(INDEX(HAMARA!I:I,MATCH(B3752,HAMARA!E:E,0))=0,\"\",INDEX(HAMARA!I:I,MATCH(B3752,HAMARA!E:E,0))),\"\")","v":""}]
[15482,"BT740",0,{"$f":"IFERROR(IF(INDEX(HAMARA!I:I,MATCH(B3753,HAMARA!E:E,0))=0,\"\",INDEX(HAMARA!I:I,MATCH(B3753,HAMARA!E:E,0))),\"\")","v":""}]
[15482,"BT741",0,{"$f":"IFERROR(IF(INDEX(HAMARA!I:I,MATCH(B3754,HAMARA!E:E,0))=0,\"\",INDEX(HAMARA!I:I,MATCH(B3754,HAMARA!E:E,0))),\"\")","v":""}]
[15482,"BT742",0,{"$f":"IFERROR(IF(INDEX(HAMARA!I:I,MATCH(B3755,HAMARA!E:E,0))=0,\"\",INDEX(HAMARA!I:I,MATCH(B3755,HAMARA!E:E,0))),\"\")","v":""}]
[15482,"BT743",0,{"$f":"IFERROR(IF(INDEX(HAMARA!I:I,MATCH(B3756,HAMARA!E:E,0))=0,\"\",INDEX(HAMARA!I:I,MATCH(B3756,HAMARA!E:E,0))),\"\")","v":""}]
[15482,"BT744",0,{"$f":"IFERROR(IF(INDEX(HAMARA!I:I,MATCH(B3757,HAMARA!E:E,0))=0,\"\",INDEX(HAMARA!I:I,MATCH(B3757,HAMARA!E:E,0))),\"\")","v":""}]
[15482,"BT745",0,{"$f":"IFERROR(IF(INDEX(HAMARA!I:I,MATCH(B3758,HAMARA!E:E,0))=0,\"\",INDEX(HAMARA!I:I,MATCH(B3758,HAMARA!E:E,0))),\"\")","v":""}]
[15482,"BT746",0,{"$f":"IFERROR(IF(INDEX(HAMARA!I:I,MATCH(B3759,HAMARA!E:E,0))=0,\"\",INDEX(HAMARA!I:I,MATCH(B3759,HAMARA!E:E,0))),\"\")","v":""}]
[15482,"BT747",0,{"$f":"IFERROR(IF(INDEX(HAMARA!I:I,MATCH(B3760,HAMARA!E:E,0))=0,\"\",INDEX(HAMARA!I:I,MATCH(B3760,HAMARA!E:E,0))),\"\")","v":""}]
[15482,"BT748",0,{"$f":"IFERROR(IF(INDEX(HAMARA!I:I,MATCH(B3761,HAMARA!E:E,0))=0,\"\",INDEX(HAMARA!I:I,MATCH(B3761,HAMARA!E:E,0))),\"\")","v":""}]
[15482,"BT662",0,{"$f":"IFERROR(IF(INDEX(HAMARA!I:I,MATCH(B3762,HAMARA!E:E,0))=0,\"\",INDEX(HAMARA!I:I,MATCH(B3762,HAMARA!E:E,0))),\"\")","v":""}]
[15482,"BT663",0,{"$f":"IFERROR(IF(INDEX(HAMARA!I:I,MATCH(B3763,HAMARA!E:E,0))=0,\"\",INDEX(HAMARA!I:I,MATCH(B3763,HAMARA!E:E,0))),\"\")","v":""}]
[15482,"BT664",0,{"$f":"IFERROR(IF(INDEX(HAMARA!I:I,MATCH(B3764,HAMARA!E:E,0))=0,\"\",INDEX(HAMARA!I:I,MATCH(B3764,HAMARA!E:E,0))),\"\")","v":""}]
[15482,"BT665",0,{"$f":"IFERROR(IF(INDEX(HAMARA!I:I,MATCH(B3765,HAMARA!E:E,0))=0,\"\",INDEX(HAMARA!I:I,MATCH(B3765,HAMARA!E:E,0))),\"\")","v":""}]
[15482,"BT666",0,{"$f":"IFERROR(IF(INDEX(HAMARA!I:I,MATCH(B3766,HAMARA!E:E,0))=0,\"\",INDEX(HAMARA!I:I,MATCH(B3766,HAMARA!E:E,0))),\"\")","v":""}]
[15482,"BT667",0,{"$f":"IFERROR(IF(INDEX(HAMARA!I:I,MATCH(B3767,HAMARA!E:E,0))=0,\"\",INDEX(HAMARA!I:I,MATCH(B3767,HAMARA!E:E,0))),\"\")","v":""}]
[15482,"BT668",0,{"$f":"IFERROR(IF(INDEX(HAMARA!I:I,MATCH(B3768,HAMARA!E:E,0))=0,\"\",INDEX(HAMARA!I:I,MATCH(B3768,HAMARA!E:E,0))),\"\")","v":""}]
[15482,"BT669",0,{"$f":"IFERROR(IF(INDEX(HAMARA!I:I,MATCH(B3769,HAMARA!E:E,0))=0,\"\",INDEX(HAMARA!I:I,MATCH(B3769,HAMARA!E:E,0))),\"\")","v":""}]
[15482,"BT670",0,{"$f":"IFERROR(IF(INDEX(HAMARA!I:I,MATCH(B3770,HAMARA!E:E,0))=0,\"\",INDEX(HAMARA!I:I,MATCH(B3770,HAMARA!E:E,0))),\"\")","v":""}]
[15482,"BT671",0,{"$f":"IFERROR(IF(INDEX(HAMARA!I:I,MATCH(B3771,HAMARA!E:E,0))=0,\"\",INDEX(HAMARA!I:I,MATCH(B3771,HAMARA!E:E,0))),\"\")","v":""}]
[15482,"BT672",0,{"$f":"IFERROR(IF(INDEX(HAMARA!I:I,MATCH(B3772,HAMARA!E:E,0))=0,\"\",INDEX(HAMARA!I:I,MATCH(B3772,HAMARA!E:E,0))),\"\")","v":""}]
[15482,"BT673",0,{"$f":"IFERROR(IF(INDEX(HAMARA!I:I,MATCH(B3773,HAMARA!E:E,0))=0,\"\",INDEX(HAMARA!I:I,MATCH(B3773,HAMARA!E:E,0))),\"\")","v":""}]
[15482,"BT684",0,{"$f":"IFERROR(IF(INDEX(HAMARA!I:I,MATCH(B3774,HAMARA!E:E,0))=0,\"\",INDEX(HAMARA!I:I,MATCH(B3774,HAMARA!E:E,0))),\"\")","v":""}]
[15482,"BT685",0,{"$f":"IFERROR(IF(INDEX(HAMARA!I:I,MATCH(B3775,HAMARA!E:E,0))=0,\"\",INDEX(HAMARA!I:I,MATCH(B3775,HAMARA!E:E,0))),\"\")","v":""}]
[15482,"BT686",0,{"$f":"IFERROR(IF(INDEX(HAMARA!I:I,MATCH(B3776,HAMARA!E:E,0))=0,\"\",INDEX(HAMARA!I:I,MATCH(B3776,HAMARA!E:E,0))),\"\")","v":""}]
[15482,"BT687",0,{"$f":"IFERROR(IF(INDEX(HAMARA!I:I,MATCH(B3777,HAMARA!E:E,0))=0,\"\",INDEX(HAMARA!I:I,MATCH(B3777,HAMARA!E:E,0))),\"\")","v":""}]
[15482,"BT688",0,{"$f":"IFERROR(IF(INDEX(HAMARA!I:I,MATCH(B3778,HAMARA!E:E,0))=0,\"\",INDEX(HAMARA!I:I,MATCH(B3778,HAMARA!E:E,0))),\"\")","v":""}]
[15482,"BT689",0,{"$f":"IFERROR(IF(INDEX(HAMARA!I:I,MATCH(B3779,HAMARA!E:E,0))=0,\"\",INDEX(HAMARA!I:I,MATCH(B3779,HAMARA!E:E,0))),\"\")","v":""}]
[15482,"BT674",0,{"$f":"IFERROR(IF(INDEX(HAMARA!I:I,MATCH(B3780,HAMARA!E:E,0))=0,\"\",INDEX(HAMARA!I:I,MATCH(B3780,HAMARA!E:E,0))),\"\")","v":""}]
[15482,"BT675",0,{"$f":"IFERROR(IF(INDEX(HAMARA!I:I,MATCH(B3781,HAMARA!E:E,0))=0,\"\",INDEX(HAMARA!I:I,MATCH(B3781,HAMARA!E:E,0))),\"\")","v":""}]
[15482,"BT676",0,{"$f":"IFERROR(IF(INDEX(HAMARA!I:I,MATCH(B3782,HAMARA!E:E,0))=0,\"\",INDEX(HAMARA!I:I,MATCH(B3782,HAMARA!E:E,0))),\"\")","v":""}]
[15482,"BT677",0,{"$f":"IFERROR(IF(INDEX(HAMARA!I:I,MATCH(B3783,HAMARA!E:E,0))=0,\"\",INDEX(HAMARA!I:I,MATCH(B3783,HAMARA!E:E,0))),\"\")","v":""}]
[15482,"BT62",0,{"$f":"IFERROR(IF(INDEX(HAMARA!I:I,MATCH(B3784,HAMARA!E:E,0))=0,\"\",INDEX(HAMARA!I:I,MATCH(B3784,HAMARA!E:E,0))),\"\")","v":""}]
[15482,"BT502",0,{"$f":"IFERROR(IF(INDEX(HAMARA!I:I,MATCH(B3785,HAMARA!E:E,0))=0,\"\",INDEX(HAMARA!I:I,MATCH(B3785,HAMARA!E:E,0))),\"\")","v":""}]
[15482,"BT503",0,{"$f":"IFERROR(IF(INDEX(HAMARA!I:I,MATCH(B3786,HAMARA!E:E,0))=0,\"\",INDEX(HAMARA!I:I,MATCH(B3786,HAMARA!E:E,0))),\"\")","v":""}]
[15482,"BT450",0,{"$f":"IFERROR(IF(INDEX(HAMARA!I:I,MATCH(B3787,HAMARA!E:E,0))=0,\"\",INDEX(HAMARA!I:I,MATCH(B3787,HAMARA!E:E,0))),\"\")","v":""}]
[15482,"BT504",0,{"$f":"IFERROR(IF(INDEX(HAMARA!I:I,MATCH(B3788,HAMARA!E:E,0))=0,\"\",INDEX(HAMARA!I:I,MATCH(B3788,HAMARA!E:E,0))),\"\")","v":""}]
[15482,"BT505",0,{"$f":"IFERROR(IF(INDEX(HAMARA!I:I,MATCH(B3789,HAMARA!E:E,0))=0,\"\",INDEX(HAMARA!I:I,MATCH(B3789,HAMARA!E:E,0))),\"\")","v":""}]
[15482,"BT451",0,{"$f":"IFERROR(IF(INDEX(HAMARA!I:I,MATCH(B3790,HAMARA!E:E,0))=0,\"\",INDEX(HAMARA!I:I,MATCH(B3790,HAMARA!E:E,0))),\"\")","v":""}]
[15482,"BT506",0,{"$f":"IFERROR(IF(INDEX(HAMARA!I:I,MATCH(B3791,HAMARA!E:E,0))=0,\"\",INDEX(HAMARA!I:I,MATCH(B3791,HAMARA!E:E,0))),\"\")","v":""}]
[15482,"BT627",0,{"$f":"IFERROR(IF(INDEX(HAMARA!I:I,MATCH(B3792,HAMARA!E:E,0))=0,\"\",INDEX(HAMARA!I:I,MATCH(B3792,HAMARA!E:E,0))),\"\")","v":""}]
[15482,"BT507",0,{"$f":"IFERROR(IF(INDEX(HAMARA!I:I,MATCH(B3793,HAMARA!E:E,0))=0,\"\",INDEX(HAMARA!I:I,MATCH(B3793,HAMARA!E:E,0))),\"\")","v":""}]
[15482,"BT577",0,{"$f":"IFERROR(IF(INDEX(HAMARA!I:I,MATCH(B3794,HAMARA!E:E,0))=0,\"\",INDEX(HAMARA!I:I,MATCH(B3794,HAMARA!E:E,0))),\"\")","v":""}]
[15482,"BT508",0,{"$f":"IFERROR(IF(INDEX(HAMARA!I:I,MATCH(B3795,HAMARA!E:E,0))=0,\"\",INDEX(HAMARA!I:I,MATCH(B3795,HAMARA!E:E,0))),\"\")","v":""}]
[15482,"BT509",0,{"$f":"IFERROR(IF(INDEX(HAMARA!I:I,MATCH(B3796,HAMARA!E:E,0))=0,\"\",INDEX(HAMARA!I:I,MATCH(B3796,HAMARA!E:E,0))),\"\")","v":""}]
[15482,"BT511",0,{"$f":"IFERROR(IF(INDEX(HAMARA!I:I,MATCH(B3797,HAMARA!E:E,0))=0,\"\",INDEX(HAMARA!I:I,MATCH(B3797,HAMARA!E:E,0))),\"\")","v":""}]
[15482,"BT452",0,{"$f":"IFERROR(IF(INDEX(HAMARA!I:I,MATCH(B3798,HAMARA!E:E,0))=0,\"\",INDEX(HAMARA!I:I,MATCH(B3798,HAMARA!E:E,0))),\"\")","v":""}]
[15482,"BT512",0,{"$f":"IFERROR(IF(INDEX(HAMARA!I:I,MATCH(B3799,HAMARA!E:E,0))=0,\"\",INDEX(HAMARA!I:I,MATCH(B3799,HAMARA!E:E,0))),\"\")","v":""}]
[15482,"BT513",0,{"$f":"IFERROR(IF(INDEX(HAMARA!I:I,MATCH(B3800,HAMARA!E:E,0))=0,\"\",INDEX(HAMARA!I:I,MATCH(B3800,HAMARA!E:E,0))),\"\")","v":""}]
[15482,"BT514",0,{"$f":"IFERROR(IF(INDEX(HAMARA!I:I,MATCH(B3801,HAMARA!E:E,0))=0,\"\",INDEX(HAMARA!I:I,MATCH(B3801,HAMARA!E:E,0))),\"\")","v":""}]
[15482,"BT515",0,{"$f":"IFERROR(IF(INDEX(HAMARA!I:I,MATCH(B3802,HAMARA!E:E,0))=0,\"\",INDEX(HAMARA!I:I,MATCH(B3802,HAMARA!E:E,0))),\"\")","v":""}]
[15482,"BT516",0,{"$f":"IFERROR(IF(INDEX(HAMARA!I:I,MATCH(B3803,HAMARA!E:E,0))=0,\"\",INDEX(HAMARA!I:I,MATCH(B3803,HAMARA!E:E,0))),\"\")","v":""}]
[15482,"BT517",0,{"$f":"IFERROR(IF(INDEX(HAMARA!I:I,MATCH(B3804,HAMARA!E:E,0))=0,\"\",INDEX(HAMARA!I:I,MATCH(B3804,HAMARA!E:E,0))),\"\")","v":""}]
[15482,"BT518",0,{"$f":"IFERROR(IF(INDEX(HAMARA!I:I,MATCH(B3805,HAMARA!E:E,0))=0,\"\",INDEX(HAMARA!I:I,MATCH(B3805,HAMARA!E:E,0))),\"\")","v":""}]
[15482,"BT519",0,{"$f":"IFERROR(IF(INDEX(HAMARA!I:I,MATCH(B3806,HAMARA!E:E,0))=0,\"\",INDEX(HAMARA!I:I,MATCH(B3806,HAMARA!E:E,0))),\"\")","v":""}]
[15482,"BT520",0,{"$f":"IFERROR(IF(INDEX(HAMARA!I:I,MATCH(B3807,HAMARA!E:E,0))=0,\"\",INDEX(HAMARA!I:I,MATCH(B3807,HAMARA!E:E,0))),\"\")","v":""}]
[15482,"BT521",0,{"$f":"IFERROR(IF(INDEX(HAMARA!I:I,MATCH(B3808,HAMARA!E:E,0))=0,\"\",INDEX(HAMARA!I:I,MATCH(B3808,HAMARA!E:E,0))),\"\")","v":""}]
[15482,"BT522",0,{"$f":"IFERROR(IF(INDEX(HAMARA!I:I,MATCH(B3809,HAMARA!E:E,0))=0,\"\",INDEX(HAMARA!I:I,MATCH(B3809,HAMARA!E:E,0))),\"\")","v":""}]
[15482,"BT523",0,{"$f":"IFERROR(IF(INDEX(HAMARA!I:I,MATCH(B3810,HAMARA!E:E,0))=0,\"\",INDEX(HAMARA!I:I,MATCH(B3810,HAMARA!E:E,0))),\"\")","v":""}]
[15482,"BT524",0,{"$f":"IFERROR(IF(INDEX(HAMARA!I:I,MATCH(B3811,HAMARA!E:E,0))=0,\"\",INDEX(HAMARA!I:I,MATCH(B3811,HAMARA!E:E,0))),\"\")","v":""}]
[15482,"BT525",0,{"$f":"IFERROR(IF(INDEX(HAMARA!I:I,MATCH(B3812,HAMARA!E:E,0))=0,\"\",INDEX(HAMARA!I:I,MATCH(B3812,HAMARA!E:E,0))),\"\")","v":""}]
[15482,"BT526",0,{"$f":"IFERROR(IF(INDEX(HAMARA!I:I,MATCH(B3813,HAMARA!E:E,0))=0,\"\",INDEX(HAMARA!I:I,MATCH(B3813,HAMARA!E:E,0))),\"\")","v":""}]
[15482,"BT527",0,{"$f":"IFERROR(IF(INDEX(HAMARA!I:I,MATCH(B3814,HAMARA!E:E,0))=0,\"\",INDEX(HAMARA!I:I,MATCH(B3814,HAMARA!E:E,0))),\"\")","v":""}]
[15482,"BT530",0,{"$f":"IFERROR(IF(INDEX(HAMARA!I:I,MATCH(B3815,HAMARA!E:E,0))=0,\"\",INDEX(HAMARA!I:I,MATCH(B3815,HAMARA!E:E,0))),\"\")","v":""}]
[15482,"BT531",0,{"$f":"IFERROR(IF(INDEX(HAMARA!I:I,MATCH(B3816,HAMARA!E:E,0))=0,\"\",INDEX(HAMARA!I:I,MATCH(B3816,HAMARA!E:E,0))),\"\")","v":""}]
[15482,"BT532",0,{"$f":"IFERROR(IF(INDEX(HAMARA!I:I,MATCH(B3817,HAMARA!E:E,0))=0,\"\",INDEX(HAMARA!I:I,MATCH(B3817,HAMARA!E:E,0))),\"\")","v":""}]
[15482,"BT533",0,{"$f":"IFERROR(IF(INDEX(HAMARA!I:I,MATCH(B3818,HAMARA!E:E,0))=0,\"\",INDEX(HAMARA!I:I,MATCH(B3818,HAMARA!E:E,0))),\"\")","v":""}]
[15482,"BT534",0,{"$f":"IFERROR(IF(INDEX(HAMARA!I:I,MATCH(B3819,HAMARA!E:E,0))=0,\"\",INDEX(HAMARA!I:I,MATCH(B3819,HAMARA!E:E,0))),\"\")","v":""}]
[15482,"BT535",0,{"$f":"IFERROR(IF(INDEX(HAMARA!I:I,MATCH(B3820,HAMARA!E:E,0))=0,\"\",INDEX(HAMARA!I:I,MATCH(B3820,HAMARA!E:E,0))),\"\")","v":""}]
[15482,"BT536",0,{"$f":"IFERROR(IF(INDEX(HAMARA!I:I,MATCH(B3821,HAMARA!E:E,0))=0,\"\",INDEX(HAMARA!I:I,MATCH(B3821,HAMARA!E:E,0))),\"\")","v":""}]
[15482,"BT537",0,{"$f":"IFERROR(IF(INDEX(HAMARA!I:I,MATCH(B3822,HAMARA!E:E,0))=0,\"\",INDEX(HAMARA!I:I,MATCH(B3822,HAMARA!E:E,0))),\"\")","v":""}]
[15482,"BT628",0,{"$f":"IFERROR(IF(INDEX(HAMARA!I:I,MATCH(B3823,HAMARA!E:E,0))=0,\"\",INDEX(HAMARA!I:I,MATCH(B3823,HAMARA!E:E,0))),\"\")","v":""}]
[15482,"BT629",0,{"$f":"IFERROR(IF(INDEX(HAMARA!I:I,MATCH(B3824,HAMARA!E:E,0))=0,\"\",INDEX(HAMARA!I:I,MATCH(B3824,HAMARA!E:E,0))),\"\")","v":""}]
[15482,"BT630",0,{"$f":"IFERROR(IF(INDEX(HAMARA!I:I,MATCH(B3825,HAMARA!E:E,0))=0,\"\",INDEX(HAMARA!I:I,MATCH(B3825,HAMARA!E:E,0))),\"\")","v":""}]
[15482,"BT631",0,{"$f":"IFERROR(IF(INDEX(HAMARA!I:I,MATCH(B3826,HAMARA!E:E,0))=0,\"\",INDEX(HAMARA!I:I,MATCH(B3826,HAMARA!E:E,0))),\"\")","v":""}]
[15482,"BT632",0,{"$f":"IFERROR(IF(INDEX(HAMARA!I:I,MATCH(B3827,HAMARA!E:E,0))=0,\"\",INDEX(HAMARA!I:I,MATCH(B3827,HAMARA!E:E,0))),\"\")","v":""}]
[15482,"BT633",0,{"$f":"IFERROR(IF(INDEX(HAMARA!I:I,MATCH(B3828,HAMARA!E:E,0))=0,\"\",INDEX(HAMARA!I:I,MATCH(B3828,HAMARA!E:E,0))),\"\")","v":""}]
[15482,"BT162",0,{"$f":"IFERROR(IF(INDEX(HAMARA!I:I,MATCH(B3829,HAMARA!E:E,0))=0,\"\",INDEX(HAMARA!I:I,MATCH(B3829,HAMARA!E:E,0))),\"\")","v":""}]
[15482,"BT163",0,{"$f":"IFERROR(IF(INDEX(HAMARA!I:I,MATCH(B3830,HAMARA!E:E,0))=0,\"\",INDEX(HAMARA!I:I,MATCH(B3830,HAMARA!E:E,0))),\"\")","v":""}]
[15482,"BT164",0,{"$f":"IFERROR(IF(INDEX(HAMARA!I:I,MATCH(B3831,HAMARA!E:E,0))=0,\"\",INDEX(HAMARA!I:I,MATCH(B3831,HAMARA!E:E,0))),\"\")","v":""}]
[15482,"BT165",0,{"$f":"IFERROR(IF(INDEX(HAMARA!I:I,MATCH(B3832,HAMARA!E:E,0))=0,\"\",INDEX(HAMARA!I:I,MATCH(B3832,HAMARA!E:E,0))),\"\")","v":""}]
[15482,"BT180",0,{"$f":"IFERROR(IF(INDEX(HAMARA!I:I,MATCH(B3833,HAMARA!E:E,0))=0,\"\",INDEX(HAMARA!I:I,MATCH(B3833,HAMARA!E:E,0))),\"\")","v":""}]
[15482,"BT45",0,{"$f":"IFERROR(IF(INDEX(HAMARA!I:I,MATCH(B3834,HAMARA!E:E,0))=0,\"\",INDEX(HAMARA!I:I,MATCH(B3834,HAMARA!E:E,0))),\"\")","v":""}]
[15482,"BT47",0,{"$f":"IFERROR(IF(INDEX(HAMARA!I:I,MATCH(B3835,HAMARA!E:E,0))=0,\"\",INDEX(HAMARA!I:I,MATCH(B3835,HAMARA!E:E,0))),\"\")","v":""}]
[15482,"BT181",0,{"$f":"IFERROR(IF(INDEX(HAMARA!I:I,MATCH(B3836,HAMARA!E:E,0))=0,\"\",INDEX(HAMARA!I:I,MATCH(B3836,HAMARA!E:E,0))),\"\")","v":""}]
[15482,"BT228",0,{"$f":"IFERROR(IF(INDEX(HAMARA!I:I,MATCH(B3837,HAMARA!E:E,0))=0,\"\",INDEX(HAMARA!I:I,MATCH(B3837,HAMARA!E:E,0))),\"\")","v":""}]
[15482,"BT88",0,{"$f":"IFERROR(IF(INDEX(HAMARA!I:I,MATCH(B3838,HAMARA!E:E,0))=0,\"\",INDEX(HAMARA!I:I,MATCH(B3838,HAMARA!E:E,0))),\"\")","v":""}]
[15482,"BT72",0.121,{"$f":"IFERROR(IF(INDEX(HAMARA!I:I,MATCH(B3839,HAMARA!E:E,0))=0,\"\",INDEX(HAMARA!I:I,MATCH(B3839,HAMARA!E:E,0))),\"\")","v":""}]
[15482,"BT168",0,{"$f":"IFERROR(IF(INDEX(HAMARA!I:I,MATCH(B3840,HAMARA!E:E,0))=0,\"\",INDEX(HAMARA!I:I,MATCH(B3840,HAMARA!E:E,0))),\"\")","v":""}]
[15482,"BT89",0,{"$f":"IFERROR(IF(INDEX(HAMARA!I:I,MATCH(B3841,HAMARA!E:E,0))=0,\"\",INDEX(HAMARA!I:I,MATCH(B3841,HAMARA!E:E,0))),\"\")","v":""}]
[15482,"BT755",0,{"$f":"IFERROR(IF(INDEX(HAMARA!I:I,MATCH(B3842,HAMARA!E:E,0))=0,\"\",INDEX(HAMARA!I:I,MATCH(B3842,HAMARA!E:E,0))),\"\")","v":""}]
[15482,"BT119",5.6000000000000001E-2,{"$f":"IFERROR(IF(INDEX(HAMARA!I:I,MATCH(B3843,HAMARA!E:E,0))=0,\"\",INDEX(HAMARA!I:I,MATCH(B3843,HAMARA!E:E,0))),\"\")","v":""}]
[15482,"BT120",0,{"$f":"IFERROR(IF(INDEX(HAMARA!I:I,MATCH(B3844,HAMARA!E:E,0))=0,\"\",INDEX(HAMARA!I:I,MATCH(B3844,HAMARA!E:E,0))),\"\")","v":""}]
[15482,"A1",32.668999999999997,{"$f":"IFERROR(IF(INDEX(HAMARA!I:I,MATCH(B3845,HAMARA!E:E,0))=0,\"\",INDEX(HAMARA!I:I,MATCH(B3845,HAMARA!E:E,0))),\"\")","v":""}]
[15482,"AA3",0,{"$f":"IFERROR(IF(INDEX(HAMARA!I:I,MATCH(B3846,HAMARA!E:E,0))=0,\"\",INDEX(HAMARA!I:I,MATCH(B3846,HAMARA!E:E,0))),\"\")","v":""}]
[15482,"AT110",0,{"$f":"IFERROR(IF(INDEX(HAMARA!I:I,MATCH(B3847,HAMARA!E:E,0))=0,\"\",INDEX(HAMARA!I:I,MATCH(B3847,HAMARA!E:E,0))),\"\")","v":""}]
[15482,"AA9",0,{"$f":"IFERROR(IF(INDEX(HAMARA!I:I,MATCH(B3848,HAMARA!E:E,0))=0,\"\",INDEX(HAMARA!I:I,MATCH(B3848,HAMARA!E:E,0))),\"\")","v":""}]
[15482,"AT108",0,{"$f":"IFERROR(IF(INDEX(HAMARA!I:I,MATCH(B3849,HAMARA!E:E,0))=0,\"\",INDEX(HAMARA!I:I,MATCH(B3849,HAMARA!E:E,0))),\"\")","v":""}]
[15482,"AT72",0.08,{"$f":"IFERROR(IF(INDEX(HAMARA!I:I,MATCH(B3850,HAMARA!E:E,0))=0,\"\",INDEX(HAMARA!I:I,MATCH(B3850,HAMARA!E:E,0))),\"\")","v":""}]
[15482,"AT1",0,{"$f":"IFERROR(IF(INDEX(HAMARA!I:I,MATCH(B3851,HAMARA!E:E,0))=0,\"\",INDEX(HAMARA!I:I,MATCH(B3851,HAMARA!E:E,0))),\"\")","v":""}]
[15482,"AA1",11.263,{"$f":"IFERROR(IF(INDEX(HAMARA!I:I,MATCH(B3852,HAMARA!E:E,0))=0,\"\",INDEX(HAMARA!I:I,MATCH(B3852,HAMARA!E:E,0))),\"\")","v":""}]
[15482,"AA2",3.7549999999999999,{"$f":"IFERROR(IF(INDEX(HAMARA!I:I,MATCH(B3853,HAMARA!E:E,0))=0,\"\",INDEX(HAMARA!I:I,MATCH(B3853,HAMARA!E:E,0))),\"\")","v":""}]
[15482,"AT781",0,{"$f":"IFERROR(IF(INDEX(HAMARA!I:I,MATCH(B3854,HAMARA!E:E,0))=0,\"\",INDEX(HAMARA!I:I,MATCH(B3854,HAMARA!E:E,0))),\"\")","v":""}]
[15482,"AT782",0,{"$f":"IFERROR(IF(INDEX(HAMARA!I:I,MATCH(B3855,HAMARA!E:E,0))=0,\"\",INDEX(HAMARA!I:I,MATCH(B3855,HAMARA!E:E,0))),\"\")","v":""}]
[15482,"AT791",0,{"$f":"IFERROR(IF(INDEX(HAMARA!I:I,MATCH(B3856,HAMARA!E:E,0))=0,\"\",INDEX(HAMARA!I:I,MATCH(B3856,HAMARA!E:E,0))),\"\")","v":""}]
[15482,"AT749",0,{"$f":"IFERROR(IF(INDEX(HAMARA!I:I,MATCH(B3857,HAMARA!E:E,0))=0,\"\",INDEX(HAMARA!I:I,MATCH(B3857,HAMARA!E:E,0))),\"\")","v":""}]
[15482,"AT750",0,{"$f":"IFERROR(IF(INDEX(HAMARA!I:I,MATCH(B3858,HAMARA!E:E,0))=0,\"\",INDEX(HAMARA!I:I,MATCH(B3858,HAMARA!E:E,0))),\"\")","v":""}]
[15482,"AT751",0,{"$f":"IFERROR(IF(INDEX(HAMARA!I:I,MATCH(B3859,HAMARA!E:E,0))=0,\"\",INDEX(HAMARA!I:I,MATCH(B3859,HAMARA!E:E,0))),\"\")","v":""}]
[15482,"AT114",17.571000000000002,{"$f":"IFERROR(IF(INDEX(HAMARA!I:I,MATCH(B3860,HAMARA!E:E,0))=0,\"\",INDEX(HAMARA!I:I,MATCH(B3860,HAMARA!E:E,0))),\"\")","v":""}]
[15482,"AT752",0,{"$f":"IFERROR(IF(INDEX(HAMARA!I:I,MATCH(B3861,HAMARA!E:E,0))=0,\"\",INDEX(HAMARA!I:I,MATCH(B3861,HAMARA!E:E,0))),\"\")","v":""}]
[15482,"AT7",0,{"$f":"IFERROR(IF(INDEX(HAMARA!I:I,MATCH(B3862,HAMARA!E:E,0))=0,\"\",INDEX(HAMARA!I:I,MATCH(B3862,HAMARA!E:E,0))),\"\")","v":""}]
[15482,"AT252",0,{"$f":"IFERROR(IF(INDEX(HAMARA!I:I,MATCH(B3863,HAMARA!E:E,0))=0,\"\",INDEX(HAMARA!I:I,MATCH(B3863,HAMARA!E:E,0))),\"\")","v":""}]
[15482,"AT253",0,{"$f":"IFERROR(IF(INDEX(HAMARA!I:I,MATCH(B3864,HAMARA!E:E,0))=0,\"\",INDEX(HAMARA!I:I,MATCH(B3864,HAMARA!E:E,0))),\"\")","v":""}]
[15482,"AT575",0,{"$f":"IFERROR(IF(INDEX(HAMARA!I:I,MATCH(B3865,HAMARA!E:E,0))=0,\"\",INDEX(HAMARA!I:I,MATCH(B3865,HAMARA!E:E,0))),\"\")","v":""}]
[15482,"AT290",0,{"$f":"IFERROR(IF(INDEX(HAMARA!I:I,MATCH(B3866,HAMARA!E:E,0))=0,\"\",INDEX(HAMARA!I:I,MATCH(B3866,HAMARA!E:E,0))),\"\")","v":""}]
[15482,"AT642",0,{"$f":"IFERROR(IF(INDEX(HAMARA!I:I,MATCH(B3867,HAMARA!E:E,0))=0,\"\",INDEX(HAMARA!I:I,MATCH(B3867,HAMARA!E:E,0))),\"\")","v":""}]
[15482,"AT753",0,{"$f":"IFERROR(IF(INDEX(HAMARA!I:I,MATCH(B3868,HAMARA!E:E,0))=0,\"\",INDEX(HAMARA!I:I,MATCH(B3868,HAMARA!E:E,0))),\"\")","v":""}]
[15482,"AT71",0,{"$f":"IFERROR(IF(INDEX(HAMARA!I:I,MATCH(B3869,HAMARA!E:E,0))=0,\"\",INDEX(HAMARA!I:I,MATCH(B3869,HAMARA!E:E,0))),\"\")","v":""}]
[15482,"AT111",0,{"$f":"IFERROR(IF(INDEX(HAMARA!I:I,MATCH(B3870,HAMARA!E:E,0))=0,\"\",INDEX(HAMARA!I:I,MATCH(B3870,HAMARA!E:E,0))),\"\")","v":""}]
[15482,"AT760",0,{"$f":"IFERROR(IF(INDEX(HAMARA!I:I,MATCH(B3871,HAMARA!E:E,0))=0,\"\",INDEX(HAMARA!I:I,MATCH(B3871,HAMARA!E:E,0))),\"\")","v":""}]
[15482,"AT761",0,{"$f":"IFERROR(IF(INDEX(HAMARA!I:I,MATCH(B3872,HAMARA!E:E,0))=0,\"\",INDEX(HAMARA!I:I,MATCH(B3872,HAMARA!E:E,0))),\"\")","v":""}]
[15482,"AT762",0,{"$f":"IFERROR(IF(INDEX(HAMARA!I:I,MATCH(B3873,HAMARA!E:E,0))=0,\"\",INDEX(HAMARA!I:I,MATCH(B3873,HAMARA!E:E,0))),\"\")","v":""}]
[15482,"AT763",0,{"$f":"IFERROR(IF(INDEX(HAMARA!I:I,MATCH(B3874,HAMARA!E:E,0))=0,\"\",INDEX(HAMARA!I:I,MATCH(B3874,HAMARA!E:E,0))),\"\")","v":""}]
[15482,"AT764",0,{"$f":"IFERROR(IF(INDEX(HAMARA!I:I,MATCH(B3875,HAMARA!E:E,0))=0,\"\",INDEX(HAMARA!I:I,MATCH(B3875,HAMARA!E:E,0))),\"\")","v":""}]
[15482,"AT104",0,{"$f":"IFERROR(IF(INDEX(HAMARA!I:I,MATCH(B3876,HAMARA!E:E,0))=0,\"\",INDEX(HAMARA!I:I,MATCH(B3876,HAMARA!E:E,0))),\"\")","v":""}]
[15482,"AT634",0,{"$f":"IFERROR(IF(INDEX(HAMARA!I:I,MATCH(B3877,HAMARA!E:E,0))=0,\"\",INDEX(HAMARA!I:I,MATCH(B3877,HAMARA!E:E,0))),\"\")","v":""}]
[15482,"AA12",0,{"$f":"IFERROR(IF(INDEX(HAMARA!I:I,MATCH(B3878,HAMARA!E:E,0))=0,\"\",INDEX(HAMARA!I:I,MATCH(B3878,HAMARA!E:E,0))),\"\")","v":""}]
[15482,"AT758",0,{"$f":"IFERROR(IF(INDEX(HAMARA!I:I,MATCH(B3879,HAMARA!E:E,0))=0,\"\",INDEX(HAMARA!I:I,MATCH(B3879,HAMARA!E:E,0))),\"\")","v":""}]
[15482,"AT759",0,{"$f":"IFERROR(IF(INDEX(HAMARA!I:I,MATCH(B3880,HAMARA!E:E,0))=0,\"\",INDEX(HAMARA!I:I,MATCH(B3880,HAMARA!E:E,0))),\"\")","v":""}]
[15482,"B1",0.34799999999999998,{"$f":"IFERROR(IF(INDEX(HAMARA!I:I,MATCH(B3881,HAMARA!E:E,0))=0,\"\",INDEX(HAMARA!I:I,MATCH(B3881,HAMARA!E:E,0))),\"\")","v":""}]
[15482,"BT3",0,{"$f":"IFERROR(IF(INDEX(HAMARA!I:I,MATCH(B3882,HAMARA!E:E,0))=0,\"\",INDEX(HAMARA!I:I,MATCH(B3882,HAMARA!E:E,0))),\"\")","v":""}]
[15482,"BT95",0,{"$f":"IFERROR(IF(INDEX(HAMARA!I:I,MATCH(B3883,HAMARA!E:E,0))=0,\"\",INDEX(HAMARA!I:I,MATCH(B3883,HAMARA!E:E,0))),\"\")","v":""}]
[15482,"BF4",0,{"$f":"IFERROR(IF(INDEX(HAMARA!I:I,MATCH(B3884,HAMARA!E:E,0))=0,\"\",INDEX(HAMARA!I:I,MATCH(B3884,HAMARA!E:E,0))),\"\")","v":""}]
[15482,"BT1",0,{"$f":"IFERROR(IF(INDEX(HAMARA!I:I,MATCH(B3885,HAMARA!E:E,0))=0,\"\",INDEX(HAMARA!I:I,MATCH(B3885,HAMARA!E:E,0))),\"\")","v":""}]
[15482,"BT2",0,{"$f":"IFERROR(IF(INDEX(HAMARA!I:I,MATCH(B3886,HAMARA!E:E,0))=0,\"\",INDEX(HAMARA!I:I,MATCH(B3886,HAMARA!E:E,0))),\"\")","v":""}]
[15482,"BT125",0,{"$f":"IFERROR(IF(INDEX(HAMARA!I:I,MATCH(B3887,HAMARA!E:E,0))=0,\"\",INDEX(HAMARA!I:I,MATCH(B3887,HAMARA!E:E,0))),\"\")","v":""}]
[15482,"BT126",0,{"$f":"IFERROR(IF(INDEX(HAMARA!I:I,MATCH(B3888,HAMARA!E:E,0))=0,\"\",INDEX(HAMARA!I:I,MATCH(B3888,HAMARA!E:E,0))),\"\")","v":""}]
[15482,"BT4",0,{"$f":"IFERROR(IF(INDEX(HAMARA!I:I,MATCH(B3889,HAMARA!E:E,0))=0,\"\",INDEX(HAMARA!I:I,MATCH(B3889,HAMARA!E:E,0))),\"\")","v":""}]
[15482,"BT5",0,{"$f":"IFERROR(IF(INDEX(HAMARA!I:I,MATCH(B3890,HAMARA!E:E,0))=0,\"\",INDEX(HAMARA!I:I,MATCH(B3890,HAMARA!E:E,0))),\"\")","v":""}]
[15482,"BT749",0,{"$f":"IFERROR(IF(INDEX(HAMARA!I:I,MATCH(B3891,HAMARA!E:E,0))=0,\"\",INDEX(HAMARA!I:I,MATCH(B3891,HAMARA!E:E,0))),\"\")","v":""}]
[15482,"BT750",0,{"$f":"IFERROR(IF(INDEX(HAMARA!I:I,MATCH(B3892,HAMARA!E:E,0))=0,\"\",INDEX(HAMARA!I:I,MATCH(B3892,HAMARA!E:E,0))),\"\")","v":""}]
[15482,"BT751",0,{"$f":"IFERROR(IF(INDEX(HAMARA!I:I,MATCH(B3893,HAMARA!E:E,0))=0,\"\",INDEX(HAMARA!I:I,MATCH(B3893,HAMARA!E:E,0))),\"\")","v":""}]
[15482,"BT97",0,{"$f":"IFERROR(IF(INDEX(HAMARA!I:I,MATCH(B3894,HAMARA!E:E,0))=0,\"\",INDEX(HAMARA!I:I,MATCH(B3894,HAMARA!E:E,0))),\"\")","v":""}]
[15482,"BT752",0,{"$f":"IFERROR(IF(INDEX(HAMARA!I:I,MATCH(B3895,HAMARA!E:E,0))=0,\"\",INDEX(HAMARA!I:I,MATCH(B3895,HAMARA!E:E,0))),\"\")","v":""}]
[15482,"BT19",0,{"$f":"IFERROR(IF(INDEX(HAMARA!I:I,MATCH(B3896,HAMARA!E:E,0))=0,\"\",INDEX(HAMARA!I:I,MATCH(B3896,HAMARA!E:E,0))),\"\")","v":""}]
[15482,"BT641",0,{"$f":"IFERROR(IF(INDEX(HAMARA!I:I,MATCH(B3897,HAMARA!E:E,0))=0,\"\",INDEX(HAMARA!I:I,MATCH(B3897,HAMARA!E:E,0))),\"\")","v":""}]
[15482,"BT642",0,{"$f":"IFERROR(IF(INDEX(HAMARA!I:I,MATCH(B3898,HAMARA!E:E,0))=0,\"\",INDEX(HAMARA!I:I,MATCH(B3898,HAMARA!E:E,0))),\"\")","v":""}]
[15482,"BT575",0,{"$f":"IFERROR(IF(INDEX(HAMARA!I:I,MATCH(B3899,HAMARA!E:E,0))=0,\"\",INDEX(HAMARA!I:I,MATCH(B3899,HAMARA!E:E,0))),\"\")","v":""}]
[15482,"BT643",0,{"$f":"IFERROR(IF(INDEX(HAMARA!I:I,MATCH(B3900,HAMARA!E:E,0))=0,\"\",INDEX(HAMARA!I:I,MATCH(B3900,HAMARA!E:E,0))),\"\")","v":""}]
[15482,"BT644",0,{"$f":"IFERROR(IF(INDEX(HAMARA!I:I,MATCH(B3901,HAMARA!E:E,0))=0,\"\",INDEX(HAMARA!I:I,MATCH(B3901,HAMARA!E:E,0))),\"\")","v":""}]
[15482,"BT754",0,{"$f":"IFERROR(IF(INDEX(HAMARA!I:I,MATCH(B3902,HAMARA!E:E,0))=0,\"\",INDEX(HAMARA!I:I,MATCH(B3902,HAMARA!E:E,0))),\"\")","v":""}]
[15482,"BT76",0,{"$f":"IFERROR(IF(INDEX(HAMARA!I:I,MATCH(B3903,HAMARA!E:E,0))=0,\"\",INDEX(HAMARA!I:I,MATCH(B3903,HAMARA!E:E,0))),\"\")","v":""}]
[15482,"BT81",0,{"$f":"IFERROR(IF(INDEX(HAMARA!I:I,MATCH(B3904,HAMARA!E:E,0))=0,\"\",INDEX(HAMARA!I:I,MATCH(B3904,HAMARA!E:E,0))),\"\")","v":""}]
[15482,"BT760",0,{"$f":"IFERROR(IF(INDEX(HAMARA!I:I,MATCH(B3905,HAMARA!E:E,0))=0,\"\",INDEX(HAMARA!I:I,MATCH(B3905,HAMARA!E:E,0))),\"\")","v":""}]
[15482,"BT761",0,{"$f":"IFERROR(IF(INDEX(HAMARA!I:I,MATCH(B3906,HAMARA!E:E,0))=0,\"\",INDEX(HAMARA!I:I,MATCH(B3906,HAMARA!E:E,0))),\"\")","v":""}]
[15482,"BT762",0,{"$f":"IFERROR(IF(INDEX(HAMARA!I:I,MATCH(B3907,HAMARA!E:E,0))=0,\"\",INDEX(HAMARA!I:I,MATCH(B3907,HAMARA!E:E,0))),\"\")","v":""}]
[15482,"BT763",0,{"$f":"IFERROR(IF(INDEX(HAMARA!I:I,MATCH(B3908,HAMARA!E:E,0))=0,\"\",INDEX(HAMARA!I:I,MATCH(B3908,HAMARA!E:E,0))),\"\")","v":""}]
[15482,"BT764",0,{"$f":"IFERROR(IF(INDEX(HAMARA!I:I,MATCH(B3909,HAMARA!E:E,0))=0,\"\",INDEX(HAMARA!I:I,MATCH(B3909,HAMARA!E:E,0))),\"\")","v":""}]
[15482,"BT83",0.34799999999999998,{"$f":"IFERROR(IF(INDEX(HAMARA!I:I,MATCH(B3910,HAMARA!E:E,0))=0,\"\",INDEX(HAMARA!I:I,MATCH(B3910,HAMARA!E:E,0))),\"\")","v":""}]
[15482,"BT634",0,{"$f":"IFERROR(IF(INDEX(HAMARA!I:I,MATCH(B3911,HAMARA!E:E,0))=0,\"\",INDEX(HAMARA!I:I,MATCH(B3911,HAMARA!E:E,0))),\"\")","v":""}]
[15482,"BT80",0,{"$f":"IFERROR(IF(INDEX(HAMARA!I:I,MATCH(B3912,HAMARA!E:E,0))=0,\"\",INDEX(HAMARA!I:I,MATCH(B3912,HAMARA!E:E,0))),\"\")","v":""}]
[15482,"K2",0,{"$f":"IFERROR(IF(INDEX(HAMARA!I:I,MATCH(B3913,HAMARA!E:E,0))=0,\"\",INDEX(HAMARA!I:I,MATCH(B3913,HAMARA!E:E,0))),\"\")","v":""}]
[15482,"KT712",0,{"$f":"IFERROR(IF(INDEX(HAMARA!I:I,MATCH(B3914,HAMARA!E:E,0))=0,\"\",INDEX(HAMARA!I:I,MATCH(B3914,HAMARA!E:E,0))),\"\")","v":""}]
[15482,"KT1",0,{"$f":"IFERROR(IF(INDEX(HAMARA!I:I,MATCH(B3915,HAMARA!E:E,0))=0,\"\",INDEX(HAMARA!I:I,MATCH(B3915,HAMARA!E:E,0))),\"\")","v":""}]
[15482,"KT713",0,{"$f":"IFERROR(IF(INDEX(HAMARA!I:I,MATCH(B3916,HAMARA!E:E,0))=0,\"\",INDEX(HAMARA!I:I,MATCH(B3916,HAMARA!E:E,0))),\"\")","v":""}]
[15482,"KT307",261.53100000000001,{"$f":"IFERROR(IF(INDEX(HAMARA!I:I,MATCH(B3917,HAMARA!E:E,0))=0,\"\",INDEX(HAMARA!I:I,MATCH(B3917,HAMARA!E:E,0))),\"\")","v":""}]
[15482,"KT311",784.46600000000001,{"$f":"IFERROR(IF(INDEX(HAMARA!I:I,MATCH(B3918,HAMARA!E:E,0))=0,\"\",INDEX(HAMARA!I:I,MATCH(B3918,HAMARA!E:E,0))),\"\")","v":""}]
[15482,"KT308",0,{"$f":"IFERROR(IF(INDEX(HAMARA!I:I,MATCH(B3919,HAMARA!E:E,0))=0,\"\",INDEX(HAMARA!I:I,MATCH(B3919,HAMARA!E:E,0))),\"\")","v":""}]
[15482,"KT3",0,{"$f":"IFERROR(IF(INDEX(HAMARA!I:I,MATCH(B3920,HAMARA!E:E,0))=0,\"\",INDEX(HAMARA!I:I,MATCH(B3920,HAMARA!E:E,0))),\"\")","v":""}]
[15482,"KT714",0,{"$f":"IFERROR(IF(INDEX(HAMARA!I:I,MATCH(B3921,HAMARA!E:E,0))=0,\"\",INDEX(HAMARA!I:I,MATCH(B3921,HAMARA!E:E,0))),\"\")","v":""}]
[15482,"KT991",0,{"$f":"IFERROR(IF(INDEX(HAMARA!I:I,MATCH(B3922,HAMARA!E:E,0))=0,\"\",INDEX(HAMARA!I:I,MATCH(B3922,HAMARA!E:E,0))),\"\")","v":""}]
[15482,"KT992",0,{"$f":"IFERROR(IF(INDEX(HAMARA!I:I,MATCH(B3923,HAMARA!E:E,0))=0,\"\",INDEX(HAMARA!I:I,MATCH(B3923,HAMARA!E:E,0))),\"\")","v":""}]
[15482,"KT993",0,{"$f":"IFERROR(IF(INDEX(HAMARA!I:I,MATCH(B3924,HAMARA!E:E,0))=0,\"\",INDEX(HAMARA!I:I,MATCH(B3924,HAMARA!E:E,0))),\"\")","v":""}]
[15482,"KT28",0,{"$f":"IFERROR(IF(INDEX(HAMARA!I:I,MATCH(B3925,HAMARA!E:E,0))=0,\"\",INDEX(HAMARA!I:I,MATCH(B3925,HAMARA!E:E,0))),\"\")","v":""}]
[15482,"KT53",0,{"$f":"IFERROR(IF(INDEX(HAMARA!I:I,MATCH(B3926,HAMARA!E:E,0))=0,\"\",INDEX(HAMARA!I:I,MATCH(B3926,HAMARA!E:E,0))),\"\")","v":""}]
[15482,"KT54",0,{"$f":"IFERROR(IF(INDEX(HAMARA!I:I,MATCH(B3927,HAMARA!E:E,0))=0,\"\",INDEX(HAMARA!I:I,MATCH(B3927,HAMARA!E:E,0))),\"\")","v":""}]
[15482,"KT55",0,{"$f":"IFERROR(IF(INDEX(HAMARA!I:I,MATCH(B3928,HAMARA!E:E,0))=0,\"\",INDEX(HAMARA!I:I,MATCH(B3928,HAMARA!E:E,0))),\"\")","v":""}]
[15482,"KT56",0,{"$f":"IFERROR(IF(INDEX(HAMARA!I:I,MATCH(B3929,HAMARA!E:E,0))=0,\"\",INDEX(HAMARA!I:I,MATCH(B3929,HAMARA!E:E,0))),\"\")","v":""}]
[15482,"KT57",0,{"$f":"IFERROR(IF(INDEX(HAMARA!I:I,MATCH(B3930,HAMARA!E:E,0))=0,\"\",INDEX(HAMARA!I:I,MATCH(B3930,HAMARA!E:E,0))),\"\")","v":""}]
[15482,"KT58",719.38599999999997,{"$f":"IFERROR(IF(INDEX(HAMARA!I:I,MATCH(B3931,HAMARA!E:E,0))=0,\"\",INDEX(HAMARA!I:I,MATCH(B3931,HAMARA!E:E,0))),\"\")","v":""}]
[15482,"KT59",0,{"$f":"IFERROR(IF(INDEX(HAMARA!I:I,MATCH(B3932,HAMARA!E:E,0))=0,\"\",INDEX(HAMARA!I:I,MATCH(B3932,HAMARA!E:E,0))),\"\")","v":""}]
[15482,"KT60",0,{"$f":"IFERROR(IF(INDEX(HAMARA!I:I,MATCH(B3933,HAMARA!E:E,0))=0,\"\",INDEX(HAMARA!I:I,MATCH(B3933,HAMARA!E:E,0))),\"\")","v":""}]
[15482,"KT705",0,{"$f":"IFERROR(IF(INDEX(HAMARA!I:I,MATCH(B3934,HAMARA!E:E,0))=0,\"\",INDEX(HAMARA!I:I,MATCH(B3934,HAMARA!E:E,0))),\"\")","v":""}]
[15482,"KT706",0,{"$f":"IFERROR(IF(INDEX(HAMARA!I:I,MATCH(B3935,HAMARA!E:E,0))=0,\"\",INDEX(HAMARA!I:I,MATCH(B3935,HAMARA!E:E,0))),\"\")","v":""}]
[15482,"KT707",0,{"$f":"IFERROR(IF(INDEX(HAMARA!I:I,MATCH(B3936,HAMARA!E:E,0))=0,\"\",INDEX(HAMARA!I:I,MATCH(B3936,HAMARA!E:E,0))),\"\")","v":""}]
[15482,"KT708",1,{"$f":"IFERROR(IF(INDEX(HAMARA!I:I,MATCH(B3937,HAMARA!E:E,0))=0,\"\",INDEX(HAMARA!I:I,MATCH(B3937,HAMARA!E:E,0))),\"\")","v":""}]
[15482,"KT709",0,{"$f":"IFERROR(IF(INDEX(HAMARA!I:I,MATCH(B3938,HAMARA!E:E,0))=0,\"\",INDEX(HAMARA!I:I,MATCH(B3938,HAMARA!E:E,0))),\"\")","v":""}]
[15482,"KT710",0,{"$f":"IFERROR(IF(INDEX(HAMARA!I:I,MATCH(B3939,HAMARA!E:E,0))=0,\"\",INDEX(HAMARA!I:I,MATCH(B3939,HAMARA!E:E,0))),\"\")","v":""}]
[15482,"KT314",0,{"$f":"IFERROR(IF(INDEX(HAMARA!I:I,MATCH(B3940,HAMARA!E:E,0))=0,\"\",INDEX(HAMARA!I:I,MATCH(B3940,HAMARA!E:E,0))),\"\")","v":""}]
[15482,"KT72",68.775000000000006,{"$f":"IFERROR(IF(INDEX(HAMARA!I:I,MATCH(B3941,HAMARA!E:E,0))=0,\"\",INDEX(HAMARA!I:I,MATCH(B3941,HAMARA!E:E,0))),\"\")","v":""}]
[15482,"EA",4.2160000000000002,{"$f":"IFERROR(IF(INDEX(HAMARA!I:I,MATCH(B3942,HAMARA!E:E,0))=0,\"\",INDEX(HAMARA!I:I,MATCH(B3942,HAMARA!E:E,0))),\"\")","v":""}]
[15482,"KT10",0,{"$f":"IFERROR(IF(INDEX(HAMARA!I:I,MATCH(B3943,HAMARA!E:E,0))=0,\"\",INDEX(HAMARA!I:I,MATCH(B3943,HAMARA!E:E,0))),\"\")","v":""}]
[15482,"KT37",0,{"$f":"IFERROR(IF(INDEX(HAMARA!I:I,MATCH(B3944,HAMARA!E:E,0))=0,\"\",INDEX(HAMARA!I:I,MATCH(B3944,HAMARA!E:E,0))),\"\")","v":""}]
[15482,"KT22",1.2270000000000001,{"$f":"IFERROR(IF(INDEX(HAMARA!I:I,MATCH(B3945,HAMARA!E:E,0))=0,\"\",INDEX(HAMARA!I:I,MATCH(B3945,HAMARA!E:E,0))),\"\")","v":""}]
[15482,"KT51",10.61,{"$f":"IFERROR(IF(INDEX(HAMARA!I:I,MATCH(B3946,HAMARA!E:E,0))=0,\"\",INDEX(HAMARA!I:I,MATCH(B3946,HAMARA!E:E,0))),\"\")","v":""}]
[15482,"KT502",13.042,{"$f":"IFERROR(IF(INDEX(HAMARA!I:I,MATCH(B3947,HAMARA!E:E,0))=0,\"\",INDEX(HAMARA!I:I,MATCH(B3947,HAMARA!E:E,0))),\"\")","v":""}]
[15482,"KT503",41.970999999999997,{"$f":"IFERROR(IF(INDEX(HAMARA!I:I,MATCH(B3948,HAMARA!E:E,0))=0,\"\",INDEX(HAMARA!I:I,MATCH(B3948,HAMARA!E:E,0))),\"\")","v":""}]
[15482,"KT14",0,{"$f":"IFERROR(IF(INDEX(HAMARA!I:I,MATCH(B3949,HAMARA!E:E,0))=0,\"\",INDEX(HAMARA!I:I,MATCH(B3949,HAMARA!E:E,0))),\"\")","v":""}]
[15482,"KT15",0,{"$f":"IFERROR(IF(INDEX(HAMARA!I:I,MATCH(B3950,HAMARA!E:E,0))=0,\"\",INDEX(HAMARA!I:I,MATCH(B3950,HAMARA!E:E,0))),\"\")","v":""}]
[15482,"KT70",0,{"$f":"IFERROR(IF(INDEX(HAMARA!I:I,MATCH(B3951,HAMARA!E:E,0))=0,\"\",INDEX(HAMARA!I:I,MATCH(B3951,HAMARA!E:E,0))),\"\")","v":""}]
[15482,"KT71",0,{"$f":"IFERROR(IF(INDEX(HAMARA!I:I,MATCH(B3952,HAMARA!E:E,0))=0,\"\",INDEX(HAMARA!I:I,MATCH(B3952,HAMARA!E:E,0))),\"\")","v":""}]
[15482,"KT946",0,{"$f":"IFERROR(IF(INDEX(HAMARA!I:I,MATCH(B3953,HAMARA!E:E,0))=0,\"\",INDEX(HAMARA!I:I,MATCH(B3953,HAMARA!E:E,0))),\"\")","v":""}]
[15482,"KT947",0,{"$f":"IFERROR(IF(INDEX(HAMARA!I:I,MATCH(B3954,HAMARA!E:E,0))=0,\"\",INDEX(HAMARA!I:I,MATCH(B3954,HAMARA!E:E,0))),\"\")","v":""}]
[15482,"KT948",0,{"$f":"IFERROR(IF(INDEX(HAMARA!I:I,MATCH(B3955,HAMARA!E:E,0))=0,\"\",INDEX(HAMARA!I:I,MATCH(B3955,HAMARA!E:E,0))),\"\")","v":""}]
[15482,"KT324",0,{"$f":"IFERROR(IF(INDEX(HAMARA!I:I,MATCH(B3956,HAMARA!E:E,0))=0,\"\",INDEX(HAMARA!I:I,MATCH(B3956,HAMARA!E:E,0))),\"\")","v":""}]
[15482,"KT950",0,{"$f":"IFERROR(IF(INDEX(HAMARA!I:I,MATCH(B3957,HAMARA!E:E,0))=0,\"\",INDEX(HAMARA!I:I,MATCH(B3957,HAMARA!E:E,0))),\"\")","v":""}]
[15482,"KT951",0,{"$f":"IFERROR(IF(INDEX(HAMARA!I:I,MATCH(B3958,HAMARA!E:E,0))=0,\"\",INDEX(HAMARA!I:I,MATCH(B3958,HAMARA!E:E,0))),\"\")","v":""}]
[15482,"KT949",0,{"$f":"IFERROR(IF(INDEX(HAMARA!I:I,MATCH(B3959,HAMARA!E:E,0))=0,\"\",INDEX(HAMARA!I:I,MATCH(B3959,HAMARA!E:E,0))),\"\")","v":""}]
[15482,"KT411",0,{"$f":"IFERROR(IF(INDEX(HAMARA!I:I,MATCH(B3960,HAMARA!E:E,0))=0,\"\",INDEX(HAMARA!I:I,MATCH(B3960,HAMARA!E:E,0))),\"\")","v":""}]
[15482,"KT74",0,{"$f":"IFERROR(IF(INDEX(HAMARA!I:I,MATCH(B3961,HAMARA!E:E,0))=0,\"\",INDEX(HAMARA!I:I,MATCH(B3961,HAMARA!E:E,0))),\"\")","v":""}]
[15482,"KT604",0,{"$f":"IFERROR(IF(INDEX(HAMARA!I:I,MATCH(B3962,HAMARA!E:E,0))=0,\"\",INDEX(HAMARA!I:I,MATCH(B3962,HAMARA!E:E,0))),\"\")","v":""}]
[15482,"KT62",0,{"$f":"IFERROR(IF(INDEX(HAMARA!I:I,MATCH(B3963,HAMARA!E:E,0))=0,\"\",INDEX(HAMARA!I:I,MATCH(B3963,HAMARA!E:E,0))),\"\")","v":""}]
[15482,"KT551",0,{"$f":"IFERROR(IF(INDEX(HAMARA!I:I,MATCH(B3964,HAMARA!E:E,0))=0,\"\",INDEX(HAMARA!I:I,MATCH(B3964,HAMARA!E:E,0))),\"\")","v":""}]
[15482,"KT605",0,{"$f":"IFERROR(IF(INDEX(HAMARA!I:I,MATCH(B3965,HAMARA!E:E,0))=0,\"\",INDEX(HAMARA!I:I,MATCH(B3965,HAMARA!E:E,0))),\"\")","v":""}]
[15482,"KT21",0,{"$f":"IFERROR(IF(INDEX(HAMARA!I:I,MATCH(B3966,HAMARA!E:E,0))=0,\"\",INDEX(HAMARA!I:I,MATCH(B3966,HAMARA!E:E,0))),\"\")","v":""}]
[15482,"KT941",0,{"$f":"IFERROR(IF(INDEX(HAMARA!I:I,MATCH(B3967,HAMARA!E:E,0))=0,\"\",INDEX(HAMARA!I:I,MATCH(B3967,HAMARA!E:E,0))),\"\")","v":""}]
[15482,"KT20",0,{"$f":"IFERROR(IF(INDEX(HAMARA!I:I,MATCH(B3968,HAMARA!E:E,0))=0,\"\",INDEX(HAMARA!I:I,MATCH(B3968,HAMARA!E:E,0))),\"\")","v":""}]
[15482,"KT942",0,{"$f":"IFERROR(IF(INDEX(HAMARA!I:I,MATCH(B3969,HAMARA!E:E,0))=0,\"\",INDEX(HAMARA!I:I,MATCH(B3969,HAMARA!E:E,0))),\"\")","v":""}]
[15482,"KT303",0,{"$f":"IFERROR(IF(INDEX(HAMARA!I:I,MATCH(B3970,HAMARA!E:E,0))=0,\"\",INDEX(HAMARA!I:I,MATCH(B3970,HAMARA!E:E,0))),\"\")","v":""}]
[15482,"KT304",0,{"$f":"IFERROR(IF(INDEX(HAMARA!I:I,MATCH(B3971,HAMARA!E:E,0))=0,\"\",INDEX(HAMARA!I:I,MATCH(B3971,HAMARA!E:E,0))),\"\")","v":""}]
[15482,"KT716",0,{"$f":"IFERROR(IF(INDEX(HAMARA!I:I,MATCH(B3972,HAMARA!E:E,0))=0,\"\",INDEX(HAMARA!I:I,MATCH(B3972,HAMARA!E:E,0))),\"\")","v":""}]
[15482,"KT305",0,{"$f":"IFERROR(IF(INDEX(HAMARA!I:I,MATCH(B3973,HAMARA!E:E,0))=0,\"\",INDEX(HAMARA!I:I,MATCH(B3973,HAMARA!E:E,0))),\"\")","v":""}]
[15482,"KT461",0,{"$f":"IFERROR(IF(INDEX(HAMARA!I:I,MATCH(B3974,HAMARA!E:E,0))=0,\"\",INDEX(HAMARA!I:I,MATCH(B3974,HAMARA!E:E,0))),\"\")","v":""}]
[15482,"KT717",0,{"$f":"IFERROR(IF(INDEX(HAMARA!I:I,MATCH(B3975,HAMARA!E:E,0))=0,\"\",INDEX(HAMARA!I:I,MATCH(B3975,HAMARA!E:E,0))),\"\")","v":""}]
[15482,"KT548",0,{"$f":"IFERROR(IF(INDEX(HAMARA!I:I,MATCH(B3976,HAMARA!E:E,0))=0,\"\",INDEX(HAMARA!I:I,MATCH(B3976,HAMARA!E:E,0))),\"\")","v":""}]
[15482,"KT549",0,{"$f":"IFERROR(IF(INDEX(HAMARA!I:I,MATCH(B3977,HAMARA!E:E,0))=0,\"\",INDEX(HAMARA!I:I,MATCH(B3977,HAMARA!E:E,0))),\"\")","v":""}]
[15482,"KT550",0,{"$f":"IFERROR(IF(INDEX(HAMARA!I:I,MATCH(B3978,HAMARA!E:E,0))=0,\"\",INDEX(HAMARA!I:I,MATCH(B3978,HAMARA!E:E,0))),\"\")","v":""}]
[15482,"KT761",994.67,{"$f":"IFERROR(IF(INDEX(HAMARA!I:I,MATCH(B3979,HAMARA!E:E,0))=0,\"\",INDEX(HAMARA!I:I,MATCH(B3979,HAMARA!E:E,0))),\"\")","v":""}]
[15482,"KT762",1002.727,{"$f":"IFERROR(IF(INDEX(HAMARA!I:I,MATCH(B3980,HAMARA!E:E,0))=0,\"\",INDEX(HAMARA!I:I,MATCH(B3980,HAMARA!E:E,0))),\"\")","v":""}]
[15482,"KT763",994.67,{"$f":"IFERROR(IF(INDEX(HAMARA!I:I,MATCH(B3981,HAMARA!E:E,0))=0,\"\",INDEX(HAMARA!I:I,MATCH(B3981,HAMARA!E:E,0))),\"\")","v":""}]
[15482,"KT943",999.58500000000004,{"$f":"IFERROR(IF(INDEX(HAMARA!I:I,MATCH(B3982,HAMARA!E:E,0))=0,\"\",INDEX(HAMARA!I:I,MATCH(B3982,HAMARA!E:E,0))),\"\")","v":""}]
[15482,"KT944",999.58500000000004,{"$f":"IFERROR(IF(INDEX(HAMARA!I:I,MATCH(B3983,HAMARA!E:E,0))=0,\"\",INDEX(HAMARA!I:I,MATCH(B3983,HAMARA!E:E,0))),\"\")","v":""}]
[15482,"KT945",1007.626,{"$f":"IFERROR(IF(INDEX(HAMARA!I:I,MATCH(B3984,HAMARA!E:E,0))=0,\"\",INDEX(HAMARA!I:I,MATCH(B3984,HAMARA!E:E,0))),\"\")","v":""}]
[15482,"KT606",0,{"$f":"IFERROR(IF(INDEX(HAMARA!I:I,MATCH(B3985,HAMARA!E:E,0))=0,\"\",INDEX(HAMARA!I:I,MATCH(B3985,HAMARA!E:E,0))),\"\")","v":""}]
[15482,"KT530",0,{"$f":"IFERROR(IF(INDEX(HAMARA!I:I,MATCH(B3986,HAMARA!E:E,0))=0,\"\",INDEX(HAMARA!I:I,MATCH(B3986,HAMARA!E:E,0))),\"\")","v":""}]
[15482,"KT547",0,{"$f":"IFERROR(IF(INDEX(HAMARA!I:I,MATCH(B3987,HAMARA!E:E,0))=0,\"\",INDEX(HAMARA!I:I,MATCH(B3987,HAMARA!E:E,0))),\"\")","v":""}]
[15482,"KT932",0,{"$f":"IFERROR(IF(INDEX(HAMARA!I:I,MATCH(B3988,HAMARA!E:E,0))=0,\"\",INDEX(HAMARA!I:I,MATCH(B3988,HAMARA!E:E,0))),\"\")","v":""}]
[15482,"KT933",0,{"$f":"IFERROR(IF(INDEX(HAMARA!I:I,MATCH(B3989,HAMARA!E:E,0))=0,\"\",INDEX(HAMARA!I:I,MATCH(B3989,HAMARA!E:E,0))),\"\")","v":""}]
[15482,"KT934",0,{"$f":"IFERROR(IF(INDEX(HAMARA!I:I,MATCH(B3990,HAMARA!E:E,0))=0,\"\",INDEX(HAMARA!I:I,MATCH(B3990,HAMARA!E:E,0))),\"\")","v":""}]
[15482,"KT935",0,{"$f":"IFERROR(IF(INDEX(HAMARA!I:I,MATCH(B3991,HAMARA!E:E,0))=0,\"\",INDEX(HAMARA!I:I,MATCH(B3991,HAMARA!E:E,0))),\"\")","v":""}]
[15482,"KT936",0,{"$f":"IFERROR(IF(INDEX(HAMARA!I:I,MATCH(B3992,HAMARA!E:E,0))=0,\"\",INDEX(HAMARA!I:I,MATCH(B3992,HAMARA!E:E,0))),\"\")","v":""}]
[15482,"KT937",0,{"$f":"IFERROR(IF(INDEX(HAMARA!I:I,MATCH(B3993,HAMARA!E:E,0))=0,\"\",INDEX(HAMARA!I:I,MATCH(B3993,HAMARA!E:E,0))),\"\")","v":""}]
[15482,"KT938",0,{"$f":"IFERROR(IF(INDEX(HAMARA!I:I,MATCH(B3994,HAMARA!E:E,0))=0,\"\",INDEX(HAMARA!I:I,MATCH(B3994,HAMARA!E:E,0))),\"\")","v":""}]
[15482,"KT939",0,{"$f":"IFERROR(IF(INDEX(HAMARA!I:I,MATCH(B3995,HAMARA!E:E,0))=0,\"\",INDEX(HAMARA!I:I,MATCH(B3995,HAMARA!E:E,0))),\"\")","v":""}]
[15482,"KT940",0,{"$f":"IFERROR(IF(INDEX(HAMARA!I:I,MATCH(B3996,HAMARA!E:E,0))=0,\"\",INDEX(HAMARA!I:I,MATCH(B3996,HAMARA!E:E,0))),\"\")","v":""}]
[15482,"KT600",0,{"$f":"IFERROR(IF(INDEX(HAMARA!I:I,MATCH(B3997,HAMARA!E:E,0))=0,\"\",INDEX(HAMARA!I:I,MATCH(B3997,HAMARA!E:E,0))),\"\")","v":""}]
[15482,"ZT101",1001.058,{"$f":"IFERROR(IF(INDEX(HAMARA!I:I,MATCH(B3998,HAMARA!E:E,0))=0,\"\",INDEX(HAMARA!I:I,MATCH(B3998,HAMARA!E:E,0))),\"\")","v":""}]
[15482,"ZT102",1001.058,{"$f":"IFERROR(IF(INDEX(HAMARA!I:I,MATCH(B3999,HAMARA!E:E,0))=0,\"\",INDEX(HAMARA!I:I,MATCH(B3999,HAMARA!E:E,0))),\"\")","v":""}]
[15482,"ZT103",1001.058,{"$f":"IFERROR(IF(INDEX(HAMARA!I:I,MATCH(B4000,HAMARA!E:E,0))=0,\"\",INDEX(HAMARA!I:I,MATCH(B4000,HAMARA!E:E,0))),\"\")","v":""}]
[15482,"ZT104",1001.058,{"$f":"IFERROR(IF(INDEX(HAMARA!I:I,MATCH(B4001,HAMARA!E:E,0))=0,\"\",INDEX(HAMARA!I:I,MATCH(B4001,HAMARA!E:E,0))),\"\")","v":""}]
[15482,"ZT105",1004.133,{"$f":"IFERROR(IF(INDEX(HAMARA!I:I,MATCH(B4002,HAMARA!E:E,0))=0,\"\",INDEX(HAMARA!I:I,MATCH(B4002,HAMARA!E:E,0))),\"\")","v":""}]
[15482,"ZT106",1004.133,{"$f":"IFERROR(IF(INDEX(HAMARA!I:I,MATCH(B4003,HAMARA!E:E,0))=0,\"\",INDEX(HAMARA!I:I,MATCH(B4003,HAMARA!E:E,0))),\"\")","v":""}]
[15482,"ZT107",1004.133,{"$f":"IFERROR(IF(INDEX(HAMARA!I:I,MATCH(B4004,HAMARA!E:E,0))=0,\"\",INDEX(HAMARA!I:I,MATCH(B4004,HAMARA!E:E,0))),\"\")","v":""}]
[15482,"ZT108",1004.399,{"$f":"IFERROR(IF(INDEX(HAMARA!I:I,MATCH(B4005,HAMARA!E:E,0))=0,\"\",INDEX(HAMARA!I:I,MATCH(B4005,HAMARA!E:E,0))),\"\")","v":""}]
[15482,"ZT109",994.24400000000003,{"$f":"IFERROR(IF(INDEX(HAMARA!I:I,MATCH(B4006,HAMARA!E:E,0))=0,\"\",INDEX(HAMARA!I:I,MATCH(B4006,HAMARA!E:E,0))),\"\")","v":""}]
[15482,"ZT110",994.24400000000003,{"$f":"IFERROR(IF(INDEX(HAMARA!I:I,MATCH(B4007,HAMARA!E:E,0))=0,\"\",INDEX(HAMARA!I:I,MATCH(B4007,HAMARA!E:E,0))),\"\")","v":""}]
[15482,"ZT111",994.24400000000003,{"$f":"IFERROR(IF(INDEX(HAMARA!I:I,MATCH(B4008,HAMARA!E:E,0))=0,\"\",INDEX(HAMARA!I:I,MATCH(B4008,HAMARA!E:E,0))),\"\")","v":""}]
[15482,"ZT112",997.59,{"$f":"IFERROR(IF(INDEX(HAMARA!I:I,MATCH(B4009,HAMARA!E:E,0))=0,\"\",INDEX(HAMARA!I:I,MATCH(B4009,HAMARA!E:E,0))),\"\")","v":""}]
[15482,"ZT113",997.59,{"$f":"IFERROR(IF(INDEX(HAMARA!I:I,MATCH(B4010,HAMARA!E:E,0))=0,\"\",INDEX(HAMARA!I:I,MATCH(B4010,HAMARA!E:E,0))),\"\")","v":""}]
[15482,"ZT114",997.59,{"$f":"IFERROR(IF(INDEX(HAMARA!I:I,MATCH(B4011,HAMARA!E:E,0))=0,\"\",INDEX(HAMARA!I:I,MATCH(B4011,HAMARA!E:E,0))),\"\")","v":""}]
[15482,"ZT115",1023.332,{"$f":"IFERROR(IF(INDEX(HAMARA!I:I,MATCH(B4012,HAMARA!E:E,0))=0,\"\",INDEX(HAMARA!I:I,MATCH(B4012,HAMARA!E:E,0))),\"\")","v":""}]
[15482,"ZT116",1030.4169999999999,{"$f":"IFERROR(IF(INDEX(HAMARA!I:I,MATCH(B4013,HAMARA!E:E,0))=0,\"\",INDEX(HAMARA!I:I,MATCH(B4013,HAMARA!E:E,0))),\"\")","v":""}]
[15482,"ZT117",1030.4169999999999,{"$f":"IFERROR(IF(INDEX(HAMARA!I:I,MATCH(B4014,HAMARA!E:E,0))=0,\"\",INDEX(HAMARA!I:I,MATCH(B4014,HAMARA!E:E,0))),\"\")","v":""}]
[15482,"ZT118",1030.4169999999999,{"$f":"IFERROR(IF(INDEX(HAMARA!I:I,MATCH(B4015,HAMARA!E:E,0))=0,\"\",INDEX(HAMARA!I:I,MATCH(B4015,HAMARA!E:E,0))),\"\")","v":""}]
[15482,"ZT119",1036.2439999999999,{"$f":"IFERROR(IF(INDEX(HAMARA!I:I,MATCH(B4016,HAMARA!E:E,0))=0,\"\",INDEX(HAMARA!I:I,MATCH(B4016,HAMARA!E:E,0))),\"\")","v":""}]
[15482,"ZT120",1041.4659999999999,{"$f":"IFERROR(IF(INDEX(HAMARA!I:I,MATCH(B4017,HAMARA!E:E,0))=0,\"\",INDEX(HAMARA!I:I,MATCH(B4017,HAMARA!E:E,0))),\"\")","v":""}]
[15482,"ZT121",1039.971,{"$f":"IFERROR(IF(INDEX(HAMARA!I:I,MATCH(B4018,HAMARA!E:E,0))=0,\"\",INDEX(HAMARA!I:I,MATCH(B4018,HAMARA!E:E,0))),\"\")","v":""}]
[15482,"ZT122",1040.3810000000001,{"$f":"IFERROR(IF(INDEX(HAMARA!I:I,MATCH(B4019,HAMARA!E:E,0))=0,\"\",INDEX(HAMARA!I:I,MATCH(B4019,HAMARA!E:E,0))),\"\")","v":""}]
[15482,"ZT123",1040.453,{"$f":"IFERROR(IF(INDEX(HAMARA!I:I,MATCH(B4020,HAMARA!E:E,0))=0,\"\",INDEX(HAMARA!I:I,MATCH(B4020,HAMARA!E:E,0))),\"\")","v":""}]
[15482,"ZT124",1040.453,{"$f":"IFERROR(IF(INDEX(HAMARA!I:I,MATCH(B4021,HAMARA!E:E,0))=0,\"\",INDEX(HAMARA!I:I,MATCH(B4021,HAMARA!E:E,0))),\"\")","v":""}]
[15482,"ZT125",1040.453,{"$f":"IFERROR(IF(INDEX(HAMARA!I:I,MATCH(B4022,HAMARA!E:E,0))=0,\"\",INDEX(HAMARA!I:I,MATCH(B4022,HAMARA!E:E,0))),\"\")","v":""}]
[15482,"ZT126",1045.3679999999999,{"$f":"IFERROR(IF(INDEX(HAMARA!I:I,MATCH(B4023,HAMARA!E:E,0))=0,\"\",INDEX(HAMARA!I:I,MATCH(B4023,HAMARA!E:E,0))),\"\")","v":""}]
[15482,"ZT127",1048.0340000000001,{"$f":"IFERROR(IF(INDEX(HAMARA!I:I,MATCH(B4024,HAMARA!E:E,0))=0,\"\",INDEX(HAMARA!I:I,MATCH(B4024,HAMARA!E:E,0))),\"\")","v":""}]
[15482,"ZT128",1050.3230000000001,{"$f":"IFERROR(IF(INDEX(HAMARA!I:I,MATCH(B4025,HAMARA!E:E,0))=0,\"\",INDEX(HAMARA!I:I,MATCH(B4025,HAMARA!E:E,0))),\"\")","v":""}]
[15482,"ZT129",1051.23,{"$f":"IFERROR(IF(INDEX(HAMARA!I:I,MATCH(B4026,HAMARA!E:E,0))=0,\"\",INDEX(HAMARA!I:I,MATCH(B4026,HAMARA!E:E,0))),\"\")","v":""}]
[15482,"ZT130",1046.3420000000001,{"$f":"IFERROR(IF(INDEX(HAMARA!I:I,MATCH(B4027,HAMARA!E:E,0))=0,\"\",INDEX(HAMARA!I:I,MATCH(B4027,HAMARA!E:E,0))),\"\")","v":""}]
[15482,"ZT201",0,{"$f":"IFERROR(IF(INDEX(HAMARA!I:I,MATCH(B4028,HAMARA!E:E,0))=0,\"\",INDEX(HAMARA!I:I,MATCH(B4028,HAMARA!E:E,0))),\"\")","v":""}]
[15482,"ZT202",0,{"$f":"IFERROR(IF(INDEX(HAMARA!I:I,MATCH(B4029,HAMARA!E:E,0))=0,\"\",INDEX(HAMARA!I:I,MATCH(B4029,HAMARA!E:E,0))),\"\")","v":""}]
[15482,"ZT203",0,{"$f":"IFERROR(IF(INDEX(HAMARA!I:I,MATCH(B4030,HAMARA!E:E,0))=0,\"\",INDEX(HAMARA!I:I,MATCH(B4030,HAMARA!E:E,0))),\"\")","v":""}]
[15482,"ZT204",0,{"$f":"IFERROR(IF(INDEX(HAMARA!I:I,MATCH(B4031,HAMARA!E:E,0))=0,\"\",INDEX(HAMARA!I:I,MATCH(B4031,HAMARA!E:E,0))),\"\")","v":""}]
[15482,"ZT205",0,{"$f":"IFERROR(IF(INDEX(HAMARA!I:I,MATCH(B4032,HAMARA!E:E,0))=0,\"\",INDEX(HAMARA!I:I,MATCH(B4032,HAMARA!E:E,0))),\"\")","v":""}]
[15482,"ZT206",0,{"$f":"IFERROR(IF(INDEX(HAMARA!I:I,MATCH(B4033,HAMARA!E:E,0))=0,\"\",INDEX(HAMARA!I:I,MATCH(B4033,HAMARA!E:E,0))),\"\")","v":""}]
[15482,"ZT207",0,{"$f":"IFERROR(IF(INDEX(HAMARA!I:I,MATCH(B4034,HAMARA!E:E,0))=0,\"\",INDEX(HAMARA!I:I,MATCH(B4034,HAMARA!E:E,0))),\"\")","v":""}]
[15482,"ZT208",0,{"$f":"IFERROR(IF(INDEX(HAMARA!I:I,MATCH(B4035,HAMARA!E:E,0))=0,\"\",INDEX(HAMARA!I:I,MATCH(B4035,HAMARA!E:E,0))),\"\")","v":""}]
[15482,"ZT209",0,{"$f":"IFERROR(IF(INDEX(HAMARA!I:I,MATCH(B4036,HAMARA!E:E,0))=0,\"\",INDEX(HAMARA!I:I,MATCH(B4036,HAMARA!E:E,0))),\"\")","v":""}]
[15482,"ZT210",0,{"$f":"IFERROR(IF(INDEX(HAMARA!I:I,MATCH(B4037,HAMARA!E:E,0))=0,\"\",INDEX(HAMARA!I:I,MATCH(B4037,HAMARA!E:E,0))),\"\")","v":""}]
[15482,"ZT211",0,{"$f":"IFERROR(IF(INDEX(HAMARA!I:I,MATCH(B4038,HAMARA!E:E,0))=0,\"\",INDEX(HAMARA!I:I,MATCH(B4038,HAMARA!E:E,0))),\"\")","v":""}]
[15482,"ZT212",17.571000000000002,{"$f":"IFERROR(IF(INDEX(HAMARA!I:I,MATCH(B4039,HAMARA!E:E,0))=0,\"\",INDEX(HAMARA!I:I,MATCH(B4039,HAMARA!E:E,0))),\"\")","v":""}]
[15482,"ZT213",0,{"$f":"IFERROR(IF(INDEX(HAMARA!I:I,MATCH(B4040,HAMARA!E:E,0))=0,\"\",INDEX(HAMARA!I:I,MATCH(B4040,HAMARA!E:E,0))),\"\")","v":""}]
[15482,"ZT214",0,{"$f":"IFERROR(IF(INDEX(HAMARA!I:I,MATCH(B4041,HAMARA!E:E,0))=0,\"\",INDEX(HAMARA!I:I,MATCH(B4041,HAMARA!E:E,0))),\"\")","v":""}]
[15482,"ZT215",4.6820000000000004,{"$f":"IFERROR(IF(INDEX(HAMARA!I:I,MATCH(B4042,HAMARA!E:E,0))=0,\"\",INDEX(HAMARA!I:I,MATCH(B4042,HAMARA!E:E,0))),\"\")","v":""}]
[15482,"ZT216",7.5590000000000002,{"$f":"IFERROR(IF(INDEX(HAMARA!I:I,MATCH(B4043,HAMARA!E:E,0))=0,\"\",INDEX(HAMARA!I:I,MATCH(B4043,HAMARA!E:E,0))),\"\")","v":""}]
[15482,"ZT217",0,{"$f":"IFERROR(IF(INDEX(HAMARA!I:I,MATCH(B4044,HAMARA!E:E,0))=0,\"\",INDEX(HAMARA!I:I,MATCH(B4044,HAMARA!E:E,0))),\"\")","v":""}]
[15482,"ZT218",0,{"$f":"IFERROR(IF(INDEX(HAMARA!I:I,MATCH(B4045,HAMARA!E:E,0))=0,\"\",INDEX(HAMARA!I:I,MATCH(B4045,HAMARA!E:E,0))),\"\")","v":""}]
[15482,"ZT219",1.732,{"$f":"IFERROR(IF(INDEX(HAMARA!I:I,MATCH(B4046,HAMARA!E:E,0))=0,\"\",INDEX(HAMARA!I:I,MATCH(B4046,HAMARA!E:E,0))),\"\")","v":""}]
[15482,"ZT220",1.046,{"$f":"IFERROR(IF(INDEX(HAMARA!I:I,MATCH(B4047,HAMARA!E:E,0))=0,\"\",INDEX(HAMARA!I:I,MATCH(B4047,HAMARA!E:E,0))),\"\")","v":""}]
[15482,"ZT221",0,{"$f":"IFERROR(IF(INDEX(HAMARA!I:I,MATCH(B4048,HAMARA!E:E,0))=0,\"\",INDEX(HAMARA!I:I,MATCH(B4048,HAMARA!E:E,0))),\"\")","v":""}]
[15482,"ZT222",0,{"$f":"IFERROR(IF(INDEX(HAMARA!I:I,MATCH(B4049,HAMARA!E:E,0))=0,\"\",INDEX(HAMARA!I:I,MATCH(B4049,HAMARA!E:E,0))),\"\")","v":""}]
[15482,"ZT223",0,{"$f":"IFERROR(IF(INDEX(HAMARA!I:I,MATCH(B4050,HAMARA!E:E,0))=0,\"\",INDEX(HAMARA!I:I,MATCH(B4050,HAMARA!E:E,0))),\"\")","v":""}]
[15482,"ZT224",0,{"$f":"IFERROR(IF(INDEX(HAMARA!I:I,MATCH(B4051,HAMARA!E:E,0))=0,\"\",INDEX(HAMARA!I:I,MATCH(B4051,HAMARA!E:E,0))),\"\")","v":""}]
[15482,"ZT225",0,{"$f":"IFERROR(IF(INDEX(HAMARA!I:I,MATCH(B4052,HAMARA!E:E,0))=0,\"\",INDEX(HAMARA!I:I,MATCH(B4052,HAMARA!E:E,0))),\"\")","v":""}]
[15482,"ZT226",0,{"$f":"IFERROR(IF(INDEX(HAMARA!I:I,MATCH(B4053,HAMARA!E:E,0))=0,\"\",INDEX(HAMARA!I:I,MATCH(B4053,HAMARA!E:E,0))),\"\")","v":""}]
[15482,"ZT227",0,{"$f":"IFERROR(IF(INDEX(HAMARA!I:I,MATCH(B4054,HAMARA!E:E,0))=0,\"\",INDEX(HAMARA!I:I,MATCH(B4054,HAMARA!E:E,0))),\"\")","v":""}]
[15482,"ZT228",0,{"$f":"IFERROR(IF(INDEX(HAMARA!I:I,MATCH(B4055,HAMARA!E:E,0))=0,\"\",INDEX(HAMARA!I:I,MATCH(B4055,HAMARA!E:E,0))),\"\")","v":""}]
[15482,"ZT229",0,{"$f":"IFERROR(IF(INDEX(HAMARA!I:I,MATCH(B4056,HAMARA!E:E,0))=0,\"\",INDEX(HAMARA!I:I,MATCH(B4056,HAMARA!E:E,0))),\"\")","v":""}]
[15482,"ZT230",0,{"$f":"IFERROR(IF(INDEX(HAMARA!I:I,MATCH(B4057,HAMARA!E:E,0))=0,\"\",INDEX(HAMARA!I:I,MATCH(B4057,HAMARA!E:E,0))),\"\")","v":""}]
[15482,"ZT301",0,{"$f":"IFERROR(IF(INDEX(HAMARA!I:I,MATCH(B4058,HAMARA!E:E,0))=0,\"\",INDEX(HAMARA!I:I,MATCH(B4058,HAMARA!E:E,0))),\"\")","v":""}]
[15482,"ZT302",0,{"$f":"IFERROR(IF(INDEX(HAMARA!I:I,MATCH(B4059,HAMARA!E:E,0))=0,\"\",INDEX(HAMARA!I:I,MATCH(B4059,HAMARA!E:E,0))),\"\")","v":""}]
[15482,"ZT303",0,{"$f":"IFERROR(IF(INDEX(HAMARA!I:I,MATCH(B4060,HAMARA!E:E,0))=0,\"\",INDEX(HAMARA!I:I,MATCH(B4060,HAMARA!E:E,0))),\"\")","v":""}]
[15482,"ZT304",0,{"$f":"IFERROR(IF(INDEX(HAMARA!I:I,MATCH(B4061,HAMARA!E:E,0))=0,\"\",INDEX(HAMARA!I:I,MATCH(B4061,HAMARA!E:E,0))),\"\")","v":""}]
[15482,"ZT305",0,{"$f":"IFERROR(IF(INDEX(HAMARA!I:I,MATCH(B4062,HAMARA!E:E,0))=0,\"\",INDEX(HAMARA!I:I,MATCH(B4062,HAMARA!E:E,0))),\"\")","v":""}]
[15482,"ZT306",0,{"$f":"IFERROR(IF(INDEX(HAMARA!I:I,MATCH(B4063,HAMARA!E:E,0))=0,\"\",INDEX(HAMARA!I:I,MATCH(B4063,HAMARA!E:E,0))),\"\")","v":""}]
[15482,"ZT307",0,{"$f":"IFERROR(IF(INDEX(HAMARA!I:I,MATCH(B4064,HAMARA!E:E,0))=0,\"\",INDEX(HAMARA!I:I,MATCH(B4064,HAMARA!E:E,0))),\"\")","v":""}]
[15482,"ZT308",0,{"$f":"IFERROR(IF(INDEX(HAMARA!I:I,MATCH(B4065,HAMARA!E:E,0))=0,\"\",INDEX(HAMARA!I:I,MATCH(B4065,HAMARA!E:E,0))),\"\")","v":""}]
[15482,"ZT309",0,{"$f":"IFERROR(IF(INDEX(HAMARA!I:I,MATCH(B4066,HAMARA!E:E,0))=0,\"\",INDEX(HAMARA!I:I,MATCH(B4066,HAMARA!E:E,0))),\"\")","v":""}]
[15482,"ZT310",0,{"$f":"IFERROR(IF(INDEX(HAMARA!I:I,MATCH(B4067,HAMARA!E:E,0))=0,\"\",INDEX(HAMARA!I:I,MATCH(B4067,HAMARA!E:E,0))),\"\")","v":""}]
[15482,"ZT311",0,{"$f":"IFERROR(IF(INDEX(HAMARA!I:I,MATCH(B4068,HAMARA!E:E,0))=0,\"\",INDEX(HAMARA!I:I,MATCH(B4068,HAMARA!E:E,0))),\"\")","v":""}]
[15482,"ZT312",0,{"$f":"IFERROR(IF(INDEX(HAMARA!I:I,MATCH(B4069,HAMARA!E:E,0))=0,\"\",INDEX(HAMARA!I:I,MATCH(B4069,HAMARA!E:E,0))),\"\")","v":""}]
[15482,"ZT313",0,{"$f":"IFERROR(IF(INDEX(HAMARA!I:I,MATCH(B4070,HAMARA!E:E,0))=0,\"\",INDEX(HAMARA!I:I,MATCH(B4070,HAMARA!E:E,0))),\"\")","v":""}]
[15482,"ZT314",0,{"$f":"IFERROR(IF(INDEX(HAMARA!I:I,MATCH(B4071,HAMARA!E:E,0))=0,\"\",INDEX(HAMARA!I:I,MATCH(B4071,HAMARA!E:E,0))),\"\")","v":""}]
[15482,"ZT315",0,{"$f":"IFERROR(IF(INDEX(HAMARA!I:I,MATCH(B4072,HAMARA!E:E,0))=0,\"\",INDEX(HAMARA!I:I,MATCH(B4072,HAMARA!E:E,0))),\"\")","v":""}]
[15482,"ZT316",0,{"$f":"IFERROR(IF(INDEX(HAMARA!I:I,MATCH(B4073,HAMARA!E:E,0))=0,\"\",INDEX(HAMARA!I:I,MATCH(B4073,HAMARA!E:E,0))),\"\")","v":""}]
[15482,"ZT317",0,{"$f":"IFERROR(IF(INDEX(HAMARA!I:I,MATCH(B4074,HAMARA!E:E,0))=0,\"\",INDEX(HAMARA!I:I,MATCH(B4074,HAMARA!E:E,0))),\"\")","v":""}]
[15482,"ZT318",0,{"$f":"IFERROR(IF(INDEX(HAMARA!I:I,MATCH(B4075,HAMARA!E:E,0))=0,\"\",INDEX(HAMARA!I:I,MATCH(B4075,HAMARA!E:E,0))),\"\")","v":""}]
[15482,"ZT319",0,{"$f":"IFERROR(IF(INDEX(HAMARA!I:I,MATCH(B4076,HAMARA!E:E,0))=0,\"\",INDEX(HAMARA!I:I,MATCH(B4076,HAMARA!E:E,0))),\"\")","v":""}]
[15482,"ZT320",0,{"$f":"IFERROR(IF(INDEX(HAMARA!I:I,MATCH(B4077,HAMARA!E:E,0))=0,\"\",INDEX(HAMARA!I:I,MATCH(B4077,HAMARA!E:E,0))),\"\")","v":""}]
[15482,"ZT321",0,{"$f":"IFERROR(IF(INDEX(HAMARA!I:I,MATCH(B4078,HAMARA!E:E,0))=0,\"\",INDEX(HAMARA!I:I,MATCH(B4078,HAMARA!E:E,0))),\"\")","v":""}]
[15482,"ZT322",0,{"$f":"IFERROR(IF(INDEX(HAMARA!I:I,MATCH(B4079,HAMARA!E:E,0))=0,\"\",INDEX(HAMARA!I:I,MATCH(B4079,HAMARA!E:E,0))),\"\")","v":""}]
[15482,"ZT323",0,{"$f":"IFERROR(IF(INDEX(HAMARA!I:I,MATCH(B4080,HAMARA!E:E,0))=0,\"\",INDEX(HAMARA!I:I,MATCH(B4080,HAMARA!E:E,0))),\"\")","v":""}]
[15482,"ZT324",0,{"$f":"IFERROR(IF(INDEX(HAMARA!I:I,MATCH(B4081,HAMARA!E:E,0))=0,\"\",INDEX(HAMARA!I:I,MATCH(B4081,HAMARA!E:E,0))),\"\")","v":""}]
[15482,"ZT325",0,{"$f":"IFERROR(IF(INDEX(HAMARA!I:I,MATCH(B4082,HAMARA!E:E,0))=0,\"\",INDEX(HAMARA!I:I,MATCH(B4082,HAMARA!E:E,0))),\"\")","v":""}]
[15482,"ZT326",0,{"$f":"IFERROR(IF(INDEX(HAMARA!I:I,MATCH(B4083,HAMARA!E:E,0))=0,\"\",INDEX(HAMARA!I:I,MATCH(B4083,HAMARA!E:E,0))),\"\")","v":""}]
[15482,"ZT327",0,{"$f":"IFERROR(IF(INDEX(HAMARA!I:I,MATCH(B4084,HAMARA!E:E,0))=0,\"\",INDEX(HAMARA!I:I,MATCH(B4084,HAMARA!E:E,0))),\"\")","v":""}]
[15482,"ZT328",0,{"$f":"IFERROR(IF(INDEX(HAMARA!I:I,MATCH(B4085,HAMARA!E:E,0))=0,\"\",INDEX(HAMARA!I:I,MATCH(B4085,HAMARA!E:E,0))),\"\")","v":""}]
[15482,"ZT329",0,{"$f":"IFERROR(IF(INDEX(HAMARA!I:I,MATCH(B4086,HAMARA!E:E,0))=0,\"\",INDEX(HAMARA!I:I,MATCH(B4086,HAMARA!E:E,0))),\"\")","v":""}]
[15482,"ZT330",0,{"$f":"IFERROR(IF(INDEX(HAMARA!I:I,MATCH(B4087,HAMARA!E:E,0))=0,\"\",INDEX(HAMARA!I:I,MATCH(B4087,HAMARA!E:E,0))),\"\")","v":""}]
[15482,"ZT401",0,{"$f":"IFERROR(IF(INDEX(HAMARA!I:I,MATCH(B4088,HAMARA!E:E,0))=0,\"\",INDEX(HAMARA!I:I,MATCH(B4088,HAMARA!E:E,0))),\"\")","v":""}]
[15482,"ZT402",0,{"$f":"IFERROR(IF(INDEX(HAMARA!I:I,MATCH(B4089,HAMARA!E:E,0))=0,\"\",INDEX(HAMARA!I:I,MATCH(B4089,HAMARA!E:E,0))),\"\")","v":""}]
[15482,"ZT403",0,{"$f":"IFERROR(IF(INDEX(HAMARA!I:I,MATCH(B4090,HAMARA!E:E,0))=0,\"\",INDEX(HAMARA!I:I,MATCH(B4090,HAMARA!E:E,0))),\"\")","v":""}]
[15482,"ZT404",0,{"$f":"IFERROR(IF(INDEX(HAMARA!I:I,MATCH(B4091,HAMARA!E:E,0))=0,\"\",INDEX(HAMARA!I:I,MATCH(B4091,HAMARA!E:E,0))),\"\")","v":""}]
[15482,"ZT405",0,{"$f":"IFERROR(IF(INDEX(HAMARA!I:I,MATCH(B4092,HAMARA!E:E,0))=0,\"\",INDEX(HAMARA!I:I,MATCH(B4092,HAMARA!E:E,0))),\"\")","v":""}]
[15482,"ZT406",0,{"$f":"IFERROR(IF(INDEX(HAMARA!I:I,MATCH(B4093,HAMARA!E:E,0))=0,\"\",INDEX(HAMARA!I:I,MATCH(B4093,HAMARA!E:E,0))),\"\")","v":""}]
[15482,"ZT407",0,{"$f":"IFERROR(IF(INDEX(HAMARA!I:I,MATCH(B4094,HAMARA!E:E,0))=0,\"\",INDEX(HAMARA!I:I,MATCH(B4094,HAMARA!E:E,0))),\"\")","v":""}]
[15482,"ZT408",0,{"$f":"IFERROR(IF(INDEX(HAMARA!I:I,MATCH(B4095,HAMARA!E:E,0))=0,\"\",INDEX(HAMARA!I:I,MATCH(B4095,HAMARA!E:E,0))),\"\")","v":""}]
[15482,"ZT409",0.34799999999999998,{"$f":"IFERROR(IF(INDEX(HAMARA!I:I,MATCH(B4096,HAMARA!E:E,0))=0,\"\",INDEX(HAMARA!I:I,MATCH(B4096,HAMARA!E:E,0))),\"\")","v":""}]
[15482,"ZT410",0,{"$f":"IFERROR(IF(INDEX(HAMARA!I:I,MATCH(B4097,HAMARA!E:E,0))=0,\"\",INDEX(HAMARA!I:I,MATCH(B4097,HAMARA!E:E,0))),\"\")","v":""}]
[15482,"ZT411",0,{"$f":"IFERROR(IF(INDEX(HAMARA!I:I,MATCH(B4098,HAMARA!E:E,0))=0,\"\",INDEX(HAMARA!I:I,MATCH(B4098,HAMARA!E:E,0))),\"\")","v":""}]
[15482,"ZT412",0,{"$f":"IFERROR(IF(INDEX(HAMARA!I:I,MATCH(B4099,HAMARA!E:E,0))=0,\"\",INDEX(HAMARA!I:I,MATCH(B4099,HAMARA!E:E,0))),\"\")","v":""}]
[15482,"ZT413",0,{"$f":"IFERROR(IF(INDEX(HAMARA!I:I,MATCH(B4100,HAMARA!E:E,0))=0,\"\",INDEX(HAMARA!I:I,MATCH(B4100,HAMARA!E:E,0))),\"\")","v":""}]
[15482,"ZT414",0,{"$f":"IFERROR(IF(INDEX(HAMARA!I:I,MATCH(B4101,HAMARA!E:E,0))=0,\"\",INDEX(HAMARA!I:I,MATCH(B4101,HAMARA!E:E,0))),\"\")","v":""}]
[15482,"ZT415",0,{"$f":"IFERROR(IF(INDEX(HAMARA!I:I,MATCH(B4102,HAMARA!E:E,0))=0,\"\",INDEX(HAMARA!I:I,MATCH(B4102,HAMARA!E:E,0))),\"\")","v":""}]
[15482,"ZT416",0,{"$f":"IFERROR(IF(INDEX(HAMARA!I:I,MATCH(B4103,HAMARA!E:E,0))=0,\"\",INDEX(HAMARA!I:I,MATCH(B4103,HAMARA!E:E,0))),\"\")","v":""}]
[15482,"ZT417",0,{"$f":"IFERROR(IF(INDEX(HAMARA!I:I,MATCH(B4104,HAMARA!E:E,0))=0,\"\",INDEX(HAMARA!I:I,MATCH(B4104,HAMARA!E:E,0))),\"\")","v":""}]
[15482,"ZT418",0,{"$f":"IFERROR(IF(INDEX(HAMARA!I:I,MATCH(B4105,HAMARA!E:E,0))=0,\"\",INDEX(HAMARA!I:I,MATCH(B4105,HAMARA!E:E,0))),\"\")","v":""}]
[15482,"ZT419",0,{"$f":"IFERROR(IF(INDEX(HAMARA!I:I,MATCH(B4106,HAMARA!E:E,0))=0,\"\",INDEX(HAMARA!I:I,MATCH(B4106,HAMARA!E:E,0))),\"\")","v":""}]
[15482,"ZT420",0,{"$f":"IFERROR(IF(INDEX(HAMARA!I:I,MATCH(B4107,HAMARA!E:E,0))=0,\"\",INDEX(HAMARA!I:I,MATCH(B4107,HAMARA!E:E,0))),\"\")","v":""}]
[15482,"ZT421",0,{"$f":"IFERROR(IF(INDEX(HAMARA!I:I,MATCH(B4108,HAMARA!E:E,0))=0,\"\",INDEX(HAMARA!I:I,MATCH(B4108,HAMARA!E:E,0))),\"\")","v":""}]
[15482,"ZT422",0,{"$f":"IFERROR(IF(INDEX(HAMARA!I:I,MATCH(B4109,HAMARA!E:E,0))=0,\"\",INDEX(HAMARA!I:I,MATCH(B4109,HAMARA!E:E,0))),\"\")","v":""}]
[15482,"ZT423",0,{"$f":"IFERROR(IF(INDEX(HAMARA!I:I,MATCH(B4110,HAMARA!E:E,0))=0,\"\",INDEX(HAMARA!I:I,MATCH(B4110,HAMARA!E:E,0))),\"\")","v":""}]
[15482,"ZT424",0,{"$f":"IFERROR(IF(INDEX(HAMARA!I:I,MATCH(B4111,HAMARA!E:E,0))=0,\"\",INDEX(HAMARA!I:I,MATCH(B4111,HAMARA!E:E,0))),\"\")","v":""}]
[15482,"ZT425",0,{"$f":"IFERROR(IF(INDEX(HAMARA!I:I,MATCH(B4112,HAMARA!E:E,0))=0,\"\",INDEX(HAMARA!I:I,MATCH(B4112,HAMARA!E:E,0))),\"\")","v":""}]
[15482,"ZT426",0,{"$f":"IFERROR(IF(INDEX(HAMARA!I:I,MATCH(B4113,HAMARA!E:E,0))=0,\"\",INDEX(HAMARA!I:I,MATCH(B4113,HAMARA!E:E,0))),\"\")","v":""}]
[15482,"ZT427",0,{"$f":"IFERROR(IF(INDEX(HAMARA!I:I,MATCH(B4114,HAMARA!E:E,0))=0,\"\",INDEX(HAMARA!I:I,MATCH(B4114,HAMARA!E:E,0))),\"\")","v":""}]
[15482,"ZT428",0,{"$f":"IFERROR(IF(INDEX(HAMARA!I:I,MATCH(B4115,HAMARA!E:E,0))=0,\"\",INDEX(HAMARA!I:I,MATCH(B4115,HAMARA!E:E,0))),\"\")","v":""}]
[15482,"ZT429",0,{"$f":"IFERROR(IF(INDEX(HAMARA!I:I,MATCH(B4116,HAMARA!E:E,0))=0,\"\",INDEX(HAMARA!I:I,MATCH(B4116,HAMARA!E:E,0))),\"\")","v":""}]
[15482,"ZT430",0,{"$f":"IFERROR(IF(INDEX(HAMARA!I:I,MATCH(B4117,HAMARA!E:E,0))=0,\"\",INDEX(HAMARA!I:I,MATCH(B4117,HAMARA!E:E,0))),\"\")","v":""}]
[15482,"ZT501",0,{"$f":"IFERROR(IF(INDEX(HAMARA!I:I,MATCH(B4118,HAMARA!E:E,0))=0,\"\",INDEX(HAMARA!I:I,MATCH(B4118,HAMARA!E:E,0))),\"\")","v":""}]
[15482,"ZT502",0,{"$f":"IFERROR(IF(INDEX(HAMARA!I:I,MATCH(B4119,HAMARA!E:E,0))=0,\"\",INDEX(HAMARA!I:I,MATCH(B4119,HAMARA!E:E,0))),\"\")","v":""}]
[15482,"ZT503",0,{"$f":"IFERROR(IF(INDEX(HAMARA!I:I,MATCH(B4120,HAMARA!E:E,0))=0,\"\",INDEX(HAMARA!I:I,MATCH(B4120,HAMARA!E:E,0))),\"\")","v":""}]
[15482,"ZT504",0,{"$f":"IFERROR(IF(INDEX(HAMARA!I:I,MATCH(B4121,HAMARA!E:E,0))=0,\"\",INDEX(HAMARA!I:I,MATCH(B4121,HAMARA!E:E,0))),\"\")","v":""}]
[15482,"ZT505",0.307,{"$f":"IFERROR(IF(INDEX(HAMARA!I:I,MATCH(B4122,HAMARA!E:E,0))=0,\"\",INDEX(HAMARA!I:I,MATCH(B4122,HAMARA!E:E,0))),\"\")","v":""}]
[15482,"ZT506",0,{"$f":"IFERROR(IF(INDEX(HAMARA!I:I,MATCH(B4123,HAMARA!E:E,0))=0,\"\",INDEX(HAMARA!I:I,MATCH(B4123,HAMARA!E:E,0))),\"\")","v":""}]
[15482,"ZT507",0,{"$f":"IFERROR(IF(INDEX(HAMARA!I:I,MATCH(B4124,HAMARA!E:E,0))=0,\"\",INDEX(HAMARA!I:I,MATCH(B4124,HAMARA!E:E,0))),\"\")","v":""}]
[15482,"ZT508",2.7E-2,{"$f":"IFERROR(IF(INDEX(HAMARA!I:I,MATCH(B4125,HAMARA!E:E,0))=0,\"\",INDEX(HAMARA!I:I,MATCH(B4125,HAMARA!E:E,0))),\"\")","v":""}]
[15482,"ZT509",-0.97599999999999998,{"$f":"IFERROR(IF(INDEX(HAMARA!I:I,MATCH(B4126,HAMARA!E:E,0))=0,\"\",INDEX(HAMARA!I:I,MATCH(B4126,HAMARA!E:E,0))),\"\")","v":""}]
[15482,"ZT510",0,{"$f":"IFERROR(IF(INDEX(HAMARA!I:I,MATCH(B4127,HAMARA!E:E,0))=0,\"\",INDEX(HAMARA!I:I,MATCH(B4127,HAMARA!E:E,0))),\"\")","v":""}]
[15482,"ZT511",0,{"$f":"IFERROR(IF(INDEX(HAMARA!I:I,MATCH(B4128,HAMARA!E:E,0))=0,\"\",INDEX(HAMARA!I:I,MATCH(B4128,HAMARA!E:E,0))),\"\")","v":""}]
[15482,"ZT512",-1.431,{"$f":"IFERROR(IF(INDEX(HAMARA!I:I,MATCH(B4129,HAMARA!E:E,0))=0,\"\",INDEX(HAMARA!I:I,MATCH(B4129,HAMARA!E:E,0))),\"\")","v":""}]
[15482,"ZT513",0,{"$f":"IFERROR(IF(INDEX(HAMARA!I:I,MATCH(B4130,HAMARA!E:E,0))=0,\"\",INDEX(HAMARA!I:I,MATCH(B4130,HAMARA!E:E,0))),\"\")","v":""}]
[15482,"ZT514",0,{"$f":"IFERROR(IF(INDEX(HAMARA!I:I,MATCH(B4131,HAMARA!E:E,0))=0,\"\",INDEX(HAMARA!I:I,MATCH(B4131,HAMARA!E:E,0))),\"\")","v":""}]
[15482,"ZT515",2.1110000000000002,{"$f":"IFERROR(IF(INDEX(HAMARA!I:I,MATCH(B4132,HAMARA!E:E,0))=0,\"\",INDEX(HAMARA!I:I,MATCH(B4132,HAMARA!E:E,0))),\"\")","v":""}]
[15482,"ZT516",-4.5999999999999999E-2,{"$f":"IFERROR(IF(INDEX(HAMARA!I:I,MATCH(B4133,HAMARA!E:E,0))=0,\"\",INDEX(HAMARA!I:I,MATCH(B4133,HAMARA!E:E,0))),\"\")","v":""}]
[15482,"ZT517",0,{"$f":"IFERROR(IF(INDEX(HAMARA!I:I,MATCH(B4134,HAMARA!E:E,0))=0,\"\",INDEX(HAMARA!I:I,MATCH(B4134,HAMARA!E:E,0))),\"\")","v":""}]
[15482,"ZT518",0,{"$f":"IFERROR(IF(INDEX(HAMARA!I:I,MATCH(B4135,HAMARA!E:E,0))=0,\"\",INDEX(HAMARA!I:I,MATCH(B4135,HAMARA!E:E,0))),\"\")","v":""}]
[15482,"ZT519",0.39700000000000002,{"$f":"IFERROR(IF(INDEX(HAMARA!I:I,MATCH(B4136,HAMARA!E:E,0))=0,\"\",INDEX(HAMARA!I:I,MATCH(B4136,HAMARA!E:E,0))),\"\")","v":""}]
[15482,"ZT520",0.40300000000000002,{"$f":"IFERROR(IF(INDEX(HAMARA!I:I,MATCH(B4137,HAMARA!E:E,0))=0,\"\",INDEX(HAMARA!I:I,MATCH(B4137,HAMARA!E:E,0))),\"\")","v":""}]
[15482,"ZT521",-0.14399999999999999,{"$f":"IFERROR(IF(INDEX(HAMARA!I:I,MATCH(B4138,HAMARA!E:E,0))=0,\"\",INDEX(HAMARA!I:I,MATCH(B4138,HAMARA!E:E,0))),\"\")","v":""}]
[15482,"ZT522",3.9E-2,{"$f":"IFERROR(IF(INDEX(HAMARA!I:I,MATCH(B4139,HAMARA!E:E,0))=0,\"\",INDEX(HAMARA!I:I,MATCH(B4139,HAMARA!E:E,0))),\"\")","v":""}]
[15482,"ZT523",7.0000000000000001E-3,{"$f":"IFERROR(IF(INDEX(HAMARA!I:I,MATCH(B4140,HAMARA!E:E,0))=0,\"\",INDEX(HAMARA!I:I,MATCH(B4140,HAMARA!E:E,0))),\"\")","v":""}]
[15482,"ZT524",0,{"$f":"IFERROR(IF(INDEX(HAMARA!I:I,MATCH(B4141,HAMARA!E:E,0))=0,\"\",INDEX(HAMARA!I:I,MATCH(B4141,HAMARA!E:E,0))),\"\")","v":""}]
[15482,"ZT525",0,{"$f":"IFERROR(IF(INDEX(HAMARA!I:I,MATCH(B4142,HAMARA!E:E,0))=0,\"\",INDEX(HAMARA!I:I,MATCH(B4142,HAMARA!E:E,0))),\"\")","v":""}]
[15482,"ZT526",0.47199999999999998,{"$f":"IFERROR(IF(INDEX(HAMARA!I:I,MATCH(B4143,HAMARA!E:E,0))=0,\"\",INDEX(HAMARA!I:I,MATCH(B4143,HAMARA!E:E,0))),\"\")","v":""}]
[15482,"ZT527",0.255,{"$f":"IFERROR(IF(INDEX(HAMARA!I:I,MATCH(B4144,HAMARA!E:E,0))=0,\"\",INDEX(HAMARA!I:I,MATCH(B4144,HAMARA!E:E,0))),\"\")","v":""}]
[15482,"ZT528",0.218,{"$f":"IFERROR(IF(INDEX(HAMARA!I:I,MATCH(B4145,HAMARA!E:E,0))=0,\"\",INDEX(HAMARA!I:I,MATCH(B4145,HAMARA!E:E,0))),\"\")","v":""}]
[15482,"ZT529",8.5999999999999993E-2,{"$f":"IFERROR(IF(INDEX(HAMARA!I:I,MATCH(B4146,HAMARA!E:E,0))=0,\"\",INDEX(HAMARA!I:I,MATCH(B4146,HAMARA!E:E,0))),\"\")","v":""}]
[15482,"ZT530",-0.46500000000000002,{"$f":"IFERROR(IF(INDEX(HAMARA!I:I,MATCH(B4147,HAMARA!E:E,0))=0,\"\",INDEX(HAMARA!I:I,MATCH(B4147,HAMARA!E:E,0))),\"\")","v":""}]
[15482,"KT650",52547476503,{"$f":"IFERROR(IF(INDEX(HAMARA!I:I,MATCH(B4148,HAMARA!E:E,0))=0,\"\",INDEX(HAMARA!I:I,MATCH(B4148,HAMARA!E:E,0))),\"\")","v":""}]
[15482,"KT651",61236141301,{"$f":"IFERROR(IF(INDEX(HAMARA!I:I,MATCH(B4149,HAMARA!E:E,0))=0,\"\",INDEX(HAMARA!I:I,MATCH(B4149,HAMARA!E:E,0))),\"\")","v":""}]
[15482,"FT650",520018078,{"$f":"IFERROR(IF(INDEX(HAMARA!I:I,MATCH(B4150,HAMARA!E:E,0))=0,\"\",INDEX(HAMARA!I:I,MATCH(B4150,HAMARA!E:E,0))),\"\")","v":""}]
[15482,"FT651",520018078,{"$f":"IFERROR(IF(INDEX(HAMARA!I:I,MATCH(B4151,HAMARA!E:E,0))=0,\"\",INDEX(HAMARA!I:I,MATCH(B4151,HAMARA!E:E,0))),\"\")","v":""}]
[15482,"KT770",5,{"$f":"IFERROR(IF(INDEX(HAMARA!I:I,MATCH(B4152,HAMARA!E:E,0))=0,\"\",INDEX(HAMARA!I:I,MATCH(B4152,HAMARA!E:E,0))),\"\")","v":""}]
[15482,"KT771",8,{"$f":"IFERROR(IF(INDEX(HAMARA!I:I,MATCH(B4153,HAMARA!E:E,0))=0,\"\",INDEX(HAMARA!I:I,MATCH(B4153,HAMARA!E:E,0))),\"\")","v":""}]
[15482,"KT772",0,{"$f":"IFERROR(IF(INDEX(HAMARA!I:I,MATCH(B4154,HAMARA!E:E,0))=0,\"\",INDEX(HAMARA!I:I,MATCH(B4154,HAMARA!E:E,0))),\"\")","v":""}]
[15482,"KT773",0,{"$f":"IFERROR(IF(INDEX(HAMARA!I:I,MATCH(B4155,HAMARA!E:E,0))=0,\"\",INDEX(HAMARA!I:I,MATCH(B4155,HAMARA!E:E,0))),\"\")","v":""}]
[15482,"KT774",0,{"$f":"IFERROR(IF(INDEX(HAMARA!I:I,MATCH(B4156,HAMARA!E:E,0))=0,\"\",INDEX(HAMARA!I:I,MATCH(B4156,HAMARA!E:E,0))),\"\")","v":""}]
[15482,"KT775",0,{"$f":"IFERROR(IF(INDEX(HAMARA!I:I,MATCH(B4157,HAMARA!E:E,0))=0,\"\",INDEX(HAMARA!I:I,MATCH(B4157,HAMARA!E:E,0))),\"\")","v":""}]
[15482,"KT776",0,{"$f":"IFERROR(IF(INDEX(HAMARA!I:I,MATCH(B4158,HAMARA!E:E,0))=0,\"\",INDEX(HAMARA!I:I,MATCH(B4158,HAMARA!E:E,0))),\"\")","v":""}]
[15482,"KT777",0,{"$f":"IFERROR(IF(INDEX(HAMARA!I:I,MATCH(B4159,HAMARA!E:E,0))=0,\"\",INDEX(HAMARA!I:I,MATCH(B4159,HAMARA!E:E,0))),\"\")","v":""}]
[15482,"KT778",0,{"$f":"IFERROR(IF(INDEX(HAMARA!I:I,MATCH(B4160,HAMARA!E:E,0))=0,\"\",INDEX(HAMARA!I:I,MATCH(B4160,HAMARA!E:E,0))),\"\")","v":""}]
[15482,"KT779",0,{"$f":"IFERROR(IF(INDEX(HAMARA!I:I,MATCH(B4161,HAMARA!E:E,0))=0,\"\",INDEX(HAMARA!I:I,MATCH(B4161,HAMARA!E:E,0))),\"\")","v":""}]
[15482,"KT780",0,{"$f":"IFERROR(IF(INDEX(HAMARA!I:I,MATCH(B4162,HAMARA!E:E,0))=0,\"\",INDEX(HAMARA!I:I,MATCH(B4162,HAMARA!E:E,0))),\"\")","v":""}]
[15482,"KT781",0,{"$f":"IFERROR(IF(INDEX(HAMARA!I:I,MATCH(B4163,HAMARA!E:E,0))=0,\"\",INDEX(HAMARA!I:I,MATCH(B4163,HAMARA!E:E,0))),\"\")","v":""}]
[15482,"KT782",0,{"$f":"IFERROR(IF(INDEX(HAMARA!I:I,MATCH(B4164,HAMARA!E:E,0))=0,\"\",INDEX(HAMARA!I:I,MATCH(B4164,HAMARA!E:E,0))),\"\")","v":""}]
[15482,"KT783",0,{"$f":"IFERROR(IF(INDEX(HAMARA!I:I,MATCH(B4165,HAMARA!E:E,0))=0,\"\",INDEX(HAMARA!I:I,MATCH(B4165,HAMARA!E:E,0))),\"\")","v":""}]
[15482,"KT784",0,{"$f":"IFERROR(IF(INDEX(HAMARA!I:I,MATCH(B4166,HAMARA!E:E,0))=0,\"\",INDEX(HAMARA!I:I,MATCH(B4166,HAMARA!E:E,0))),\"\")","v":""}]
[15482,"KT785",0,{"$f":"IFERROR(IF(INDEX(HAMARA!I:I,MATCH(B4167,HAMARA!E:E,0))=0,\"\",INDEX(HAMARA!I:I,MATCH(B4167,HAMARA!E:E,0))),\"\")","v":""}]
[15482,"KT786",0,{"$f":"IFERROR(IF(INDEX(HAMARA!I:I,MATCH(B4168,HAMARA!E:E,0))=0,\"\",INDEX(HAMARA!I:I,MATCH(B4168,HAMARA!E:E,0))),\"\")","v":""}]
[15482,"KT787",0,{"$f":"IFERROR(IF(INDEX(HAMARA!I:I,MATCH(B4169,HAMARA!E:E,0))=0,\"\",INDEX(HAMARA!I:I,MATCH(B4169,HAMARA!E:E,0))),\"\")","v":""}]
[15482,"KT788",0,{"$f":"IFERROR(IF(INDEX(HAMARA!I:I,MATCH(B4170,HAMARA!E:E,0))=0,\"\",INDEX(HAMARA!I:I,MATCH(B4170,HAMARA!E:E,0))),\"\")","v":""}]
[15482,"KT789",0,{"$f":"IFERROR(IF(INDEX(HAMARA!I:I,MATCH(B4171,HAMARA!E:E,0))=0,\"\",INDEX(HAMARA!I:I,MATCH(B4171,HAMARA!E:E,0))),\"\")","v":""}]
[15482,"KT790",0,{"$f":"IFERROR(IF(INDEX(HAMARA!I:I,MATCH(B4172,HAMARA!E:E,0))=0,\"\",INDEX(HAMARA!I:I,MATCH(B4172,HAMARA!E:E,0))),\"\")","v":""}]
[15482,"KT791",0,{"$f":"IFERROR(IF(INDEX(HAMARA!I:I,MATCH(B4173,HAMARA!E:E,0))=0,\"\",INDEX(HAMARA!I:I,MATCH(B4173,HAMARA!E:E,0))),\"\")","v":""}]
[15482,"KT792",0,{"$f":"IFERROR(IF(INDEX(HAMARA!I:I,MATCH(B4174,HAMARA!E:E,0))=0,\"\",INDEX(HAMARA!I:I,MATCH(B4174,HAMARA!E:E,0))),\"\")","v":""}]
[15482,"KT793",0,{"$f":"IFERROR(IF(INDEX(HAMARA!I:I,MATCH(B4175,HAMARA!E:E,0))=0,\"\",INDEX(HAMARA!I:I,MATCH(B4175,HAMARA!E:E,0))),\"\")","v":""}]
[15482,"KT794",0,{"$f":"IFERROR(IF(INDEX(HAMARA!I:I,MATCH(B4176,HAMARA!E:E,0))=0,\"\",INDEX(HAMARA!I:I,MATCH(B4176,HAMARA!E:E,0))),\"\")","v":""}]
[15482,"KT795",0,{"$f":"IFERROR(IF(INDEX(HAMARA!I:I,MATCH(B4177,HAMARA!E:E,0))=0,\"\",INDEX(HAMARA!I:I,MATCH(B4177,HAMARA!E:E,0))),\"\")","v":""}]
[15482,"KT796",0,{"$f":"IFERROR(IF(INDEX(HAMARA!I:I,MATCH(B4178,HAMARA!E:E,0))=0,\"\",INDEX(HAMARA!I:I,MATCH(B4178,HAMARA!E:E,0))),\"\")","v":""}]
[15482,"KT797",0,{"$f":"IFERROR(IF(INDEX(HAMARA!I:I,MATCH(B4179,HAMARA!E:E,0))=0,\"\",INDEX(HAMARA!I:I,MATCH(B4179,HAMARA!E:E,0))),\"\")","v":""}]
[15482,"KT798",0,{"$f":"IFERROR(IF(INDEX(HAMARA!I:I,MATCH(B4180,HAMARA!E:E,0))=0,\"\",INDEX(HAMARA!I:I,MATCH(B4180,HAMARA!E:E,0))),\"\")","v":""}]
[15482,"KT799",0,{"$f":"IFERROR(IF(INDEX(HAMARA!I:I,MATCH(B4181,HAMARA!E:E,0))=0,\"\",INDEX(HAMARA!I:I,MATCH(B4181,HAMARA!E:E,0))),\"\")","v":""}]
[15482,"KT840",0,{"$f":"IFERROR(IF(INDEX(HAMARA!I:I,MATCH(B4182,HAMARA!E:E,0))=0,\"\",INDEX(HAMARA!I:I,MATCH(B4182,HAMARA!E:E,0))),\"\")","v":""}]
[15482,"KT841",0,{"$f":"IFERROR(IF(INDEX(HAMARA!I:I,MATCH(B4183,HAMARA!E:E,0))=0,\"\",INDEX(HAMARA!I:I,MATCH(B4183,HAMARA!E:E,0))),\"\")","v":""}]
[15482,"KT842",0,{"$f":"IFERROR(IF(INDEX(HAMARA!I:I,MATCH(B4184,HAMARA!E:E,0))=0,\"\",INDEX(HAMARA!I:I,MATCH(B4184,HAMARA!E:E,0))),\"\")","v":""}]
[15482,"KT843",0,{"$f":"IFERROR(IF(INDEX(HAMARA!I:I,MATCH(B4185,HAMARA!E:E,0))=0,\"\",INDEX(HAMARA!I:I,MATCH(B4185,HAMARA!E:E,0))),\"\")","v":""}]
[15482,"KT844",0,{"$f":"IFERROR(IF(INDEX(HAMARA!I:I,MATCH(B4186,HAMARA!E:E,0))=0,\"\",INDEX(HAMARA!I:I,MATCH(B4186,HAMARA!E:E,0))),\"\")","v":""}]
[15482,"KT845",0,{"$f":"IFERROR(IF(INDEX(HAMARA!I:I,MATCH(B4187,HAMARA!E:E,0))=0,\"\",INDEX(HAMARA!I:I,MATCH(B4187,HAMARA!E:E,0))),\"\")","v":""}]
[15482,"KT846",0,{"$f":"IFERROR(IF(INDEX(HAMARA!I:I,MATCH(B4188,HAMARA!E:E,0))=0,\"\",INDEX(HAMARA!I:I,MATCH(B4188,HAMARA!E:E,0))),\"\")","v":""}]
[15482,"KT847",0,{"$f":"IFERROR(IF(INDEX(HAMARA!I:I,MATCH(B4189,HAMARA!E:E,0))=0,\"\",INDEX(HAMARA!I:I,MATCH(B4189,HAMARA!E:E,0))),\"\")","v":""}]
[15482,"KT848",0,{"$f":"IFERROR(IF(INDEX(HAMARA!I:I,MATCH(B4190,HAMARA!E:E,0))=0,\"\",INDEX(HAMARA!I:I,MATCH(B4190,HAMARA!E:E,0))),\"\")","v":""}]
[15482,"KT849",0,{"$f":"IFERROR(IF(INDEX(HAMARA!I:I,MATCH(B4191,HAMARA!E:E,0))=0,\"\",INDEX(HAMARA!I:I,MATCH(B4191,HAMARA!E:E,0))),\"\")","v":""}]
[15482,"KT880",0,{"$f":"IFERROR(IF(INDEX(HAMARA!I:I,MATCH(B4192,HAMARA!E:E,0))=0,\"\",INDEX(HAMARA!I:I,MATCH(B4192,HAMARA!E:E,0))),\"\")","v":""}]
[15482,"KT881",0,{"$f":"IFERROR(IF(INDEX(HAMARA!I:I,MATCH(B4193,HAMARA!E:E,0))=0,\"\",INDEX(HAMARA!I:I,MATCH(B4193,HAMARA!E:E,0))),\"\")","v":""}]
[15482,"KT882",0,{"$f":"IFERROR(IF(INDEX(HAMARA!I:I,MATCH(B4194,HAMARA!E:E,0))=0,\"\",INDEX(HAMARA!I:I,MATCH(B4194,HAMARA!E:E,0))),\"\")","v":""}]
[15482,"KT883",0,{"$f":"IFERROR(IF(INDEX(HAMARA!I:I,MATCH(B4195,HAMARA!E:E,0))=0,\"\",INDEX(HAMARA!I:I,MATCH(B4195,HAMARA!E:E,0))),\"\")","v":""}]
[15482,"KT884",0,{"$f":"IFERROR(IF(INDEX(HAMARA!I:I,MATCH(B4196,HAMARA!E:E,0))=0,\"\",INDEX(HAMARA!I:I,MATCH(B4196,HAMARA!E:E,0))),\"\")","v":""}]
[15482,"KT885",0,{"$f":"IFERROR(IF(INDEX(HAMARA!I:I,MATCH(B4197,HAMARA!E:E,0))=0,\"\",INDEX(HAMARA!I:I,MATCH(B4197,HAMARA!E:E,0))),\"\")","v":""}]
[15482,"KT886",0,{"$f":"IFERROR(IF(INDEX(HAMARA!I:I,MATCH(B4198,HAMARA!E:E,0))=0,\"\",INDEX(HAMARA!I:I,MATCH(B4198,HAMARA!E:E,0))),\"\")","v":""}]
[15482,"KT887",0,{"$f":"IFERROR(IF(INDEX(HAMARA!I:I,MATCH(B4199,HAMARA!E:E,0))=0,\"\",INDEX(HAMARA!I:I,MATCH(B4199,HAMARA!E:E,0))),\"\")","v":""}]
[15482,"KT888",0,{"$f":"IFERROR(IF(INDEX(HAMARA!I:I,MATCH(B4200,HAMARA!E:E,0))=0,\"\",INDEX(HAMARA!I:I,MATCH(B4200,HAMARA!E:E,0))),\"\")","v":""}]
[15482,"KT889",0,{"$f":"IFERROR(IF(INDEX(HAMARA!I:I,MATCH(B4201,HAMARA!E:E,0))=0,\"\",INDEX(HAMARA!I:I,MATCH(B4201,HAMARA!E:E,0))),\"\")","v":""}]
[15482,"KT890",0,{"$f":"IFERROR(IF(INDEX(HAMARA!I:I,MATCH(B4202,HAMARA!E:E,0))=0,\"\",INDEX(HAMARA!I:I,MATCH(B4202,HAMARA!E:E,0))),\"\")","v":""}]
[15482,"KT891",0,{"$f":"IFERROR(IF(INDEX(HAMARA!I:I,MATCH(B4203,HAMARA!E:E,0))=0,\"\",INDEX(HAMARA!I:I,MATCH(B4203,HAMARA!E:E,0))),\"\")","v":""}]
[15482,"KT892",0,{"$f":"IFERROR(IF(INDEX(HAMARA!I:I,MATCH(B4204,HAMARA!E:E,0))=0,\"\",INDEX(HAMARA!I:I,MATCH(B4204,HAMARA!E:E,0))),\"\")","v":""}]
[15482,"KT893",0,{"$f":"IFERROR(IF(INDEX(HAMARA!I:I,MATCH(B4205,HAMARA!E:E,0))=0,\"\",INDEX(HAMARA!I:I,MATCH(B4205,HAMARA!E:E,0))),\"\")","v":""}]
[15482,"KT894",0,{"$f":"IFERROR(IF(INDEX(HAMARA!I:I,MATCH(B4206,HAMARA!E:E,0))=0,\"\",INDEX(HAMARA!I:I,MATCH(B4206,HAMARA!E:E,0))),\"\")","v":""}]
[15482,"KT895",0,{"$f":"IFERROR(IF(INDEX(HAMARA!I:I,MATCH(B4207,HAMARA!E:E,0))=0,\"\",INDEX(HAMARA!I:I,MATCH(B4207,HAMARA!E:E,0))),\"\")","v":""}]
[15482,"KT896",0,{"$f":"IFERROR(IF(INDEX(HAMARA!I:I,MATCH(B4208,HAMARA!E:E,0))=0,\"\",INDEX(HAMARA!I:I,MATCH(B4208,HAMARA!E:E,0))),\"\")","v":""}]
[15482,"KT897",0,{"$f":"IFERROR(IF(INDEX(HAMARA!I:I,MATCH(B4209,HAMARA!E:E,0))=0,\"\",INDEX(HAMARA!I:I,MATCH(B4209,HAMARA!E:E,0))),\"\")","v":""}]
[15482,"KT898",0,{"$f":"IFERROR(IF(INDEX(HAMARA!I:I,MATCH(B4210,HAMARA!E:E,0))=0,\"\",INDEX(HAMARA!I:I,MATCH(B4210,HAMARA!E:E,0))),\"\")","v":""}]
[15482,"KT899",0,{"$f":"IFERROR(IF(INDEX(HAMARA!I:I,MATCH(B4211,HAMARA!E:E,0))=0,\"\",INDEX(HAMARA!I:I,MATCH(B4211,HAMARA!E:E,0))),\"\")","v":""}]
[15482,"KT800",0,{"$f":"IFERROR(IF(INDEX(HAMARA!I:I,MATCH(B4212,HAMARA!E:E,0))=0,\"\",INDEX(HAMARA!I:I,MATCH(B4212,HAMARA!E:E,0))),\"\")","v":""}]
[15482,"KT801",0,{"$f":"IFERROR(IF(INDEX(HAMARA!I:I,MATCH(B4213,HAMARA!E:E,0))=0,\"\",INDEX(HAMARA!I:I,MATCH(B4213,HAMARA!E:E,0))),\"\")","v":""}]
[15482,"KT802",0,{"$f":"IFERROR(IF(INDEX(HAMARA!I:I,MATCH(B4214,HAMARA!E:E,0))=0,\"\",INDEX(HAMARA!I:I,MATCH(B4214,HAMARA!E:E,0))),\"\")","v":""}]
[15482,"KT803",0,{"$f":"IFERROR(IF(INDEX(HAMARA!I:I,MATCH(B4215,HAMARA!E:E,0))=0,\"\",INDEX(HAMARA!I:I,MATCH(B4215,HAMARA!E:E,0))),\"\")","v":""}]
[15482,"KT804",0,{"$f":"IFERROR(IF(INDEX(HAMARA!I:I,MATCH(B4216,HAMARA!E:E,0))=0,\"\",INDEX(HAMARA!I:I,MATCH(B4216,HAMARA!E:E,0))),\"\")","v":""}]
[15482,"KT805",0,{"$f":"IFERROR(IF(INDEX(HAMARA!I:I,MATCH(B4217,HAMARA!E:E,0))=0,\"\",INDEX(HAMARA!I:I,MATCH(B4217,HAMARA!E:E,0))),\"\")","v":""}]
[15482,"KT806",0,{"$f":"IFERROR(IF(INDEX(HAMARA!I:I,MATCH(B4218,HAMARA!E:E,0))=0,\"\",INDEX(HAMARA!I:I,MATCH(B4218,HAMARA!E:E,0))),\"\")","v":""}]
[15482,"KT807",0,{"$f":"IFERROR(IF(INDEX(HAMARA!I:I,MATCH(B4219,HAMARA!E:E,0))=0,\"\",INDEX(HAMARA!I:I,MATCH(B4219,HAMARA!E:E,0))),\"\")","v":""}]
[15482,"KT808",0,{"$f":"IFERROR(IF(INDEX(HAMARA!I:I,MATCH(B4220,HAMARA!E:E,0))=0,\"\",INDEX(HAMARA!I:I,MATCH(B4220,HAMARA!E:E,0))),\"\")","v":""}]
[15482,"KT809",0,{"$f":"IFERROR(IF(INDEX(HAMARA!I:I,MATCH(B4221,HAMARA!E:E,0))=0,\"\",INDEX(HAMARA!I:I,MATCH(B4221,HAMARA!E:E,0))),\"\")","v":""}]
[15482,"KT810",0,{"$f":"IFERROR(IF(INDEX(HAMARA!I:I,MATCH(B4222,HAMARA!E:E,0))=0,\"\",INDEX(HAMARA!I:I,MATCH(B4222,HAMARA!E:E,0))),\"\")","v":""}]
[15482,"KT811",0,{"$f":"IFERROR(IF(INDEX(HAMARA!I:I,MATCH(B4223,HAMARA!E:E,0))=0,\"\",INDEX(HAMARA!I:I,MATCH(B4223,HAMARA!E:E,0))),\"\")","v":""}]
[15482,"KT812",0,{"$f":"IFERROR(IF(INDEX(HAMARA!I:I,MATCH(B4224,HAMARA!E:E,0))=0,\"\",INDEX(HAMARA!I:I,MATCH(B4224,HAMARA!E:E,0))),\"\")","v":""}]
[15482,"KT813",0,{"$f":"IFERROR(IF(INDEX(HAMARA!I:I,MATCH(B4225,HAMARA!E:E,0))=0,\"\",INDEX(HAMARA!I:I,MATCH(B4225,HAMARA!E:E,0))),\"\")","v":""}]
[15482,"KT814",0,{"$f":"IFERROR(IF(INDEX(HAMARA!I:I,MATCH(B4226,HAMARA!E:E,0))=0,\"\",INDEX(HAMARA!I:I,MATCH(B4226,HAMARA!E:E,0))),\"\")","v":""}]
[15482,"KT815",0,{"$f":"IFERROR(IF(INDEX(HAMARA!I:I,MATCH(B4227,HAMARA!E:E,0))=0,\"\",INDEX(HAMARA!I:I,MATCH(B4227,HAMARA!E:E,0))),\"\")","v":""}]
[15482,"KT816",0,{"$f":"IFERROR(IF(INDEX(HAMARA!I:I,MATCH(B4228,HAMARA!E:E,0))=0,\"\",INDEX(HAMARA!I:I,MATCH(B4228,HAMARA!E:E,0))),\"\")","v":""}]
[15482,"KT817",0,{"$f":"IFERROR(IF(INDEX(HAMARA!I:I,MATCH(B4229,HAMARA!E:E,0))=0,\"\",INDEX(HAMARA!I:I,MATCH(B4229,HAMARA!E:E,0))),\"\")","v":""}]
[15482,"KT818",0,{"$f":"IFERROR(IF(INDEX(HAMARA!I:I,MATCH(B4230,HAMARA!E:E,0))=0,\"\",INDEX(HAMARA!I:I,MATCH(B4230,HAMARA!E:E,0))),\"\")","v":""}]
[15482,"KT819",0,{"$f":"IFERROR(IF(INDEX(HAMARA!I:I,MATCH(B4231,HAMARA!E:E,0))=0,\"\",INDEX(HAMARA!I:I,MATCH(B4231,HAMARA!E:E,0))),\"\")","v":""}]
[15482,"KT820",0,{"$f":"IFERROR(IF(INDEX(HAMARA!I:I,MATCH(B4232,HAMARA!E:E,0))=0,\"\",INDEX(HAMARA!I:I,MATCH(B4232,HAMARA!E:E,0))),\"\")","v":""}]
[15482,"KT821",0,{"$f":"IFERROR(IF(INDEX(HAMARA!I:I,MATCH(B4233,HAMARA!E:E,0))=0,\"\",INDEX(HAMARA!I:I,MATCH(B4233,HAMARA!E:E,0))),\"\")","v":""}]
[15482,"KT822",0,{"$f":"IFERROR(IF(INDEX(HAMARA!I:I,MATCH(B4234,HAMARA!E:E,0))=0,\"\",INDEX(HAMARA!I:I,MATCH(B4234,HAMARA!E:E,0))),\"\")","v":""}]
[15482,"KT823",0,{"$f":"IFERROR(IF(INDEX(HAMARA!I:I,MATCH(B4235,HAMARA!E:E,0))=0,\"\",INDEX(HAMARA!I:I,MATCH(B4235,HAMARA!E:E,0))),\"\")","v":""}]
[15482,"KT824",0,{"$f":"IFERROR(IF(INDEX(HAMARA!I:I,MATCH(B4236,HAMARA!E:E,0))=0,\"\",INDEX(HAMARA!I:I,MATCH(B4236,HAMARA!E:E,0))),\"\")","v":""}]
[15482,"KT825",0,{"$f":"IFERROR(IF(INDEX(HAMARA!I:I,MATCH(B4237,HAMARA!E:E,0))=0,\"\",INDEX(HAMARA!I:I,MATCH(B4237,HAMARA!E:E,0))),\"\")","v":""}]
[15482,"KT826",0,{"$f":"IFERROR(IF(INDEX(HAMARA!I:I,MATCH(B4238,HAMARA!E:E,0))=0,\"\",INDEX(HAMARA!I:I,MATCH(B4238,HAMARA!E:E,0))),\"\")","v":""}]
[15482,"KT827",0,{"$f":"IFERROR(IF(INDEX(HAMARA!I:I,MATCH(B4239,HAMARA!E:E,0))=0,\"\",INDEX(HAMARA!I:I,MATCH(B4239,HAMARA!E:E,0))),\"\")","v":""}]
[15482,"KT828",0,{"$f":"IFERROR(IF(INDEX(HAMARA!I:I,MATCH(B4240,HAMARA!E:E,0))=0,\"\",INDEX(HAMARA!I:I,MATCH(B4240,HAMARA!E:E,0))),\"\")","v":""}]
[15482,"KT829",0,{"$f":"IFERROR(IF(INDEX(HAMARA!I:I,MATCH(B4241,HAMARA!E:E,0))=0,\"\",INDEX(HAMARA!I:I,MATCH(B4241,HAMARA!E:E,0))),\"\")","v":""}]
[15482,"KT850",0,{"$f":"IFERROR(IF(INDEX(HAMARA!I:I,MATCH(B4242,HAMARA!E:E,0))=0,\"\",INDEX(HAMARA!I:I,MATCH(B4242,HAMARA!E:E,0))),\"\")","v":""}]
[15482,"KT851",0,{"$f":"IFERROR(IF(INDEX(HAMARA!I:I,MATCH(B4243,HAMARA!E:E,0))=0,\"\",INDEX(HAMARA!I:I,MATCH(B4243,HAMARA!E:E,0))),\"\")","v":""}]
[15482,"KT852",0,{"$f":"IFERROR(IF(INDEX(HAMARA!I:I,MATCH(B4244,HAMARA!E:E,0))=0,\"\",INDEX(HAMARA!I:I,MATCH(B4244,HAMARA!E:E,0))),\"\")","v":""}]
[15482,"KT853",0,{"$f":"IFERROR(IF(INDEX(HAMARA!I:I,MATCH(B4245,HAMARA!E:E,0))=0,\"\",INDEX(HAMARA!I:I,MATCH(B4245,HAMARA!E:E,0))),\"\")","v":""}]
[15482,"KT854",0,{"$f":"IFERROR(IF(INDEX(HAMARA!I:I,MATCH(B4246,HAMARA!E:E,0))=0,\"\",INDEX(HAMARA!I:I,MATCH(B4246,HAMARA!E:E,0))),\"\")","v":""}]
[15482,"KT855",0,{"$f":"IFERROR(IF(INDEX(HAMARA!I:I,MATCH(B4247,HAMARA!E:E,0))=0,\"\",INDEX(HAMARA!I:I,MATCH(B4247,HAMARA!E:E,0))),\"\")","v":""}]
[15482,"KT856",0,{"$f":"IFERROR(IF(INDEX(HAMARA!I:I,MATCH(B4248,HAMARA!E:E,0))=0,\"\",INDEX(HAMARA!I:I,MATCH(B4248,HAMARA!E:E,0))),\"\")","v":""}]
[15482,"KT857",0,{"$f":"IFERROR(IF(INDEX(HAMARA!I:I,MATCH(B4249,HAMARA!E:E,0))=0,\"\",INDEX(HAMARA!I:I,MATCH(B4249,HAMARA!E:E,0))),\"\")","v":""}]
[15482,"KT858",0,{"$f":"IFERROR(IF(INDEX(HAMARA!I:I,MATCH(B4250,HAMARA!E:E,0))=0,\"\",INDEX(HAMARA!I:I,MATCH(B4250,HAMARA!E:E,0))),\"\")","v":""}]
[15482,"KT859",0,{"$f":"IFERROR(IF(INDEX(HAMARA!I:I,MATCH(B4251,HAMARA!E:E,0))=0,\"\",INDEX(HAMARA!I:I,MATCH(B4251,HAMARA!E:E,0))),\"\")","v":""}]
[15482,"KT900",0,{"$f":"IFERROR(IF(INDEX(HAMARA!I:I,MATCH(B4252,HAMARA!E:E,0))=0,\"\",INDEX(HAMARA!I:I,MATCH(B4252,HAMARA!E:E,0))),\"\")","v":""}]
[15482,"KT901",0,{"$f":"IFERROR(IF(INDEX(HAMARA!I:I,MATCH(B4253,HAMARA!E:E,0))=0,\"\",INDEX(HAMARA!I:I,MATCH(B4253,HAMARA!E:E,0))),\"\")","v":""}]
[15482,"KT902",0,{"$f":"IFERROR(IF(INDEX(HAMARA!I:I,MATCH(B4254,HAMARA!E:E,0))=0,\"\",INDEX(HAMARA!I:I,MATCH(B4254,HAMARA!E:E,0))),\"\")","v":""}]
[15482,"KT903",0,{"$f":"IFERROR(IF(INDEX(HAMARA!I:I,MATCH(B4255,HAMARA!E:E,0))=0,\"\",INDEX(HAMARA!I:I,MATCH(B4255,HAMARA!E:E,0))),\"\")","v":""}]
[15482,"KT904",0,{"$f":"IFERROR(IF(INDEX(HAMARA!I:I,MATCH(B4256,HAMARA!E:E,0))=0,\"\",INDEX(HAMARA!I:I,MATCH(B4256,HAMARA!E:E,0))),\"\")","v":""}]
[15482,"KT905",0,{"$f":"IFERROR(IF(INDEX(HAMARA!I:I,MATCH(B4257,HAMARA!E:E,0))=0,\"\",INDEX(HAMARA!I:I,MATCH(B4257,HAMARA!E:E,0))),\"\")","v":""}]
[15482,"KT906",0,{"$f":"IFERROR(IF(INDEX(HAMARA!I:I,MATCH(B4258,HAMARA!E:E,0))=0,\"\",INDEX(HAMARA!I:I,MATCH(B4258,HAMARA!E:E,0))),\"\")","v":""}]
[15482,"KT907",0,{"$f":"IFERROR(IF(INDEX(HAMARA!I:I,MATCH(B4259,HAMARA!E:E,0))=0,\"\",INDEX(HAMARA!I:I,MATCH(B4259,HAMARA!E:E,0))),\"\")","v":""}]
[15482,"KT908",0,{"$f":"IFERROR(IF(INDEX(HAMARA!I:I,MATCH(B4260,HAMARA!E:E,0))=0,\"\",INDEX(HAMARA!I:I,MATCH(B4260,HAMARA!E:E,0))),\"\")","v":""}]
[15482,"KT909",0,{"$f":"IFERROR(IF(INDEX(HAMARA!I:I,MATCH(B4261,HAMARA!E:E,0))=0,\"\",INDEX(HAMARA!I:I,MATCH(B4261,HAMARA!E:E,0))),\"\")","v":""}]
[15482,"KT910",0,{"$f":"IFERROR(IF(INDEX(HAMARA!I:I,MATCH(B4262,HAMARA!E:E,0))=0,\"\",INDEX(HAMARA!I:I,MATCH(B4262,HAMARA!E:E,0))),\"\")","v":""}]
[15482,"KT911",0,{"$f":"IFERROR(IF(INDEX(HAMARA!I:I,MATCH(B4263,HAMARA!E:E,0))=0,\"\",INDEX(HAMARA!I:I,MATCH(B4263,HAMARA!E:E,0))),\"\")","v":""}]
[15482,"KT912",0,{"$f":"IFERROR(IF(INDEX(HAMARA!I:I,MATCH(B4264,HAMARA!E:E,0))=0,\"\",INDEX(HAMARA!I:I,MATCH(B4264,HAMARA!E:E,0))),\"\")","v":""}]
[15482,"KT913",0,{"$f":"IFERROR(IF(INDEX(HAMARA!I:I,MATCH(B4265,HAMARA!E:E,0))=0,\"\",INDEX(HAMARA!I:I,MATCH(B4265,HAMARA!E:E,0))),\"\")","v":""}]
[15482,"KT914",0,{"$f":"IFERROR(IF(INDEX(HAMARA!I:I,MATCH(B4266,HAMARA!E:E,0))=0,\"\",INDEX(HAMARA!I:I,MATCH(B4266,HAMARA!E:E,0))),\"\")","v":""}]
[15482,"KT915",0,{"$f":"IFERROR(IF(INDEX(HAMARA!I:I,MATCH(B4267,HAMARA!E:E,0))=0,\"\",INDEX(HAMARA!I:I,MATCH(B4267,HAMARA!E:E,0))),\"\")","v":""}]
[15482,"KT916",0,{"$f":"IFERROR(IF(INDEX(HAMARA!I:I,MATCH(B4268,HAMARA!E:E,0))=0,\"\",INDEX(HAMARA!I:I,MATCH(B4268,HAMARA!E:E,0))),\"\")","v":""}]
[15482,"KT917",0,{"$f":"IFERROR(IF(INDEX(HAMARA!I:I,MATCH(B4269,HAMARA!E:E,0))=0,\"\",INDEX(HAMARA!I:I,MATCH(B4269,HAMARA!E:E,0))),\"\")","v":""}]
[15482,"KT918",0,{"$f":"IFERROR(IF(INDEX(HAMARA!I:I,MATCH(B4270,HAMARA!E:E,0))=0,\"\",INDEX(HAMARA!I:I,MATCH(B4270,HAMARA!E:E,0))),\"\")","v":""}]
[15482,"KT919",0,{"$f":"IFERROR(IF(INDEX(HAMARA!I:I,MATCH(B4271,HAMARA!E:E,0))=0,\"\",INDEX(HAMARA!I:I,MATCH(B4271,HAMARA!E:E,0))),\"\")","v":""}]

{"sheet":"Mng","index":3,"n_rows":3,"n_cols":3,"rows_kept":3,"cut":false,"hidden":true,"merged":[]}
[{"$f":"\"g\"&$C1&(IF(LEN(MONTH(DATE))=1,\"0\"&MONTH(DATE),MONTH(DATE))&YEAR(DATE)-2000&\".prn\")","v":"g3781025.prn"},{"$f":"\"I:\\EXCEL\\account\\Name\\ALL\\דוחות חודשיים לאוצר\"&\"\\\"&YEAR(DATE)&\"\\\"&IF(LEN(MONTH(DATE))=2,MONTH(DATE),\"0\"&MONTH(DATE))&YEAR(DATE)","v":"I:\\EXCEL\\account\\Name\\ALL\\דוחות חודשיים לאוצר\\2025\\102025"},378]
[{"$f":"\"g\"&$C2&(IF(LEN(MONTH(DATE))=1,\"0\"&MONTH(DATE),MONTH(DATE))&YEAR(DATE)-2000&\".prn\")","v":"g14331025.prn"},{"$f":"\"I:\\EXCEL\\account\\Name\\ALL\\דוחות חודשיים לאוצר\"&\"\\\"&YEAR(DATE)&\"\\\"&IF(LEN(MONTH(DATE))=2,MONTH(DATE),\"0\"&MONTH(DATE))&YEAR(DATE)","v":"I:\\EXCEL\\account\\Name\\ALL\\דוחות חודשיים לאוצר\\2025\\102025"},1433]
[{"$f":"\"g\"&$C3&(IF(LEN(MONTH(DATE))=1,\"0\"&MONTH(DATE),MONTH(DATE))&YEAR(DATE)-2000&\".prn\")","v":"g154821025.prn"},{"$f":"\"I:\\EXCEL\\account\\Name\\ALL\\דוחות חודשיים לאוצר\"&\"\\\"&YEAR(DATE)&\"\\\"&IF(LEN(MONTH(DATE))=2,MONTH(DATE),\"0\"&MONTH(DATE))&YEAR(DATE)","v":"I:\\EXCEL\\account\\Name\\ALL\\דוחות חודשיים לאוצר\\2025\\102025"},15482]

{"sheet":"HAMARA","index":4,"n_rows":1201,"n_cols":13,"rows_kept":1201,"cut":false,"hidden":true,"merged":[[440,5,440,7],[441,5,441,7],[442,5,442,7],[443,5,443,7],[434,5,434,7],[435,5,435,7],[436,5,436,7],[437,5,437,7],[438,5,438,7],[439,5,439,7],[428,5,428,7],[429,5,429,7],[430,5,430,7],[431,5,431,7],[432,5,432,7],[433,5,433,7],[422,5,422,7],[423,5,423,7],[424,5,424,7],[425,5,425,7],[426,5,426,7],[427,5,427,7],[416,5,416,7],[417,5,417,7],[418,5,418,7],[419,5,419,7],[420,5,420,7],[421,5,421,7],[410,5,410,7],[411,5,411,7],[412,5,412,7],[413,5,413,7],[414,5,414,7],[415,5,415,7],[404,5,404,7],[405,5,405,7],[406,5,406,7],[407,5,407,7],[408,5,408,7],[409,5,409,7],[398,5,398,7],[399,5,399,7],[400,5,400,7],[401,5,401,7],[402,5,402,7],[403,5,403,7],[392,5,392,7],[393,5,393,7],[394,5,394,7],[395,5,395,7],[396,5,396,7],[397,5,397,7],[386,5,386,7],[387,5,387,7],[388,5,388,7],[389,5,389,7],[390,5,390,7],[391,5,391,7],[380,5,380,7],[381,5,381,7],[382,5,382,7],[383,5,383,7],[384,5,384,7],[385,5,385,7],[374,5,374,7],[375,5,375,7],[376,5,376,7],[377,5,377,7],[378,5,378,7],[379,5,379,7],[368,5,368,7],[369,5,369,7],[370,5,370,7],[371,5,371,7],[372,5,372,7],[373,5,373,7],[362,5,362,7],[363,5,363,7],[364,5,364,7],[365,5,365,7],[366,5,366,7],[367,5,367,7],[356,5,356,7],[357,5,357,7],[358,5,358,7],[359,5,359,7],[360,5,360,7],[361,5,361,7],[350,5,350,7],[351,5,351,7],[352,5,352,7],[353,5,353,7],[354,5,354,7],[355,5,355,7],[344,5,344,7],[345,5,345,7],[346,5,346,7],[347,5,347,7],[348,5,348,7],[349,5,349,7],[338,5,338,7],[339,5,339,7],[340,5,340,7],[341,5,341,7],[342,5,342,7],[343,5,343,7],[332,5,332,7],[333,5,333,7],[334,5,334,7],[335,5,335,7],[336,5,336,7],[337,5,337,7],[326,5,326,7],[327,5,327,7],[328,5,328,7],[329,5,329,7],[330,5,330,7],[331,5,331,7],[320,5,320,7],[321,5,321,7],[322,5,322,7],[323,5,323,7],[324,5,324,7],[325,5,325,7],[314,5,314,7],[315,5,315,7],[316,5,316,7],[317,5,317,7],[318,5,318,7],[319,5,319,7],[308,5,308,7],[309,5,309,7],[310,5,310,7],[311,5,311,7],[312,5,312,7],[313,5,313,7],[302,5,302,7],[303,5,303,7],[304,5,304,7],[305,5,305,7],[306,5,306,7],[307,5,307,7],[296,5,296,7],[297,5,297,7],[298,5,298,7],[299,5,299,7],[300,5,300,7],[301,5,301,7],[290,5,290,7],[291,5,291,7],[292,5,292,7],[293,5,293,7],[294,5,294,7],[295,5,295,7],[284,5,284,7],[285,5,285,7],[286,5,286,7],[287,5,287,7],[288,5,288,7],[289,5,289,7],[278,5,278,7],[279,5,279,7],[280,5,280,7],[281,5,281,7],[282,5,282,7],[283,5,283,7],[272,5,272,7],[273,5,273,7],[274,5,274,7],[275,5,275,7],[276,5,276,7],[277,5,277,7],[266,5,266,7],[267,5,267,7],[268,5,268,7],[269,5,269,7],[270,5,270,7],[271,5,271,7],[260,5,260,7],[261,5,261,7],[262,5,262,7],[263,5,263,7],[264,5,264,7],[265,5,265,7],[254,5,254,7],[255,5,255,7],[256,5,256,7],[257,5,257,7],[258,5,258,7],[259,5,259,7],[248,5,248,7],[249,5,249,7],[250,5,250,7],[251,5,251,7],[252,5,252,7],[253,5,253,7],[242,5,242,7],[243,5,243,7],[244,5,244,7],[245,5,245,7],[246,5,246,7],[247,5,247,7],[236,5,236,7],[237,5,237,7],[238,5,238,7],[239,5,239,7],[240,5,240,7],[241,5,241,7],[230,5,230,7],[231,5,231,7],[232,5,232,7],[233,5,233,7],[234,5,234,7],[235,5,235,7],[224,5,224,7],[225,5,225,7],[226,5,226,7],[227,5,227,7],[228,5,228,7],[229,5,229,7],[218,5,218,7],[219,5,219,7],[220,5,220,7],[221,5,221,7],[222,5,222,7],[223,5,223,7],[212,5,212,7],[213,5,213,7],[214,5,214,7],[215,5,215,7],[216,5,216,7],[217,5,217,7],[206,5,206,7],[207,5,207,7],[208,5,208,7],[209,5,209,7],[210,5,210,7],[211,5,211,7],[200,5,200,7],[201,5,201,7],[202,5,202,7],[203,5,203,7],[204,5,204,7],[205,5,205,7],[194,5,194,7],[195,5,195,7],[196,5,196,7],[197,5,197,7],[198,5,198,7],[199,5,199,7],[188,5,188,7],[189,5,189,7],[190,5,190,7],[191,5,191,7],[192,5,192,7],[193,5,193,7],[182,5,182,7],[183,5,183,7],[184,5,184,7],[185,5,185,7],[186,5,186,7],[187,5,187,7],[176,5,176,7],[177,5,177,7],[178,5,178,7],[179,5,179,7],[180,5,180,7],[181,5,181,7],[170,5,170,7],[171,5,171,7],[172,5,172,7],[173,5,173,7],[174,5,174,7],[175,5,175,7],[164,5,164,7],[165,5,165,7],[166,5,166,7],[167,5,167,7],[168,5,168,7],[169,5,169,7],[158,5,158,7],[159,5,159,7],[160,5,160,7],[161,5,161,7],[162,5,162,7],[163,5,163,7],[152,5,152,7],[153,5,153,7],[154,5,154,7],[155,5,155,7],[156,5,156,7],[157,5,157,7],[146,5,146,7],[147,5,147,7],[148,5,148,7],[149,5,149,7],[150,5,150,7],[151,5,151,7],[140,5,140,7],[141,5,141,7],[142,5,142,7],[143,5,143,7],[144,5,144,7],[145,5,145,7],[134,5,134,7],[135,5,135,7],[136,5,136,7],[137,5,137,7],[138,5,138,7],[139,5,139,7],[128,5,128,7],[129,5,129,7],[130,5,130,7],[131,5,131,7],[132,5,132,7],[133,5,133,7],[122,5,122,7],[123,5,123,7],[124,5,124,7],[125,5,125,7],[126,5,126,7],[127,5,127,7],[116,5,116,7],[117,5,117,7],[118,5,118,7],[119,5,119,7],[120,5,120,7],[121,5,121,7],[110,5,110,7],[111,5,111,7],[112,5,112,7],[113,5,113,7],[114,5,114,7],[115,5,115,7],[104,5,104,7],[105,5,105,7],[106,5,106,7],[107,5,107,7],[108,5,108,7],[109,5,109,7],[98,5,98,7],[99,5,99,7],[100,5,100,7],[101,5,101,7],[102,5,102,7],[103,5,103,7],[92,5,92,7],[93,5,93,7],[94,5,94,7],[95,5,95,7],[96,5,96,7],[97,5,97,7],[86,5,86,7],[87,5,87,7],[88,5,88,7],[89,5,89,7],[90,5,90,7],[91,5,91,7],[80,5,80,7],[81,5,81,7],[82,5,82,7],[83,5,83,7],[84,5,84,7],[85,5,85,7],[74,5,74,7],[75,5,75,7],[76,5,76,7],[77,5,77,7],[78,5,78,7],[79,5,79,7],[68,5,68,7],[69,5,69,7],[70,5,70,7],[71,5,71,7],[72,5,72,7],[73,5,73,7],[62,5,62,7],[63,5,63,7],[64,5,64,7],[65,5,65,7],[66,5,66,7],[67,5,67,7],[56,5,56,7],[57,5,57,7],[58,5,58,7],[59,5,59,7],[60,5,60,7],[61,5,61,7],[50,5,50,7],[51,5,51,7],[52,5,52,7],[53,5,53,7],[54,5,54,7],[55,5,55,7],[44,5,44,7],[45,5,45,7],[46,5,46,7],[47,5,47,7],[48,5,48,7],[49,5,49,7],[38,5,38,7],[39,5,39,7],[40,5,40,7],[41,5,41,7],[42,5,42,7],[43,5,43,7],[32,5,32,7],[33,5,33,7],[34,5,34,7],[35,5,35,7],[36,5,36,7],[37,5,37,7],[26,5,26,7],[27,5,27,7],[28,5,28,7],[29,5,29,7],[30,5,30,7],[31,5,31,7],[20,5,20,7],[21,5,21,7],[22,5,22,7],[23,5,23,7],[24,5,24,7],[25,5,25,7],[14,5,14,7],[15,5,15,7],[16,5,16,7],[17,5,17,7],[18,5,18,7],[19,5,19,7],[8,5,8,7],[9,5,9,7],[10,5,10,7],[11,5,11,7],[12,5,12,7],[13,5,13,7],[2,5,2,7],[3,5,3,7],[4,5,4,7],[5,5,5,7],[6,5,6,7],[7,5,7,7]]}
["מספר קבוצה בדנאל ","מספר אוצר",null,null,null,null,null,null,null,null,null,"MisBaOtsar","FullName"]
[21997,811,null,null,null,null,null,null,null,null,null,101,"הראל אג&quot;ח עד 25% מניות"]
[21998,962,null,null,"קוד","סעיף",null,null,"סיווג",null,null,243,"תעוז - קופת תגמולים לעצמאים, לשכירים ואישית לפיצויים"]
[22001,813,null,null,null,"א. מזומנים ושווי מזומנים",null,null,null,null,null,547,"פסגות סגנון קופת תגמולים לעצמאיים ולשכירים ואישית לפיצויים- מסלול מנייתי"]
[22002,814,null,null,null,"בישראל",null,null,null,null,null,548,"פסגות גמל אג\"ח חו\"ל"]
[22003,815,null,null,"DA12","יתרות מזומנים ועו\"ש בשקלים חדשים",null,null,"מזומנים ושווי מזומנים",null,null,549,"פסגות גמל מדדית"]
[22004,817,null,null,"DT11","יתרות מזומנים ועו\"ש נקובים במט\"ח",null,null,"מזומנים ושווי מזומנים",null,null,550,"פסגות גמל שקלית"]
[22005,818,null,null,"DA10","פח\"ק /פר\"י",null,null,"מזומנים ושווי מזומנים",null,null,229,"קופת התגמולים של עובדי לאומי."]
[22006,8128,null,null,"DT420","פק\"מ לתקופה של עד שלושה חודשים",null,null,"מזומנים ושווי מזומנים",null,null,225,"קופת התגמולים של פקידי בנק לאומי למשכנתאות בע\"מ"]
[22007,9730,null,null,"DT421","פיקדון צמוד מדד לתקופה של עד שלושה חודשים",null,null,"מזומנים ושווי מזומנים",null,null,237,"פסגות פיצויים כללי"]
[22008,9731,null,null,"DT422","פיקדון צמוד מט\"ח לתקופה של שלושה חודשים (פצ\"מ)",null,null,"מזומנים ושווי מזומנים",null,null,953,"מצוק קופת גמל לתגמולים לעצמאים ושכירים ואישית לפיצויים"]
[22009,9732,null,null,"DT423","פיקדונות במט\"ח לתקופה של עד שלושה חודשים",null,null,"מזומנים ושווי מזומנים",null,null,635,"קופה לתשלום דמי מחלה"]
[22010,1412,null,null,null,"בחו\"ל",null,null,null,null,null,739,"הראל גמל לפיצויים- מסלול מנייתי"]
[22011,7834,null,null,"DT191","יתרות מזומנים ועו\"ש נקובים במט\"ח חו\"ל",null,null,"מזומנים ושווי מזומנים",null,null,741,"קמפ אג&quot;ח צמוד מדד"]
[22012,7836,null,null,"DT424","פיקדונות במט\"ח לתקופה של עד שלושה חודשים",null,null,"מזומנים ושווי מזומנים",null,null,740,"הראל גמל לפיצויים- מסלול מט&quot;ח"]
[22013,7837,null,null,null,"ב. ניירות ערך",null,null,null,null,null,742,"הראל גמל לפיצויים- מסלול שיקלי"]
[22014,7839,null,null,null,"1. אגרות חוב ממשלתיות",null,null,null,null,null,743,"הראל קמפ אג&quot;ח עד 15% מניות"]
[22015,7842,null,null,null,"בישראל",null,null,null,null,null,775,"פסגות גמל בטא (סגנון)"]
[22016,7843,null,null,null,"א. סחיר",null,null,null,null,null,774,"פסגות סגנון קופת תגמולים לעצמאיים ולשכירים ואישית לפיצויים- מסלול אג\"ח"]
[22017,7986,null,null,"DT13","אגרות חוב ממשלתיות סחירות צמודות מדד",null,null,"אג\"ח ממשלתיות סחירות",null,null,776,"פסגות סגנון קופת תגמולים לעצמאיים ולשכירים ואישית לפיצויים- מסלול כספית טווח קצר"]
[22018,11365,null,null,"DT15","אגרות חוב ממשלתיות סחירות לא צמודות בריבית קבועה (שחר)",null,null,"אג\"ח ממשלתיות סחירות",null,null,8761,"הראל השתלמות בניהול אישי יוסף גולן"]
[22019,11366,null,null,"DT16","אגרות חוב ממשלתיות סחירות לא צמודות בריבית משתנה (גילון)",null,null,"אג\"ח ממשלתיות סחירות",null,null,423,"קרן השתלמות של עובדי חברת חשמל"]
[22020,11367,null,null,"DT14","אגרות חוב ממשלתיות סחירות צמודות מט\"ח",null,null,"אג\"ח ממשלתיות סחירות",null,null,989,"פסגות גמל כללי ב"]
[22021,118,null,null,"DA9","מק\"מ",null,null,"אג\"ח ממשלתיות סחירות",null,null,948,"מיטב קופת תגמולים לעצמאים ולשכירים ואישית לפיצויים- מסלול טווח קצר"]
[22022,1413,null,null,null,"ב. לא סחיר",null,null,null,null,null,944,"אתגרים קופת תגמולים לעצמאים ולשכירים ואישית לפיצויים- מסלול צמוד מדד"]
[22023,2086,null,null,"DT7","אגרות חוב מיועדות בקופות הגמל",null,null,"השקעות אחרות",null,null,0,"אתגרים קופת תגמולים לעצמאים ולשכירים ואישית לפיצויים- מסלול כללי"]
[22024,963,null,null,"DA8","פיקדונות חשכ\"ל",null,null,"השקעות אחרות",null,null,950,"אתגרים לפיצויים מסלולית -מסלול צמוד מדד"]
[22025,972,null,null,null,"בחו\"ל",null,null,null,null,null,952,"אתגרים לפיצויים מסלולית- מסלול כללי"]
[22026,973,null,null,null,"א. סחיר",null,null,null,null,null,874,"מיטב תגמולים בע\"מ מסלול כללי"]
[22027,1535,null,null,"DT17","אגרות חוב של ממשלת ישראל שהונפקו בחו\"ל",null,null,"אג\"ח ממשלתיות סחירות",null,null,880,"מיטב השתלמות בע\"מ מסלול כללי"]
[22028,8129,null,null,"DT26","אגרות חוב סחירות שהנפיקו ממשלות זרות בחו\"ל",null,null,"אג\"ח ממשלתיות סחירות",null,null,886,"מיטב מרכזית לפיצויים בע\"מ מסלול כללי"]
[22029,8679,null,null,null,"ב. לא סחיר",null,null,null,null,null,1013,"תמיר פישמן לתגמולים ופיצויים מסלול גמל כללי"]
[22030,8779,null,null,"DT425","אגרות חוב לא סחירות של ממשלת ישראל שהונפקו בחו\"ל",null,null,"השקעות אחרות",null,null,1017,"תמיר פישמן השתלמות מסלול כללי"]
[null,null,null,null,"DT426","אגרות חוב לא סחירות שהנפיקו ממשלות זרות בחו\"ל",null,null,"השקעות אחרות",null,null,1018,"תמיר פישמן מרכזית לפיצויים"]
[null,null,null,null,null,"2. תעודות חוב מסחריות",null,null,null,null,null,1040,"שחקים כללי"]
[null,null,null,null,null,"בישראל",null,null,null,null,null,1042,"שחקים שקלי"]
[null,null,null,null,null,"א. סחיר",null,null,null,null,null,1044,"שחקים שקלי מעוף"]
[null,null,null,null,"DT427","תעודות חוב מסחריות סחירות צמודות מדד בדירוג (AA-) ומעלה",null,null,"אג\"ח קונצרניות סחירות",null,null,1035,"ילין לפידות גמל אגח עד 25% מניות"]
[null,null,null,null,"DT561","תעודות חוב מסחריות סחירות לא צמודות בדירוג (AA-) ומעלה",null,null,"אג\"ח קונצרניות סחירות",null,null,1037,"ילין לפידות קופות גמל אגח"]
[null,null,null,null,"DT560","תעודות חוב מסחריות סחירות צמודות מט''ח בדירוג (AA-) ומעלה",null,null,"אג\"ח קונצרניות סחירות",null,null,1036,"ילין לפידות קופות גמל מנייתית"]
[null,null,null,null,"DT428","תעודות חוב מסחריות סחירות צמודות מדד בדירוג (BBB:+A-)",null,null,"אג\"ח קונצרניות סחירות",null,null,1038,"ילין לפידות השתלמות אגח עד 25% מניות"]
[null,null,null,null,"DT563","תעודות חוב מסחריות סחירות לא צמודות בדירוג (BBB:+A-)",null,null,"אג\"ח קונצרניות סחירות",null,null,1039,"ילין לפידות קופה מרכזית לפיצויים"]
[null,null,null,null,"DT562","תעודות חוב מסחריות סחירות צמודות מט''ח בדירוג (BBB:+A-)",null,null,"אג\"ח קונצרניות סחירות",null,null,1076,"אינפיניטי תגמולים ופיצויים מס סל אגח"]
[null,null,null,null,"DT429","תעודות חוב מסחריות סחירות צמודות מדד בדירוג הנמוך מ  (BBB-) או לא מדורגות",null,null,"אג\"ח קונצרניות סחירות",null,null,1077,"אינפיניטי תגמולים ופיצויים מס אגח"]
[null,null,null,null,"DT565","תעודות חוב מסחריות סחירות לא צמודות בדירוג הנמוך מ  (BBB-) או לא מדורגות",null,null,"אג\"ח קונצרניות סחירות",null,null,1082,"אינפיניטי השת מס סל אגח"]
[null,null,null,null,"DT564","תעודות חוב מסחריות סחירות צמודות מט''ח בדירוג הנמוך מ  (BBB-) או לא מדורגות",null,null,"אג\"ח קונצרניות סחירות",null,null,1083,"אינפיניטי השתלמות דינמי"]
[null,null,null,null,null,"ב. לא סחיר",null,null,null,null,null,1089,"ינפיניטי פיצויים מסלול סל אגח"]
[null,null,null,null,"DT430","תעודות חוב מסחריות לא סחירות  צמודות מדד בדירוג (AA-) ומעלה",null,null,"השקעות אחרות",null,null,1062,"איילון גמל מסלול מניות"]
[null,null,null,null,"DT567","תעודות חוב מסחריות לא סחירות  לא צמודות בדירוג (AA-) ומעלה",null,null,"השקעות אחרות",null,null,1063,"איילון גמל מסלול מט\"ח"]
[null,null,null,null,"DT566","תעודות חוב מסחריות לא סחירות  צמודות מט''ח בדירוג (AA-) ומעלה",null,null,"השקעות אחרות",null,null,1067,"איילון גמל מסלול כללי"]
[null,null,null,null,"DT431","תעודות חוב מסחריות לא סחירות  צמודות מדד בדירוג (BBB:+A-)",null,null,"השקעות אחרות",null,null,1055,"איילון השתלמות מסלול מניות"]
[null,null,null,null,"DT569","תעודות חוב מסחריות לא סחירות  לא צמודות בדירוג (BBB:+A-)",null,null,"השקעות אחרות",null,null,1056,"איילון השתלמות מסלול מט\"ח"]
[null,null,null,null,"DT568","תעודות חוב מסחריות לא סחירות  צמודות מט''ח בדירוג (BBB:+A-)",null,null,"השקעות אחרות",null,null,1060,"איילון השתלמות מסלול כללי"]
[null,null,null,null,"DT432","תעודות חוב מסחריות לא סחירות  צמודות מדד בדירוג הנמוך מ  (BBB-) או לא מדורגות",null,null,"השקעות אחרות",null,null,1069,"איילון לפיצויים מסלול מט\"ח"]
[null,null,null,null,"DT573","תעודות חוב מסחריות לא סחירות  לא צמודות בדירוג הנמוך מ  (BBB-) או לא מדורגות",null,null,"השקעות אחרות",null,null,1070,"איילון לפיצויים מסלול מדד"]
[null,null,null,null,"DT572","תעודות חוב מסחריות לא סחירות  צמודות מט''ח בדירוג הנמוך מ  (BBB-) או לא מדורגות",null,null,"השקעות אחרות",null,null,1072,"איילון לפיצויים מסלול כללי"]
[null,null,null,null,"DT547","תעודות חוב מסחריות לא סחירות  צמודות מדד בדירוג הנמוך מ  (BBB-) או לא מדורגות שעומדות כנגדן בטוחה מספקת",null,null,"השקעות אחרות",null,null,9951,"אלטשולר שחם גמל לבני 50 עד 60"]
[null,null,null,null,"DT571","תעודות חוב מסחריות לא סחירות  לא צמודות בדירוג הנמוך מ  (BBB-) או לא מדורגות שעומדות כנגדן בטוחה מספקת",null,null,"השקעות אחרות",null,null,1093,"אלטשולר שחם השתלמות כללי"]
[null,null,null,null,"DT570","תעודות חוב מסחריות לא סחירות  צמודות מט''ח בדירוג הנמוך מ  (BBB-) או לא מדורגות שעומדות כנגדן בטוחה מספקת",null,null,"השקעות אחרות",null,null,1094,"אלטשולר שחם פיצויים כללי"]
[null,null,null,null,null,"בחו\"ל",null,null,null,null,null,1010,"תמיר פישמן תגמולים ופיצויים מסלול גמל שקלי קצר"]
[null,null,null,null,null,"א. סחיר",null,null,null,null,null,1011,"תמיר פישמן תגמולים ופיצויים מסלול גמל מניות"]
[null,null,null,null,"DT601","תעודות חוב מסחריות סחירות בחו\"ל חברות ישראליות בדירוג (A-) ומעלה",null,null,"אג\"ח קונצרניות סחירות",null,null,1012,"תמיר פישמן תגמולים ופיצויים מסלול גמל אג\"ח"]
[null,null,null,null,"DT602","תעודות חוב מסחריות סחירות בחו\"ל חברות ישראליות בדירוג (BBB:+BBB-)",null,null,"אג\"ח קונצרניות סחירות",null,null,1014,"תמיר פישמן להשתלמות מסלול שקלי קצר"]
[null,null,null,null,"DT603","תעודות חוב מסחריות סחירות בחו\"ל חברות ישראליות בדירוג הנמוך מ  (BBB-) או לא מדורגות",null,null,"אג\"ח קונצרניות סחירות",null,null,1015,"תמיר פישמן להשתלמות מסלול השתלמות מניות"]
[null,null,null,null,"DT604","תעודות חוב מסחריות סחירות בחו\"ל חברות זרות בדירוג (A-) ומעלה",null,null,"אג\"ח קונצרניות סחירות",null,null,1016,"תמיר פישמן להשתלמות מסלול השתלמות אג\"ח"]
[null,null,null,null,"DT605","תעודות חוב מסחריות סחירות בחו\"ל חברות זרות בדירוג (BBB:+BBB-)",null,null,"אג\"ח קונצרניות סחירות",null,null,1146,"מנורה גמל כללי"]
[null,null,null,null,"DT606","תעודות חוב מסחריות סחירות בחו\"ל חברות זרות בדירוג הנמוך מ  (BBB-) או לא מדורגות",null,null,"אג\"ח קונצרניות סחירות",null,null,1147,"מנורה גמל כללי עד 10% מניות"]
[null,null,null,null,null,"ב. לא סחיר",null,null,null,null,null,1148,"מנורה השתלמות כללי"]
[null,null,null,null,"DT607","תעודות חוב מסחריות לא סחירות בחו\"ל חברות ישראליות בדירוג (A-) ומעלה",null,null,"השקעות אחרות",null,null,1149,"מנורה השתלמות כללי ב"]
[null,null,null,null,"DT608","תעודות חוב מסחריות לא סחירות בחו\"ל חברות ישראליות בדירוג (BBB:+BBB-)",null,null,"השקעות אחרות",null,null,1144,"מנורה מרכזית לפיצויים כללי"]
[null,null,null,null,"DT609","תעודות חוב מסחריות לא סחירות בחו\"ל חברות ישראליות בדירוג הנמוך מ  (BBB-) או לא מדורגות שעומדות כנגדן בטוחה מספקת",null,null,"השקעות אחרות",null,null,1145,"מנורה מרכזית לפיצויים כללי עד 10% מניות"]
[null,null,null,null,"DT610","תעודות חוב מסחריות לא סחירות בחו\"ל חברות ישראליות בדירוג הנמוך מ  (BBB-) או לא מדורגות",null,null,"השקעות אחרות",null,null,689,"כלל מושלם תגמולים"]
[null,null,null,null,"DT611","תעודות חוב מסחריות לא סחירות בחו\"ל חברות זרות בדירוג (A-) ומעלה",null,null,"השקעות אחרות",null,null,721,"כלל מושלם השתלמות"]
[null,null,null,null,"DT612","תעודות חוב מסחריות לא סחירות בחו\"ל חברות זרות בדירוג (BBB:+BBB-)",null,null,"השקעות אחרות",null,null,727,"כלל מושלם פיצויים"]
[null,null,null,null,"DT613","תעודות חוב מסחריות לא סחירות בחו\"ל חברות זרות בדירוג הנמוך מ  (BBB-) או לא מדורגות שעומדות כנגדן בטוחה מספקת",null,null,"השקעות אחרות",null,null,831,"פסגות גמל אג\"ח"]
[null,null,null,null,"DT614","תעודות חוב מסחריות לא סחירות בחו\"ל חברות זרות בדירוג הנמוך מ  (BBB-) או לא מדורגות",null,null,"השקעות אחרות",null,null,707,"פסגות גמל אגח"]
[null,null,null,null,null,"3. אגרות חוב קונצרניות",null,null,null,null,null,708,"פסגות גמל כללי"]
[null,null,null,null,null,"בישראל",null,null,null,null,null,709,"פסגות גמל מניות"]
[null,null,null,null,null,"א. סחיר",null,null,null,null,null,1185,"פסגות השתלמות מניות"]
[null,null,null,null,"DT301","אגרות חוב קונצרניות סחירות צמודות מדד בדירוג (AA-) ומעלה",null,null,"אג\"ח קונצרניות סחירות",null,null,1183,"פסגות השתלמות כללי"]
[null,null,null,null,"DT303","אגרות חוב קונצרניות סחירות לא צמודות בדירוג (AA-) ומעלה",null,null,"אג\"ח קונצרניות סחירות",null,null,1184,"פסגות השתלמות אגח"]
[null,null,null,null,"DT302","אגרות חוב קונצרניות סחירות צמודות מט''ח בדירוג (AA-) ומעלה",null,null,"אג\"ח קונצרניות סחירות",null,null,875,"מיטב תגמולים מסלול מדדי"]
[null,null,null,null,"DT307","אגרות חוב קונצרניות סחירות צמודות מדד בדירוג (BBB:+A-)",null,null,"אג\"ח קונצרניות סחירות",null,null,876,"מיטב תגמולים מסלול שקלי"]
[null,null,null,null,"DT309","אגרות חוב קונצרניות סחירות לא צמודות בדירוג (BBB:+A-)",null,null,"אג\"ח קונצרניות סחירות",null,null,877,"מיטב תגמולים מסלול מנייתי"]
[null,null,null,null,"DT308","אגרות חוב קונצרניות סחירות צמודות מט''ח בדירוג (BBB:+A-)",null,null,"אג\"ח קונצרניות סחירות",null,null,877,"מיטב תגמולים מסלול מנייתי"]
[null,null,null,null,"DT313","אגרות חוב קונצרניות סחירות צמודות מדד בדירוג הנמוך מ  (BBB-) או לא מדורגות",null,null,"אג\"ח קונצרניות סחירות",null,null,881,"מיטב השתלמות מדד"]
[null,null,null,null,"DT315","אגרות חוב קונצרניות סחירות לא צמודות בדירוג הנמוך מ  (BBB-) או לא מדורגות",null,null,"אג\"ח קונצרניות סחירות",null,null,882,"מיטב השתלמות שקלי"]
[null,null,null,null,"DT314","אגרות חוב קונצרניות סחירות צמודות מט''ח בדירוג הנמוך מ  (BBB-) או לא מדורגות",null,null,"אג\"ח קונצרניות סחירות",null,null,883,"מיטב השתלמות מניות"]
[null,null,null,null,"DT615","אגרות חוב קונצרניות אחרות בדירוג (AA-) ומעלה",null,null,"אג\"ח קונצרניות סחירות",null,null,883,"מיטב השתלמות מניות"]
[null,null,null,null,"DT616","אגרות חוב קונצרניות אחרות בדירוג (BBB:+A-)",null,null,"אג\"ח קונצרניות סחירות",null,null,9742,"הראל גמל בני 50 עד 60"]
[null,null,null,null,"DT617","אגרות חוב קונצרניות אחרות בדירוג הנמוך מ  (BBB-) או לא מדורגות",null,null,"אג\"ח קונצרניות סחירות",null,null,762,"הראל גמל אג&quot;ח עד 10% מניות"]
[null,null,null,null,null,"ב. לא סחיר",null,null,null,null,null,761,"הראל גמל מניות"]
[null,null,null,null,"DT319","אגרות חוב קונצרניות לא סחירות צמודות מדד בדירוג (AA-) ומעלה",null,null,"השקעות אחרות",null,null,567,"עתידית קופות גמל בע\"מ עבור כספת"]
[null,null,null,null,"DT321","אגרות חוב קונצרניות לא סחירות לא צמודות בדירוג (AA-) ומעלה",null,null,"השקעות אחרות",null,null,154,"הראל השתלמות כללי"]
[null,null,null,null,"DT320","אגרות חוב קונצרניות לא סחירות צמודות מט''ח בדירוג (AA-) ומעלה",null,null,"השקעות אחרות",null,null,763,"הראל השתלמות מניות"]
[null,null,null,null,"DT325","אגרות חוב קונצרניות לא סחירות צמודות מדד בדירוג (BBB:+A-)",null,null,"השקעות אחרות",null,null,764,"הראל השתלמות אג&quot;ח עד 10% מניות"]
[null,null,null,null,"DT327","אגרות חוב קונצרניות לא סחירות לא צמודות בדירוג (BBB:+A-)",null,null,"השקעות אחרות",null,null,566,"עתידית קופות גמל בע\"מ עבור דיקן"]
[null,null,null,null,"DT326","אגרות חוב קונצרניות לא סחירות צמודות מט''ח בדירוג (BBB:+A-)",null,null,"השקעות אחרות",null,null,155,"הראל קמפ כללי"]
[null,null,null,null,"DT553","אגרות חוב קונצרניות לא סחירות צמודות מדד בדירוג הנמוך מ  (BBB-) או לא מדורגות שעומדות כנגדן בטוחה מספקת",null,null,"השקעות אחרות",null,null,568,"עתידית קופות גמל בע\"מ עבור צוברת"]
[null,null,null,null,"DT555","אגרות חוב קונצרניות לא סחירות לא צמודות בדירוג הנמוך מ  (BBB-) או לא מדורגות שעומדות כנגדן בטוחה מספקת",null,null,"השקעות אחרות",null,null,857,"הראל דקל דמי מחלה"]
[null,null,null,null,"DT554","אגרות חוב קונצרניות לא סחירות צמודות מט''ח בדירוג הנמוך מ  (BBB-) או לא מדורגות שעומדות כנגדן בטוחה מספקת",null,null,"השקעות אחרות",null,null,1176,"תמיר פישמן מרכזית לפיצויים - ערך"]
[null,null,null,null,"DT337","אגרות חוב קונצרניות לא סחירות צמודות מדד בדירוג הנמוך מ  (BBB-) או לא מדורגות",null,null,"השקעות אחרות",null,null,1192,"לאומי גמל קמפ"]
[null,null,null,null,"DT339","אגרות חוב קונצרניות לא סחירות לא צמודות בדירוג הנמוך מ  (BBB-) או לא מדורגות",null,null,"השקעות אחרות",null,null,1194,"קמפ ערבי"]
[null,null,null,null,"DT338","אגרות חוב קונצרניות לא סחירות צמודות מט''ח בדירוג הנמוך מ  (BBB-) או לא מדורגות",null,null,"השקעות אחרות",null,null,1193,"קמפ בלמש"]
[null,null,null,null,"DT618","אגרות חוב קנצרניות לא סחירות אחרות בדירוג (AA-) ומעלה",null,null,"השקעות אחרות",null,null,1223,"פסגות פיצויים כללי ב"]
[null,null,null,null,"DT619","אגרות חוב קנצרניות לא סחירות אחרות בדירוג (BBB:+A-)",null,null,"השקעות אחרות",null,null,1211,"אינפיניטי פיצויים סל מניות"]
[null,null,null,null,"DT620","אגרות חוב קנצרניות לא סחירות אחרות בדירוג הנמוך מ  (BBB-) או לא מדורגות שעומדות כנגדן בטוחה מספקת",null,null,"השקעות אחרות",null,null,502,"הראל גמל אג&quot;ח"]
[null,null,null,null,"DT621","אגרות חוב קנצרניות לא סחירות אחרות בדירוג הנמוך מ  (BBB-) או לא מדורגות",null,null,"השקעות אחרות",null,null,416,"הראל השתלמות אג&quot;ח עד 20% מניות"]
[null,null,null,null,null,"בחו\"ל",null,null,null,null,null,518,"עתידית קופות גמל בע\"מ עבור כספת"]
[null,null,null,null,null,"א. סחיר",null,null,null,null,null,311,"עתידית קופות גמל בע\"מ עבור כספת"]
[null,null,null,null,"DT454","אגרות חוב סחירות שהנפיקו חברות ישראליותבחו\"ל בדירוג (A-) ומעלה",null,null,"השקעות אחרות",null,null,504,"עתידית קופות גמל בע\"מ עבור כספת"]
[null,null,null,null,"DT455","אגרות חוב סחירות שהנפיקו חברות ישראליותבחו\"ל בדירוג (BBB:+BBB-)",null,null,"השקעות אחרות",null,null,1255,"מנורה גמל מניות"]
[null,null,null,null,"DT456","אגרות חוב סחירות שהנפיקו חברות ישראליותבחו\"ל בדירוג הנמוך מ  (BBB-) או לא מדורגות",null,null,"אג\"ח קונצרניות סחירות",null,null,1256,"מנורה השתלמות מניות"]
[null,null,null,null,"DT457","אגרות חוב סחירות שהנפיקו חברות זרות בחו\"ל בדירוג (A-) ומעלה",null,null,"אג\"ח קונצרניות סחירות",null,null,1059,"פסגות השתלמות כללי ב"]
[null,null,null,null,"DT458","אגרות חוב סחירות שהנפיקו חברות זרות בחו\"ל בדירוג (BBB:+BBB-)",null,null,"אג\"ח קונצרניות סחירות",null,null,599,"מגדל קהל השתלמות מסלול מעוז כללי"]
[null,null,null,null,"DT459","אגרות חוב סחירות שהנפיקו חברות זרות בחו\"ל בדירוג הנמוך מ  (BBB-) או לא מדורגות",null,null,"אג\"ח קונצרניות סחירות",null,null,858,"מגדל לתגמולים ולפיצויים שקלי קצר"]
[null,null,null,null,null,"ב. לא סחיר",null,null,null,null,null,859,"מגדל לתגמולים ולפיצויים אג&quot;ח ממשלתי"]
[null,null,null,null,"DT460","אגרות חוב לא סחירות שהנפיקו חברות ישראליות בחו\"ל בדירוג (A-) ומעלה",null,null,"השקעות אחרות",null,null,860,"מגדל לתגמולים צמוד מדד"]
[null,null,null,null,"DT461","אגרות חוב לא סחירות שהנפיקו חברות ישראליות בחו\"ל בדירוג (BBB:+BBB-)",null,null,"השקעות אחרות",null,null,861,"מגדל פלטינום גמל מסלול פלטינום"]
[null,null,null,null,"DT462","אגרות חוב לא סחירות שהנפיקו חברות ישראליות בחו\"ל בדירוג הנמוך מ  (BBB-) או לא מדורגות",null,null,"השקעות אחרות",null,null,862,"מגדל לתגמולים ולפיצויים חול"]
[null,null,null,null,"DT558","אגרות חוב לא סחירות שהנפיקו חברות ישראליות בחו\"ל בדירוג הנמוך מ  (BBB-) או לא מדורגות שעומדות כנגדן בטוחה מספקת",null,null,"השקעות אחרות",null,null,863,"מגדל לתגמולים ולפיצויים מנייתי"]
[null,null,null,null,"DT463","אגרות חוב לא סחירות שהנפיקו חברות זרות בחו\"ל בדירוג (A-) ומעלה",null,null,"השקעות אחרות",null,null,974,"מגדל פלטינום גמל כללי"]
[null,null,null,null,"DT464","אגרות חוב לא סחירות שהנפיקו חברות זרות בחו\"ל בדירוג (BBB:+BBB-)",null,null,"השקעות אחרות",null,null,974,"מגדל פלטינום גמל כללי"]
[null,null,null,null,"DT465","אגרות חוב לא סחירות שהנפיקו חברות זרות בחו\"ל בדירוג הנמוך מ  (BBB-) או לא מדורגות",null,null,"השקעות אחרות",null,null,1156,"מגדל לתגמולים ולפיצויים ביג כללי"]
[null,null,null,null,"DT559","אגרות חוב לא סחירות שהנפיקו חברות זרות בחו\"ל בדירוג הנמוך מ  (BBB-) או לא מדורגות שעומדות כנגדן בטוחה מספקת",null,null,"השקעות אחרות",null,null,864,"מגדל השתלמות שקלי קצר"]
[null,null,null,null,null,"4. מניות",null,null,null,null,null,865,"מגדל השתלמות מסלול אג&quot;ח ממשלתי"]
[null,null,null,null,null,"בישראל",null,null,null,null,null,866,"מגדל השתלמות צמוד מדד"]
[null,null,null,null,null,"א. סחיר",null,null,null,null,null,867,"מגדל פלטי השתל מס פלטינום"]
[null,null,null,null,"DT402","מניות השייכות למדד ת\"א 25",null,null,"מניות וני\"ע סחירים אחרים",null,null,868,"מגדל השתלמות חול"]
[null,null,null,null,"DT403","מניות השייכות למדד ת\"א 75",null,null,"מניות וני\"ע סחירים אחרים",null,null,869,"מגדל השתלמות מנייתי"]
[null,null,null,null,"DT404","מניות היתר",null,null,"מניות וני\"ע סחירים אחרים",null,null,975,"מגדל פלטי השתל כללי"]
[null,null,null,null,"DT405","מניות זרות הנסחרות בארץ",null,null,"השקעות אחרות",null,null,1157,"מגדל השתלמות ביג כללי"]
[null,null,null,null,"DT172","אופציות 001 call (long)",null,null,"השקעות אחרות",null,null,1162,"ילין לפידות השתלמות כללי"]
[null,null,null,null,"DT205","אופציות 001 call (short)",null,null,"השקעות אחרות",null,null,9940,"ילין לפידות גמל לבני 50 עד 60"]
[null,null,null,null,null,"ב. לא סחיר",null,null,null,null,null,9789,"מור מנורה מבטחים בני 50 ומטה"]
[null,null,null,null,"DC9","מניות לא סחירות",null,null,"השקעות אחרות",null,null,9791,"מור מנורה מבטחים בני 60 ומעלה"]
[null,null,null,null,null,"בחו\"ל",null,null,null,null,null,1294,"מור מנורה מבטחים מסלול מניות"]
[null,null,null,null,null,"א. סחיר",null,null,null,null,null,1068,"איילון גמל מסלול טווח קצר"]
[null,null,null,null,"DT28","מניות של חברות ישראליות שנסחרות בחו\"ל",null,null,"מניות וני\"ע סחירים אחרים",null,null,1061,"איילון השתלמות מסלול טווח קצר"]
[null,null,null,null,"DT30","מניות סחירות של תאגיד תושב חוץ בשיעור החזקה של עד 10% בחו\"ל",null,null,"מניות וני\"ע סחירים אחרים",null,null,1319,"ילין לפידות השתלמות אגח"]
[null,null,null,null,"DT81","מניות סחירות של תאגיד תושב חוץ בשיעור החזקה של 10% ומעלה בחו\"ל",null,null,"מניות וני\"ע סחירים אחרים",null,null,1336,"תעוז - קופת תגמולים לעצמאים, לשכירים ואישית לפיצויים"]
[null,null,null,null,null,"ב. לא סחיר",null,null,null,null,null,1337,"תעוז - קופת תגמולים לעצמאים, לשכירים ואישית לפיצויים"]
[null,null,null,null,"DT622","מניות לא סחירות של חברות ישראליות שנסחרות בחו\"ל",null,null,"השקעות אחרות",null,null,1334,"הראל גמל שיקלי קצר"]
[null,null,null,null,"DT83","מניות לא סחירות של חברות זרות בחו\"ל",null,null,"השקעות אחרות",null,null,1335,"הראל גמל אג&quot;ח ללא מניות"]
[null,null,null,null,null,"5. השקעה בתעודות סל",null,null,null,null,null,1309,"פסגות עתיד גמל מרכזית להשתתפות בפנסיה תקציבית"]
[null,null,null,null,null,"נסחרות בארץ",null,null,null,null,null,1225,"פסגות פיצויים מסלול אג\"ח"]
[null,null,null,null,"DT360","השקעה בתעודות סל שמחקות מדדי מניות בארץ",null,null,"מניות וני\"ע סחירים אחרים",null,null,1343,"מנורה גמל טווח קצר"]
[null,null,null,null,"DT361","השקעה בתעודות סל שמחקות מדדי מניות בחו\"ל",null,null,"מניות וני\"ע סחירים אחרים",null,null,1344,"מנורה גמל מסלול אגח ממשלתי"]
[null,null,null,null,"DT362","השקעה בתעודות סל שמחקות מדדי אג\"ח בארץ",null,null,"מניות וני\"ע סחירים אחרים",null,null,1345,"מנורה גמל לפרישה שנת 2020"]
[null,null,null,null,"DT363","השקעה בתעודות סל שמחקות מדדי אג\"ח בחו\"ל",null,null,"מניות וני\"ע סחירים אחרים",null,null,1346,"מנורה גמל לפרישה שנת 2030"]
[null,null,null,null,"DT406","השקעה בתעודות סל בחסר בארץ",null,null,"מניות וני\"ע סחירים אחרים",null,null,1360,"ילין לפידות קופות גמל אגח ממשלתי"]
[null,null,null,null,"DT623","השקעה בתעודות סל אחרות בארץ",null,null,"מניות וני\"ע סחירים אחרים",null,null,1361,"ילין לפידות השתלמות אגח ממשלתי"]
[null,null,null,null,null,"נסחרות בחו\"ל",null,null,null,null,null,1368,"הראל גמל שקלי"]
[null,null,null,null,"DT366","השקעה בתעודות סל שנסחרות בחו\"ל שמחקות מדדי מניות",null,null,"מניות וני\"ע סחירים אחרים",null,null,1369,"הראל השתלמות שקלי"]
[null,null,null,null,"DT367","השקעה בתעודות סל שנסחרות בחו\"ל שמחקות מדדי אג\"ח",null,null,"מניות וני\"ע סחירים אחרים",null,null,1374,"מנורה מרכזית לפיצויים ללא מניות"]
[null,null,null,null,"DT407","השקעה בתעודות סל בחסר בחו\"ל",null,null,"מניות וני\"ע סחירים אחרים",null,null,1398,"אלטשולר שחם השתלמות כספי"]
[null,null,null,null,"DT624","השקעה בתעודות סל  אחרות בחו\"ל",null,null,"מניות וני\"ע סחירים אחרים",null,null,1399,"אלטשולר שחם השתלמות אגח ממשלות"]
[null,null,null,null,null,"6. תעודות השתתפות בקרנות נאמנות",null,null,"מניות וני\"ע סחירים אחרים",null,null,1394,"אלטשולר שחם גמל כספי"]
[null,null,null,null,null,"בישראל",null,null,"מניות וני\"ע סחירים אחרים",null,null,1395,"אלטשולר שחם גמל אגח ממשלות"]
[null,null,null,null,"DB10","תעודות השתתפות בקרן נאמנות",null,null,"מניות וני\"ע סחירים אחרים",null,null,1172,"תמיר פישמן תגמולים ופיצויים מסלול גמל אג\"ח 2"]
[null,null,null,null,null,"בחו\"ל",null,null,"מניות וני\"ע סחירים אחרים",null,null,1175,"תמיר פישמן להשתלמות מסלול השתלמות אג\"ח 2"]
[null,null,null,null,"DT701","תעודות השתתפות בקרנות נאמנות- אג\"ח קונצרני",null,null,"מניות וני\"ע סחירים אחרים",null,null,1424,"פסגות השתלמות עד 10% במניות"]
[null,null,null,null,"DT702","תעודות השתתפות בקרנות נאמנות- אג\"ח ממשלתי",null,null,"מניות וני\"ע סחירים אחרים",null,null,1425,"פסגות השתלמות כספית"]
[null,null,null,null,"DT703","תעודות השתתפות בקרנות נאמנות- מניות",null,null,"מניות וני\"ע סחירים אחרים",null,null,1426,"פסגות השתלמות אגח מדינה"]
[null,null,null,null,"DT704","תעודות השתתפות בקרנות נאמנות- אחר",null,null,"מניות וני\"ע סחירים אחרים",null,null,1422,"פסגות גמל כספית"]
[null,null,null,null,null,"7. קרנות השקעה",null,null,null,null,null,1423,"פסגות גמל אגח מדינה"]
[null,null,null,null,null,"בישראל",null,null,null,null,null,1155,"תמיר פישמן מרכזית לפיצויים אגח (דולרי לשעבר"]
[null,null,null,null,"DT53","קרנות הון סיכון",null,null,"השקעות אחרות",null,null,1064,"איילון גמל מסלול מדד"]
[null,null,null,null,"DT466","קרנות גידור",null,null,"השקעות אחרות",null,null,1057,"איילון השתלמות מסלול מדד"]
[null,null,null,null,"DT225","קרנות נדל\"ן",null,null,"השקעות אחרות",null,null,1110,"מנורה השתלמות מדדי"]
[null,null,null,null,"DT52","קרנות השקעה אחרות",null,null,"השקעות אחרות",null,null,1484,"הראל גמל אגח קונצרני"]
[null,null,null,null,null,"בחו\"ל",null,null,null,null,null,1485,"הראל השתלמות אג&quot;ח"]
[null,null,null,null,"DT89","קרנות הון סיכון בחו\"ל",null,null,"השקעות אחרות",null,null,1114,"מנורה השתלמות שקלי"]
[null,null,null,null,"DT467","קרנות גידור בחו\"ל",null,null,"השקעות אחרות",null,null,820,"קמפ פליינג קרגו"]
[null,null,null,null,"DT226","קרנות נדל\"ן בחו\"ל",null,null,"השקעות אחרות",null,null,820,"קמפ פליינג קרגו - תובלה בינלאומית"]
[null,null,null,null,"DT88","קרנות השקעה אחרות בחו\"ל",null,null,"השקעות אחרות",null,null,820,"הראל פרופיל סטולין"]
[null,null,null,null,null,"8. כתבי אופציה (WARRANTS)",null,null,null,null,null,820,"הראל פרופיל סטונהיג"]
[null,null,null,null,null,"בישראל",null,null,null,null,null,820,"הראל פרופיל שרותי בריאות"]
[null,null,null,null,null,"א. סחיר",null,null,null,null,null,820,"הראל פרופיל אשמורת ISS"]
[null,null,null,null,"DB5","כתבי אופציות סחירים",null,null,"מניות וני\"ע סחירים אחרים",null,null,1516,"תמיר פישמן גמל מניות ישראל"]
[null,null,null,null,null,"ב. לא סחיר",null,null,null,null,null,1517,"תמיר פישמן גמל מניות חו\"ל"]
[null,null,null,null,"DT439","כתבי אופציה לא סחיר",null,null,"השקעות אחרות",null,null,1518,"תמיר פישמן השתלמות מניות ישראל"]
[null,null,null,null,null,"בחו\"ל",null,null,null,null,null,1519,"תמיר פישמן השתלמות מניות חו\"ל"]
[null,null,null,null,null,"א. סחיר",null,null,null,null,null,1524,"הראל גמל כהלכה"]
[null,null,null,null,"DT211","כתבי אופציות סחירים בחו\"ל",null,null,"השקעות אחרות",null,null,1523,"הראל השתלמות כהלכה"]
[null,null,null,null,null,"ב. לא סחיר",null,null,null,null,null,1523,"הראל השתלמות כהלכה"]
[null,null,null,null,"DT440","כתבי אופציות לא סחירים בחו\"ל",null,null,"השקעות אחרות",null,null,389,"קרן גמלאות עוד"]
[null,null,null,null,null,"9. חוזים עתידיים",null,null,null,null,null,7232,"אינפיניטי גמל לבני 50 עד 60"]
[null,null,null,null,null,"בישראל",null,null,null,null,null,1078,"אינפיניטי גמל סל אגח"]
[null,null,null,null,null,"א. סחיר",null,null,null,null,null,1079,"אינפיניטי גמל מניות בישראל"]
[null,null,null,null,"DT749","חוזים עתידיים סחירים - FUTURES",null,null,"השקעות אחרות",null,null,1209,"אינפיניטי גמל אגח ממשלת ישראל"]
[null,null,null,null,null,"ב. לא סחיר",null,null,null,null,null,1490,"אינפיניטי גמל מסלול אגח קונצרני"]
[null,null,null,null,"DT441","חוזים עתידיים על מדדים כולל מניות (FORWARD, SWAP) לא סחירים",null,null,"השקעות אחרות",null,null,1084,"אינפיניטי השתלמות סל אגח"]
[null,null,null,null,"DT442","חוזים עתידיים על ש\"ח/מט\"ח (FORWARD, SWAP) לא סחירים",null,null,"השקעות אחרות",null,null,1085,"אינפיניטי השתלמות מניות בישראל"]
[null,null,null,null,"DT443","חוזים עתידיים על מט\"ח/מט\"ח (FORWARD, SWAP) לא סחירים",null,null,"השקעות אחרות",null,null,1210,"אינפיניטי השתלמות אגח ממשלת ישראל"]
[null,null,null,null,"DT444","חוזים עתידיים על ריבית (FORWARD, SWAP) לא סחירים",null,null,"השקעות אחרות",null,null,1491,"אינפיניטי השתלמות אגח קונצרני"]
[null,null,null,null,"DT445","חוזים עתידיים אחרים (FORWARD, SWAP) לא סחירים",null,null,"השקעות אחרות",null,null,1095,"אינפיניטי פיצויים סל אגח"]
[null,null,null,null,null,"בחו\"ל",null,null,null,null,null,107,"תגב כללי בנאמנות ע\"י הלמן אלדובי"]
[null,null,null,null,null,"א. סחיר",null,null,null,null,null,594,"תגב מדדי טווח בינוני בנאמנות ע\"י הלמן אלדובי"]
[null,null,null,null,"DT212","חוזים עתידיים סחירים - FUTURES בחו\"ל",null,null,"השקעות אחרות",null,null,595,"תגב מנייתי בנאמנות ע\"י הלמן אלדובי"]
[null,null,null,null,null,"ב. לא סחיר",null,null,null,null,null,598,"תגב מט\"ח בנאמנות ע\"י הלמן אלדובי"]
[null,null,null,null,"DT446","חוזים עתידיים על מדדים כולל מניות (FORWARD, SWAP) בחו\"ל לא סחירים",null,null,"השקעות אחרות",null,null,710,"תגב שיקלי בנאמנות ע\"י הלמן אלדובי"]
[null,null,null,null,"DT447","חוזים עתידיים על מטבע (FORWARD, SWAP) בחו\"ל לא סחירים",null,null,"השקעות אחרות",null,null,395,"אופקים קרן השתלמות בנאמנות ע\"י הלמן אלדובי"]
[null,null,null,null,"DT448","חוזים עתידיים על ריבית (FORWARD, SWAP) בחו\"ל לא סחירים",null,null,"השקעות אחרות",null,null,1514,"פסגות גמל בניהול אישי - א. שפירא"]
[null,null,null,null,"DT449","חוזים עתידיים אחרים (FORWARD, SWAP) בחו\"ל לא סחירים",null,null,"השקעות אחרות",null,null,1514,"פסגות גמל בניהול אישי - א. שפירא 2"]
[null,null,null,null,null,"10. אופציות",null,null,null,null,null,1536,"אינפיניטי גמל מניות בחול"]
[null,null,null,null,null,"בישראל",null,null,null,null,null,1537,"אינפיניטי השתלמות מניות בחול"]
[null,null,null,null,null,"א. סחיר",null,null,null,null,null,820,"הנסון מוצרי מחצבה (ישראל) בע&quot;מ"]
[null,null,null,null,"DT468","אופציות על מדדים כולל מניות סחירות (long) ",null,null,"מניות וני\"ע סחירים אחרים",null,null,820,"הנסון (ישראל) בע&quot;מ"]
[null,null,null,null,"DT469","אופציות על מדדים כולל מניות סחירות (short) ",null,null,"מניות וני\"ע סחירים אחרים",null,null,1539,"אינפיניטי פיצויים קופח כללית"]
[null,null,null,null,"DT175","אופציות על ש\"ח/מט\"ח סחירות (long) ",null,null,"השקעות אחרות",null,null,1377,"אלטשולר שחם השתלמות מסלול מנייתי"]
[null,null,null,null,"DT208","אופציות על ש\"ח/מט\"ח סחירות (short) ",null,null,"השקעות אחרות",null,null,1290,"אלטשולר שחם השתלמות כללי ב"]
[null,null,null,null,"DT176","אופציות על ריבית סחירות (long) ",null,null,"השקעות אחרות",null,null,0,"אלטשולר שחם השתלמות מסלול קלאסי"]
[null,null,null,null,"DT209","אופציות על ריבית סחירות (short) ",null,null,"השקעות אחרות",null,null,1378,"אלטשולר שחם השתלמות אגח ללא מניות"]
[null,null,null,null,"DT177","אופציות על מדדים/נכסים אחרים סחירות (long) ",null,null,"השקעות אחרות",null,null,1375,"אלטשולר שחם גמל מניות"]
[null,null,null,null,"DT210","אופציות על מדדים/נכסים אחרים סחירות (short) ",null,null,"השקעות אחרות",null,null,9950,"אלטשולר שחם גמל לבני 50 ומטה"]
[null,null,null,null,null,"ב. לא סחיר",null,null,null,null,null,1287,"אלטשולר שחם גמל מסלול קלאסי"]
[null,null,null,null,"DT470","אופציות על מדדים כולל מניות לא סחירות (long) ",null,null,"השקעות אחרות",null,null,1376,"אלטשולר שחם גמל אגח ללא מניות"]
[null,null,null,null,"DT472","אופציות על מדדים כולל מניות לא סחירות (short) ",null,null,"השקעות אחרות",null,null,1417,"אלטשולר קופת פיצויים מסלול אגח"]
[null,null,null,null,"DT345","אופציות על ש\"ח/מט\"ח לא סחירות (long) ",null,null,"השקעות אחרות",null,null,295,"קרן השתלמות הרוקחים"]
[null,null,null,null,"DT347","אופציות על ש\"ח/מט\"ח לא סחירות (short) ",null,null,"השקעות אחרות",null,null,2006,"אלטשולר שחם גמל אגח צמוד מדד"]
[null,null,null,null,"DT625","אופציות על מט\"ח/מט\"ח לא סחירות (long) ",null,null,"השקעות אחרות",null,null,0,"אלטשולר שחם השתלמות אגח צמוד מדד"]
[null,null,null,null,"DT626","אופציות על מט\"ח/מט\"ח לא סחירות (short) ",null,null,"השקעות אחרות",null,null,2008,"אלטשולר שחם פיצויים כספית"]
[null,null,null,null,"DT471","אופציות על ריבית לא סחירות (long) ",null,null,"השקעות אחרות",null,null,2017,"פסגות גמל כשר"]
[null,null,null,null,"DT473","אופציות על ריבית לא סחירות (short) ",null,null,"השקעות אחרות",null,null,2018,"פסגות השתלמות כשר"]
[null,null,null,null,"DT346","אופציות אחרות לא סחירות (long) ",null,null,"השקעות אחרות",null,null,1514,"פסגות גמל בניהול אישי - רמי אורן"]
[null,null,null,null,"DT348","אופציות אחרות לא סחירות (short) ",null,null,"השקעות אחרות",null,null,2048,"מגדל השתלמות כהלכה"]
[null,null,null,null,null,"בחו\"ל",null,null,null,null,null,1119,"מיטב תגמולים מסלול אג\"ח"]
[null,null,null,null,null,"א. סחיר",null,null,null,null,null,767,"מיטב תגמולים מסלול שוהם כהלכה"]
[null,null,null,null,"DT213","אופציות על מדדים כולל מניות בחו\"ל סחירות (long) ",null,null,"מניות וני\"ע סחירים אחרים",null,null,1098,"מיטב השתלמות מסלול אג\"ח"]
[null,null,null,null,"DT217","אופציות על מדדים כולל מניות בחו\"ל סחירות (short) ",null,null,"מניות וני\"ע סחירים אחרים",null,null,768,"מיטב השתלמות מסלול שוהם כהלכה"]
[null,null,null,null,"DT214","אופציות על מטבע  בחו\"ל סחירות (long) ",null,null,"השקעות אחרות",null,null,1370,"מיטב השתלמות מסלול כספי ללא מניות"]
[null,null,null,null,"DT218","אופציות על מטבע  בחו\"ל סחירות (short) ",null,null,"השקעות אחרות",null,null,1514,"פסגות גמל בניהול אישי ויצמן עמוס"]
[null,null,null,null,"DT215","אופציות על ריבית בחו\"ל סחירות (long) ",null,null,"השקעות אחרות",null,null,1515,"פסגות השתלמות בניהול אישי ויצמן עמוס"]
[null,null,null,null,"DT219","אופציות על ריבית בחו\"ל סחירות (short) ",null,null,"השקעות אחרות",null,null,1539,"אינפיניטי פיצויים מוסד הטכניון למופ"]
[null,null,null,null,"DT216","אופציות על סחורות בחו\"ל סחירות (long) ",null,null,"השקעות אחרות",null,null,1492,"תגמולים שיטת הפניקס סל עוקב מדד תא 100"]
[null,null,null,null,"DT220","אופציות על סחורות בחו\"ל סחירות (short) ",null,null,"השקעות אחרות",null,null,1493,"תגמולים שיטת הפניקס סל עוקב מדד תל בונד 20"]
[null,null,null,null,"DT474","אופציות על מדדים/נכסים אחרים בחו\"ל סחירות (long) ",null,null,"השקעות אחרות",null,null,1494,"תגמולים שיטת הפניקס סל עוקב מדד ממשלתי צמוד 0-2"]
[null,null,null,null,"DT475","אופציות על מדדים/נכסים אחרים בחו\"ל סחירות (short) ",null,null,"השקעות אחרות",null,null,1495,"תגמולים שיטת הפניקס סל עוקב מדד ממשלתי צמוד 2-5"]
[null,null,null,null,null,"ב. לא סחיר",null,null,null,null,null,1498,"תגמולים שיטת הפניקס סל עוקב מדד מקמ"]
[null,null,null,null,"DT476","אופציות על מדדים כולל מניות בחו\"ל לא סחירות (long) ",null,null,"השקעות אחרות",null,null,1499,"תגמולים שיטת הפניקס סל עוקב מדד אגח לא צמוד ריבית קבועה"]
[null,null,null,null,"DT481","אופציות על מדדים כולל מניות בחו\"ל לא סחירות (short) ",null,null,"השקעות אחרות",null,null,2116,"תגמולים שיטת הפניקס סל עוקב מדד ממשלתי צמוד 5-10"]
[null,null,null,null,"DT477","אופציות על מטבע  בחו\"ל לא סחירות (long) ",null,null,"השקעות אחרות",null,null,2118,"תגמולים שיטת הפניקס אגח ממשלתי שקלי ריבית קבועה +5"]
[null,null,null,null,"DT482","אופציות על מטבע  בחו\"ל לא סחירות (short) ",null,null,"השקעות אחרות",null,null,2119,"תגמולים שיטת הפניקס סל עוקב תל בונד שקלי"]
[null,null,null,null,"DT478","אופציות על ריבית בחו\"ל לא סחירות (long) ",null,null,"השקעות אחרות",null,null,1500,"תגמולים שיטת הפניקס סל עוקב מדד דאו ג&#39;ונס יור 50"]
[null,null,null,null,"DT483","אופציות על ריבית בחו\"ל לא סחירות (short) ",null,null,"השקעות אחרות",null,null,1501,"תגמולים שיטת הפניקס סל עוקב מדד  500s&amp;p"]
[null,null,null,null,"DT479","אופציות על סחורות בחו\"ל לא סחירות (long) ",null,null,"השקעות אחרות",null,null,1502,"תגמולים שיטת הפניקס סל עוקב מדד MSCI &#160;שווקים מתעוררים"]
[null,null,null,null,"DT484","אופציות על סחורות בחו\"ל לא סחירות (short) ",null,null,"השקעות אחרות",null,null,2120,"תגמולים שיטת הפניקס סל עוקב מדד BARCLAYS CAPITAL"]
[null,null,null,null,"DT480","אופציות על מדדים/נכסים בחו\"ל לא סחירות (long) ",null,null,"השקעות אחרות",null,null,2121,"תגמולים שיטת הפניקס סל עוקב מדד J.P.MORGAN"]
[null,null,null,null,"DT485","אופציות על מדדים/נכסים בחו\"ל לא סחירות (short) ",null,null,"השקעות אחרות",null,null,2122,"תגמולים שיטת הפניקס סל עוקב מדד IBOXXִ$ LIQUID"]
[null,null,null,null,null,"11. מוצרים מובנים",null,null,null,null,null,2123,"תגמולים שיטת הפניקס סל עוקב ליבור דולר ארהב לחודש"]
[null,null,null,null,null,"בישראל",null,null,null,null,null,2117,"תגמולים שיטת הפניקס סל עוקב מדד תא 25"]
[null,null,null,null,null,"א. סחיר",null,null,null,null,null,1503,"השתלמות שיטת הפניקס סל עוקב מדד תא 100"]
[null,null,null,null,null,"קרן מובטחת",null,null,null,null,null,1504,"השתלמות שיטת הפניקס סל עוקב מדד תל בונד 20"]
[null,null,null,null,"DT705","מוצרים מובנים בישראל עם קרן מובטחת ונכס בסיס אשראי",null,null,"השקעות אחרות",null,null,1505,"השתלמות שיטת הפניקס סל עוקב מדד ממשלתי צמוד 0-2"]
[null,null,null,null,"DT706","מוצרים מובנים בישראל עם קרן מובטחת ונכס בסיס מניות ",null,null,"השקעות אחרות",null,null,1506,"השתלמות שיטת הפניקס סל עוקב מדד ממשלתי צמוד 2-5"]
[null,null,null,null,"DT707","מוצרים מובנים בישראל עם קרן מובטחת ונכס בסיס ריבית",null,null,"השקעות אחרות",null,null,1509,"השתלמות שיטת הפניקס סל עוקב מדד מקמ"]
[null,null,null,null,"DT708","מוצרים מובנים בישראל עם קרן מובטחת ונכס בסיס מטבע",null,null,"השקעות אחרות",null,null,1510,"השתלמות שיטת הפניקס סל עוקב מדד אגח ל. צמוד ריבית קבועה"]
[null,null,null,null,"DT709","מוצרים מובנים בישראל עם קרן מובטחת ונכס בסיס מדד",null,null,"השקעות אחרות",null,null,2124,"השתלמות שיטת הפניקס סל עוקב מדד ממשלתי צמוד 5-10"]
[null,null,null,null,"DT710","מוצרים מובנים בישראל עם קרן מובטחת ונכס בסיס אחר",null,null,"השקעות אחרות",null,null,2125,"השתלמות שיטת הפניקס אגח ממשלתי שקלי ריבית קבועה +5"]
[null,null,null,null,null,"קרן לא מובטחת",null,null,null,null,null,2127,"השתלמות שיטת הפניקס סל עוקב תל בונד שקלי"]
[null,null,null,null,"DT711","מוצרים מובנים בישראל עם קרן לא מובטחת ונכס בסיס אשראי",null,null,"השקעות אחרות",null,null,1512,"השתלמות שיטת הפניקס סל עוקב מדד S&amp;P 500"]
[null,null,null,null,"DT712","מוצרים מובנים בישראל עם קרן לא מובטחת ונכס בסיס מניות ",null,null,"השקעות אחרות",null,null,1511,"השתלמות שיטת הפניקס סל עוקב מדד דאו ג&#39;ונס יורו 50"]
[null,null,null,null,"DT713","מוצרים מובנים בישראל עם קרן לא מובטחת ונכס בסיס ריבית",null,null,"השקעות אחרות",null,null,1513,"השתלמות שיטת הפניקס סל עוקב מדד MSCI &#160;שווקים מתעוררים"]
[null,null,null,null,"DT714","מוצרים מובנים בישראל עם קרן לא מובטחת ונכס בסיס מטבע",null,null,"השקעות אחרות",null,null,2128,"השתלמות שיטת הפניקס סל עוקב מדד BARCLAYS CAPITAL"]
[null,null,null,null,"DT715","מוצרים מובנים בישראל עם קרן לא מובטחת ונכס בסיס מדד",null,null,"השקעות אחרות",null,null,2129,"השתלמות שיטת הפניקס סל עוקב מדד J.P.MORGAN"]
[null,null,null,null,"DT716","מוצרים מובנים בישראל עם קרן לא מובטחת ונכס בסיס אחר",null,null,"מניות וני\"ע סחירים אחרים",null,null,2130,"השתלמות שיטת הפניקס סל עוקב מדדIBOXX$LIQUID"]
[null,null,null,null,null,"פקדונות מובנים",null,null,null,null,null,2131,"השתלמות שיטת הפניקס סל עוקב ליבור דולר ארהב לחודש"]
[null,null,null,null,"DT717","פקדונות מובנים בישראל עם קרן מובטחת ונכס בסיס אשראי",null,null,"השקעות אחרות",null,null,2126,"השתלמות שיטת הפניקס סל עוקב מדד תא 25"]
[null,null,null,null,"DT718","פקדונות מובנים בישראל עם קרן מובטחת ונכס בסיס מניות",null,null,"השקעות אחרות",null,null,579,"מגדל השתלמות כללי"]
[null,null,null,null,"DT719","פקדונות מובנים בישראל עם קרן מובטחת ונכס בסיס ריבית",null,null,"השקעות אחרות",null,null,579,"מגדל השתלמות כללי"]
[null,null,null,null,"DT720","פקדונותמובנים בישראל עם קרן מובטחת ונכס בסיס מטבע",null,null,"השקעות אחרות",null,null,744,"מגדל לתגמולים ולפיצויים כללי"]
[null,null,null,null,"DT721","פקדונות מובנים בישראל עם קרן מובטחת ונכס בסיס מדד",null,null,"השקעות אחרות",null,null,744,"מגדל לתגמולים ולפיצויים כללי"]
[null,null,null,null,"DT722","פקדונות מובנים בישראל עם קרן מובטחת ונכס בסיס אחר",null,null,"השקעות אחרות",null,null,745,"מגדל מרכזית לפיצויים"]
[null,null,null,null,null,"מוצרים מאוגחים",null,null,null,null,null,1161,"מקפת דמי מחלה"]
[null,null,null,null,"DT723","שכבת חוב (Tranch) בישראל  בדירוג (AA-) ומעלה",null,null,"השקעות אחרות",null,null,1304,"מקפת תקציבית"]
[null,null,null,null,"DT724","שכבת חוב (Tranch) בישראל  בדירוג (BBB:+A-)",null,null,"השקעות אחרות",null,null,870,"מגדל פיצויים למעסיק"]
[null,null,null,null,"DT725","שכבת חוב (Tranch) בישראל  בדירוג (BB+) ומטה",null,null,"השקעות אחרות",null,null,964,"הפניקס השתלמות כללי"]
[null,null,null,null,"DT726","שכבת הון (Equity Tranch) בישראל",null,null,"השקעות אחרות",null,null,968,"הפניקס השתלמות מנייתי"]
[null,null,null,null,null,"ב. לא סחיר",null,null,null,null,null,1354,"הפניקס השתלמות מסלול ללא מניות"]
[null,null,null,null,null,"קרן מובטחת",null,null,null,null,null,521,"הפניקס תגמולים ופיצויים עמית כללי"]
[null,null,null,null,"DT646","מוצרים מובנים בישראל עם קרן מובטחת ונכס בסיס אשראי",null,null,"השקעות אחרות",null,null,9884,"הפניקס תגמולים ופיצויים כללי"]
[null,null,null,null,"DT647","מוצרים מובנים בישראל עם קרן מובטחת ונכס בסיס מניות ",null,null,"השקעות אחרות",null,null,961,"הפניקס תגמולים ופיצויים מנייתי"]
[null,null,null,null,"DT648","מוצרים מובנים בישראל עם קרן מובטחת ונכס בסיס ריבית",null,null,"השקעות אחרות",null,null,1355,"הפניקס תגמולים ופיצויים מסלול ללא מניות"]
[null,null,null,null,"DT649","מוצרים מובנים בישראל עם קרן מובטחת ונכס בסיס מטבע",null,null,"השקעות אחרות",null,null,954,"הפניקס מרכזית"]
[null,null,null,null,"DT650","מוצרים מובנים בישראל עם קרן מובטחת ונכס בסיס מדד",null,null,"השקעות אחרות",null,null,2113,"אינפיניטי גמל בניהול אישי בנימין אייל"]
[null,null,null,null,"DT651","מוצרים מובנים בישראל עם קרן מובטחת ונכס בסיס אחר",null,null,"השקעות אחרות",null,null,2114,"אינפיניטי השתלמות&#160;בנהול אישי בנימין אייל"]
[null,null,null,null,null,"קרן לא מובטחת",null,null,null,null,null,2246,"הפניקס תגמולים ממשלתי ר.ק. 2-5"]
[null,null,null,null,"DT652","מוצרים מובנים בישראל עם קרן לא מובטחת ונכס בסיס אשראי",null,null,"השקעות אחרות",null,null,2248,"הפניקס השתלמות ממשלתי ר.ק. 2-5"]
[null,null,null,null,"DT653","מוצרים מובנים בישראל עם קרן לא מובטחת ונכס בסיס מניות ",null,null,"השקעות אחרות",null,null,820,"הראל פרופיל אישי שרותי בריאות כללית"]
[null,null,null,null,"DT654","מוצרים מובנים בישראל עם קרן לא מובטחת ונכס בסיס ריבית",null,null,"השקעות אחרות",null,null,2113,"אינפיניטי גמל בניהול אישי חנן מאיר"]
[null,null,null,null,"DT655","מוצרים מובנים בישראל עם קרן לא מובטחת ונכס בסיס מטבע",null,null,"השקעות אחרות",null,null,1034,"הראל השתלמות חו&quot;ל"]
[null,null,null,null,"DT656","מוצרים מובנים בישראל עם קרן לא מובטחת ונכס בסיס מדד",null,null,"השקעות אחרות",null,null,1296,"הראל קופה לפנסיה תקציבית"]
[null,null,null,null,"DT657","מוצרים מובנים בישראל עם קרן לא מובטחת ונכס בסיס אחר",null,null,"השקעות אחרות",null,null,9745,"הראל גמל בני 60 ומעלה"]
[null,null,null,null,null,"פקדונות מובנים",null,null,null,null,null,9744,"הראל גמל בני 50 ומטה"]
[null,null,null,null,"DT678","פקדונות מובנים בישראל עם קרן מובטחת ונכס בסיס אשראי",null,null,"השקעות אחרות",null,null,566,"הראל השתלמות טווח ארוך"]
[null,null,null,null,"DT679","פקדונות מובנים בישראל עם קרן מובטחת ונכס בסיס מניות",null,null,"השקעות אחרות",null,null,2252,"אינפיניטי השתלמות עד 15 אחוז מניות"]
[null,null,null,null,"DT680","מוצרים מובנים בישראל עם קרן מובטחת ונכס בסיס ריבית",null,null,"השקעות אחרות",null,null,2254,"אינפיניטי השתלמות לחוסכים מוטי סיכון"]
[null,null,null,null,"DT681","מוצרים מובנים בישראל עם קרן מובטחת ונכס בסיס מטבע",null,null,"השקעות אחרות",null,null,2114,"אינפיניטי השתלמות בניהול אישי יגאל צמח"]
[null,null,null,null,"DT682","מוצרים מובנים בישראל עם קרן מובטחת ונכס בסיס מדד",null,null,"השקעות אחרות",null,null,2113,"אינפיניטי גמל בניהול אישי לובה הוטניק"]
[null,null,null,null,"DT683","מוצרים מובנים בישראל עם קרן מובטחת ונכס בסיס אחר",null,null,"השקעות אחרות",null,null,8056,"ילין לפידות קופה מרכזית לפיצויים כללי ב"]
[null,null,null,null,null,"מוצרים מאוגחים",null,null,null,null,null,8058,"הראל השתלמות אגח קונצרני"]
[null,null,null,null,"DT658","שכבת חוב (Tranch) בישראל בדירוג (AA-) ומעלה",null,null,"השקעות אחרות",null,null,8057,"הראל גמל חו&quot;ל"]
[null,null,null,null,"DT659","שכבת חוב (Tranch) בישראל בדירוג (BBB:+A-)",null,null,"השקעות אחרות",null,null,8012,"מגדל לתגמולים ולפיצויים כללי עד 10 אחוז מניות"]
[null,null,null,null,"DT660","שכבת חוב (Tranch) בישראל בדירוג (BB+) ומטה",null,null,"השקעות אחרות",null,null,9952,"אלטושלר שחם גמל לבני 60 ומעלה"]
[null,null,null,null,"DT661","שכבת הון (Equity Tranch) בישראל",null,null,"השקעות אחרות",null,null,588,"אלטשולר פיצויים אגח עד 15% במניות"]
[null,null,null,null,null,"בחו\"ל",null,null,null,null,null,558,"אלטשולר השתלמות אגח עד 15% מניות"]
[null,null,null,null,null,"א. סחיר",null,null,null,null,null,0,"אינפיניטי פסגת השירותים פיצויים אישי"]
[null,null,null,null,null,"קרן מובטחת",null,null,null,null,null,1406,"מנורה השתלמות אגח קונצרניות"]
[null,null,null,null,"DT727","מוצרים מובנים בחו\"ל עם קרן מובטחת ונכס בסיס אשראי",null,null,"השקעות אחרות",null,null,1407,"מנורה השתלמות אגח ממשלתי צמוד"]
[null,null,null,null,"DT728","מוצרים מובנים בחו\"ל עם קרן מובטחת ונכס בסיס מניות",null,null,"השקעות אחרות",null,null,1408,"מנורה השתלמות אגח ממשלתי שקלי"]
[null,null,null,null,"DT729","מוצרים מובנים בחו\"ל  עם קרן מובטחת ונכס בסיס ריבית",null,null,"השקעות אחרות",null,null,1409,"מנורה השתלמות מניות חול"]
[null,null,null,null,"DT730","מוצרים מובנים בחו\"ל  עם קרן מובטחת ונכס בסיס מטבע",null,null,"השקעות אחרות",null,null,828,"מנורה השתלמות כללי"]
[null,null,null,null,"DT731","מוצרים מובנים בחו\"ל  עם קרן מובטחת ונכס בסיס מדד",null,null,"השקעות אחרות",null,null,438,"קחצק כללי"]
[null,null,null,null,"DT732","מוצרים מובנים בחו\"ל  עם קרן מובטחת ונכס בסיס אחר",null,null,"השקעות אחרות",null,null,1410,"קחצק אג&quot;ח ללא מניות"]
[null,null,null,null,null,"קרן לא מובטחת",null,null,null,null,null,1411,"קחצק מסלול מניות"]
[null,null,null,null,"DT733","מוצרים מובנים בחו\"ל עם קרן לא מובטחת ונכס בסיס אשראי",null,null,"השקעות אחרות",null,null,288,"קרן השתלמות לאקדמאים במדעי החברה והרוח מסלול כללי"]
[null,null,null,null,"DT734","מוצרים מובנים בחו\"ל עם קרן לא מובטחת ונכס בסיס מניות  ",null,null,"השקעות אחרות",null,null,1451,"קרן השתלמות לאקדמאים במדעי החברה והרוח מסלול אג&quot;ח"]
[null,null,null,null,"DT735","מוצרים מובנים בחו\"ל  עם קרן לא מובטחת ונכס בסיס ריבית",null,null,"השקעות אחרות",null,null,1452,"קרן השתלמות לאקדמאים במדעי החברה והרוח מסלול מנייתי"]
[null,null,null,null,"DT736","מוצרים מובנים בחו\"ל  עם קרן לא מובטחת ונכס בסיס מטבע",null,null,"השקעות אחרות",null,null,9935,"קופת גמל מחר מסלול לבני 50 ומטה"]
[null,null,null,null,"DT737","מוצרים מובנים בחו\"ל  עם קרן לא מובטחת ונכס בסיס מדד",null,null,"השקעות אחרות",null,null,9937,"קופת גמל מחר מסלול לבני 60 ומעלה"]
[null,null,null,null,"DT738","מוצרים מובנים בחו\"ל  עם קרן לא מובטחת ונכס בסיס אחר",null,null,"השקעות אחרות",null,null,1441,"קופת גמל מחר מסלול אג&quot;ח ממשלת ישראל"]
[null,null,null,null,null,"פקדונות מובנים",null,null,null,null,null,1522,"קופת גמל מחר מסלול מניות"]
[null,null,null,null,"DT739","פקדונות מובנים בחו\"ל עם קרן מובטחת ונכס בסיס אשראי",null,null,"השקעות אחרות",null,null,382,"קרן השתלמות עובדי מדינה מסלול כללי"]
[null,null,null,null,"DT740","פקדונות מובנים בחו\"ל עם קרן מובטחת ונכס בסיס מניות",null,null,"השקעות אחרות",null,null,1404,"קרן השתלמות עובדי מדינה מסלול ללא מניות"]
[null,null,null,null,"DT741","פקדונות מובנים בחו\"ל  עם קרן מובטחת ונכס בסיס ריבית",null,null,"השקעות אחרות",null,null,1434,"קופת גמל עמי מסלול ללא מניות"]
[null,null,null,null,"DT742","פקדונות מובנים בחו\"ל  עם קרן מובטחת ונכס בסיס מטבע",null,null,"השקעות אחרות",null,null,9943,"עמי מסלול לבני 50 עד 60"]
[null,null,null,null,"DT743","פקדונות מובנים בחו\"ל  עם קרן מובטחת ונכס בסיס מדד",null,null,"השקעות אחרות",null,null,1539,"אינפיניטי עמידר החברה הלאומית לשיכון בישראל בעמ פיצויים אישי"]
[null,null,null,null,"DT744","פקדונות מובנים בחו\"ל  עם קרן מובטחת ונכס בסיס אחר",null,null,"השקעות אחרות",null,null,1539,"אינפיניטי טבע פיצויים אישי"]
[null,null,null,null,null,"מוצרים מאוגחים",null,null,null,null,null,2114,"אינפיניטי השתלמות בניהול אישי רפאל דנינו"]
[null,null,null,null,"DT745","שכבת חוב (Tranch) בחו\"ל בדירוג (AA-) ומעלה",null,null,"השקעות אחרות",null,null,2082,"מנורה מבטחים גמל בניהול אישי מרים שיין"]
[null,null,null,null,"DT746","שכבת חוב (Tranch) בחו\"ל בדירוג (BBB:+A-)",null,null,"השקעות אחרות",null,null,7233,"אינפיניטי גמל מסלול לבני 60 ומעלה"]
[null,null,null,null,"DT747","שכבת חוב (Tranch) בחו\"ל בדירוג (BB+) ומטה",null,null,"השקעות אחרות",null,null,7231,"אינפיניטי גמל מסלול לבני 50 ומטה"]
[null,null,null,null,"DT748","שכבת הון (Equity Tranch) בחו\"ל",null,null,"השקעות אחרות",null,null,2084,"מנורה מבטחים השתלמות בניהול אישי יניב גרינולד"]
[null,null,null,null,null,"ב. לא סחיר",null,null,null,null,null,2084,"מנורה מבטחים השתלמות בניהול אישי סלבה ריבקין"]
[null,null,null,null,null,"קרן מובטחת",null,null,null,null,null,2084,"מנורה מבטחים השתלמות בניהול אישי איציק קורן"]
[null,null,null,null,"DT662","מוצרים מובנים בחו\"ל עם קרן מובטחת ונכס בסיס אשראי",null,null,"השקעות אחרות",null,null,2082,"מנורה מבטחים בניהול אישי ישראל טננבוים"]
[null,null,null,null,"DT663","מוצרים מובנים בחו\"ל עם קרן מובטחת ונכס בסיס מניות",null,null,"השקעות אחרות",null,null,2084,"מנורה מבטחים השתלמות בניהול אישי ערן משה עמנואל פרלוק"]
[null,null,null,null,"DT664","מוצרים מובנים בחו\"ל  עם קרן מובטחת ונכס בסיס ריבית",null,null,"השקעות אחרות",null,null,2113,"אינפיניטי גמל בניהול אישי ראובן דנגור"]
[null,null,null,null,"DT665","מוצרים מובנים בחו\"ל  עם קרן מובטחת ונכס בסיס מטבע",null,null,"השקעות אחרות",null,null,2113,"אינפיניטי גמל בניהול אישי יעל דנגור"]
[null,null,null,null,"DT666","מוצרים מובנים בחו\"ל  עם קרן מובטחת ונכס בסיס מדד",null,null,"השקעות אחרות",null,null,2084,"מנורה מבטחים השתלמות בניהול אישי אבי איפרגן"]
[null,null,null,null,"DT667","מוצרים מובנים בחו\"ל  עם קרן מובטחת ונכס בסיס אחר",null,null,"השקעות אחרות",null,null,2084,"מנורה מבטחים השתלמות בניהול אישי רון מזרחי"]
[null,null,null,null,null,"קרן לא מובטחת",null,null,null,null,null,2114,"אינפיניטי השתלמות בניהול אישי אייל גורגי"]
[null,null,null,null,"DT668","מוצרים מובנים בחו\"ל עם קרן לא מובטחת ונכס בסיס אשראי",null,null,"השקעות אחרות",null,null,8563,"ילין לפידות השתלמות מנייתי"]
[null,null,null,null,"DT669","מוצרים מובנים בחו\"ל עם קרן לא מובטחת ונכס בסיס מניות ",null,null,"השקעות אחרות",null,null,2114,"אינפיניטי השתלמות בניהול אישי אייל ג&#39;ורג&#39;י 3"]
[null,null,null,null,"DT670","מוצרים מובנים בחו\"ל  עם קרן לא מובטחת ונכס בסיס ריבית",null,null,"השקעות אחרות",null,null,2114,"אינפיניטי השתלמות בניהול אישי אייל ג&#39;ורג&#39;י 3"]
[null,null,null,null,"DT671","מוצרים מובנים בחו\"ל  עם קרן לא מובטחת ונכס בסיס מטבע",null,null,"השקעות אחרות",null,null,2082,"מנורה מבטחים גמל בניהול אישי אביבה גדיאל 1"]
[null,null,null,null,"DT672","מוצרים מובנים בחו\"ל  עם קרן לא מובטחת ונכס בסיס מדד",null,null,"השקעות אחרות",null,null,2082,"מנורה מבטחים גמל בניהול אישי אביבה גדיאל 2"]
[null,null,null,null,"DT673","מוצרים מובנים בחו\"ל עם קרן לא מובטחת ונכס בסיס אחר",null,null,"השקעות אחרות",null,null,2082,"מנורה נבטחים גמל בניהול אישי אביבה גדיאל 3"]
[null,null,null,null,null,"פקדונות מובנים",null,null,null,null,null,2084,"מנורה מבטחים השתלמות בניהול אישי אביבה גדיאל"]
[null,null,null,null,"DT684","פקדונות מובנים בחו\"ל עם קרן מובטחת ונכס בסיס אשראי",null,null,"השקעות אחרות",null,null,2084,"מנורה מבטחים השתלמות בניהול אישי רחל תורן"]
[null,null,null,null,"DT685","פקדונות מובנים בחו\"ל עם קרן מובטחת ונכס בסיס מניות",null,null,"השקעות אחרות",null,null,2084,"מנורה מבטחים השתלמות בניהול אישי ערן קלי"]
[null,null,null,null,"DT686","פקדונות מובנים בחו\"ל  עם קרן מובטחת ונכס בסיס ריבית",null,null,"השקעות אחרות",null,null,2082,"מנורה מבטחים גמל בניהול אישי זאנין לזרוביץ"]
[null,null,null,null,"DT687","פקדונות מובנים בחו\"ל  עם קרן מובטחת ונכס בסיס מטבע",null,null,"השקעות אחרות",null,null,2084,"מנורה מבטחים השתלמות בניהול אישי זאנין לזרוביץ"]
[null,null,null,null,"DT688","פקדונות מובנים בחו\"ל  עם קרן מובטחת ונכס בסיס מדד",null,null,"השקעות אחרות",null,null,2082,"מנורה מבטחים גמל בניהול אישי דניאל לזרוביץ"]
[null,null,null,null,"DT689","פקדונות מובנים בחו\"ל  עם קרן מובטחת ונכס בסיס אחר",null,null,"השקעות אחרות",null,null,2084,"מנורה מבטחים השתלמות בניהול אישי דניאל לזרוביץ"]
[null,null,null,null,null,"מוצרים מאוגחים",null,null,null,null,null,2082,"מנורה מבטחים גמל בניהול אישי אוריה בן דוד"]
[null,null,null,null,"DT674","שכבת חוב (Tranch) בחו\"ל בדירוג (AA-) ומעלה",null,null,"השקעות אחרות",null,null,2082,"מנורה מבטחים גמל בניהול אישי הלל שינפלד"]
[null,null,null,null,"DT675","שכבת חוב (Tranch) בחו\"ל בדירוג (BBB:+A-)",null,null,"השקעות אחרות",null,null,2082,"מנורה מבטחים גמל בניהול אישי עופר יוכלמן"]
[null,null,null,null,"DT676","שכבת חוב (Tranch) בחו\"ל בדירוג (BB+) ומטה",null,null,"השקעות אחרות",null,null,2082,"מנורה מבטחים גמל בניהול אישי מיכל יוכלמן"]
[null,null,null,null,"DT677","שכבת הון (Equity Tranch) בחו\"ל",null,null,"השקעות אחרות",null,null,2084,"מנורה מבטחים השתלמות בניהול אישי מיכל יוכלמן"]
[null,null,null,null,null,"ג. הלוואות",null,null,null,null,null,9957,"עירית תל אביב תגמולים ואישית לפיצוים לבני 50 עד 60"]
[null,null,null,null,null,"בישראל",null,null,null,null,null,1480,"עירית תל אביב תגמולים ואישית לפיצוים שחר"]
[null,null,null,null,"DC1","הלוואות לעמיתים",null,null,"פקדונות והלוואות",null,null,1481,"עירית תל אביב תגמולים ואישית לפיצוים סער מניות"]
[null,null,null,null,"DT502","תיקי משכנתאות בדירוג (-BBB) ומעלה, או שעומדת כנגדם בטוחה מספקת, או משכנתא ראשונה על זכות במקרקעין או התחייבות לרישום משכנתא שנרשם עליה משכון כדין",null,null,"פקדונות והלוואות",null,null,1477,"אגודה שיתופית תא תגמולים מסלול מניות"]
[null,null,null,null,"DT503","תיקי משכנתאות בדירוג הנמוך מ (-BBB)",null,null,"פקדונות והלוואות",null,null,9963,"אגודה שיתופית תא תגמולים לבני  50-60"]
[null,null,null,null,"DT450","הלוואות עם ערבות בנקאית בדירוג (AA-) ומעלה",null,null,"פקדונות והלוואות",null,null,1405,"אגודה שיתופית תא תגמולים מסלול אגח"]
[null,null,null,null,"DT504","הלוואות עם ערבות בנקאית בדירוג (BBB:+A-)",null,null,"פקדונות והלוואות",null,null,2084,"מנורה מבטחים השתלמות בניהול אישי דורון שופן"]
[null,null,null,null,"DT505","הלוואות עם ערבות בנקאית בדירוג הנמוך מ  (BBB-) או לא מדורגות",null,null,"פקדונות והלוואות",null,null,2084,"מנורה מבטחים השתלמות בניהול אישי חיים רנד"]
[null,null,null,null,"DT451","הלוואות מובטחות בביטחונות אחרים והלואות עם ערבות מדינה בדירוג (AA-) ומעלה",null,null,"פקדונות והלוואות",null,null,2084,"מנורה מבטחים השתלמות בניהול אישי חנה רנד"]
[null,null,null,null,"DT506","הלוואות מובטחות בביטחונות אחרים והלואות עם ערבות מדינה בדירוג (BBB:+A-)",null,null,"פקדונות והלוואות",null,null,2084,"מנורה מבטחים השתלמות בניהול אישי שרה שוכהנדלר"]
[null,null,null,null,"DT627","הלוואות מובטחות בביטחונות אחרים והלואות עם ערבות מדינה בדירוג הנמוך מ  (BBB-) או לא מדורגות שעומדות כנגדן בטוחה מספקת",null,null,"פקדונות והלוואות",null,null,2082,"מנורה מבטחים גמל בניהול אישי שרה שוכהנדלר"]
[null,null,null,null,"DT507","הלוואות מובטחות בביטחונות אחרים והלואות עם ערבות מדינה בדירוג הנמוך מ  (BBB-) או לא מדורגות",null,null,"פקדונות והלוואות",null,null,2084,"מנורה מבטחים השתלמות בניהול אישי זיו חרמון"]
[null,null,null,null,"DT577","הלוואות לא מובטחות",null,null,"פקדונות והלוואות",null,null,2082,"מנורה מבטחים גמל בניהול אישי זיו חרמון"]
[null,null,null,null,null,"בחו\"ל",null,null,"פקדונות והלוואות",null,null,9942,"עמי גמל מסלול לבני 60 ומעלה"]
[null,null,null,null,"DT508","תיקי משכנתאות בחו\"ל שעומדת כנגדם בכל עת בטוחה מספקת, או משכנתא ראשונה על זכות במקרקעין או התחייבות לרישום משכנתא שנרשם עליה משכון כדין",null,null,"פקדונות והלוואות",null,null,8596,"הפניקס השתלמות מסלול אג&quot;ח"]
[null,null,null,null,"DT509","הלוואות בחו\"ל מובטחות בערבות בנקאית",null,null,"פקדונות והלוואות",null,null,8597,"הפניקס השתלמות אג&quot;ח עד 25% מניות"]
[null,null,null,null,"DT511","הלוואות בחו\"ל מובטחות בביטחונות אחרים",null,null,"פקדונות והלוואות",null,null,8595,"הפניקס גמל מסלול אג&quot;ח"]
[null,null,null,null,"DT452","הלוואות בחו\"ל לא מובטחות",null,null,"פקדונות והלוואות",null,null,2082,"מנורה מבטחים גמל בניהול אישי יעקב גרוסמן"]
[null,null,null,null,null,"ד. פיקדונות לתקופה העולה על שלושה חודשים",null,null,"פקדונות והלוואות",null,null,2082,"מנורה מבטחים גמל בניהול אישי רוני אפריאט"]
[null,null,null,null,null,"בישראל",null,null,"פקדונות והלוואות",null,null,2084,"מנורה מבטחים השתלמות בניהול אישי רוני אפריאט"]
[null,null,null,null,"DT512","פיקדונות צמודות מדד בדירוג (AA-) ומעלה לתקופה של מעל שלושה חודשים ועד שנה",null,null,"פקדונות והלוואות",null,null,2084,"מנורה מבטחים השתלמות בניהול אישי צחי גרוסוסר"]
[null,null,null,null,"DT513","פיקדונות לא צמודות בדירוג (AA-) ומעלה לתקופה של מעל שלושה חודשים ועד שנה",null,null,"פקדונות והלוואות",null,null,2114,"אינפיניטי השתלמות בניהול אישי אריה רוטלוי"]
[null,null,null,null,"DT514","פיקדונות נקובים במט''ח בדירוג (AA-) ומעלה לתקופה של מעל שלושה חודשים ועד שנה",null,null,"פקדונות והלוואות",null,null,2084,"מנורה מבטחים השתלמות בניהול אישי אפרים דוד"]
[null,null,null,null,"DT515","פיקדונות צמודות מט''ח בדירוג (AA-) ומעלה לתקופה של מעל שלושה חודשים ועד שנה",null,null,"פקדונות והלוואות",null,null,2082,"מנורה מבטחים גמל בניהול אישי יעקב חן"]
[null,null,null,null,"DT516","פיקדונות צמודות מדד בדירוג (AA-) ומעלה לתקופה של מעל שנה",null,null,"פקדונות והלוואות",null,null,2082,"מנורה מבטחים גמל בניהול אישי מאיר אומפרט"]
[null,null,null,null,"DT517","פיקדונות לא צמודות בדירוג (AA-) ומעלה לתקופה של מעל שנה",null,null,"פקדונות והלוואות",null,null,820,"מאוחדת פרופיל אישי"]
[null,null,null,null,"DT518","פיקדונות נקובים במט''ח בדירוג (AA-) ומעלה לתקופה של מעל שנה",null,null,"פקדונות והלוואות",null,null,2082,"מנורה מבטחים גמל בניהול אישי אשר זיונץ"]
[null,null,null,null,"DT519","פיקדונות צמודות מט''ח בדירוג (AA-) ומעלה לתקופה של מעל שנה",null,null,"פקדונות והלוואות",null,null,2084,"מנורה מבטחים השתלמות בניהול אישי אשר זיונץ"]
[null,null,null,null,"DT520","פיקדונות צמודות מדד בדירוג (BBB:+A-) לתקופה של מעל שלושה חודשים ועד שנה",null,null,"פקדונות והלוואות",null,null,2114,"אינפיניטי השתלמות בניהול אישי איתי ברזילאי"]
[null,null,null,null,"DT521","פיקדונות לא צמודות בדירוג (BBB:+A-) לתקופה של מעל שלושה חודשים ועד שנה",null,null,"פקדונות והלוואות",null,null,2082,"מנורה מבטחים גמל בניהול אישי מלכה זכאי"]
[null,null,null,null,"DT522","פיקדונות נקובים במט''ח בדירוג (BBB:+A-) לתקופה של מעל שלושה חודשים ועד שנה",null,null,"פקדונות והלוואות",null,null,2084,"מנורה מבטחים השתלמות בניהול אישי עובד פורת"]
[null,null,null,null,"DT523","פיקדונות צמודות מט''ח בדירוג (BBB:+A-) לתקופה של מעל שלושה חודשים ועד שנה",null,null,"פקדונות והלוואות",null,null,2082,"מנורה מבטחים גמל בניהול אישי יעקב יפה"]
[null,null,null,null,"DT524","פיקדונות צמודות מדד בדירוג (BBB:+A-) לתקופה של מעל שנה",null,null,"פקדונות והלוואות",null,null,2082,"מנורה מבטחים גמל בניהול אישי רות לבקוביץ"]
[null,null,null,null,"DT525","פיקדונות לא צמודות בדירוג (BBB:+A-) לתקופה של מעל שנה",null,null,"פקדונות והלוואות",null,null,2084,"מנורה מבטחים השתלמות בניהול אישי מסלול ברירת מ"]
[null,null,null,null,"DT526","פיקדונות נקובים במט''ח בדירוג (BBB:+A-) לתקופה של מעל שנה",null,null,"פקדונות והלוואות",null,null,2082,"מנורה מבטחים גמל בניהול אישי מסלול ברירת מחדל"]
[null,null,null,null,"DT527","פיקדונות צמודות מט''ח בדירוג (BBB:+A-) לתקופה של מעל שנה",null,null,"פקדונות והלוואות",null,null,2114,"אינפיניטי השתלמות בניהול אישי מסלול ברירת מחדל"]
[null,null,null,null,"DT530","פיקדונות צמודות מדד בדירוג הנמוך מ  (BBB-) או לא מדורגות לתקופה של מעל שלושה חודשים ועד שנה",null,null,"פקדונות והלוואות",null,null,2113,"אינפיניטי גמל בניהול אישי מסלול ברירת מחדל"]
[null,null,null,null,"DT531","פיקדונות לא צמודות בדירוג הנמוך מ  (BBB-) או לא מדורגות לתקופה של מעל שלושה חודשים ועד שנה",null,null,"פקדונות והלוואות",null,null,9939,"ילין לפידות גמל בני 50 ומטה"]
[null,null,null,null,"DT532","פיקדונות נקובים במט''ח בדירוג הנמוך מ  (BBB-) או לא מדורגות לתקופה של מעל שלושה חודשים ועד שנה",null,null,"פקדונות והלוואות",null,null,9941,"ילין לפידות גמל בני 60 ומעלה"]
[null,null,null,null,"DT533","פיקדונות צמודות מט''ח בדירוג הנמוך מ  (BBB-) או לא מדורגות לתקופה של מעל שלושה חודשים ועד שנה",null,null,"פקדונות והלוואות",null,null,9790,"מור מנורה מבטחים בני 50 עד 60"]
[null,null,null,null,"DT534","פיקדונות צמודות מדד בדירוג הנמוך מ  (BBB-) או לא מדורגות לתקופה של מעל שנה",null,null,"פקדונות והלוואות",null,null,9662,"מנורה מבטחים השתלמות אגח עד 20% מניות"]
[null,null,null,null,"DT535","פיקדונות לא צמודות בדירוג הנמוך מ  (BBB-) או לא מדורגות לתקופה של מעל שנה",null,null,"פקדונות והלוואות",null,null,9779,"מגדל תגמולים ופיצוים בני 50 ומטה"]
[null,null,null,null,"DT536","פיקדונות נקובים במט''ח בדירוג הנמוך מ  (BBB-) או לא מדורגות לתקופה של מעל שנה",null,null,"פקדונות והלוואות",null,null,9780,"מגדל תגמולים ופיצוים בני 50 עד 60"]
[null,null,null,null,"DT537","פיקדונות צמודות מט''ח בדירוג הנמוך מ  (BBB-) או לא מדורגות לתקופה של מעל שנה",null,null,"פקדונות והלוואות",null,null,9781,"מגדל תגמולים ופיצוים בני 60 ומעלה"]
[null,null,null,null,"DT628","פיקדונות אחרים בדירוג (AA-) ומעלה",null,null,"פקדונות והלוואות",null,null,7253,"מגדל השתלמות בני 50 ומטה"]
[null,null,null,null,"DT629","פיקדונות אחרים בדירוג (BBB:+A-)",null,null,"פקדונות והלוואות",null,null,7254,"מגדל השתלמות בני 50 עד 60"]
[null,null,null,null,"DT630","פיקדונות אחרים בדירוג הנמוך מ  (BBB-) או לא מדורגות",null,null,"פקדונות והלוואות",null,null,7256,"מגדל השתלמות פאסיבי כללי"]
[null,null,null,null,null,"בחו\"ל",null,null,null,null,null,470,"מגדל השתלמות בני 60 ומעלה"]
[null,null,null,null,"DT631","פקדונות בחו\"ל נקובים במט''ח בדירוג (A-) ומעלה",null,null,"פקדונות והלוואות",null,null,9936,"מחר גמל בני 50 עד 60"]
[null,null,null,null,"DT632","פקדונות בחו\"ל נקובים במט''ח בדירוג (BBB:+BBB-)",null,null,"פקדונות והלוואות",null,null,9529,"הפניקס גמל בני 50 עד 60"]
[null,null,null,null,"DT633","פקדונות בחו\"ל נקובים במט''ח בדירוג הנמוך מ  (BBB-) או לא מדורגות",null,null,"פקדונות והלוואות",null,null,9530,"הפניקס גמל בני 60 ומעלה"]
[null,null,null,null,null,"ה. זכויות במקרקעין",null,null,null,null,null,9528,"הפניקס השתלמות כהלכה"]
[null,null,null,null,null,"בישראל",null,null,null,null,null,9545,"הפניקס השתלמות פסיבי מדדי אגח"]
[null,null,null,null,"DT111","זכויות במקרקעין מניבים",null,null,"השקעות אחרות",null,null,9546,"הפניקס השתלמות פסיבי מדדי אגח חול"]
[null,null,null,null,"DT112","זכויות במקרקעין לא מניבים",null,null,"השקעות אחרות",null,null,9547,"הפניקס השתלמות פסיבי מדדי מניות"]
[null,null,null,null,null,"בחו\"ל",null,null,null,null,null,9548,"הפניקס פסיבי מדדי מניות חול"]
[null,null,null,null,"DT113","זכויות במקרקעין מניבים בחו\"ל",null,null,"השקעות אחרות",null,null,9549,"הפניקס השתלמות שיקלי טווח קצר"]
[null,null,null,null,"DT114","זכויות במקרקעין לא מניבים בחו\"ל",null,null,"השקעות אחרות",null,null,472,"אלטשולר שחם גמל אגח עד 15% מניות"]
[null,null,null,null,null,"ו. השקעות אחרות",null,null,null,null,null,9962,"אגודה שיתופית תא תגמלוים לבני 50 ומטה"]
[null,null,null,null,null,"בישראל",null,null,null,null,null,9964,"אגודה שיתופית תא תגמולים לבני 60 ומעלה"]
[null,null,null,null,"DT116","התחייבויות בגין צכירה בחסר של ני\"ע סחירים",null,null,"השקעות אחרות",null,null,9956,"עירית תל אביב בני 50 ומטה"]
[null,null,null,null,null,"בחו\"ל",null,null,null,null,null,9958,"עירית תל אביב בני 60 ומעלה"]
[null,null,null,null,"DT29","ני\"ע סחירים אחרים שהנפיקו תאגידים ישראלים בחו\"ל",null,null,"השקעות אחרות",null,null,9938,"עמי גמל בני 50 ומטה"]
[null,null,null,null,"DT31","ני\"ע סחירים אחרים של מנפיקים זרים בחו\"ל",null,null,"השקעות אחרות",null,null,2082,"מנורה מבטחים גמל בניהול אישי מיכל לנדאו"]
[null,null,null,null,"DT117","התחייבויות בגין מכירה בחסר של ני\"ע סחירים בחו\"ל",null,null,"השקעות אחרות",null,null,2082,"מנורה מבטחים גמל בניהול אישי ניר יצחקי"]
[null,null,null,null,null,"ז. רכוש קבוע",null,null,null,null,null,2084,"מנורה מבטחים השתלמות בניהול אישי ניר יצחקי"]
[null,null,null,null,"DT115","בנייני משרדים שמשימוש הקופה",null,null,"השקעות אחרות",null,null,8890,"מגדל השתלמות בניהול אישי דפנה בינדל"]
[null,null,null,null,"DT62","רכוש קבוע שאינו בניני משרדים, בניכוי פחת נצבר",null,null,"השקעות אחרות",null,null,8890,"מגדל בניהול אישי מסלול ברירת מחדל"]
[null,null,null,null,null,"ח. חייבים וזכאים שונים",null,null,null,null,null,8888,"מגדל גמל בניהול אישי אהרון גרשגורן"]
[null,null,null,null,"DT54","חייבים שונים",null,null,"השקעות אחרות",null,null,8888,"מגדל גמל בניהול אישי מסלול ברירת מחדל"]
[null,null,null,null,"DT55","זכאים",null,null,"השקעות אחרות",null,null,8890,"מגדל השתלמות בניהול אישי מאיר רביב"]
[null,null,null,null,"DT92","זכאים מס הכנסה",null,null,"השקעות אחרות",null,null,8890,"מגדל השתלמות בניהול אישי דליה רביב"]
[null,null,null,null,"DT353","עמיתים זכאים בגין החזרי מס",null,null,"השקעות אחרות",null,null,1861,"מנורה מבטחים השתלמות מסלול טווח ארוך"]
[null,null,null,null,"DT369","עמיתים זכאים בגין שיקים שמועד פרעונם עבר",null,null,"השקעות אחרות",null,null,152,"כלל ברזל קופה מרכזית לפיצוים"]
[null,null,null,null,null,"ט. תקבולים ותשלומים אחרים הנובעים מנכסים",null,null,null,null,null,117,"כלל תמר אג&quot;ח"]
[null,null,null,null,null,"הפרשי שער",null,null,null,null,null,124,"כלל תמר מדד"]
[null,null,null,null,null,"דמי השאלה מהשאלות ניירות ערך",null,null,null,null,null,127,"כלל תמר מניות"]
[null,null,null,null,null,"ריבית פיגורים בגין איחור בהעברת כספי עמיתיים",null,null,null,null,null,128,"כלל תמר שקלי טווח קצר"]
[null,null,null,null,null,"ריבית פיגורים בגין חובות מעבידים",null,null,null,null,null,253,"כלל תמר אגח עד 25% מניות"]
[null,null,null,null,null,"ריבית פיגורים בגין אחור במשיכת כספים",null,null,null,null,null,592,"כלל תמר שקלים"]
[null,null,null,null,null,"מס הכנסה בגין רווחי השקעות של הקופה",null,null,null,null,null,1533,"כלל תמר מסלול הלכתי הוד"]
[null,null,null,null,null,"מס שבח",null,null,null,null,null,9651,"כלל תמר בני עד 50"]
[null,null,null,null,"DE1","סה\"כ נכסי הקופה",null,null,null,null,null,9652,"כלל תמר בני 50 עד 60"]
[null,null,null,null,null,null,null,null,null,null,null,9653,"כלל תמר בני 60 ומעלה"]
[null,null,null,null,null,null,null,null,null,null,null,456,"כלל השתלמות כללי"]
[null,null,null,null,null,null,null,null,null,null,null,456,"כלל השתלמות כללי"]
[null,null,null,null,null,null,null,null,null,null,null,1348,"כלל השתלמות אגח צמוד מדד"]
[null,null,null,null,null,null,null,null,null,null,null,1350,"כלל השתלמות מניות"]
[null,null,null,null,null,null,null,null,null,null,null,1351,"כלל השתלמות שקלי טווח קצר"]
[null,null,null,null,null,null,null,null,null,null,null,1534,"כלל השתלמות הלכה"]
[null,null,null,null,null,null,null,null,null,null,null,2115,"כלל השתלמות אג&quot;ח"]
[null,null,null,null,null,null,null,null,null,null,null,892,"כלל מרכזית לדמי מחלה"]
[null,null,null,null,null,null,null,null,null,null,null,1284,"כלל תקציבית"]
[null,null,null,null,null,null,null,null,null,null,null,219,"כלל אלמוג קופה מרכזית לפיצוים"]
[null,null,null,null,null,null,null,null,null,null,null,239,"כלל קופה כללית לפיצוים"]
[null,null,null,null,null,null,null,null,null,null,null,241,"כלל פיצוים למעסיק"]
[null,null,null,null,null,null,null,null,null,null,null,443,"כלל גמל קופה מרכזית לפיצוים"]
[null,null,null,null,null,null,null,null,null,null,null,614,"כלל גמל מרכזית מסלולית"]
[null,null,null,null,null,null,null,null,null,null,null,684,"כלל הדס קופה מרכזית לפיצוים ברירת מחדל"]
[null,null,null,null,null,null,null,null,null,null,null,684,"כלל הדס קופה מרכזית לפיצויים הבורסה לני&quot;ע"]
[null,null,null,null,null,null,null,null,null,null,null,684,"כלל הדס קופה מרכזית לפיצוים מוטורולה"]
[null,null,null,null,null,null,null,null,null,null,null,684,"כלל הדס קופה מרכזית לפיצוים רבוע כחול"]
[null,null,null,null,null,null,null,null,null,null,null,684,"כלל הדס קופה מרכזית לפיצוים יו אם איי"]
[null,null,null,null,null,null,null,null,null,null,null,684,"כלל הדס קופה מרכזית לפיצוים פועלים שרותי נאמנו"]
[null,null,null,null,null,null,null,null,null,null,null,8888,"מגדל גמל בניהול אישי ויקטור הופמן"]
[null,null,null,null,null,null,null,null,null,null,null,8890,"מגדל השתלמות בניהול אישי ויקטור הופמן"]
[null,null,null,null,null,null,null,null,null,null,null,8761,"הראל השתלמות בניהול אישי ברירת מחדל"]
[null,null,null,null,null,null,null,null,null,null,null,8759,"הראל גמל בניהול אישי ברירת מחדל"]
[null,null,null,null,null,null,null,null,null,null,null,8759,"הראל גמל בניהול אישי נחום סמבירא"]
[null,null,null,null,null,null,null,null,null,null,null,8888,"מגדל גמל בניהול אישי פנינה וורטמן"]
[null,null,null,null,null,null,null,null,null,null,null,7931,"מגדל גמל להשקעה שקלי טווח קצר"]
[null,null,null,null,null,null,null,null,null,null,null,7932,"מגדל גמל להשקעה אגח ממשלתי ישראלי"]
[null,null,null,null,null,null,null,null,null,null,null,7933,"מגדל גמל להשקעה חול"]
[null,null,null,null,null,null,null,null,null,null,null,7934,"מגדל גמל להשקעה מניות"]
[null,null,null,null,null,null,null,null,null,null,null,7935,"מגדל גמל להשקעה אגח עד 10% מניות"]
[null,null,null,null,null,null,null,null,null,null,null,7936,"מגדל גמל להשקעה כללי"]
[null,null,null,null,null,null,null,null,null,null,null,7937,"מגדל גמל להשקעה הלכתי"]
[null,null,null,null,null,null,null,null,null,null,null,7798,"אלטשולר שחם חסכון פלוס כללי"]
[null,null,null,null,null,null,null,null,null,null,null,7799,"אלטשולר שחם חסכון פלוס מניות"]
[null,null,null,null,null,null,null,null,null,null,null,7800,"אלטשולר שחם חסכון פלוס אגח עד 15% מניות"]
[null,null,null,null,null,null,null,null,null,null,null,7801,"אלטשולר שחם חסכון פלוס ללא מניות"]
[null,null,null,null,null,null,null,null,null,null,null,7802,"אלטשולר שחם חסכון פלוס כספי"]
[null,null,null,null,null,null,null,null,null,null,null,8211,"הראל גמל להשקעה כללי"]
[null,null,null,null,null,null,null,null,null,null,null,8520,"הראל גמל להשקעה אגח עד 10% מניות"]
[null,null,null,null,null,null,null,null,null,null,null,8521,"הראל גמל להשקעה אגח עד 20% מניות"]
[null,null,null,null,null,null,null,null,null,null,null,8522,"הראל גמל להשקעה מניות"]
[null,null,null,null,null,null,null,null,null,null,null,8523,"הראל גמל להשקעה שקלי טווח קצר"]
[null,null,null,null,null,null,null,null,null,null,null,9638,"אינפיניטי גמל להשקעה כללי"]
[null,null,null,null,null,null,null,null,null,null,null,9639,"אינפיניטי גמל להשקעה אגח עד 15% מניות"]
[null,null,null,null,null,null,null,null,null,null,null,8675,"מנורה מבטחים גמל חסכון טופ כללי"]
[null,null,null,null,null,null,null,null,null,null,null,8678,"מנורה מבטחים גמל חסכון טופ אג&quot;ח"]
[null,null,null,null,null,null,null,null,null,null,null,8683,"מנורה מבטחים גמל חסכון טופ פסיבי מדדי מניות"]
[null,null,null,null,null,null,null,null,null,null,null,8684,"מנורה מבטחים גמל חסכון טופ אגח עד 25% מניות"]
[null,null,null,null,null,null,null,null,null,null,null,8693,"מנורה מבטחים גמל חסכון טופ שקלי טווח קצר"]
[null,null,null,null,null,null,null,null,null,null,null,8716,"מנורה מבטחים גמל חסכון טופ הלכה"]
[null,null,null,null,null,null,null,null,null,null,null,11407,"אינפיניטי גמל להשקעה מניות"]
[null,null,null,null,null,null,null,null,null,null,null,8759,"הראל גמל בניהול אישי אברהם זיצר"]
[null,null,null,null,null,null,null,null,null,null,null,8759,"הראל גמל בניהול אישי חיים שפירא"]
[null,null,null,null,null,null,null,null,null,null,null,11390,"ילין לפידות גמל להשקעה כללי"]
[null,null,null,null,null,null,null,null,null,null,null,11394,"ילין לפידות גמל להשקעה מניות"]
[null,null,null,null,null,null,null,null,null,null,null,11392,"ילין לפידות גמל להשקעה אגח עד 20% מניות"]
[null,null,null,null,null,null,null,null,null,null,null,11391,"ילין לפידות גמל להשקעה אגח עד 10% מניות"]
[null,null,null,null,null,null,null,null,null,null,null,11393,"ילין לפידות גמל להשקעה אגח ממשלות"]
[null,null,null,null,null,null,null,null,null,null,null,8759,"אלחנן נאור IRA הראל"]
[null,null,null,null,null,null,null,null,null,null,null,11325,"1480 אלטשולר שחם חסכון לילד סיכון מועט"]
[null,null,null,null,null,null,null,null,null,null,null,11326,"1481 אלטשולר שחם חסכון לילד סיכון בינוני"]
[null,null,null,null,null,null,null,null,null,null,null,11327,"1482אלטשולר שחם חסכון לילד סיכון מוגבר"]
[null,null,null,null,null,null,null,null,null,null,null,11328,"1483אלטשולר שחם חסכון לילד הלכה"]
[null,null,null,null,null,null,null,null,null,null,null,7988,"כלל גמל לעתיד כללי"]
[null,null,null,null,null,null,null,null,null,null,null,7988,"כלל גמל לעתיד כללי"]
[null,null,null,null,null,null,null,null,null,null,null,7988,"כלל גמל לעתיד כללי"]
[null,null,null,null,null,null,null,null,null,null,null,7988,"כלל גמל לעתיד כללי"]
[null,null,null,null,null,null,null,null,null,null,null,7989,"כלל גמל לעתיד אג&quot;ח"]
[null,null,null,null,null,null,null,null,null,null,null,7990,"כלל גמל לעתיד אג&quot;ח ממשלת ישראל"]
[null,null,null,null,null,null,null,null,null,null,null,7991,"כלל גמל לעתיד מניות"]
[null,null,null,null,null,null,null,null,null,null,null,7992,"כלל גמל לעתיד אג&quot;ח עד 15% מניות"]
[null,null,null,null,null,null,null,null,null,null,null,7993,"כלל גמל לעתיד שקלי טווח קצר"]
[null,null,null,null,null,null,null,null,null,null,null,7994,"כלל גמל לעתיד הלכה"]
[null,null,null,null,null,null,null,null,null,null,null,11321,"1492מנורה מבטחים חסכון לילד סיכון מועט"]
[null,null,null,null,null,null,null,null,null,null,null,11322,"1493מנורה מבטחים חסכון לילד סיכון בינוני"]
[null,null,null,null,null,null,null,null,null,null,null,11323,"1494מנורה מבטחים חסכון לילד סיכון מוגבר"]
[null,null,null,null,null,null,null,null,null,null,null,11320,"1495מנורה מבטחים חסכון לילד הלכה"]
[null,null,null,null,null,null,null,null,null,null,null,9898,"1496מגדל חסכון לילד סיכון גבוה"]
[null,null,null,null,null,null,null,null,null,null,null,9897,"1497מגדל חסכון לילד סיכון בינוני"]
[null,null,null,null,null,null,null,null,null,null,null,9896,"1498מגדל חסכון לילד סיכון מועט"]
[null,null,null,null,null,null,null,null,null,null,null,9895,"1499מגדל חסכון לילד הלכתי"]
[null,null,null,null,null,null,null,null,null,null,null,11374,"אינפיניטי חסכון לילד סיכון מועט"]
[null,null,null,null,null,null,null,null,null,null,null,11372,"1אינפיניטי חסכון סיכון בינוני"]
[null,null,null,null,null,null,null,null,null,null,null,11373,"אינפיניטי חסכון לילד סיכון גבוה"]
[null,null,null,null,null,null,null,null,null,null,null,9555,"הראל גמל השקעה לילד הלכתי"]
[null,null,null,null,null,null,null,null,null,null,null,11375,"הראל גמל השקעה לילד סיכון מועט"]
[null,null,null,null,null,null,null,null,null,null,null,11376,"הראל גמל השקעה לילד סיכון בינוני"]
[null,null,null,null,null,null,null,null,null,null,null,11377,"הראל גמל השקעה לילד סיכון גבוה"]
[null,null,null,null,null,null,null,null,null,null,null,8759,"הראל גמל בניהול אישי יובל ענר"]
[null,null,null,null,null,null,null,null,null,null,null,1539,"אינפיניטי פיצוים רשות שדות התעופה"]
[null,null,null,null,null,null,null,null,null,null,null,505,"סוכנות יהודית"]
[null,null,null,null,null,null,null,null,null,null,null,9479,"השתלמות עובדי מדינה מניות"]
[null,null,null,null,null,null,null,null,null,null,null,7635,"השתלמות עובדי מדינה אגח עד 15 אחוז מניות"]
[null,null,null,null,null,null,null,null,null,null,null,11408,"מנורה מבטחים השתלמות פסיבי כללי"]
[null,null,null,null,null,null,null,null,null,null,null,11409,"מנורה מבטחים השתלמות פסיבי אגח עד 15% מניות"]
[null,null,null,null,null,null,null,null,null,null,null,8759,"הראל גמל בניהול אישי יששכר סירוטה"]
[null,null,null,null,null,null,null,null,null,null,null,11914,"אינפיניטי חסכון לילד הלכה"]
[null,null,null,null,null,null,null,null,null,null,null,8888,"מגדל גמל בניהול אישי דניאל וייס"]
[null,null,null,null,null,null,null,null,null,null,null,8759,"הראל גמל בניהול אישי אריה שור"]
[null,null,null,null,null,null,null,null,null,null,null,8759,"הראל גמל בניהול אישי מרגלית צדוק"]
[null,null,null,null,null,null,null,null,null,null,null,8759,"הראל גמל בניהול אישי ישראל ליבוביץ"]
[null,null,null,null,null,null,null,null,null,null,null,8888,"מגדל גמל בניהול אישי שמעון הבר"]
[null,null,null,null,null,null,null,null,null,null,null,8888,"מגדל גמל בניהול אישי גלעד פורטונה"]
[null,null,null,null,null,null,null,null,null,null,null,8888,"מגדל גמל בניהול אישי משה טור"]
[null,null,null,null,null,null,null,null,null,null,null,9801,"מנורה מבטחים רשף בני 60 ומעלה"]
[null,null,null,null,null,null,null,null,null,null,null,9799,"מנורה מבטחים רשף בני עד 50"]
[null,null,null,null,null,null,null,null,null,null,null,9800,"1581מנורה מבטחים רשף בני 50 עד 60"]
[null,null,null,null,null,null,null,null,null,null,null,9798,"מנורה מבטחים הילה בני 60 ומעלה"]
[null,null,null,null,null,null,null,null,null,null,null,9796,"מנורה מבטחים הילה בני עד 50"]
[null,null,null,null,null,null,null,null,null,null,null,9796,"מנורה מבטחים הילה בני עד 50"]
[null,null,null,null,null,null,null,null,null,null,null,9797,"5מנורה מבטחים הילה בני 50 עד 60"]
[null,null,null,null,null,null,null,null,null,null,null,9802,"אומגה אגח עד 15 אחוז מניות"]
[null,null,null,null,null,null,null,null,null,null,null,9803,"אומגה אגח עד 25 אחוז מניות"]
[null,null,null,null,null,null,null,null,null,null,null,1446,"אומגה מניות"]
[null,null,null,null,null,null,null,null,null,null,null,286,"אומגה כללי"]
[null,null,null,null,null,null,null,null,null,null,null,1445,"אומגה אגח"]
[null,null,null,null,null,null,null,null,null,null,null,11957,"אינפיניטי השתלמות אגח עד 25 אחוז מניות"]
[null,null,null,null,null,null,null,null,null,null,null,8888,"מגדל גמל בניהול אישי חנה ברנהולץ"]
[null,null,null,null,null,null,null,null,null,null,null,8890,"2מגדל השתלמות בניהול אישי יחזקאל ברנהולץ"]
[null,null,null,null,null,null,null,null,null,null,null,8888,"4מגדל גמל בניהול אישי יחזקאל ברנהולץ"]
[null,null,null,null,null,null,null,null,null,null,null,8890,"מגדל השתלמות בניהול אישי חנה ברנהולץ"]
[null,null,null,null,null,null,null,null,null,null,null,2234,"גמל דיסקונט אגח ממשלת ישראל"]
[null,null,null,null,null,null,null,null,null,null,null,9927,"תגמולים עובדי דיסקונט בני 50 ומטה"]
[null,null,null,null,null,null,null,null,null,null,null,9928,"תגמולים עובדי דיסקונט בני 50 עד 60"]
[null,null,null,null,null,null,null,null,null,null,null,8890,"מגדל השתלמות בניהול אישי גבריאל פרנקל"]
[null,null,null,null,null,null,null,null,null,null,null,9929,"תגמולים עובדי דיסקונט בני 60 ומעלה"]
[null,null,null,null,null,null,null,null,null,null,null,233,"0בלד פיצוים עובדי דיסקונט"]
[null,null,null,null,null,null,null,null,null,null,null,263,"כלל גמל בר ג"]
[null,null,null,null,null,null,null,null,null,null,null,539,"כלל גמל בר א"]
[null,null,null,null,null,null,null,null,null,null,null,8888,"מגדל גמל בניהול אישי שמעון גפשטיין"]
[null,null,null,null,null,null,null,null,null,null,null,8888,"מגדל גמל בניהול אישי אריה מינטקביץ"]
[null,null,null,null,null,null,null,null,null,null,null,8888,"מגדל גמל בניהול אישי הוז שמריהו"]
[null,null,null,null,null,null,null,null,null,null,null,8890,"מגדל השתלמות בניהול אישי הוז שמריהו"]
[null,null,null,null,null,null,null,null,null,null,null,8890,"מגדל השתלמות בניהול אישי אלינור בן יעקב"]
[null,null,null,null,null,null,null,null,null,null,null,8888,"מגדל גמל בניהול אישי שפירא קלין"]
[null,null,null,null,null,null,null,null,null,null,null,8888,"מגדל גמל בניהול אישי יוסף סרנה"]
[null,null,null,null,null,null,null,null,null,null,null,8888,"מגדל גמל בניהול אישי אלינור בן יעקב"]
[null,null,null,null,null,null,null,null,null,null,null,8890,"מגדל השתלמות בניהול אישי עזריאל קדים"]
[null,null,null,null,null,null,null,null,null,null,null,8890,"מגדל השתלמות בניהול אישי דניאל רודד"]
[null,null,null,null,null,null,null,null,null,null,null,8888,"מגדל גמל בניהול אישי עמוס זמין"]
[null,null,null,null,null,null,null,null,null,null,null,8888,"מגדל גמל בניהול אישי יאיר דאר"]
[null,null,null,null,null,null,null,null,null,null,null,8890,"מגדל השתלמות בניהול אישי יאיר דאר"]
[null,null,null,null,null,null,null,null,null,null,null,8890,"מגדל השתלמות בניהול איש אהרון משה פרסי"]
[null,null,null,null,null,null,null,null,null,null,null,8888,"מגדל גמל בניהול אישי בועז שלום דינטי"]
[null,null,null,null,null,null,null,null,null,null,null,7228,"תגמולים האוניברסיטה העברית עד גיל 50 "]
[null,null,null,null,null,null,null,null,null,null,null,7229,"תגמולים האוניברסיטה העברית מעל 60"]
[null,null,null,null,null,null,null,null,null,null,null,9817,"תגמולים האוניברסיטה העברית 50 עד 60"]
[null,null,null,null,null,null,null,null,null,null,null,969,"אישית לפיצוים אוניברסיטה עברית"]
[null,null,null,null,null,null,null,null,null,null,null,1182,"השתלמות עובדי האונברסיטה העברית "]
[null,null,null,null,null,null,null,null,null,null,null,8890,"מגדל השתלמות בניהול אישי רועי בן חיון"]
[null,null,null,null,null,null,null,null,null,null,null,12256,"אלטשולר שחם השתלמות הלכה"]
[null,null,null,null,null,null,null,null,null,null,null,12257,"אלטשולר שחם חסכון פלוס הלכה"]
[null,null,null,null,null,null,null,null,null,null,null,1280,"1808 מנורה פנסיה תקציבית 1808"]
[null,null,null,null,null,null,null,null,null,null,null,1344,"1809מנורה מבטחים גמל אגח ממשלת ישראל"]
[null,null,null,null,null,null,null,null,null,null,null,1147,"מנורה גמל אגח עד 10% מניות 1810"]
[null,null,null,null,null,null,null,null,null,null,null,9792,"1811מנורה גמל לבני 50 עד 60 1811"]
[null,null,null,null,null,null,null,null,null,null,null,9792,"1811מנורה גמל לבני 50 עד 60 1811"]
[null,null,null,null,null,null,null,null,null,null,null,9794,"1812 מנורה גמל לבני 60 ומעלה 1812"]
[null,null,null,null,null,null,null,null,null,null,null,9793," 1813מנורה גמל לבני עד 50 1813"]
[null,null,null,null,null,null,null,null,null,null,null,9795,"1814מנורה גמל מסלול הלכה"]
[null,null,null,null,null,null,null,null,null,null,null,1364,"1815 מנורה גמל מסלול מניות 1815"]
[null,null,null,null,null,null,null,null,null,null,null,1343," 1816 מנורה גמל שקלי טווח קצר 1816"]
[null,null,null,null,null,null,null,null,null,null,null,1359,"1817 מנורה פנסיה תקציבית ללא מניות 1817"]
[null,null,null,null,null,null,null,null,null,null,null,827,"מנורה מרכזית לפיצויים "]
[null,null,null,null,null,null,null,null,null,null,null,8888,"מגדל גמל בניהול אישי מנחם אגסי"]
[null,null,null,null,null,null,null,null,null,null,null,8888,"מגדל גמל בניהול אישי יהודית בלה אגסי"]
[null,null,null,null,null,null,null,null,null,null,null,7209,"קו הבריאות 50 ומטה 1896"]
[null,null,null,null,null,null,null,null,null,null,null,7210,"קו הבריאות 50-60 1898"]
[null,null,null,null,null,null,null,null,null,null,null,7211,"קו הבריאות 60 ומעלה 1900"]
[null,null,null,null,null,null,null,null,null,null,null,12530,"ילין לפידות השתלמות אגח עד 15% מניות"]
[null,null,null,null,null,null,null,null,null,null,null,12540,"אינפיניטי גמל להשקעה הלכה"]
[null,null,null,null,null,null,null,null,null,null,null,8890,"1938מגדל השתלמות ניהול אישי עמית יחיאל ברקן"]
[null,null,null,null,null,null,null,null,null,null,null,8888,"1939מגדל גמל בניהול אישי עמית יחיאל ברקן"]
[null,null,null,null,null,null,null,null,null,null,null,12541,"1959כלל תמר אגח עד 15% מניות"]
[null,null,null,null,null,null,null,null,null,null,null,12599,"כלל השתלמות אגח עד 15 מניות"]
[null,null,null,null,null,null,null,null,null,null,null,12468,"1972 עמי גמל מניות "]
[null,null,null,null,null,null,null,null,null,null,null,260,"1974מנורה מבטחים אמיר כללי"]
[null,null,null,null,null,null,null,null,null,null,null,533,"1977מנורה מבטחים אמיר מדד ידוע"]
[null,null,null,null,null,null,null,null,null,null,null,536,"1980מנורה מבטחים אמיר מדד בגין"]
[null,null,null,null,null,null,null,null,null,null,null,530,"1983מנורה מבטחים יותר מסלול א"]
[null,null,null,null,null,null,null,null,null,null,null,531,"1986מנורה מבטחים יותר מסלול ב"]
[null,null,null,null,null,null,null,null,null,null,null,532,"1989מנורה מבטחים יותר מסלול ג"]
[null,null,null,null,null,null,null,null,null,null,null,119,"1992מנורה מבטחים יותר מסלול ד"]
[null,null,null,null,null,null,null,null,null,null,null,8890,"1995מגדל השתלמות בניהול אישי דונה שוהם"]
[null,null,null,null,null,null,null,null,null,null,null,811,"1997אנליסט מסלולית קופת גמל - ישראל"]
[null,null,null,null,null,null,null,null,null,null,null,962,"1998אנליסט השתלמות כללי"]
[null,null,null,null,null,null,null,null,null,null,null,418,"1999יהב השתלמות וחיסכון לאחים ואחיות מסלול כללי"]
[null,null,null,null,null,null,null,null,null,null,null,1456,"2000יהב השתלמות לאחים ואחיות  מסלול ללא מניות"]
[null,null,null,null,null,null,null,null,null,null,null,813,"2001אנליסט גמל אגח"]
[null,null,null,null,null,null,null,null,null,null,null,814,"2002אנליסט גמל מניות"]
[null,null,null,null,null,null,null,null,null,null,null,815,"2003אנליסט גמל שקלי טווח קצר"]
[null,null,null,null,null,null,null,null,null,null,null,817,"2004אנליסט גמל מניות בחול"]
[null,null,null,null,null,null,null,null,null,null,null,818,"2005אנליסט גמל חול"]
[null,null,null,null,null,null,null,null,null,null,null,8128,"2006אנליסט מסלולית קופת גמל אגח עד 10% מניות"]
[null,null,null,null,null,null,null,null,null,null,null,9730,"2007אנליסט  גמל מסלול לבני 50 ומטה"]
[null,null,null,null,null,null,null,null,null,null,null,9731,"2008אנליסט גמל מסלול לבני 50 60"]
[null,null,null,null,null,null,null,null,null,null,null,9732,"2009אנליסט גמל מסלול לבני 60 ומעלה"]
[null,null,null,null,null,null,null,null,null,null,null,1412,"2010אנליסט גמל אגח ממשלת ישראל"]
[null,null,null,null,null,null,null,null,null,null,null,7834,"2011אנליסט מסלולית קופת גמל להשקעה כללי"]
[null,null,null,null,null,null,null,null,null,null,null,7836,"2012אנליסט מסלולית קופת גמל להשקעה מניות"]
[null,null,null,null,null,null,null,null,null,null,null,7837,"2013אנליסט מסלולית קופת גמל להשקעה אגח"]
[null,null,null,null,null,null,null,null,null,null,null,7839,"2014אנליסט להשקעה שיקלי טווח קצר"]
[null,null,null,null,null,null,null,null,null,null,null,7842,"2015אנליסט להשקעה חול"]
[null,null,null,null,null,null,null,null,null,null,null,7843,"2016אנליסט להשקעה פאסיבי כללי"]
[null,null,null,null,null,null,null,null,null,null,null,7986,"2017אנליסט להשקעה אגח עד 20% במניות"]
[null,null,null,null,null,null,null,null,null,null,null,11365,"2018אנליסט חיסכון ארוך טווח לילד סיכון מועט"]
[null,null,null,null,null,null,null,null,null,null,null,11366,"2019אנליסט חיסכון ארוך טווח לילד סיכון בינוני"]
[null,null,null,null,null,null,null,null,null,null,null,11367,"2020אנליסט קופת גמל חיסכון ארוך טווח לילד סיכון מוגבר"]
[null,null,null,null,null,null,null,null,null,null,null,118,"2021אנליסט קופה מרכזית לפיצויים מסלול כללי"]
[null,null,null,null,null,null,null,null,null,null,null,1413,"2022אנליסט קופה מרכזית לפיצויים מסלול ממשלתי"]
[null,null,null,null,null,null,null,null,null,null,null,2086,"2023אנליסט קופה מרכזית לפיצויים עד 10% מניות"]
[null,null,null,null,null,null,null,null,null,null,null,963,"2024אנליסט השתלמות מניות"]
[null,null,null,null,null,null,null,null,null,null,null,972,"2025אנליסט השתלמות אגח"]
[null,null,null,null,null,null,null,null,null,null,null,973,"2026אנליסט השתלמות אגח ממשלת ישראל"]
[null,null,null,null,null,null,null,null,null,null,null,1535,"2027אנליסט השתלמות שקלי טווח קצר"]
[null,null,null,null,null,null,null,null,null,null,null,8129,"2028אנליסט קרן השתלמות אגח עד 10% מניות"]
[null,null,null,null,null,null,null,null,null,null,null,8679,"2029אנליסט קרן השתלמות אגח עד 20% במניות"]
[null,null,null,null,null,null,null,null,null,null,null,8779,"2030אנליסט קרן השתלמות חול"]
[null,null,null,null,null,null,null,null,null,null,null,8888,"2034מגדל גמל בניהול אישי דב הרצוג"]
[null,null,null,null,null,null,null,null,null,null,null,8888,"2044מגדל גמל בניהול אישי שלמה קייזר"]
[null,null,null,null,null,null,null,null,null,null,null,11414,"2046קהש לעובדי המדינה הלכה יהודית"]
[null,null,null,null,null,null,null,null,null,null,null,386,"קהל- קרן השתלמות לעובדים"]
[null,null,null,null,null,null,null,null,null,null,null,386,"קהל- קרן השתלמות לעובדים"]
[null,null,null,null,null,null,null,null,null,null,null,199,"מגדל השתלמות אגח"]
[null,null,null,null,null,null,null,null,null,null,null,777,"מגדל השתלמות מטח"]
[null,null,null,null,null,null,null,null,null,null,null,777,"מגדל השתלמות מטח"]
[null,null,null,null,null,null,null,null,null,null,null,13711,"2208מחוג חיסכון פלוס"]
[null,null,null,null,null,null,null,null,null,null,null,556,"2209מחוג מסלול כללי"]
[null,null,null,null,null,null,null,null,null,null,null,423,"2210קרן השתלמות של עובדי חברת החשמל לישראל בעמ"]
[null,null,null,null,null,null,null,null,null,null,null,9925,"2212הגומל גמל לבני 50 עד 60"]
[null,null,null,null,null,null,null,null,null,null,null,7207,"2213מחוג גמל לבני 60 ומעלה"]
[null,null,null,null,null,null,null,null,null,null,null,7206,"2214מחוג גמל לבני 50 עד 60"]
[null,null,null,null,null,null,null,null,null,null,null,7205,"2215מחוג גמל לבני 50 ומטה"]
[null,null,null,null,null,null,null,null,null,null,null,7246,"2216קופת גמל כלנית לבני 50 ומטה"]
[null,null,null,null,null,null,null,null,null,null,null,7245,"2217קופת גמל כלנית לבני 50 עד 60"]
[null,null,null,null,null,null,null,null,null,null,null,7240,"2218קופת גמל כלנית לבני 60 ומעלה"]
[null,null,null,null,null,null,null,null,null,null,null,378,"קלע קרן השתלמות לעובדים סוציאלים מסלול כללי"]
[null,null,null,null,null,null,null,null,null,null,null,1433,"2235קלע קרן השתלמות לעובדים סוציאלים מסלול  אגח עד 25% מניות"]
[null,null,null,null,null,null,null,null,null,null,null,419,"השתלמות רופאים כללי"]
[null,null,null,null,null,null,null,null,null,null,null,12435,"2239השתלמות רופאים מניות "]
[null,null,null,null,null,null,null,null,null,null,null,1472,"2240השתלמות רופאים אגח ממשלת ישראל"]
[null,null,null,null,null,null,null,null,null,null,null,820,"2304הראל פרופיל עמידר"]
[null,null,null,null,null,null,null,null,null,null,null,13342,"2350 כלל השתלמות מחקה אס אנד פי "]
[null,null,null,null,null,null,null,null,null,null,null,13342,"2350 כלל השתלמות מחקה אס אנד פי "]
[null,null,null,null,null,null,null,null,null,null,null,13344,"כלל גמל לעתיד מחקה מדדאס אנד פי "]
[null,null,null,null,null,null,null,null,null,null,null,13343,"2354כלל תמר מחקה מדד אס אנד פי "]
[null,null,null,null,null,null,null,null,null,null,null,8890,"מגדל השתלמות ניהול אישי הדר ירון"]
[null,null,null,null,null,null,null,null,null,null,null,8888,"2390מגדל גמל בניהול אישי ברוריה שלו"]
[null,null,null,null,null,null,null,null,null,null,null,13357,"2394מנורה מבטחים השתלמות חול"]
[null,null,null,null,null,null,null,null,null,null,null,13355,"2395מנורה מבטחים תגמולים ופיצויים חול"]
[null,null,null,null,null,null,null,null,null,null,null,13356,"2396מנורה מבטחים תגמולים ופיצויים מדדי מניות חול פאסיבי"]
[null,null,null,null,null,null,null,null,null,null,null,13353,"2397מנורה מבטחים חסכון טופ מדדי מניות חול פאסיבי"]
[null,null,null,null,null,null,null,null,null,null,null,13354,"2398מנורה מבטחים חסכון טופ חול"]
[null,null,null,null,null,null,null,null,null,null,null,8890,"2399מגדל השתלמות בניהול אישי ליאור שליט"]
[null,null,null,null,null,null,null,null,null,null,null,8890,"מגדל השתלמות בניהול אישי עמית דורון2402 "]
[null,null,null,null,null,null,null,null,null,null,null,8890,"מגדל השתלמות בניהול אישי גל גרינבלט2403 "]
[null,null,null,null,null,null,null,null,null,null,null,8890,"מגדל השתלמות בניהול אישי רוני יעקב עדס2408 "]
[null,null,null,null,null,null,null,null,null,null,null,8890,"2415מגדל השתלמות בניהול אישי עמית פלד"]
[null,null,null,null,null,null,null,null,null,null,null,8888,"2416מגדל גמל בנהול אישי טל פרידמן"]
[null,null,null,null,null,null,null,null,null,null,null,8890,"2417מגדל השתלמות בנהול אישי מיטל קרנר"]
[null,null,null,null,null,null,null,null,null,null,null,8890,"2417מגדל השתלמות בנהול אישי מיטל קרנר"]
[null,null,null,null,null,null,null,null,null,null,null,8890,"2418מגדל השתלמות בנהול אישי מתן גבסו"]
[null,null,null,null,null,null,null,null,null,null,null,8890,"2419מגדל השתלמות בנהול אישי מאור כהן"]
[null,null,null,null,null,null,null,null,null,null,null,8890,"2420מגדל השתלמות בנהול אישי יאיר דומב"]
[null,null,null,null,null,null,null,null,null,null,null,8890,"2421מגדל השתלמות בנהול אישי רונן בן זינו"]
[null,null,null,null,null,null,null,null,null,null,null,8890,"2424מגדל השתלמות בנהול אישי שנהב וסרמן "]
[null,null,null,null,null,null,null,null,null,null,null,8890,"2425מגדל השתלמות בנהול אישי ערן ארבל"]
[null,null,null,null,null,null,null,null,null,null,null,8890,"2426מגדל השתלמות בנהול אישי איריס זיו רז "]
[null,null,null,null,null,null,null,null,null,null,null,8890,"2427מגדל השתלמות בנהול אישי מאיר בנימינוב "]
[null,null,null,null,null,null,null,null,null,null,null,8890,"2428מגדל השתלמות בנהול אישי משה רזונזב"]
[null,null,null,null,null,null,null,null,null,null,null,8888,"2429מגדל גמל בנהול אישי גל נחום"]
[null,null,null,null,null,null,null,null,null,null,null,8890,"2430מגדל השתלמות בנהול אישי עמרי גינזבורג"]
[null,null,null,null,null,null,null,null,null,null,null,8890,"2431מגדל השתלמות בנהול אישי יובל שקולר"]
[null,null,null,null,null,null,null,null,null,null,null,8890,"2432מגדל השתלמות בנהול אישי אוהד שלו אגרט"]
[null,null,null,null,null,null,null,null,null,null,null,8890,"2433מגדל השתלמות בנהול אישי אלמוג אסולין"]
[null,null,null,null,null,null,null,null,null,null,null,8890,"2434מגדל השתלמות בנהול אישי שמואל שנון"]
[null,null,null,null,null,null,null,null,null,null,null,8888,"2435מגדל גמל בנהול אישי נמרוד מוסקוביץ"]
[null,null,null,null,null,null,null,null,null,null,null,8890,"2436מגדל השתלמות בנהול אישי תומר סטרנין"]
[null,null,null,null,null,null,null,null,null,null,null,8890,"2437מגדל השתלמות בנהול אישי ערן דיין"]
[null,null,null,null,null,null,null,null,null,null,null,8890,"2438מגדל השתלמות בנהול אישי קרין פרלשטיין"]
[null,null,null,null,null,null,null,null,null,null,null,8890,"2439מגדל השתלמות בנהול אישי אמיר חובב"]
[null,null,null,null,null,null,null,null,null,null,null,8890,"2440מגדל השתלמות בנהול אישי תום קורנהאוזר"]
[null,null,null,null,null,null,null,null,null,null,null,8890,"2441מגדל השתלמות בנהול אישי סרגיי קליימן"]
[null,null,null,null,null,null,null,null,null,null,null,8890,"2442מגדל השתלמות בנהול אישי עודד רוט"]
[null,null,null,null,null,null,null,null,null,null,null,8890,"2443מגדל השתלמות בנהול אישי דקלה צמח"]
[null,null,null,null,null,null,null,null,null,null,null,8888,"מגדל גמל בנהול אישי אייל עגיב"]
[null,null,null,null,null,null,null,null,null,null,null,8890,"מגדל השתלמות בנהול אישי אייל עגיב"]
[null,null,null,null,null,null,null,null,null,null,null,8890,"2446מגדל השתלמות בנהול אישי ניר גולדברג"]
[null,null,null,null,null,null,null,null,null,null,null,8890,"מגדל השתלמות בנהול אישי חן שריאל מרגלית"]
[null,null,null,null,null,null,null,null,null,null,null,8890,"מגדל השתלמות בנהול אישי אלון מוצניק"]
[null,null,null,null,null,null,null,null,null,null,null,8890,"מגדל השתלמות בנהול אישי דור זיו "]
[null,null,null,null,null,null,null,null,null,null,null,8890,"מגדל השתלמות בנהול אישי חיים ליבנה"]
[null,null,null,null,null,null,null,null,null,null,null,8888,"מגדל גמל בנהול אישי חיים ליבנה"]
[null,null,null,null,null,null,null,null,null,null,null,8890,"מגדל השתלמות בנהול אישי משה סוון "]
[null,null,null,null,null,null,null,null,null,null,null,8888,"מגדל גמל בנהול אישי משה סוון "]
[null,null,null,null,null,null,null,null,null,null,null,8890,"מגדל השתלמות בנהול אישי  שלמה אבישי"]
[null,null,null,null,null,null,null,null,null,null,null,8888,"2455מגדל גמל בנהול אישי  שלמה אבישי"]
[null,null,null,null,null,null,null,null,null,null,null,8890,"מגדל השתלמות בנהול אישי רן שינברגר"]
[null,null,null,null,null,null,null,null,null,null,null,8890,"2457מגדל השתלמות בנהול אישי נדב יחזקאל"]
[null,null,null,null,null,null,null,null,null,null,null,8890,"מגדל השתלמות בנהול אישי גריגורי ברוכיס"]
[null,null,null,null,null,null,null,null,null,null,null,8888,"מגדל גמל בנהול אישי גריגורי ברוכיס"]
[null,null,null,null,null,null,null,null,null,null,null,8890,"2460מגדל השתלמות בנהול אישי אייל אנגל "]
[null,null,null,null,null,null,null,null,null,null,null,8888,"2461מגדל גמל בנהול אישי מעין עדינה ריבינוביץ"]
[null,null,null,null,null,null,null,null,null,null,null,8890,"מגדל השתלמות בנהול אישי שלי דיין"]
[null,null,null,null,null,null,null,null,null,null,null,8888,"מגדל גמל בנהול אישי סיגל וינאפל"]
[null,null,null,null,null,null,null,null,null,null,null,8890,"מגדל השתלמות בנהול אישי מקסים אלטר"]
[null,null,null,null,null,null,null,null,null,null,null,8890,"מגדל השתלמות בנהול אישי בנימין רז"]
[null,null,null,null,null,null,null,null,null,null,null,8890,"מגדל השתלמות בנהול אישי אוראל הרשקוביץ"]
[null,null,null,null,null,null,null,null,null,null,null,8890,"מגדל השתלמות בנהול אישי  עומרי יוסוב"]
[null,null,null,null,null,null,null,null,null,null,null,8888,"מגדל גמל בנהול אישי  עומרי יוסוב"]
[null,null,null,null,null,null,null,null,null,null,null,8890,"מגדל השתלמות בנהול אישי ילנה אוסטריקוב"]
[null,null,null,null,null,null,null,null,null,null,null,8890,"מגדל השתלמות בנהול אישי איילת עגיב"]
[null,null,null,null,null,null,null,null,null,null,null,8888,"מגדל גמל בנהול אישי זאב עוזרי "]
[null,null,null,null,null,null,null,null,null,null,null,8890,"מגדל השתלמות בנהול אישי זאב עוזרי "]
[null,null,null,null,null,null,null,null,null,null,null,8890,"מגדל השתלמות בנהול אישי אסף עקרבי"]
[null,null,null,null,null,null,null,null,null,null,null,8888,"מגדל גמל בנהול אישי אלישב נחום רבינוביץ "]
[null,null,null,null,null,null,null,null,null,null,null,8888,"מגדל גמל בנהול אישי רפאל קושלב"]
[null,null,null,null,null,null,null,null,null,null,null,8890,"מגדל השתלמות בנהול אישי רפאל קושלב"]
[null,null,null,null,null,null,null,null,null,null,null,8890,"מגדל השתלמות בנהול אישי מקסים שקלאר"]
[null,null,null,null,null,null,null,null,null,null,null,8890,"מגדל השתלמות בנהול אישי אברהם פוקס"]
[null,null,null,null,null,null,null,null,null,null,null,8890,"מגדל השתלמות בנהול אישי טל אפרת"]
[null,null,null,null,null,null,null,null,null,null,null,8890,"מגדל השתלמות בנהול אישי מיכאל קרייטמן"]
[null,null,null,null,null,null,null,null,null,null,null,8890,"מגדל השתלמות בנהול אישי תמר שי גרנות"]
[null,null,null,null,null,null,null,null,null,null,null,8890,"מגדל השתלמות בנהול אישי ניר עזריאל"]
[null,null,null,null,null,null,null,null,null,null,null,8890,"מגדל השתלמות בנהול אישי עופר קובץ"]
[null,null,null,null,null,null,null,null,null,null,null,8890,"מגדל השתלמות בנהול אישי איתי קציר"]
[null,null,null,null,null,null,null,null,null,null,null,8890,"מגדל השתלמות בנהול אישי  מיכאל רזניקוב "]
[null,null,null,null,null,null,null,null,null,null,null,8890,"מגדל השתלמות בנהול אישי מיכאל רסובסקי"]
[null,null,null,null,null,null,null,null,null,null,null,8888,"מגדל גמל בנהול אישי שיר שטוהל"]
[null,null,null,null,null,null,null,null,null,null,null,8890,"מגדל השתלמות בנהול אישי שחר כספי"]
[null,null,null,null,null,null,null,null,null,null,null,8890,"מגדל השתלמות בנהול אישי שניר שרייבר"]
[null,null,null,null,null,null,null,null,null,null,null,8890,"מגדל השתלמות בנהול אישי תמיר בשקין"]
[null,null,null,null,null,null,null,null,null,null,null,8890,"מגדל השתלמות בנהול אישי תומר נוני"]
[null,null,null,null,null,null,null,null,null,null,null,8890,"מגדל השתלמות בנהול אישי אלכסנדר מסטר"]
[null,null,null,null,null,null,null,null,null,null,null,8890,"מגדל השתלמות בנהול אישי גיל הלר מזרחי"]
[null,null,null,null,null,null,null,null,null,null,null,8890,"מגדל השתלמות בנהול אישי שירי קציר"]
[null,null,null,null,null,null,null,null,null,null,null,8890,"מגדל השתלמות בנהול אישי שאול חיים רז"]
[null,null,null,null,null,null,null,null,null,null,null,8888,"מגדל גמל בנהול אישי שאול חיים רז"]
[null,null,null,null,null,null,null,null,null,null,null,8890,"מגדל השתלמות בנהול אישי איתי רגב"]
[null,null,null,null,null,null,null,null,null,null,null,8890,"מגדל השתלמות בנהול אישי קונסטנטין חנין"]
[null,null,null,null,null,null,null,null,null,null,null,8890,"מגדל השתלמות בנהול אישי עופר הנדל"]
[null,null,null,null,null,null,null,null,null,null,null,8888,"מגדל גמל בנהול אישי יונתן עמיר"]
[null,null,null,null,null,null,null,null,null,null,null,8890,"מגדל השתלמות בנהול אישי אורן עברון "]
[null,null,null,null,null,null,null,null,null,null,null,8890,"מגדל השתלמות בנהול אישי עומר חמד"]
[null,null,null,null,null,null,null,null,null,null,null,8890,"מגדל השתלמות בנהול אישי ברק פרגון"]
[null,null,null,null,null,null,null,null,null,null,null,8890,"מגדל השתלמות בנהול אישי טל שחר"]
[null,null,null,null,null,null,null,null,null,null,null,8890,"מגדל השתלמות בנהול אישי יניב רובינשטיין"]
[null,null,null,null,null,null,null,null,null,null,null,13563,"2527מגדל גמל להשקעה מחקה מדד P500S"]
[null,null,null,null,null,null,null,null,null,null,null,13565,"2528מגדל תגמולים  מחקה מדד P500&amp;S"]
[null,null,null,null,null,null,null,null,null,null,null,8888,"מגדל גמל בנהול אישי תמיר בשקין"]
[null,null,null,null,null,null,null,null,null,null,null,8890,"מגדל השתלמות בנהול אישי שי ציקורל"]
[null,null,null,null,null,null,null,null,null,null,null,8890,"מגדל השתלמות בנהול אישי תומר צבי זמוש"]
[null,null,null,null,null,null,null,null,null,null,null,8890,"מגדל השתלמות בנהול אישי שי שפירא"]
[null,null,null,null,null,null,null,null,null,null,null,8890,"מגדל השתלמות בנהול אישי יערה קדם"]
[null,null,null,null,null,null,null,null,null,null,null,8890,"מגדל השתלמות בנהול אישי שקד מעייני"]
[null,null,null,null,null,null,null,null,null,null,null,8890,"מגדל השתלמות בנהול אישי מיכאל צובוטרו"]
[null,null,null,null,null,null,null,null,null,null,null,8890,"מגדל השתלמות בנהול אישי עמית קמפנר"]
[null,null,null,null,null,null,null,null,null,null,null,8890,"מגדל השתלמות בנהול אישי גבריאל גילעדוב"]
[null,null,null,null,null,null,null,null,null,null,null,8890,"מגדל השתלמות בנהול אישי גבריאל גילעדוב"]
[null,null,null,null,null,null,null,null,null,null,null,8890,"מגדל השתלמות בנהול אישי טל ראובת פולק "]
[null,null,null,null,null,null,null,null,null,null,null,8890,"מגדל השתלמות בנהול אישי טטיאנה סמאץ כהן חדד"]
[null,null,null,null,null,null,null,null,null,null,null,8890,"מגדל השתלמות בנהול אישי אביב גלאון  "]
[null,null,null,null,null,null,null,null,null,null,null,8890,"מגדל השתלמות בנהול אישי פליכס צוקרמן"]
[null,null,null,null,null,null,null,null,null,null,null,8888,"מגדל גמל בנהול אישי אופק ישראל"]
[null,null,null,null,null,null,null,null,null,null,null,8890,"מגדל השתלמות בנהול אישי דניר ניצן"]
[null,null,null,null,null,null,null,null,null,null,null,8890,"מגדל השתלמות בנהול אישי יגאל גודיק"]
[null,null,null,null,null,null,null,null,null,null,null,8890,"מגדל השתלמות בנהול אישי תומר אברהם לוי"]
[null,null,null,null,null,null,null,null,null,null,null,8888,"מגדל גמל בנהול אישי יערה קדם"]
[null,null,null,null,null,null,null,null,null,null,null,8890,"מגדל השתלמות בנהול אישי נתן נרודיצקי"]
[null,null,null,null,null,null,null,null,null,null,null,8888,"מגדל גמל בנהול אישי נתן נרודיצקי"]
[null,null,null,null,null,null,null,null,null,null,null,8888,"מגדל גמל בנהול אישי רוני קראקובר "]
[null,null,null,null,null,null,null,null,null,null,null,8890,"מגדל השתלמות בנהול אישי רוני קראקובר "]
[null,null,null,null,null,null,null,null,null,null,null,8890,"מגדל השתלמות בנהול אישי צבי אביכזר"]
[null,null,null,null,null,null,null,null,null,null,null,8890,"מגדל השתלמות בנהול אישי רועי שליט"]
[null,null,null,null,null,null,null,null,null,null,null,8890,"מגדל השתלמות בנהול אישי נועם אלמוג"]
[null,null,null,null,null,null,null,null,null,null,null,8888,"מגדל גמל בנהול אישי תומר וינגרט"]
[null,null,null,null,null,null,null,null,null,null,null,8890,"מגדל השתלמות בנהול אישי גולן פרשה"]
[null,null,null,null,null,null,null,null,null,null,null,8888,"מגדל גמל בנהול אישי לועט אברמסון"]
[null,null,null,null,null,null,null,null,null,null,null,8890,"מגדל השתלמות בנהול אישי איריס שפירא"]
[null,null,null,null,null,null,null,null,null,null,null,8890,"מגדל השתלמות בנהול אישי דור סגל"]
[null,null,null,null,null,null,null,null,null,null,null,8888,"מגדל גמל בנהול אישי דוד אברמזון"]
[null,null,null,null,null,null,null,null,null,null,null,8890,"מגדל השתלמות בנהול אישי איתי שר כץ"]
[null,null,null,null,null,null,null,null,null,null,null,8890,"מגדל השתלמות בנהול אישי אורן מגן"]
[null,null,null,null,null,null,null,null,null,null,null,8890,"מגדל השתלמות בנהול אישי מיכאל רוטמן"]
[null,null,null,null,null,null,null,null,null,null,null,8890,"מגדל השתלמות בנהול אישי יונתן אגין"]
[null,null,null,null,null,null,null,null,null,null,null,8890,"מגדל השתלמות בנהול אישי ילנה אור נימוי "]
[null,null,null,null,null,null,null,null,null,null,null,8890,"מגדל השתלמות בנהול אישי יואב גרוס"]
[null,null,null,null,null,null,null,null,null,null,null,8890,"מגדל השתלמות בנהול אישי ליאור זמיר"]
[null,null,null,null,null,null,null,null,null,null,null,8888,"מגדל גמל בנהול אישי ליאור זמיר"]
[null,null,null,null,null,null,null,null,null,null,null,8890,"מגדל השתלמות בנהול אישי דוד גלילי"]
[null,null,null,null,null,null,null,null,null,null,null,8890,"מגדל השתלמות בנהול אישי נועם פאשה"]
[null,null,null,null,null,null,null,null,null,null,null,8890,"מגדל השתלמות בנהול אישי מורן משה כהן"]
[null,null,null,null,null,null,null,null,null,null,null,8890,"מגדל השתלמות בנהול אישי ליעד בוינגו"]
[null,null,null,null,null,null,null,null,null,null,null,8888,"מגדל גמל בנהול אישי שיר בן יהודה"]
[null,null,null,null,null,null,null,null,null,null,null,8888,"מגדל גמל בנהול אישי נועה יואלי מנדל"]
[null,null,null,null,null,null,null,null,null,null,null,8890,"מגדל השתלמות בנהול אישי עידן קסטרו"]
[null,null,null,null,null,null,null,null,null,null,null,8888,"מגדל גמל בנהול אישי שירלי מרקוביץ"]
[null,null,null,null,null,null,null,null,null,null,null,8890,"מגדל השתלמות בנהול אישי נתן מיזלס"]
[null,null,null,null,null,null,null,null,null,null,null,8888,"מגדל גמל בנהול אישי נתן מיזלס"]
[null,null,null,null,null,null,null,null,null,null,null,8890,"מגדל השתלמות בנהול אישי אביב אביטן"]
[null,null,null,null,null,null,null,null,null,null,null,8888,"מגדל גמל בנהול אישי מיכאל רסובסקי"]
[null,null,null,null,null,null,null,null,null,null,null,8888,"מגדל גמל בנהול אישי תום ערד"]
[null,null,null,null,null,null,null,null,null,null,null,8890,"מגדל השתלמות בנהול אישי לירון כהן"]
[null,null,null,null,null,null,null,null,null,null,null,8890,"מגדל השתלמות בנהול אישי גל פרידמן"]
[null,null,null,null,null,null,null,null,null,null,null,8890,"מגדל השתלמות בניהול אישי שמוליק אגי"]
[null,null,null,null,null,null,null,null,null,null,null,8890,"מגדל השתלמות בניהול אישי גיא מלול "]
[null,null,null,null,null,null,null,null,null,null,null,8890,"מגדל השתלמות בניהול אישי לאוניד גלר"]
[null,null,null,null,null,null,null,null,null,null,null,8890,"מגדל השתלמות בניהול אישי אבישי לוי"]
[null,null,null,null,null,null,null,null,null,null,null,8890,"מגדל השתלמות בניהול אישי אוהד ניצן"]
[null,null,null,null,null,null,null,null,null,null,null,8888,"מגדל גמל בניהול אישי שנהב וסרמן"]
[null,null,null,null,null,null,null,null,null,null,null,8888,"מגדל גמל בניהול אישי שני גולדהירש"]
[null,null,null,null,null,null,null,null,null,null,null,8888,"מגדל גמל בניהול אישי רן זנדהאוז "]
[null,null,null,null,null,null,null,null,null,null,null,8890,"מגדל השתלמות בניהול אישי  מנחם פדהאל"]
[null,null,null,null,null,null,null,null,null,null,null,8890,"מגדל השתלמות בניהול אישי סיגל עמר שטרית"]
[null,null,null,null,null,null,null,null,null,null,null,8890,"מגדל השתלמות בניהול אישי אביב צריקר"]
[null,null,null,null,null,null,null,null,null,null,null,8890,"מגדל השתלמות בניהול אישי שי עמר"]
[null,null,null,null,null,null,null,null,null,null,null,8890,"מגדל השתלמות בניהול אישי חננאל חנן כהן"]
[null,null,null,null,null,null,null,null,null,null,null,8890,"מגדלהשתלמות בניהולאישי לירן טפר"]
[null,null,null,null,null,null,null,null,null,null,null,8890,"מגדלהשתלמותבניהולאישיאיגורמישסקי"]
[null,null,null,null,null,null,null,null,null,null,null,8890,"מגדלהשתלמותבניהולאישיאיגורמישסקי"]
[null,null,null,null,null,null,null,null,null,null,null,8888,"מגדל גמל בניהול אישי יואב דחבש"]
[null,null,null,null,null,null,null,null,null,null,null,8890,"מגדלהשתלמותבניהולאישיערןגולדמן"]
[null,null,null,null,null,null,null,null,null,null,null,8890,"מגדל השתלמות בניהול אישי אוריאל חי"]
[null,null,null,null,null,null,null,null,null,null,null,8890,"מגדל השתלמות בניהול אישי אלחנן ברוך ריף "]
[null,null,null,null,null,null,null,null,null,null,null,8888,"מגדל גמל בניהול אישי אהרן ציטרין"]
[null,null,null,null,null,null,null,null,null,null,null,8888,"מגדל גמל בניהול אישי נוי ריסמני"]
[null,null,null,null,null,null,null,null,null,null,null,8890,"מגדל השתלמות בניהול אישי דניאל רסקין"]
[null,null,null,null,null,null,null,null,null,null,null,8888,"מגדל גמל בניהול אישי דניאל רסקין"]
[null,null,null,null,null,null,null,null,null,null,null,8890,"מגדל השתלמות בניהול אישי אלה משה"]
[null,null,null,null,null,null,null,null,null,null,null,8890,"מגדל השתלמות בניהול אישי לועט אברמסון"]
[null,null,null,null,null,null,null,null,null,null,null,8890,"מגדל השתלמות בניהול אישי עידו שריד"]
[null,null,null,null,null,null,null,null,null,null,null,8888,"מגדל גמל בניהול אישי קארין הנדל"]
[null,null,null,null,null,null,null,null,null,null,null,8890,"מגדל השתלמות בניהול אישי יהושע מתניה בהר"]
[null,null,null,null,null,null,null,null,null,null,null,8888,"מגדל גמל בניהול אישי יהושע מתניה בהר"]
[null,null,null,null,null,null,null,null,null,null,null,8890,"מגדל השתלמות בניהול אישי איתי פלג"]
[null,null,null,null,null,null,null,null,null,null,null,8890,"מגדל השתלמות בניהול אישי ולדימיר קפלונוב"]
[null,null,null,null,null,null,null,null,null,null,null,8888,"מגדל גמל בניהול אישי ולדימיר קפלונוב"]
[null,null,null,null,null,null,null,null,null,null,null,8890,"מגדל השתלמות בניהול אישי שי שאול חזן"]
[null,null,null,null,null,null,null,null,null,null,null,8888,"מגדל גמל בניהול אישי אלון אגין"]
[null,null,null,null,null,null,null,null,null,null,null,8890,"מגדל השתלמות בניהול אישי תמיר כמרה"]
[null,null,null,null,null,null,null,null,null,null,null,8888,"מגדל גמל בניהול אישי הדס גרוס"]
[null,null,null,null,null,null,null,null,null,null,null,8888,"מגדל גמל בניהול אישי עומר עדן"]
[null,null,null,null,null,null,null,null,null,null,null,8890,"מגדל השתלמות בניהול אישי דור אברהם"]
[null,null,null,null,null,null,null,null,null,null,null,8888,"מגדל גמל בניהול אישי דור אברהם"]
[null,null,null,null,null,null,null,null,null,null,null,8888,"מגדל גמל בניהול אישי עמרי גינזבורג"]
[null,null,null,null,null,null,null,null,null,null,null,8890,"מגדל השתלמות בניהול אישי איילת אביכזר"]
[null,null,null,null,null,null,null,null,null,null,null,8890,"מגדל השתלמות בניהול אישי שיר חורב"]
[null,null,null,null,null,null,null,null,null,null,null,8890,"מגדל השתלמות בניהול אישי טלי ליברמן"]
[null,null,null,null,null,null,null,null,null,null,null,8890,"מגדל השתלמות בניהול אישי מיכאל רוגובין"]
[null,null,null,null,null,null,null,null,null,null,null,8888,"מגדל גמל בניהול אישי עופר קובץ"]
[null,null,null,null,null,null,null,null,null,null,null,8890,"מגדל השתלמות בניהול אישי ארז שניידר"]
[null,null,null,null,null,null,null,null,null,null,null,8890,"מגדל השתלמות בניהול אישי רועי בן ברוך"]
[null,null,null,null,null,null,null,null,null,null,null,8888,"מגדל גמל בניהול אישי אלון מוצניק"]
[null,null,null,null,null,null,null,null,null,null,null,8890,"מגדל השתלמות בניהול אישי יואב חיים פאעל"]
[null,null,null,null,null,null,null,null,null,null,null,8888,"מגדל גמל בניהול אישי מאיר כהנא"]
[null,null,null,null,null,null,null,null,null,null,null,8890,"מגדל השתלמות בניהול אישי שחר אבידר"]
[null,null,null,null,null,null,null,null,null,null,null,0,"פסגות גדיש אגח עד 20% (זה&quot;ב)2688"]
[null,null,null,null,null,null,null,null,null,null,null,0,"פסגות גדיש אגח עד 10% מניות 2689"]
[null,null,null,null,null,null,null,null,null,null,null,0,"פסגות גדיש חול ( שיא גמל מטח)2960"]
[null,null,null,null,null,null,null,null,null,null,null,1375,"פסגות גדיש מניות 2691"]
[null,null,null,null,null,null,null,null,null,null,null,1376,"פסגות גדיש אגח צמוד מדד (מדדית)2692"]
[null,null,null,null,null,null,null,null,null,null,null,1376,"פסגות גדיש אגח ללא מניות - מיזוג 2693"]
[null,null,null,null,null,null,null,null,null,null,null,1394,"פסגות גדיש כספי 2694"]
[null,null,null,null,null,null,null,null,null,null,null,1395,"פסגות גדיש אגח ממשלת ישראל (מדינה )2695"]
[null,null,null,null,null,null,null,null,null,null,null,9950,"פסגות גדיש מסלול עד 50 (בטא)2696"]
[null,null,null,null,null,null,null,null,null,null,null,9951,"גדיש 50-60 ריצה במקביל"]
[null,null,null,null,null,null,null,null,null,null,null,9952,"פסגות גדיש מסלול 60 ומעלה (שקלית)2698"]
[null,null,null,null,null,null,null,null,null,null,null,989,"אלטשולר שחם עוקב מניות פאסיבי"]
[null,null,null,null,null,null,null,null,null,null,null,2017,"אלטשולר גדיש הלכה מחמירה"]
[null,null,null,null,null,null,null,null,null,null,null,0,"פסגות שיא השתלמות אגח עד 10% מניות 2701"]
[null,null,null,null,null,null,null,null,null,null,null,0,"פסגות השתלמות כללי ריצה במקביל"]
[null,null,null,null,null,null,null,null,null,null,null,0,"פסגות שיא השתלמות פאסיבי (מדדים כללי)2703"]
[null,null,null,null,null,null,null,null,null,null,null,0,"פסגות שיא השתלמות ישראל (דינאמית)2704"]
[null,null,null,null,null,null,null,null,null,null,null,0,"פסגות שיא השתלמות חו&quot;ל - חדשה2705"]
[null,null,null,null,null,null,null,null,null,null,null,0,"פסגות שיא השתלמות מניות 2706"]
[null,null,null,null,null,null,null,null,null,null,null,0,"פסגות שיא השתלמות אג&quot;ח 2707"]
[null,null,null,null,null,null,null,null,null,null,null,0,"פסגות שיא השתלמות כספי2708"]
[null,null,null,null,null,null,null,null,null,null,null,0,"פסגות שיא השתלמות אגח ממשלת ישראל (מדינה)2709"]
[null,null,null,null,null,null,null,null,null,null,null,0,"אלטשולר שיא השתלמות הלכה מחמירה"]
[null,null,null,null,null,null,null,null,null,null,null,844,"אלטשולר שיא פיצויים מניות פאסיבי"]
[null,null,null,null,null,null,null,null,null,null,null,11383,"אלטשולר חיסכון לילד - הלכה מחמירה"]
[null,null,null,null,null,null,null,null,null,null,null,616,"אלטשולר מסלולית לפיצויים מסלול כספית              "]
[null,null,null,null,null,null,null,null,null,null,null,616,"אלטשולר מסלולית לפיצויים - קב' אשטרום             "]
[null,null,null,null,null,null,null,null,null,null,null,616,"אלטשולר מסלולית לפיצויים -קב' אקים                "]
[null,null,null,null,null,null,null,null,null,null,null,616,"אלטשולר מסלולית לפיצויים -בתי זיקוק               "]
[null,null,null,null,null,null,null,null,null,null,null,616,"אלטשולר מסלולית לפיצויים -קב' אגנטולס             "]
[null,null,null,null,null,null,null,null,null,null,null,616,"אלטשולר מסלולית לפיצויים -קב' מרגולין             "]
[null,null,null,null,null,null,null,null,null,null,null,616,"אלטשולר מסלולית לפיצויים -קב' זרניצקי             "]
[null,null,null,null,null,null,null,null,null,null,null,616,"אלטשולר מסלולית לפיצויים -קב' גטר                 "]
[null,null,null,null,null,null,null,null,null,null,null,616,"אלטשולר מסלולית לפיצויים -קב' רשף                 "]
[null,null,null,null,null,null,null,null,null,null,null,616,"אלטשולר מסלולית לפיצויים -קב' שמעון ברזילי        "]
[null,null,null,null,null,null,null,null,null,null,null,616,"אלטשולר מסלולית לפיצויים -קב' פארם                "]
[null,null,null,null,null,null,null,null,null,null,null,616,"אלטשולר מסלולית לפיצויים -קב' מור                 "]
[null,null,null,null,null,null,null,null,null,null,null,616,"אלטשולר מסלולית לפיצויים -קב' רמית                "]
[null,null,null,null,null,null,null,null,null,null,null,616,"אלטשולר מסלולית לפיצויים -בינלאומי                "]
[null,null,null,null,null,null,null,null,null,null,null,616,"אלטשולר מסלולית לפיצויים - קב פז                  "]
[null,null,null,null,null,null,null,null,null,null,null,616,"אלטשולר מסלולית לפיצויים - תעשיות רדימיקס         "]
[null,null,null,null,null,null,null,null,null,null,null,616,"אלטשולר מסלולית לפיצויים - קב' תנובה              "]
[null,null,null,null,null,null,null,null,null,null,null,616,"אלטשולר מסלולית לפיצויים- החברה הישראלית לטרקטורים"]
[null,null,null,null,null,null,null,null,null,null,null,616,"אלטשולר מסלולית לפיצויים- קב רולן                 "]
[null,null,null,null,null,null,null,null,null,null,null,1912,"אלטשולר בפנסיה תקציבית כללי "]
[null,null,null,null,null,null,null,null,null,null,null,1309,"אלטשולר תקציבית אגח"]
[null,null,null,null,null,null,null,null,null,null,null,872,"אלטשולר מרפא קופת גמל מרכזית לדמי מחלה"]
[null,null,null,null,null,null,null,null,null,null,null,1219,"אלטשולר קמה"]
[null,null,null,null,null,null,null,null,null,null,null,9844,"אלטשולר לעמיתי חבר עד 50"]
[null,null,null,null,null,null,null,null,null,null,null,9845,"אלטשולר לעמיתי חבר לבני 50-60"]
[null,null,null,null,null,null,null,null,null,null,null,9846,"אלטשולר לעמיתי חבר לבני 60 ומעלה"]
[null,null,null,null,null,null,null,null,null,null,null,8890,"מגדל השתלמות בניהול אישי יובל בירב"]
[null,null,null,null,null,null,null,null,null,null,null,8888,"מגדל גמל בניהול אישי יובל בירב"]
[null,null,null,null,null,null,null,null,null,null,null,8890,"מגדל השתלמות בניהול אישי דוד יצחק חיים"]
[null,null,null,null,null,null,null,null,null,null,null,8890,"מגדל השתלמות בניהול אישי ג'ורג' קרייסברג"]
[null,null,null,null,null,null,null,null,null,null,null,8890,"מגדל השתלמות בניהול אישי מאיר דוד כהנא "]
[null,null,null,null,null,null,null,null,null,null,null,616,"אלטשולר פ. אישית מחצבות חצץ ואבן בע&quot;מ"]
[null,null,null,null,null,null,null,null,null,null,null,616,"אלטשולר פ. אישית מלון גינות ים"]
[null,null,null,null,null,null,null,null,null,null,null,616,"אלטשולר פ. אישית אמריקנה אינס ישראל"]
[null,null,null,null,null,null,null,null,null,null,null,616,"אלטשולר פ. אישית האחים פריד(1997)בע&quot;מ"]
[null,null,null,null,null,null,null,null,null,null,null,616,"אלטשולר פ. אישית הוספיס סנט וינסנט"]
[null,null,null,null,null,null,null,null,null,null,null,616,"אלטשולר פ. אישית מכללת שערי משפט"]
[null,null,null,null,null,null,null,null,null,null,null,616,"אלטשולר פ. אישית מנורה איזו אהרון"]
[null,null,null,null,null,null,null,null,null,null,null,616,"אלטשולר פ. אישית פוליצר חדרה 1982 בעמ"]
[null,null,null,null,null,null,null,null,null,null,null,616,"אלטשולר פ. אישית פלבורג פדרל בע&quot;מ"]
[null,null,null,null,null,null,null,null,null,null,null,616,"אלטשולר פ. אישית איל חב להנדסה וחרוש"]
[null,null,null,null,null,null,null,null,null,null,null,616,"אלטשולר פ. אישית תעשיות אבן וסיד"]
[null,null,null,null,null,null,null,null,null,null,null,616,"אלטשולר פ. אישית תדיר גן 1993 בע&quot;מ"]
[null,null,null,null,null,null,null,null,null,null,null,616,"אלטשולר פ. אישית גולדשטיין מרים"]
[null,null,null,null,null,null,null,null,null,null,null,616,"אלטשולר פ. אישית יהלומית פרץ בע&quot;מ"]
[null,null,null,null,null,null,null,null,null,null,null,616,"אלטשולר פ. אישית תת פסגות2-מועלם רו&quot;ח"]
[null,null,null,null,null,null,null,null,null,null,null,616,"אלטשולר פ. אישית מפעלי ים המלח בעמ"]
[null,null,null,null,null,null,null,null,null,null,null,616,"אלטשולר פ. אישית עשות אשקלון תעשיות בעמ"]
[null,null,null,null,null,null,null,null,null,null,null,616,"אלטשולר פ. אישית גילת רשתות לוין בעמ"]
[null,null,null,null,null,null,null,null,null,null,null,616,"אלטשולר פ. אישית עולם הספורט בע&quot;מ"]
[null,null,null,null,null,null,null,null,null,null,null,616,"אלטשולר פ. אישית הנסון ישראל בע&quot;מ"]
[null,null,null,null,null,null,null,null,null,null,null,616,"אלטשולר פ. אישית יוניברסל מוטורס ישראל בע\"מ"]
[null,null,null,null,null,null,null,null,null,null,null,616,"אלטשולר פ. אישית תת פסגות2-שי שירותי סיעוד"]
[null,null,null,null,null,null,null,null,null,null,null,616,"אלטשולר פ. אישית תת פסגות2-אלכסנדר שניידר"]
[null,null,null,null,null,null,null,null,null,null,null,616,"אלטשולר פ. אישית יוניברסל משאיות"]
[null,null,null,null,null,null,null,null,null,null,null,616,"אלטשולר פ. אישית קופת חולים כללית"]
[null,null,null,null,null,null,null,null,null,null,null,616,"אלטשולר פ. אישית ט.ברקה בע&quot;מ"]
[null,null,null,null,null,null,null,null,null,null,null,616,"אלטשולר פ. אישית סקר תכנון פתוח ונהול"]
[null,null,null,null,null,null,null,null,null,null,null,616,"אלטשולר פ. אישית רמי פנחסי ושות בע&quot;מ"]
[null,null,null,null,null,null,null,null,null,null,null,820,"אלטשולר פ. אישית פלסאון בע&quot;מ"]
[null,null,null,null,null,null,null,null,null,null,null,616,"אלטשולר פ. אישית המבריא בע&quot;מ"]
[null,null,null,null,null,null,null,null,null,null,null,616,"אלטשולר פ. אישית קריב מערכות בניה בעמ"]
[null,null,null,null,null,null,null,null,null,null,null,616,"אלטשולר פ. אישית מזונית ישראל בע&quot;מ"]
[null,null,null,null,null,null,null,null,null,null,null,616,"אלטשולר פ. אישית טל-רן חברה לעבוד"]
[null,null,null,null,null,null,null,null,null,null,null,8888,"מגדל גמל בניהול אישי מירה סיגל ברק"]
[null,null,null,null,null,null,null,null,null,null,null,8888,"מגדל גמל בניהול אישי טל אפרת"]
[null,null,null,null,null,null,null,null,null,null,null,8890,"מגדל השתלמות בניהול אישי עירד גרום יובל"]
[null,null,null,null,null,null,null,null,null,null,null,8890,"מגדל השתלמות בניהול אישי תרזה זיסמן"]
[null,null,null,null,null,null,null,null,null,null,null,8888,"מגדל גמל בניהול אישי ליאב טיכנר"]
[null,null,null,null,null,null,null,null,null,null,null,8888,"מגדל גמל בניהול אישי שלמה קייזר"]
[null,null,null,null,null,null,null,null,null,null,null,8890,"מגדל השתלמות בניהול אישי אסף מוזס"]
[null,null,null,null,null,null,null,null,null,null,null,8890,"מגדל השתלמות בניהול אישי אילן שמעון צמיר"]
[null,null,null,null,null,null,null,null,null,null,null,8888,"מגדל גמל בניהול אישי מרדכי סלומון"]
[null,null,null,null,null,null,null,null,null,null,null,8888,"מגדל גמל בניהול אישי נועם אלמוג"]
[null,null,null,null,null,null,null,null,null,null,null,8890,"מגדל השתלמות בניהול אישי אדוארד רוגובוי"]
[null,null,null,null,null,null,null,null,null,null,null,8890,"מגדל השתלמות בניהול אישי יוסף ששו"]
[null,null,null,null,null,null,null,null,null,null,null,8890,"מגדל השתלמות בניהול אישי אביחי רחמים כהן"]
[null,null,null,null,null,null,null,null,null,null,null,8888,"מגדל גמל בניהול אישי אביחי רחמים כהן"]
[null,null,null,null,null,null,null,null,null,null,null,8888,"מגדל גמל בניהול אישי גיא מלול "]
[null,null,null,null,null,null,null,null,null,null,null,8890,"מגדל השתלמות בניהול אישי יניב פלד"]
[null,null,null,null,null,null,null,null,null,null,null,8890,"מגדל השתלמות בניהול אישי אליהו מנחם אהרונוף"]
[null,null,null,null,null,null,null,null,null,null,null,8888,"מגדל גמל בניהול אישי אליהו מנחם אהרונוף"]
[null,null,null,null,null,null,null,null,null,null,null,8888,"מגדל גמל בניהול אישי אלכסנדר קרפל"]
[null,null,null,null,null,null,null,null,null,null,null,8890,"מגדל השתלמות בניהול אישי דותן בר און"]
[null,null,null,null,null,null,null,null,null,null,null,8890,"מגדל השתלמות בניהול אישי יובל נסלרוט"]
[null,null,null,null,null,null,null,null,null,null,null,8888,"מגדל גמל בניהול אישי יובל נסלרוט"]
[null,null,null,null,null,null,null,null,null,null,null,8890,"מגדל השתלמות בניהול אישי ניר נאור"]
[null,null,null,null,null,null,null,null,null,null,null,8890,"מגדל השתלמות בניהול אישי הלה כהן קימל"]
[null,null,null,null,null,null,null,null,null,null,null,8890,"מגדל השתלמות בניהול אישי גד קימל"]
[null,null,null,null,null,null,null,null,null,null,null,8888,"מגדל גמל בניהול אישי מנחם דביר"]
[null,null,null,null,null,null,null,null,null,null,null,8890,"מגדל השתלמות בניהול אישי אורן שמואל לי און"]
[null,null,null,null,null,null,null,null,null,null,null,8888,"מגדל גמל בנהול אישי מיטל חלבי"]
[null,null,null,null,null,null,null,null,null,null,null,8888,"מגדל גמל בנהול אישי ניר יעקב ענתבי"]
[null,null,null,null,null,null,null,null,null,null,null,8890,"מגדל השתלמות בנהול אישי ניר יעקב ענתבי"]
[null,null,null,null,null,null,null,null,null,null,null,8890,"מגדל השתלמות בנהול אישי איתי בר כוכבא"]
[null,null,null,null,null,null,null,null,null,null,null,8890,"מגדל השתלמות בנהול אישי הילה לפיד"]
[null,null,null,null,null,null,null,null,null,null,null,8890,"מגדל השתלמות בנהול אישי נאור לפיד"]
[null,null,null,null,null,null,null,null,null,null,null,8890,"מגדל השתלמות בנהול אישי כרמית פלד"]
[null,null,null,null,null,null,null,null,null,null,null,8888,"מגדל גמל בנהול אישי רנה אהרונוף"]
[null,null,null,null,null,null,null,null,null,null,null,8888,"מגדל גמל בנהול אישי שגית שמש רוזמן"]
[null,null,null,null,null,null,null,null,null,null,null,8890,"מגדל השתלמות בנהול אישי שגית שמש רוזמן"]
[null,null,null,null,null,null,null,null,null,null,null,8888,"מגדל גמל בנהול אישי גיל הילר מזרחי"]
[null,null,null,null,null,null,null,null,null,null,null,8890,"מגדל השתלמות בנהול אישי בדר בדר"]
[null,null,null,null,null,null,null,null,null,null,null,8888,"מגדל גמל בנהול אישי בדר בדר"]
[null,null,null,null,null,null,null,null,null,null,null,8888,"מגדל גמל בניהול אישי אורי כץ"]
[null,null,null,null,null,null,null,null,null,null,null,8890,"מגדל השתלמות בניהול אישי אמיר רוכמן"]
[null,null,null,null,null,null,null,null,null,null,null,8888,"מגדל גמל בניהול אישי ערן סודק"]
[null,null,null,null,null,null,null,null,null,null,null,8890,"מגדל השתלמות בניהול אישי ערן סודק"]
[null,null,null,null,null,null,null,null,null,null,null,8890,"מגדל השתלמות בניהול אישי שלומי פרנק"]
[null,null,null,null,null,null,null,null,null,null,null,8888,"מגדל גמל בניהול אישי שלומי פרנק"]
[null,null,null,null,null,null,null,null,null,null,null,8890,"מגדל השתלמות בניהול אישי שלמה תמיר"]
[null,null,null,null,null,null,null,null,null,null,null,8890,"מגדל השתלמות בניהול אישי ארנה תמיר"]
[null,null,null,null,null,null,null,null,null,null,null,8888,"מגדל גמל בניהול אישי נאור לפיד"]
[null,null,null,null,null,null,null,null,null,null,null,8890,"מגדל השתלמות בניהול אישי שלמה צבי אוברמן"]
[null,null,null,null,null,null,null,null,null,null,null,8890,"מגדל השתלמות בניהול אישי אפרים דוד"]
[null,null,null,null,null,null,null,null,null,null,null,8888,"מגדל גמל בניהול אישי אפרים דוד"]
[null,null,null,null,null,null,null,null,null,null,null,8888,"מגדל גמל בניהול אישי אלחנן ברוך ריף"]
[null,null,null,null,null,null,null,null,null,null,null,8888,"מגדל גמל בניהול אישי גל גרינבלט"]
[null,null,null,null,null,null,null,null,null,null,null,8890,"מגדל השתלמות בניהול אישי רונית אביטן"]
[null,null,null,null,null,null,null,null,null,null,null,8888,"מגדל גמל בניהול אישי רונית אביטן"]
[null,null,null,null,null,null,null,null,null,null,null,8888,"מגדל גמל בניהול אישי טל ליברמן"]
[null,null,null,null,null,null,null,null,null,null,null,8890,"מגדל השתלמות בניהול אישי אלירז עמנואל ברויר"]
[null,null,null,null,null,null,null,null,null,null,null,8888,"מגדל גמל בניהול אישי אלירז עמנואל ברויר"]
[null,null,null,null,null,null,null,null,null,null,null,8890,"מגדל השתלמות בניהול אישי יפעת קרקש"]
[null,null,null,null,null,null,null,null,null,null,null,8888,"מגדל גמל בניהול אישי אלכסנדר נטס"]
[null,null,null,null,null,null,null,null,null,null,null,8888,"מגדל גמל בניהול אישי יפעת קרקש"]
[null,null,null,null,null,null,null,null,null,null,null,8890,"מגדל השתלמות בניהול אישי אלכסנדר נטס"]
[null,null,null,null,null,null,null,null,null,null,null,8890,"מגדל השתלמות בניהול אישי ישראל ויסמן מנור"]
[null,null,null,null,null,null,null,null,null,null,null,8890,"מגדל השתלמות בניהול אישי אלעד שטרר"]
[null,null,null,null,null,null,null,null,null,null,null,8888,"מגדל גמל בניהול אישי אלעד שטרר"]
[null,null,null,null,null,null,null,null,null,null,null,8890,"מגדל השתלמות בניהול אישי רובין יותם"]
[null,null,null,null,null,null,null,null,null,null,null,8888,"מגדל גמל בניהול אישי רובין יותם"]
[null,null,null,null,null,null,null,null,null,null,null,8888,"מגדל גמל בניהול אישי איל משה וולדמן"]
[null,null,null,null,null,null,null,null,null,null,null,8888,"מגדל גמל בניהול אישי אלה וולדמן"]
[null,null,null,null,null,null,null,null,null,null,null,12905,"קופת גמל השקעה עובדי אוניברסיטה העברית כללי2990"]
[null,null,null,null,null,null,null,null,null,null,null,13680,"קופת גמל השקעה עובדי האוניברסיטה העברית מניות2991"]
[null,null,null,null,null,null,null,null,null,null,null,8888,"מגדל גמל בניהול אישי יוני יעקובוביץ"]
[null,null,null,null,null,null,null,null,null,null,null,8890,"מגדל השתלמות בניהול אישי רונית ויסמל מנור"]
[null,null,null,null,null,null,null,null,null,null,null,8888,"מגדל גמל בניהול אישי פלג וסרמן"]
[null,null,null,null,null,null,null,null,null,null,null,8888,"מגדל גמל בניהול אישי צבי סופרשטיין"]
[null,null,null,null,null,null,null,null,null,null,null,8890,"מגדל השתלמות בניהול אישי צבי סופרשטיין"]
[null,null,null,null,null,null,null,null,null,null,null,8890,"מגדל השתלמות בניהול אישי סרגיי פרדימן"]
[null,null,null,null,null,null,null,null,null,null,null,8890,"מגדל השתלמות בניהול אישי עידן קובר"]
[null,null,null,null,null,null,null,null,null,null,null,8890,"מגדל השתלמות בניהול אישי עידן יוסף שטיינברג"]
[null,null,null,null,null,null,null,null,null,null,null,8888,"מגדל גמל בניהול אישי עידן יוסף שטיינברג"]
[null,null,null,null,null,null,null,null,null,null,null,8888,"מגדל גמל בניהול אישי קטרין פרידמן"]
[null,null,null,null,null,null,null,null,null,null,null,8888,"מגדל גמל בניהול אישי שמואל אגי"]
[null,null,null,null,null,null,null,null,null,null,null,8888,"מגדל גמל בניהול אישי אלון אשר מיטלמן"]
[null,null,null,null,null,null,null,null,null,null,null,8890,"מגדל השתלמות בניהול אישי אלון אשר מיטלמן"]
[null,null,null,null,null,null,null,null,null,null,null,8890,"מגדל השתלמות בניהול אישי מנחם קרייף"]
[null,null,null,null,null,null,null,null,null,null,null,8888,"מגדל גמל בניהול אישי מנחם קרייף"]
[null,null,null,null,null,null,null,null,null,null,null,8888,"מגדל גמל בניהול אישי ישראל ויסמל מנור"]
[null,null,null,null,null,null,null,null,null,null,null,8888,"מגדל גמל בניהול אישי אולג זלוטניק"]
[null,null,null,null,null,null,null,null,null,null,null,8890,"מגדל השתלמות בניהול אישי אולג זלוטניק"]
[null,null,null,null,null,null,null,null,null,null,null,8890,"מגדל השתלמות בניהול אישי עופר רז"]
[null,null,null,null,null,null,null,null,null,null,null,8888,"מגדל גמל בניהול אישי שמעון דוד רפפורט"]
[null,null,null,null,null,null,null,null,null,null,null,8890,"מגדל השתלמות בניהול אישי שמעון דוד רפפורט"]
[null,null,null,null,null,null,null,null,null,null,null,8888,"מגדל גמל בניהול אישי בוז&#39;נה גלייזר"]
[null,null,null,null,null,null,null,null,null,null,null,8890,"מגדל השתלמות בניהול אישי שלום שי אריאל"]
[null,null,null,null,null,null,null,null,null,null,null,8888,"מגדל גמל בניהול אישי שלום שי אריאל"]
[null,null,null,null,null,null,null,null,null,null,null,8888,"מגדל גמל בניהול אישי גילת ענתבי"]
[null,null,null,null,null,null,null,null,null,null,null,8890,"מגדל השתלמות בניהול אישי גילת ענתבי"]
[null,null,null,null,null,null,null,null,null,null,null,820,"הראל עדי גמל מסלולית לפיצויים -מסלול כספי"]
[null,null,null,null,null,null,null,null,null,null,null,820,"הראל עדי גמל מסלולית לפיצויים מסלול כללי"]
[null,null,null,null,null,null,null,null,null,null,null,820,"הראל עדי גמל מסלולית לפיצויים מסלול 15% מניות"]
[null,null,null,null,null,null,null,null,null,null,null,820,"הראל עדי גמל מסלולית לפיצויים מסלול 25% מניות"]
[null,null,null,null,null,null,null,null,null,null,null,820,"הראל עדי גמל מסלולית לפיצויים מסלול 0% מניות"]
[null,null,null,null,null,null,null,null,null,null,null,820,"הראל עדי גמל מסלולית לפיצויים מסלול 10% מניות "]
[null,null,null,null,null,null,null,null,null,null,null,820," הראל עדי גמל מסלולית לפיצויים קופה כללית"]
[null,null,null,null,null,null,null,null,null,null,null,820," הראל עדי גמל מסלולית לפיצויים ט.ברקה"]
[null,null,null,null,null,null,null,null,null,null,null,820," הראל עדי גמל מסלולית לפיצויים רמי פנחסי"]
[null,null,null,null,null,null,null,null,null,null,null,820," הראל עדי גמל מסלולית לפיצויים פלסאון"]
[null,null,null,null,null,null,null,null,null,null,null,820," הראל עדי גמל מסלולית לפיצויים טל-רן"]
[null,null,null,null,null,null,null,null,null,null,null,820," הראל עדי גמל מסלולית לפיצויים מחצבות חצץ ואבן"]
[null,null,null,null,null,null,null,null,null,null,null,820," הראל עדי גמל מסלולית לפיצויים אמריקנה אינס"]
[null,null,null,null,null,null,null,null,null,null,null,820," הראל עדי גמל מסלולית לפיצויים האחים פריד בע\"מ"]
[null,null,null,null,null,null,null,null,null,null,null,820," הראל עדי גמל מסלולית לפיצויים הוספיס סנט וינסנט"]
[null,null,null,null,null,null,null,null,null,null,null,820," הראל עדי גמל מסלולית לפיצויים מכללת שערי משפט"]
[null,null,null,null,null,null,null,null,null,null,null,820," הראל עדי גמל מסלולית לפיצויים פוליצר חדרה בע\"מ"]
[null,null,null,null,null,null,null,null,null,null,null,820," הראל עדי גמל מסלולית לפיצויים פלבורג פדרל"]
[null,null,null,null,null,null,null,null,null,null,null,820," הראל עדי גמל מסלולית לפיצויים גולדשטיין"]
[null,null,null,null,null,null,null,null,null,null,null,820," הראל עדי גמל מסלולית לפיצויים יהלמית"]
[null,null,null,null,null,null,null,null,null,null,null,820," הראל עדי גמל מסלולית לפיצויים מועלם רו\"ח"]
[null,null,null,null,null,null,null,null,null,null,null,820," הראל עדי גמל מסלולית לפיצויים מפעלי ים המלח"]
[null,null,null,null,null,null,null,null,null,null,null,820," הראל עדי גמל מסלולית לפיצויים גילת לווינים"]
[null,null,null,null,null,null,null,null,null,null,null,820,"הראל עדי גמל מסלולית לפיצויים עולם הספורט "]
[null,null,null,null,null,null,null,null,null,null,null,820," הראל עדי גמל מסלולית לפיצויים אלכסנדר שניידר"]
[null,null,null,null,null,null,null,null,null,null,null,820," הראל עדי גמל מסלולית לפיצויים יוניברסל משאיות"]
[null,null,null,null,null,null,null,null,null,null,null,820,"הראל עדי גמל מסלולית לפיצויים בתי זיקוק"]
[null,null,null,null,null,null,null,null,null,null,null,820,"הראל עדי גמל מסלולית לפיצויים קב' מרגולין "]
[null,null,null,null,null,null,null,null,null,null,null,820,"הראל עדי גמל מסלולית לפיצויים פסגות2 קב' גטר "]
[null,null,null,null,null,null,null,null,null,null,null,820,"הראל עדי גמל מסלולית לפיצויים קב&#39; רשף"]
[null,null,null,null,null,null,null,null,null,null,null,820,"הראל עדי גמל מסלולית לפיצויים קב' שמעון ברזילי"]
[null,null,null,null,null,null,null,null,null,null,null,820,"הראל עדי גמל מסלולית לפיצויים קב&#39; פארם "]
[null,null,null,null,null,null,null,null,null,null,null,820,"הראל עדי גמל מסלולית לפיצויים קב&#39; מור "]
[null,null,null,null,null,null,null,null,null,null,null,820,"הראל עדי גמל מסלולית לפיצויים קב&#39; רמית "]
[null,null,null,null,null,null,null,null,null,null,null,820,"הראל עדי גמל מסלולית לפיצויים הבינלאומי "]
[null,null,null,null,null,null,null,null,null,null,null,820,"הראל עדי גמל מסלולית לפיצויים קב&#39; פז "]
[null,null,null,null,null,null,null,null,null,null,null,820,"הראל עדי גמל מסלולית לפיצויים קב&#39; תנובה "]
[null,null,null,null,null,null,null,null,null,null,null,820,"הראל עדי גמל מסלולית לפיצויים קב' טרקטורים "]
[null,null,null,null,null,null,null,null,null,null,null,820,"הראל עדי גמל מסלולית לפיצויים  קב&#39; רולן"]
[null,null,null,null,null,null,null,null,null,null,null,8890,"מגדל השתלמות בניהול אישי להב שטיינברג"]
[null,null,null,null,null,null,null,null,null,null,null,8888,"מגדל גמל בניהול אישי אלעד ארבל"]
[null,null,null,null,null,null,null,null,null,null,null,820,"הראל עדי גמל מסלולית לפיצויים קב זרניצקי "]
[null,null,null,null,null,null,null,null,null,null,null,8890,"מגדל השתלמות בניהול אישי שלמה אופק"]
[null,null,null,null,null,null,null,null,null,null,null,8888,"מגדל גמל בניהול אישי גדעון קוטלובסקי"]
[null,null,null,null,null,null,null,null,null,null,null,8890,"מגדל השתלמות בניהול אישי גדעון קוטלובסקי"]
[null,null,null,null,null,null,null,null,null,null,null,8888,"מגדל גמל בניהול אישי מיכל שנהב"]
[null,null,null,null,null,null,null,null,null,null,null,8890,"מגדל השתלמות בניהול אישי רוני קורל"]
[null,null,null,null,null,null,null,null,null,null,null,8890,"מגדל השתלמות בניהול אישי ליאת ברגר"]
[null,null,null,null,null,null,null,null,null,null,null,8890,"מגדל השתלמות בניהול אישי טל ויטל פילוסוף"]
[null,null,null,null,null,null,null,null,null,null,null,8888,"מגדל גמל בניהול אישי טל ויטל פילוסוף"]
[null,null,null,null,null,null,null,null,null,null,null,8888,"מגדל גמל בניהול אישי תמיר כמרה"]
[null,null,null,null,null,null,null,null,null,null,null,8888,"מגדל גמל בניהול אישי עמיחי יעקב פנר"]
[null,null,null,null,null,null,null,null,null,null,null,8890,"מגדל השתלמות בניהול אישי עמיחי יעקב פנר"]
[null,null,null,null,null,null,null,null,null,null,null,8888,"מגדל גמל בניהול אישי בעז הראל"]
[null,null,null,null,null,null,null,null,null,null,null,8890,"מגדל השתלמות בניהול אישי בעז הראל"]
[null,null,null,null,null,null,null,null,null,null,null,8890,"מגדל השתלמות בניהול אישי חיים ברגר"]
[null,null,null,null,null,null,null,null,null,null,null,8890,"מגדל השתלמות בניהול אישי שלום פנר"]
[null,null,null,null,null,null,null,null,null,null,null,8890,"מגדל השתלמות בניהול אישי עדי בן ישי"]
[null,null,null,null,null,null,null,null,null,null,null,8890,"מגדל השתלמות בניהול אישי עדי בן ישי"]
[null,null,null,null,null,null,null,null,null,null,null,8888,"מגדל גמל בניהול אישי עדי בן ישי"]
[null,null,null,null,null,null,null,null,null,null,null,8888,"מגדל גמל בניהול אישי ירון מלמד"]
[null,null,null,null,null,null,null,null,null,null,null,8888,"מגדל גמל בניהול אישי אלכסיי לדנב"]
[null,null,null,null,null,null,null,null,null,null,null,8888,"מגדל גמל בניהול אישי איתן זמורה"]
[null,null,null,null,null,null,null,null,null,null,null,8890,"מגדל השתלמות בניהול אישי איתן זמורה"]
[null,null,null,null,null,null,null,null,null,null,null,8890,"מגדל השתלמות בניהול אישי שרה רובינשטיין"]
[null,null,null,null,null,null,null,null,null,null,null,8888,"מגדל גמל בניהול אישי שרה רובינשטיין"]
[null,null,null,null,null,null,null,null,null,null,null,8888,"מגדל גמל בניהול אישי אליהו כהן"]
[null,null,null,null,null,null,null,null,null,null,null,8890,"מגדל השתלמות בניהול אישי אליהו כהן"]
[null,null,null,null,null,null,null,null,null,null,null,8890,"מגדל השתלמות בניהול אישי רועי ציון סופר"]
[null,null,null,null,null,null,null,null,null,null,null,8888,"מגדל גמל בניהול אישי מלכה ברט"]
[null,null,null,null,null,null,null,null,null,null,null,8888,"מגדל גמל בניהול אישי אליעזר ברט"]
[null,null,null,null,null,null,null,null,null,null,null,8888,"מגדל גמל בניהול אישי אילון דן וולף"]
[null,null,null,null,null,null,null,null,null,null,null,8888,"מגדל גמל בניהול אישי מנחם רובינשטיין"]
[null,null,null,null,null,null,null,null,null,null,null,8890,"מגדל השתלמות בניהול אישי מנחם רובינשטיין"]
[null,null,null,null,null,null,null,null,null,null,null,8890,"מגדל השתלמות בניהול אישי שלי רוטשילד"]
[null,null,null,null,null,null,null,null,null,null,null,8890,"מגדל השתלמות בניהול אישי אהרן ציטרין"]
[null,null,null,null,null,null,null,null,null,null,null,8888,"מגדל גמל בניהול אישי רמי זיציק"]
[null,null,null,null,null,null,null,null,null,null,null,8890,"מגדל השתלמות בניהול אישי נחם עובדיה רוזנברג שץ"]
[null,null,null,null,null,null,null,null,null,null,null,8890,"מגדל השתלמות בניהול אישי דוד יצחק גודמן"]
[null,null,null,null,null,null,null,null,null,null,null,8888,"מגדל גמל בניהול אישי דוד יצחק גודמן"]
[null,null,null,null,null,null,null,null,null,null,null,8888,"מגדל גמל בניהול אישי אייל גונן"]
[null,null,null,null,null,null,null,null,null,null,null,8890,"מגדל השתלמות בניהול אישי אייל גונן"]
[null,null,null,null,null,null,null,null,null,null,null,8890,"מגדל השתלמות בניהול אישי יוסי קשת"]
[null,null,null,null,null,null,null,null,null,null,null,8890,"מגדל השתלמות בניהול אישי שמואל פרקש"]
[null,null,null,null,null,null,null,null,null,null,null,8888,"מגדל גמל בניהול אישי שמואל פרקש"]
[null,null,null,null,null,null,null,null,null,null,null,8890,"מגדל השתלמות בניהול אישי מזל גונן"]
[null,null,null,null,null,null,null,null,null,null,null,8890,"מגדל השתלמות בניהול אישי רות גונן"]
[null,null,null,null,null,null,null,null,null,null,null,8888,"מגדל גמל בניהול אישי רות גונן"]
[null,null,null,null,null,null,null,null,null,null,null,8888,"מגדל גמל בניהול אישי מאיר יוסף"]
[null,null,null,null,null,null,null,null,null,null,null,13869,"מנורה מבטחים השתלמות  "]
[null,null,null,null,null,null,null,null,null,null,null,13873,"מנורה מבטחים השתלמות מחקה  sp500"]
[null,null,null,null,null,null,null,null,null,null,null,13874,"מנורה מבטחים חסכון טופ מחקה  sp500"]
[null,null,null,null,null,null,null,null,null,null,null,13946,"מנורה מבטחים תגמולים ופיצויים מחקה  sp500"]
[null,null,null,null,null,null,null,null,null,null,null,8890,"מגדל השתלמות בניהול אישי חוה אלטמן"]
[null,null,null,null,null,null,null,null,null,null,null,8890,"מגדל השתלמות בניהול אישי עקיבא אלטמן"]
[null,null,null,null,null,null,null,null,null,null,null,8890,"מגדל השתלמות בניהול אישי מרדכי כהן"]
[null,null,null,null,null,null,null,null,null,null,null,8888,"מגדל גמל בניהול אישי אדוארד רוגובוי"]
[null,null,null,null,null,null,null,null,null,null,null,13853,"אנליסט  השתלמות מחקה מדד SP500"]
[null,null,null,null,null,null,null,null,null,null,null,13855,"אנליסט מסלולית קופת גמל   מחקה מדד S&amp;P500"]
[null,null,null,null,null,null,null,null,null,null,null,13854,"אנליסט מסלולית קופת גמל להשקעה מחקה מדד S&amp;P500"]
[null,null,null,null,null,null,null,null,null,null,null,8890,"מגדל השתלמות בניהול אישי צבי בן דב"]
[null,null,null,null,null,null,null,null,null,null,null,8888,"מגדל גמל בניהול אישי צבי בן דב"]
[null,null,null,null,null,null,null,null,null,null,null,8890,"מגדל השתלמות בניהול אישי רז יוגב"]
[null,null,null,null,null,null,null,null,null,null,null,8890,"מגדל השתלמות בניהול אישי חן תירוש"]
[null,null,null,null,null,null,null,null,null,null,null,8888,"מגדל גמל בניהול אישי שי אלמוג"]
[null,null,null,null,null,null,null,null,null,null,null,8890,"מגדל השתלמות בניהול אישי אורית הלר"]
[null,null,null,null,null,null,null,null,null,null,null,14077,"עמי גמל להשקעה כללי"]
[null,null,null,null,null,null,null,null,null,null,null,14078,"עמי גמל להשקעה מסלול אגח משולב מניות "]
[null,null,null,null,null,null,null,null,null,null,null,14079,"עמי גמל להשקעה מניות"]
[null,null,null,null,null,null,null,null,null,null,null,3211,"קרן ידע לאקדמאים"]
[null,null,null,null,null,null,null,null,null,null,null,1514,"פסגות גמל בניהול אישי"]
[null,null,null,null,null,null,null,null,null,null,null,15391,"קופת גמל עמ'י עוקב מדד S&P 500"]